{"text_format":"1","workbook":"xlsx","n_sheets":10,"sheets":["README","Exiting (FS009)","Error Messages","Subtotals","Category Sets A-D","Category Set A by Age","Category Set A by Basis of Exit","Prior Year FS009","Year-to-Year Change","Year-to-Year Change Details"],"not_rendered":{"charts":0,"images":2,"macros":1,"external_links":1,"defined_names":62,"comments":2,"pivot_tables":0},"unopened":[],"bounds":{"document_bytes":16777216,"sheet_cells":100000,"rows_first":2000,"rows_last":500,"rows_between":2000,"halvings":0,"cell_chars":16384,"cell_head_chars":4096},"cells_cut":0,"cells_raw":0,"read":"whole","date_system":"1900"}

{"sheet":"README","index":0,"n_rows":35,"n_cols":2,"rows_kept":35,"cut":false,"hidden":false,"merged":[[9,1,9,9],[4,0,4,9],[5,0,5,9],[6,0,6,9],[0,6,0,8],[1,0,1,9],[7,0,7,9],[8,0,8,2],[8,3,8,4],[22,1,22,9],[11,1,11,9],[12,1,12,9],[13,1,13,9],[14,1,14,9],[15,1,15,9],[16,1,16,9],[17,1,17,9],[18,1,18,9],[19,1,19,9],[20,1,20,9],[21,1,21,9],[35,1,35,9],[23,1,23,9],[24,1,24,9],[25,1,25,9],[26,0,26,5],[28,0,28,9],[29,0,29,9],[30,0,30,11],[31,0,31,2],[32,0,32,16383],[33,0,33,9],[34,0,34,9]]}
[]
["SEA EDPass Edit Check and Data Display Tool - IDEA Exiting"]
["Please note this tool is currently not 508 compliant. If you need assistance with the use of this tool, please contact your IDC State Liaison or email"]
["IDEAdata@westat.com"]
["This IDC resource was created using Excel, a Microsoft Office application. This resource contains macros. Macros are a series of commands used to automate tasks and make this resource function correctly. The Microsoft Corporation recently changed the way they manage the security of downloaded files containing macros. After downloading this resource, you will need to save a copy of the resource to a folder on your computer so you can successfully open the file and enable the macros that allow the resource to function properly.\n\nPlease be aware that some macros in files from other sources can pose a security risk by introducing viruses or malicious software to your computer. \n\nDepending on your organization's network security rules, macros may need to be unblocked by modifying the properties of the file. If you need assistance opening and enabling the macros in this resource, please see the following guidance from Microsoft: "]
["https://learn.microsoft.com/en-us/deployoffice/security/internet-macros-blocked"]
["https://support.microsoft.com/en-us/topic/a-potentially-dangerous-macro-has-been-blocked-0952faa0-37e7-4316-b61d-5b5ed6024216"]
["The SEA EDPass Edit Check and Data Display Tool - IDEA Exiting is designed for states to use as they prepare their data for submission via EDPass. States use this tool to check SEA-level EDPass data file FS009. The tool can identify potential format, validation, and other errors in category sets or subtotals. \n \nStates cannot submit data using this tool. States must submit all data following the guidelines provided in the data file specifications at"]
["The EDFacts Initiative"]
[]
["Please read the following instructions before using this tool:"]
["1.","To select, copy, and paste data from your SEA FS009 EDPass file into the tool, do the following:"]
[null,"a.    Open your SEA-level FS009 – Children with Disabilities (IDEA) Exiting Special Education data file in Excel (or similar application). "]
[null,"b.    Select and copy all rows and columns from the EDPass data file.\n                 i.   Include the EDPass data file header row and filler columns. \n                ii.   Do NOT use the \"Select All\" function in Excel."]
[null,"c.     Paste the selected data to cell A12 in the Exiting (FS009) sheet in this tool.  "]
[null,"d.     In the Exiting (FS009) sheet, click the \"Check Data Format\" button to run all format checks. If there are format errors, you will see pop-up boxes containing  \n         important information about the errors. "]
[null,"        The “Check Data Format” button identifies the following format errors:\n                  i.    compares the text in the File Type cell in the header row (in cell A12) to the required value for the SEA FS009 Children with Disabilities (IDEA) Exiting \n                         Special Education file;\n                 ii.    compares the number of records entered in the file header row (in cell B12) to confirm it matches the actual number of rows of data in the file;\n                iii.    checks the school year date format in the header row (in cell E12);\n                iv.    checks the filler columns for any characters (all filler columns should be blank); and\n                  v.   checks the file record number, state code, state agency number, table name, total indicator, and student count columns for blanks (there should be no \n                         blanks in these columns). \n\n"]
[null,"e.     To delete the data pasted into the Exiting (FS009) sheet, click the \"Clear Data\" button."]
["2.","To facilitate locating data errors in the EDPass file, data with errors displayed in the Error Messages, Subtotals, Category Sets A-D, Category Set A by Age, and Category Set A by Basis of Exit sheets are highlighted in red and hyperlinked. Use the hyperlinked data to trace each highlighted error through the Error Messages, Subtotals, Category Sets A-D, Category Set A by Age, and Category Set A by Basis of Exit sheets back to the EDPass data file in the Exiting (FS009) sheet in which the error originated."]
["3.","The Error Messages sheet indicates where there are computational errors or other errors in reporting. Please correct all errors before submitting the data file to the U.S. Department of Education via EDPass.  \n\n"]
[null,"a.    Keep in mind, this tool does not account for the state-specific differences in EDPass file contents. \nb.    State-specific differences noted in your IDEA metadata in EDPass may show up as error messages in this tool.\n"]
[null,"Please confirm that error messages due to state-specific differences align with the contents of your IDEA metadata. For example, if your state answers \"Yes\" to the IDEA metadata question, \"Is there a minimum age for graduation with a regular high school diploma in your state?\", this tool does not contain an edit check for the minimum age for graduation with a regular high school diploma entered in the IDEA metadata."]
[null,"Triggered format checks are shown in the table to the right of the EDPass data file you pasted into the Exiting (FS009) sheet. The text shown in each column of the \"Triggered format checks\" table indicates data that are missing, repeated, and/or formatted incorrectly. Scroll down to view all triggered format checks for repeated or incorrectly formatted data. The EDPass permitted values are used to clearly identify data that are missing, repeated, and/or formatted incorrectly.  \n\nFor example: __SLD_18__GHS_N in the \"Missing data elements\" column indicates that the count for students in disability category specific learning disability (SLD) who are age 18 and graduated with regular high school diploma (GHS) is missing from Category Set A in your FS009 data file."]
["4.","Review and address each triggered format check and error message. If you need to make changes to the data, make these changes in the corresponding data system and/or EDPass file. Then, check the corrected IDEA Exiting files by carefully pasting the updated data into the Exiting (FS009) sheet of this tool. Do NOT make data modifications directly in this tool. You must make these changes in the EDPass file that you will submit and then copy the updated data from that file back into this SEA Edit Check Tool to recheck the data and confirm correction."]
["5.","You can use the worksheets Prior Year FS009, Year-to-Year Change, and Year-to-Year Change Details to compare 2 years of state-level FS009 data. "]
[null,"a.    To add a prior year's FS009 data in the Prior Year FS009 sheet, follow steps 1a-1e above.\n  \nb.    After you have added data in the Prior Year FS009 sheet, the Year-to-Year Change sheet will display data in the categories OSEP reviews for data quality. \n        If the total difference is greater than 50 or less than -50 AND the percent (%) change is greater than 30% or less than -30%, then the \"Year-to-year issue present\"\n        column will display an X. \n\n c.    On the Year-to-Year Change Details sheet, any pairs of cells in the \"Count difference\" and \"Percent difference\" columns highlighted in red provide additional \n        details about the +/- 50 count difference(s) and the +/- 30 percent change(s). If only one of those conditions is present, the cell will be highlighted in yellow."]
["If you would like assistance using this tool, please contact your IDC State Liaison or email "]
["IDEAdata@westat.com"]
["The IDEA Data Center (IDC) created this publication under U.S. Department of Education, Office of Special Education Programs grant number H373Y240002. Amy Bae and Alexis Lessans serve as the project officers."]
["The views expressed herein do not necessarily represent the positions or policies of the U.S. Department of Education. No official endorsement by the U.S. Department of Education of any product, commodity, service, or enterprise mentioned in this publication is intended or should be inferred. This product is in the public domain. Authorization to reproduce it in whole or in part is granted."]
["Westat is the lead organization for IDC. For more information about the center’s work and its partners, see"]
["ideadata.org"]
["Version Date: November 2024"]
["Suggested Citation:"]
["Long, T., Thacker, C., and Edora, F. (2024, November). SEA EDPass Edit Check and Data Display Tool - IDEA Exiting. IDEA Data Center. Rockville, MD: Westat."]

{"sheet":"Exiting (FS009)","index":1,"n_rows":1003,"n_cols":37,"rows_kept":1003,"cut":false,"hidden":false,"merged":[[0,29,999,29],[1000,0,1048575,29],[0,0,0,24],[2,22,2,24],[9,26,9,28],[6,22,6,23],[5,22,5,23],[4,22,4,23],[3,22,3,23],[9,0,9,24]]}
[{"$f":"\"IDEA Exiting Data for School Year \"&'Exiting (FS009)'!E12","v":"IDEA Exiting Data for School Year "},null,null,null,null,null,null,null,null,null,null,null,null,null,null,null,null,null,null,null,null,null,null,null,null,null,null,null,null,"End of worksheet"]
[]
[null,null,null,null,null,null,null,null,null,null,null,null,null,null,null,null,null,null,null,null,null,null,"Triggered format checks"]
[null,null,null,null,null,null,null,null,null,null,null,null,null,null,null,null,null,null,null,null,null,null,"Type",null,"Total"]
[null,null,null,null,null,null,null,null,null,null,null,null,null,null,null,null,null,null,null,null,null,null,"Missing data elements",null,{"$f":"COUNTIF(AA13:AA1003,\"?*\")","v":896}]
[null,null,null,null,null,null,null,null,null,null,null,null,null,null,null,null,null,null,null,null,null,null,"Duplicate row elements",null,{"$f":"COUNTIF(AB13:AB1003,\"?*\")","v":0}]
[null,null,null,null,null,null,null,null,null,null,null,null,null,null,null,null,null,null,null,null,null,null,"Invalid data elements",null,{"$f":"COUNTIF(AC13:AC1003,\"?*\")","v":0}]
[]
[]
["FS009 — Children With Disabilities (IDEA) Exiting Special Education ",null,null,null,null,null,null,null,null,null,null,null,null,null,null,null,null,null,null,null,null,null,null,null,null,null,"Triggered format checks",null,null,null,"Count of Missing Data:",{"$f":"SUM(AI13:AI1003)","v":896}]
["File record \nnumber","State code","State agency number","LEA identifier (state)","Filler","Table name","Filler","Racial\nethnic","Sex (membership)","Filler","Filler","Filler","Filler","Filler","Filler","Disability category (IDEA) exiting","Age (exiting)","English learner status (both)","Filler","Filler","Filler","Basis of exit","Total indicator","Explanation","Student count",null,"Missing data elements\n(formatted)","Duplicate row elements","Invalid data elements",null,"Missing\nData ","Current\nListing","Master\nListing\n(For lookup)","Master\nListing\n(For output)","Is Missing Data Element","Current\nListing\n(For output)","Current Listing for INDEX"]
[]
[null,null,null,null,null,null,null,null,null,null,null,null,null,null,null,null,null,null,null,null,null,null,null,null,null,null,{"$f":"IFERROR(INDEX($AE$13:$AE$1003, SMALL(IF(ISBLANK($AE$13:$AE$1003)+ISERROR($AE$13:$AE$1003)+LEN($AE$13:$AE$1003)=0, \"\", ROW($AE$13:$AE$1003)-MIN(ROW($AE$13:$AE$1003))+1), ROW(1:1))),\"\")","v":"______Y"},{"$f":"IF(AF13=\"\",\"\",IF(COUNTIF(CurrentListing,AF13)>1,AJ13,\"\"))","v":""},{"$f":"IF(LEN(AF13)=0,\"\",IF(ISNA(MATCH(AF13,MasterListing,0)),AJ13,\"\"))","v":""},null,{"$f":"IF(LEN(AG13)=0,\"\",IF(ISNA(MATCH(AG13,CurrentListing,0)),AH13,\"\"))","v":"______Y"},{"$f":"H13&I13&P13&Q13&R13&V13&W13","v":""},"Y","______Y",{"$f":"IF(LEN(AA13)>0,1,0)","v":1},{"$f":"H13&\"_\"&I13&\"_\"&P13&\"_\"&Q13&\"_\"&R13&\"_\"&V13&\"_\"&W13","v":"______"},{"$f":"AF13","v":""}]
[null,null,null,null,null,null,null,null,null,null,null,null,null,null,null,null,null,null,null,null,null,null,null,null,null,null,{"$f":"IFERROR(INDEX($AE$13:$AE$1003, SMALL(IF(ISBLANK($AE$13:$AE$1003)+ISERROR($AE$13:$AE$1003)+LEN($AE$13:$AE$1003)=0, \"\", ROW($AE$13:$AE$1003)-MIN(ROW($AE$13:$AE$1003))+1), ROW(2:2))),\"\")","v":"_____D_Y"},"","",null,{"$f":"IF(LEN(AG14)=0,\"\",IF(ISNA(MATCH(AG14,CurrentListing,0)),AH14,\"\"))","v":"_____D_Y"},"","DY","_____D_Y",{"$f":"IF(LEN(AA14)>0,1,0)","v":1},{"$f":"H14&\"_\"&I14&\"_\"&P14&\"_\"&Q14&\"_\"&R14&\"_\"&V14&\"_\"&W14","v":"______"}]
[null,null,null,null,null,null,null,null,null,null,null,null,null,null,null,null,null,null,null,null,null,null,null,null,null,null,{"$f":"IFERROR(INDEX($AE$13:$AE$1003, SMALL(IF(ISBLANK($AE$13:$AE$1003)+ISERROR($AE$13:$AE$1003)+LEN($AE$13:$AE$1003)=0, \"\", ROW($AE$13:$AE$1003)-MIN(ROW($AE$13:$AE$1003))+1), ROW(3:3))),\"\")","v":"_____DROPOUT_Y"},"","",null,"_____DROPOUT_Y","","DROPOUTY","_____DROPOUT_Y",1,"______"]
[null,null,null,null,null,null,null,null,null,null,null,null,null,null,null,null,null,null,null,null,null,null,null,null,null,null,{"$f":"IFERROR(INDEX($AE$13:$AE$1003, SMALL(IF(ISBLANK($AE$13:$AE$1003)+ISERROR($AE$13:$AE$1003)+LEN($AE$13:$AE$1003)=0, \"\", ROW($AE$13:$AE$1003)-MIN(ROW($AE$13:$AE$1003))+1), ROW(4:4))),\"\")","v":"_____GHS_Y"},"","",null,"_____GHS_Y","","GHSY","_____GHS_Y",1,"______"]
[null,null,null,null,null,null,null,null,null,null,null,null,null,null,null,null,null,null,null,null,null,null,null,null,null,null,{"$f":"IFERROR(INDEX($AE$13:$AE$1003, SMALL(IF(ISBLANK($AE$13:$AE$1003)+ISERROR($AE$13:$AE$1003)+LEN($AE$13:$AE$1003)=0, \"\", ROW($AE$13:$AE$1003)-MIN(ROW($AE$13:$AE$1003))+1), ROW(5:5))),\"\")","v":"_____GRADALTDPL_Y"},"","",null,"_____GRADALTDPL_Y","","GRADALTDPLY","_____GRADALTDPL_Y",1,"______"]
[null,null,null,null,null,null,null,null,null,null,null,null,null,null,null,null,null,null,null,null,null,null,null,null,null,null,{"$f":"IFERROR(INDEX($AE$13:$AE$1003, SMALL(IF(ISBLANK($AE$13:$AE$1003)+ISERROR($AE$13:$AE$1003)+LEN($AE$13:$AE$1003)=0, \"\", ROW($AE$13:$AE$1003)-MIN(ROW($AE$13:$AE$1003))+1), ROW(6:6))),\"\")","v":"_____MKC_Y"},"","",null,"_____MKC_Y","","MKCY","_____MKC_Y",1,"______"]
[null,null,null,null,null,null,null,null,null,null,null,null,null,null,null,null,null,null,null,null,null,null,null,null,null,null,{"$f":"IFERROR(INDEX($AE$13:$AE$1003, SMALL(IF(ISBLANK($AE$13:$AE$1003)+ISERROR($AE$13:$AE$1003)+LEN($AE$13:$AE$1003)=0, \"\", ROW($AE$13:$AE$1003)-MIN(ROW($AE$13:$AE$1003))+1), ROW(7:7))),\"\")","v":"_____RC_Y"},"","",null,"_____RC_Y","","RCY","_____RC_Y",1,"______"]
[null,null,null,null,null,null,null,null,null,null,null,null,null,null,null,null,null,null,null,null,null,null,null,null,null,null,{"$f":"IFERROR(INDEX($AE$13:$AE$1003, SMALL(IF(ISBLANK($AE$13:$AE$1003)+ISERROR($AE$13:$AE$1003)+LEN($AE$13:$AE$1003)=0, \"\", ROW($AE$13:$AE$1003)-MIN(ROW($AE$13:$AE$1003))+1), ROW(8:8))),\"\")","v":"_____RMA_Y"},"","",null,"_____RMA_Y","","RMAY","_____RMA_Y",1,"______"]
[null,null,null,null,null,null,null,null,null,null,null,null,null,null,null,null,null,null,null,null,null,null,null,null,null,null,{"$f":"IFERROR(INDEX($AE$13:$AE$1003, SMALL(IF(ISBLANK($AE$13:$AE$1003)+ISERROR($AE$13:$AE$1003)+LEN($AE$13:$AE$1003)=0, \"\", ROW($AE$13:$AE$1003)-MIN(ROW($AE$13:$AE$1003))+1), ROW(9:9))),\"\")","v":"_____TRAN_Y"},"","",null,"_____TRAN_Y","","TRANY","_____TRAN_Y",1,"______"]
[null,null,null,null,null,null,null,null,null,null,null,null,null,null,null,null,null,null,null,null,null,null,null,null,null,null,{"$f":"IFERROR(INDEX($AE$13:$AE$1003, SMALL(IF(ISBLANK($AE$13:$AE$1003)+ISERROR($AE$13:$AE$1003)+LEN($AE$13:$AE$1003)=0, \"\", ROW($AE$13:$AE$1003)-MIN(ROW($AE$13:$AE$1003))+1), ROW(10:10))),\"\")","v":"____LEP__Y"},"","",null,"____LEP__Y","","LEPY","____LEP__Y",1,"______"]
[null,null,null,null,null,null,null,null,null,null,null,null,null,null,null,null,null,null,null,null,null,null,null,null,null,null,{"$f":"IFERROR(INDEX($AE$13:$AE$1003, SMALL(IF(ISBLANK($AE$13:$AE$1003)+ISERROR($AE$13:$AE$1003)+LEN($AE$13:$AE$1003)=0, \"\", ROW($AE$13:$AE$1003)-MIN(ROW($AE$13:$AE$1003))+1), ROW(11:11))),\"\")","v":"____LEP_D_N"},"","",null,"____LEP_D_N","","LEPDN","____LEP_D_N",1,"______"]
[null,null,null,null,null,null,null,null,null,null,null,null,null,null,null,null,null,null,null,null,null,null,null,null,null,null,{"$f":"IFERROR(INDEX($AE$13:$AE$1003, SMALL(IF(ISBLANK($AE$13:$AE$1003)+ISERROR($AE$13:$AE$1003)+LEN($AE$13:$AE$1003)=0, \"\", ROW($AE$13:$AE$1003)-MIN(ROW($AE$13:$AE$1003))+1), ROW(12:12))),\"\")","v":"____LEP_DROPOUT_N"},"","",null,"____LEP_DROPOUT_N","","LEPDROPOUTN","____LEP_DROPOUT_N",1,"______"]
[null,null,null,null,null,null,null,null,null,null,null,null,null,null,null,null,null,null,null,null,null,null,null,null,null,null,{"$f":"IFERROR(INDEX($AE$13:$AE$1003, SMALL(IF(ISBLANK($AE$13:$AE$1003)+ISERROR($AE$13:$AE$1003)+LEN($AE$13:$AE$1003)=0, \"\", ROW($AE$13:$AE$1003)-MIN(ROW($AE$13:$AE$1003))+1), ROW(13:13))),\"\")","v":"____LEP_GHS_N"},"","",null,"____LEP_GHS_N","","LEPGHSN","____LEP_GHS_N",1,"______"]
[null,null,null,null,null,null,null,null,null,null,null,null,null,null,null,null,null,null,null,null,null,null,null,null,null,null,{"$f":"IFERROR(INDEX($AE$13:$AE$1003, SMALL(IF(ISBLANK($AE$13:$AE$1003)+ISERROR($AE$13:$AE$1003)+LEN($AE$13:$AE$1003)=0, \"\", ROW($AE$13:$AE$1003)-MIN(ROW($AE$13:$AE$1003))+1), ROW(14:14))),\"\")","v":"____LEP_GRADALTDPL_N"},"","",null,"____LEP_GRADALTDPL_N","","LEPGRADALTDPLN","____LEP_GRADALTDPL_N",1,"______"]
[null,null,null,null,null,null,null,null,null,null,null,null,null,null,null,null,null,null,null,null,null,null,null,null,null,null,{"$f":"IFERROR(INDEX($AE$13:$AE$1003, SMALL(IF(ISBLANK($AE$13:$AE$1003)+ISERROR($AE$13:$AE$1003)+LEN($AE$13:$AE$1003)=0, \"\", ROW($AE$13:$AE$1003)-MIN(ROW($AE$13:$AE$1003))+1), ROW(15:15))),\"\")","v":"____LEP_MKC_N"},"","",null,"____LEP_MKC_N","","LEPMKCN","____LEP_MKC_N",1,"______"]
[null,null,null,null,null,null,null,null,null,null,null,null,null,null,null,null,null,null,null,null,null,null,null,null,null,null,{"$f":"IFERROR(INDEX($AE$13:$AE$1003, SMALL(IF(ISBLANK($AE$13:$AE$1003)+ISERROR($AE$13:$AE$1003)+LEN($AE$13:$AE$1003)=0, \"\", ROW($AE$13:$AE$1003)-MIN(ROW($AE$13:$AE$1003))+1), ROW(16:16))),\"\")","v":"____LEP_RC_N"},"","",null,"____LEP_RC_N","","LEPRCN","____LEP_RC_N",1,"______"]
[null,null,null,null,null,null,null,null,null,null,null,null,null,null,null,null,null,null,null,null,null,null,null,null,null,null,{"$f":"IFERROR(INDEX($AE$13:$AE$1003, SMALL(IF(ISBLANK($AE$13:$AE$1003)+ISERROR($AE$13:$AE$1003)+LEN($AE$13:$AE$1003)=0, \"\", ROW($AE$13:$AE$1003)-MIN(ROW($AE$13:$AE$1003))+1), ROW(17:17))),\"\")","v":"____LEP_RMA_N"},"","",null,"____LEP_RMA_N","","LEPRMAN","____LEP_RMA_N",1,"______"]
[null,null,null,null,null,null,null,null,null,null,null,null,null,null,null,null,null,null,null,null,null,null,null,null,null,null,{"$f":"IFERROR(INDEX($AE$13:$AE$1003, SMALL(IF(ISBLANK($AE$13:$AE$1003)+ISERROR($AE$13:$AE$1003)+LEN($AE$13:$AE$1003)=0, \"\", ROW($AE$13:$AE$1003)-MIN(ROW($AE$13:$AE$1003))+1), ROW(18:18))),\"\")","v":"____LEP_TRAN_N"},"","",null,"____LEP_TRAN_N","","LEPTRANN","____LEP_TRAN_N",1,"______"]
[null,null,null,null,null,null,null,null,null,null,null,null,null,null,null,null,null,null,null,null,null,null,null,null,null,null,{"$f":"IFERROR(INDEX($AE$13:$AE$1003, SMALL(IF(ISBLANK($AE$13:$AE$1003)+ISERROR($AE$13:$AE$1003)+LEN($AE$13:$AE$1003)=0, \"\", ROW($AE$13:$AE$1003)-MIN(ROW($AE$13:$AE$1003))+1), ROW(19:19))),\"\")","v":"____NLEP__Y"},"","",null,"____NLEP__Y","","NLEPY","____NLEP__Y",1,"______"]
[null,null,null,null,null,null,null,null,null,null,null,null,null,null,null,null,null,null,null,null,null,null,null,null,null,null,{"$f":"IFERROR(INDEX($AE$13:$AE$1003, SMALL(IF(ISBLANK($AE$13:$AE$1003)+ISERROR($AE$13:$AE$1003)+LEN($AE$13:$AE$1003)=0, \"\", ROW($AE$13:$AE$1003)-MIN(ROW($AE$13:$AE$1003))+1), ROW(20:20))),\"\")","v":"____NLEP_D_N"},"","",null,"____NLEP_D_N","","NLEPDN","____NLEP_D_N",1,"______"]
[null,null,null,null,null,null,null,null,null,null,null,null,null,null,null,null,null,null,null,null,null,null,null,null,null,null,{"$f":"IFERROR(INDEX($AE$13:$AE$1003, SMALL(IF(ISBLANK($AE$13:$AE$1003)+ISERROR($AE$13:$AE$1003)+LEN($AE$13:$AE$1003)=0, \"\", ROW($AE$13:$AE$1003)-MIN(ROW($AE$13:$AE$1003))+1), ROW(21:21))),\"\")","v":"____NLEP_DROPOUT_N"},"","",null,"____NLEP_DROPOUT_N","","NLEPDROPOUTN","____NLEP_DROPOUT_N",1,"______"]
[null,null,null,null,null,null,null,null,null,null,null,null,null,null,null,null,null,null,null,null,null,null,null,null,null,null,{"$f":"IFERROR(INDEX($AE$13:$AE$1003, SMALL(IF(ISBLANK($AE$13:$AE$1003)+ISERROR($AE$13:$AE$1003)+LEN($AE$13:$AE$1003)=0, \"\", ROW($AE$13:$AE$1003)-MIN(ROW($AE$13:$AE$1003))+1), ROW(22:22))),\"\")","v":"____NLEP_GHS_N"},"","",null,"____NLEP_GHS_N","","NLEPGHSN","____NLEP_GHS_N",1,"______"]
[null,null,null,null,null,null,null,null,null,null,null,null,null,null,null,null,null,null,null,null,null,null,null,null,null,null,{"$f":"IFERROR(INDEX($AE$13:$AE$1003, SMALL(IF(ISBLANK($AE$13:$AE$1003)+ISERROR($AE$13:$AE$1003)+LEN($AE$13:$AE$1003)=0, \"\", ROW($AE$13:$AE$1003)-MIN(ROW($AE$13:$AE$1003))+1), ROW(23:23))),\"\")","v":"____NLEP_GRADALTDPL_N"},"","",null,"____NLEP_GRADALTDPL_N","","NLEPGRADALTDPLN","____NLEP_GRADALTDPL_N",1,"______"]
[null,null,null,null,null,null,null,null,null,null,null,null,null,null,null,null,null,null,null,null,null,null,null,null,null,null,{"$f":"IFERROR(INDEX($AE$13:$AE$1003, SMALL(IF(ISBLANK($AE$13:$AE$1003)+ISERROR($AE$13:$AE$1003)+LEN($AE$13:$AE$1003)=0, \"\", ROW($AE$13:$AE$1003)-MIN(ROW($AE$13:$AE$1003))+1), ROW(24:24))),\"\")","v":"____NLEP_MKC_N"},"","",null,"____NLEP_MKC_N","","NLEPMKCN","____NLEP_MKC_N",1,"______"]
[null,null,null,null,null,null,null,null,null,null,null,null,null,null,null,null,null,null,null,null,null,null,null,null,null,null,{"$f":"IFERROR(INDEX($AE$13:$AE$1003, SMALL(IF(ISBLANK($AE$13:$AE$1003)+ISERROR($AE$13:$AE$1003)+LEN($AE$13:$AE$1003)=0, \"\", ROW($AE$13:$AE$1003)-MIN(ROW($AE$13:$AE$1003))+1), ROW(25:25))),\"\")","v":"____NLEP_RC_N"},"","",null,"____NLEP_RC_N","","NLEPRCN","____NLEP_RC_N",1,"______"]
[null,null,null,null,null,null,null,null,null,null,null,null,null,null,null,null,null,null,null,null,null,null,null,null,null,null,{"$f":"IFERROR(INDEX($AE$13:$AE$1003, SMALL(IF(ISBLANK($AE$13:$AE$1003)+ISERROR($AE$13:$AE$1003)+LEN($AE$13:$AE$1003)=0, \"\", ROW($AE$13:$AE$1003)-MIN(ROW($AE$13:$AE$1003))+1), ROW(26:26))),\"\")","v":"____NLEP_RMA_N"},"","",null,"____NLEP_RMA_N","","NLEPRMAN","____NLEP_RMA_N",1,"______"]
[null,null,null,null,null,null,null,null,null,null,null,null,null,null,null,null,null,null,null,null,null,null,null,null,null,null,{"$f":"IFERROR(INDEX($AE$13:$AE$1003, SMALL(IF(ISBLANK($AE$13:$AE$1003)+ISERROR($AE$13:$AE$1003)+LEN($AE$13:$AE$1003)=0, \"\", ROW($AE$13:$AE$1003)-MIN(ROW($AE$13:$AE$1003))+1), ROW(27:27))),\"\")","v":"____NLEP_TRAN_N"},"","",null,"____NLEP_TRAN_N","","NLEPTRANN","____NLEP_TRAN_N",1,"______"]
[null,null,null,null,null,null,null,null,null,null,null,null,null,null,null,null,null,null,null,null,null,null,null,null,null,null,{"$f":"IFERROR(INDEX($AE$13:$AE$1003, SMALL(IF(ISBLANK($AE$13:$AE$1003)+ISERROR($AE$13:$AE$1003)+LEN($AE$13:$AE$1003)=0, \"\", ROW($AE$13:$AE$1003)-MIN(ROW($AE$13:$AE$1003))+1), ROW(28:28))),\"\")","v":"___14___Y"},"","",null,"___14___Y","","14Y","___14___Y",1,"______"]
[null,null,null,null,null,null,null,null,null,null,null,null,null,null,null,null,null,null,null,null,null,null,null,null,null,null,{"$f":"IFERROR(INDEX($AE$13:$AE$1003, SMALL(IF(ISBLANK($AE$13:$AE$1003)+ISERROR($AE$13:$AE$1003)+LEN($AE$13:$AE$1003)=0, \"\", ROW($AE$13:$AE$1003)-MIN(ROW($AE$13:$AE$1003))+1), ROW(29:29))),\"\")","v":"___15___Y"},"","",null,"___15___Y","","15Y","___15___Y",1,"______"]
[null,null,null,null,null,null,null,null,null,null,null,null,null,null,null,null,null,null,null,null,null,null,null,null,null,null,{"$f":"IFERROR(INDEX($AE$13:$AE$1003, SMALL(IF(ISBLANK($AE$13:$AE$1003)+ISERROR($AE$13:$AE$1003)+LEN($AE$13:$AE$1003)=0, \"\", ROW($AE$13:$AE$1003)-MIN(ROW($AE$13:$AE$1003))+1), ROW(30:30))),\"\")","v":"___16___Y"},"","",null,"___16___Y","","16Y","___16___Y",1,"______"]
[null,null,null,null,null,null,null,null,null,null,null,null,null,null,null,null,null,null,null,null,null,null,null,null,null,null,{"$f":"IFERROR(INDEX($AE$13:$AE$1003, SMALL(IF(ISBLANK($AE$13:$AE$1003)+ISERROR($AE$13:$AE$1003)+LEN($AE$13:$AE$1003)=0, \"\", ROW($AE$13:$AE$1003)-MIN(ROW($AE$13:$AE$1003))+1), ROW(31:31))),\"\")","v":"___17___Y"},"","",null,"___17___Y","","17Y","___17___Y",1,"______"]
[null,null,null,null,null,null,null,null,null,null,null,null,null,null,null,null,null,null,null,null,null,null,null,null,null,null,{"$f":"IFERROR(INDEX($AE$13:$AE$1003, SMALL(IF(ISBLANK($AE$13:$AE$1003)+ISERROR($AE$13:$AE$1003)+LEN($AE$13:$AE$1003)=0, \"\", ROW($AE$13:$AE$1003)-MIN(ROW($AE$13:$AE$1003))+1), ROW(32:32))),\"\")","v":"___18___Y"},"","",null,"___18___Y","","18Y","___18___Y",1,"______"]
[null,null,null,null,null,null,null,null,null,null,null,null,null,null,null,null,null,null,null,null,null,null,null,null,null,null,{"$f":"IFERROR(INDEX($AE$13:$AE$1003, SMALL(IF(ISBLANK($AE$13:$AE$1003)+ISERROR($AE$13:$AE$1003)+LEN($AE$13:$AE$1003)=0, \"\", ROW($AE$13:$AE$1003)-MIN(ROW($AE$13:$AE$1003))+1), ROW(33:33))),\"\")","v":"___19___Y"},"","",null,"___19___Y","","19Y","___19___Y",1,"______"]
[null,null,null,null,null,null,null,null,null,null,null,null,null,null,null,null,null,null,null,null,null,null,null,null,null,null,{"$f":"IFERROR(INDEX($AE$13:$AE$1003, SMALL(IF(ISBLANK($AE$13:$AE$1003)+ISERROR($AE$13:$AE$1003)+LEN($AE$13:$AE$1003)=0, \"\", ROW($AE$13:$AE$1003)-MIN(ROW($AE$13:$AE$1003))+1), ROW(34:34))),\"\")","v":"___20___Y"},"","",null,"___20___Y","","20Y","___20___Y",1,"______"]
[null,null,null,null,null,null,null,null,null,null,null,null,null,null,null,null,null,null,null,null,null,null,null,null,null,null,{"$f":"IFERROR(INDEX($AE$13:$AE$1003, SMALL(IF(ISBLANK($AE$13:$AE$1003)+ISERROR($AE$13:$AE$1003)+LEN($AE$13:$AE$1003)=0, \"\", ROW($AE$13:$AE$1003)-MIN(ROW($AE$13:$AE$1003))+1), ROW(35:35))),\"\")","v":"___21___Y"},"","",null,"___21___Y","","21Y","___21___Y",1,"______"]
[null,null,null,null,null,null,null,null,null,null,null,null,null,null,null,null,null,null,null,null,null,null,null,null,null,null,{"$f":"IFERROR(INDEX($AE$13:$AE$1003, SMALL(IF(ISBLANK($AE$13:$AE$1003)+ISERROR($AE$13:$AE$1003)+LEN($AE$13:$AE$1003)=0, \"\", ROW($AE$13:$AE$1003)-MIN(ROW($AE$13:$AE$1003))+1), ROW(36:36))),\"\")","v":"__AUT____Y"},"","",null,"__AUT____Y","","AUTY","__AUT____Y",1,"______"]
[null,null,null,null,null,null,null,null,null,null,null,null,null,null,null,null,null,null,null,null,null,null,null,null,null,null,{"$f":"IFERROR(INDEX($AE$13:$AE$1003, SMALL(IF(ISBLANK($AE$13:$AE$1003)+ISERROR($AE$13:$AE$1003)+LEN($AE$13:$AE$1003)=0, \"\", ROW($AE$13:$AE$1003)-MIN(ROW($AE$13:$AE$1003))+1), ROW(37:37))),\"\")","v":"__AUT_14__D_N"},"","",null,"__AUT_14__D_N","","AUT14DN","__AUT_14__D_N",1,"______"]
[null,null,null,null,null,null,null,null,null,null,null,null,null,null,null,null,null,null,null,null,null,null,null,null,null,null,{"$f":"IFERROR(INDEX($AE$13:$AE$1003, SMALL(IF(ISBLANK($AE$13:$AE$1003)+ISERROR($AE$13:$AE$1003)+LEN($AE$13:$AE$1003)=0, \"\", ROW($AE$13:$AE$1003)-MIN(ROW($AE$13:$AE$1003))+1), ROW(38:38))),\"\")","v":"__AUT_14__DROPOUT_N"},"","",null,"__AUT_14__DROPOUT_N","","AUT14DROPOUTN","__AUT_14__DROPOUT_N",1,"______"]
[null,null,null,null,null,null,null,null,null,null,null,null,null,null,null,null,null,null,null,null,null,null,null,null,null,null,{"$f":"IFERROR(INDEX($AE$13:$AE$1003, SMALL(IF(ISBLANK($AE$13:$AE$1003)+ISERROR($AE$13:$AE$1003)+LEN($AE$13:$AE$1003)=0, \"\", ROW($AE$13:$AE$1003)-MIN(ROW($AE$13:$AE$1003))+1), ROW(39:39))),\"\")","v":"__AUT_14__GHS_N"},"","",null,"__AUT_14__GHS_N","","AUT14GHSN","__AUT_14__GHS_N",1,"______"]
[null,null,null,null,null,null,null,null,null,null,null,null,null,null,null,null,null,null,null,null,null,null,null,null,null,null,{"$f":"IFERROR(INDEX($AE$13:$AE$1003, SMALL(IF(ISBLANK($AE$13:$AE$1003)+ISERROR($AE$13:$AE$1003)+LEN($AE$13:$AE$1003)=0, \"\", ROW($AE$13:$AE$1003)-MIN(ROW($AE$13:$AE$1003))+1), ROW(40:40))),\"\")","v":"__AUT_14__GRADALTDPL_N"},"","",null,"__AUT_14__GRADALTDPL_N","","AUT14GRADALTDPLN","__AUT_14__GRADALTDPL_N",1,"______"]
[null,null,null,null,null,null,null,null,null,null,null,null,null,null,null,null,null,null,null,null,null,null,null,null,null,null,{"$f":"IFERROR(INDEX($AE$13:$AE$1003, SMALL(IF(ISBLANK($AE$13:$AE$1003)+ISERROR($AE$13:$AE$1003)+LEN($AE$13:$AE$1003)=0, \"\", ROW($AE$13:$AE$1003)-MIN(ROW($AE$13:$AE$1003))+1), ROW(41:41))),\"\")","v":"__AUT_14__MKC_N"},"","",null,"__AUT_14__MKC_N","","AUT14MKCN","__AUT_14__MKC_N",1,"______"]
[null,null,null,null,null,null,null,null,null,null,null,null,null,null,null,null,null,null,null,null,null,null,null,null,null,null,{"$f":"IFERROR(INDEX($AE$13:$AE$1003, SMALL(IF(ISBLANK($AE$13:$AE$1003)+ISERROR($AE$13:$AE$1003)+LEN($AE$13:$AE$1003)=0, \"\", ROW($AE$13:$AE$1003)-MIN(ROW($AE$13:$AE$1003))+1), ROW(42:42))),\"\")","v":"__AUT_14__RC_N"},"","",null,"__AUT_14__RC_N","","AUT14RCN","__AUT_14__RC_N",1,"______"]
[null,null,null,null,null,null,null,null,null,null,null,null,null,null,null,null,null,null,null,null,null,null,null,null,null,null,{"$f":"IFERROR(INDEX($AE$13:$AE$1003, SMALL(IF(ISBLANK($AE$13:$AE$1003)+ISERROR($AE$13:$AE$1003)+LEN($AE$13:$AE$1003)=0, \"\", ROW($AE$13:$AE$1003)-MIN(ROW($AE$13:$AE$1003))+1), ROW(43:43))),\"\")","v":"__AUT_14__RMA_N"},"","",null,{"$f":"IF(LEN(AG55)=0,\"\",IF(ISNA(MATCH(AG55,CurrentListing,0)),AH55,\"\"))","v":"__AUT_14__RMA_N"},"","AUT14RMAN","__AUT_14__RMA_N",1,"______"]
[null,null,null,null,null,null,null,null,null,null,null,null,null,null,null,null,null,null,null,null,null,null,null,null,null,null,{"$f":"IFERROR(INDEX($AE$13:$AE$1003, SMALL(IF(ISBLANK($AE$13:$AE$1003)+ISERROR($AE$13:$AE$1003)+LEN($AE$13:$AE$1003)=0, \"\", ROW($AE$13:$AE$1003)-MIN(ROW($AE$13:$AE$1003))+1), ROW(44:44))),\"\")","v":"__AUT_14__TRAN_N"},"","",null,"__AUT_14__TRAN_N","","AUT14TRANN","__AUT_14__TRAN_N",1,"______"]
[null,null,null,null,null,null,null,null,null,null,null,null,null,null,null,null,null,null,null,null,null,null,null,null,null,null,{"$f":"IFERROR(INDEX($AE$13:$AE$1003, SMALL(IF(ISBLANK($AE$13:$AE$1003)+ISERROR($AE$13:$AE$1003)+LEN($AE$13:$AE$1003)=0, \"\", ROW($AE$13:$AE$1003)-MIN(ROW($AE$13:$AE$1003))+1), ROW(45:45))),\"\")","v":"__AUT_15__D_N"},"","",null,"__AUT_15__D_N","","AUT15DN","__AUT_15__D_N",1,"______"]
[null,null,null,null,null,null,null,null,null,null,null,null,null,null,null,null,null,null,null,null,null,null,null,null,null,null,{"$f":"IFERROR(INDEX($AE$13:$AE$1003, SMALL(IF(ISBLANK($AE$13:$AE$1003)+ISERROR($AE$13:$AE$1003)+LEN($AE$13:$AE$1003)=0, \"\", ROW($AE$13:$AE$1003)-MIN(ROW($AE$13:$AE$1003))+1), ROW(46:46))),\"\")","v":"__AUT_15__DROPOUT_N"},"","",null,"__AUT_15__DROPOUT_N","","AUT15DROPOUTN","__AUT_15__DROPOUT_N",1,"______"]
[null,null,null,null,null,null,null,null,null,null,null,null,null,null,null,null,null,null,null,null,null,null,null,null,null,null,{"$f":"IFERROR(INDEX($AE$13:$AE$1003, SMALL(IF(ISBLANK($AE$13:$AE$1003)+ISERROR($AE$13:$AE$1003)+LEN($AE$13:$AE$1003)=0, \"\", ROW($AE$13:$AE$1003)-MIN(ROW($AE$13:$AE$1003))+1), ROW(47:47))),\"\")","v":"__AUT_15__GHS_N"},"","",null,"__AUT_15__GHS_N","","AUT15GHSN","__AUT_15__GHS_N",1,"______"]
[null,null,null,null,null,null,null,null,null,null,null,null,null,null,null,null,null,null,null,null,null,null,null,null,null,null,{"$f":"IFERROR(INDEX($AE$13:$AE$1003, SMALL(IF(ISBLANK($AE$13:$AE$1003)+ISERROR($AE$13:$AE$1003)+LEN($AE$13:$AE$1003)=0, \"\", ROW($AE$13:$AE$1003)-MIN(ROW($AE$13:$AE$1003))+1), ROW(48:48))),\"\")","v":"__AUT_15__GRADALTDPL_N"},"","",null,"__AUT_15__GRADALTDPL_N","","AUT15GRADALTDPLN","__AUT_15__GRADALTDPL_N",1,"______"]
[null,null,null,null,null,null,null,null,null,null,null,null,null,null,null,null,null,null,null,null,null,null,null,null,null,null,{"$f":"IFERROR(INDEX($AE$13:$AE$1003, SMALL(IF(ISBLANK($AE$13:$AE$1003)+ISERROR($AE$13:$AE$1003)+LEN($AE$13:$AE$1003)=0, \"\", ROW($AE$13:$AE$1003)-MIN(ROW($AE$13:$AE$1003))+1), ROW(49:49))),\"\")","v":"__AUT_15__MKC_N"},"","",null,"__AUT_15__MKC_N","","AUT15MKCN","__AUT_15__MKC_N",1,"______"]
[null,null,null,null,null,null,null,null,null,null,null,null,null,null,null,null,null,null,null,null,null,null,null,null,null,null,{"$f":"IFERROR(INDEX($AE$13:$AE$1003, SMALL(IF(ISBLANK($AE$13:$AE$1003)+ISERROR($AE$13:$AE$1003)+LEN($AE$13:$AE$1003)=0, \"\", ROW($AE$13:$AE$1003)-MIN(ROW($AE$13:$AE$1003))+1), ROW(50:50))),\"\")","v":"__AUT_15__RC_N"},"","",null,"__AUT_15__RC_N","","AUT15RCN","__AUT_15__RC_N",1,"______"]
[null,null,null,null,null,null,null,null,null,null,null,null,null,null,null,null,null,null,null,null,null,null,null,null,null,null,{"$f":"IFERROR(INDEX($AE$13:$AE$1003, SMALL(IF(ISBLANK($AE$13:$AE$1003)+ISERROR($AE$13:$AE$1003)+LEN($AE$13:$AE$1003)=0, \"\", ROW($AE$13:$AE$1003)-MIN(ROW($AE$13:$AE$1003))+1), ROW(51:51))),\"\")","v":"__AUT_15__RMA_N"},"","",null,"__AUT_15__RMA_N","","AUT15RMAN","__AUT_15__RMA_N",1,"______"]
[null,null,null,null,null,null,null,null,null,null,null,null,null,null,null,null,null,null,null,null,null,null,null,null,null,null,{"$f":"IFERROR(INDEX($AE$13:$AE$1003, SMALL(IF(ISBLANK($AE$13:$AE$1003)+ISERROR($AE$13:$AE$1003)+LEN($AE$13:$AE$1003)=0, \"\", ROW($AE$13:$AE$1003)-MIN(ROW($AE$13:$AE$1003))+1), ROW(52:52))),\"\")","v":"__AUT_15__TRAN_N"},"","",null,"__AUT_15__TRAN_N","","AUT15TRANN","__AUT_15__TRAN_N",1,"______"]
[null,null,null,null,null,null,null,null,null,null,null,null,null,null,null,null,null,null,null,null,null,null,null,null,null,null,{"$f":"IFERROR(INDEX($AE$13:$AE$1003, SMALL(IF(ISBLANK($AE$13:$AE$1003)+ISERROR($AE$13:$AE$1003)+LEN($AE$13:$AE$1003)=0, \"\", ROW($AE$13:$AE$1003)-MIN(ROW($AE$13:$AE$1003))+1), ROW(53:53))),\"\")","v":"__AUT_16__D_N"},"","",null,"__AUT_16__D_N","","AUT16DN","__AUT_16__D_N",1,"______"]
[null,null,null,null,null,null,null,null,null,null,null,null,null,null,null,null,null,null,null,null,null,null,null,null,null,null,{"$f":"IFERROR(INDEX($AE$13:$AE$1003, SMALL(IF(ISBLANK($AE$13:$AE$1003)+ISERROR($AE$13:$AE$1003)+LEN($AE$13:$AE$1003)=0, \"\", ROW($AE$13:$AE$1003)-MIN(ROW($AE$13:$AE$1003))+1), ROW(54:54))),\"\")","v":"__AUT_16__DROPOUT_N"},"","",null,"__AUT_16__DROPOUT_N","","AUT16DROPOUTN","__AUT_16__DROPOUT_N",1,"______"]
[null,null,null,null,null,null,null,null,null,null,null,null,null,null,null,null,null,null,null,null,null,null,null,null,null,null,{"$f":"IFERROR(INDEX($AE$13:$AE$1003, SMALL(IF(ISBLANK($AE$13:$AE$1003)+ISERROR($AE$13:$AE$1003)+LEN($AE$13:$AE$1003)=0, \"\", ROW($AE$13:$AE$1003)-MIN(ROW($AE$13:$AE$1003))+1), ROW(55:55))),\"\")","v":"__AUT_16__GHS_N"},"","",null,"__AUT_16__GHS_N","","AUT16GHSN","__AUT_16__GHS_N",1,"______"]
[null,null,null,null,null,null,null,null,null,null,null,null,null,null,null,null,null,null,null,null,null,null,null,null,null,null,{"$f":"IFERROR(INDEX($AE$13:$AE$1003, SMALL(IF(ISBLANK($AE$13:$AE$1003)+ISERROR($AE$13:$AE$1003)+LEN($AE$13:$AE$1003)=0, \"\", ROW($AE$13:$AE$1003)-MIN(ROW($AE$13:$AE$1003))+1), ROW(56:56))),\"\")","v":"__AUT_16__GRADALTDPL_N"},"","",null,"__AUT_16__GRADALTDPL_N","","AUT16GRADALTDPLN","__AUT_16__GRADALTDPL_N",1,"______"]
[null,null,null,null,null,null,null,null,null,null,null,null,null,null,null,null,null,null,null,null,null,null,null,null,null,null,{"$f":"IFERROR(INDEX($AE$13:$AE$1003, SMALL(IF(ISBLANK($AE$13:$AE$1003)+ISERROR($AE$13:$AE$1003)+LEN($AE$13:$AE$1003)=0, \"\", ROW($AE$13:$AE$1003)-MIN(ROW($AE$13:$AE$1003))+1), ROW(57:57))),\"\")","v":"__AUT_16__MKC_N"},"","",null,"__AUT_16__MKC_N","","AUT16MKCN","__AUT_16__MKC_N",1,"______"]
[null,null,null,null,null,null,null,null,null,null,null,null,null,null,null,null,null,null,null,null,null,null,null,null,null,null,{"$f":"IFERROR(INDEX($AE$13:$AE$1003, SMALL(IF(ISBLANK($AE$13:$AE$1003)+ISERROR($AE$13:$AE$1003)+LEN($AE$13:$AE$1003)=0, \"\", ROW($AE$13:$AE$1003)-MIN(ROW($AE$13:$AE$1003))+1), ROW(58:58))),\"\")","v":"__AUT_16__RC_N"},"","",null,"__AUT_16__RC_N","","AUT16RCN","__AUT_16__RC_N",1,"______"]
[null,null,null,null,null,null,null,null,null,null,null,null,null,null,null,null,null,null,null,null,null,null,null,null,null,null,{"$f":"IFERROR(INDEX($AE$13:$AE$1003, SMALL(IF(ISBLANK($AE$13:$AE$1003)+ISERROR($AE$13:$AE$1003)+LEN($AE$13:$AE$1003)=0, \"\", ROW($AE$13:$AE$1003)-MIN(ROW($AE$13:$AE$1003))+1), ROW(59:59))),\"\")","v":"__AUT_16__RMA_N"},"","",null,"__AUT_16__RMA_N","","AUT16RMAN","__AUT_16__RMA_N",1,"______"]
[null,null,null,null,null,null,null,null,null,null,null,null,null,null,null,null,null,null,null,null,null,null,null,null,null,null,{"$f":"IFERROR(INDEX($AE$13:$AE$1003, SMALL(IF(ISBLANK($AE$13:$AE$1003)+ISERROR($AE$13:$AE$1003)+LEN($AE$13:$AE$1003)=0, \"\", ROW($AE$13:$AE$1003)-MIN(ROW($AE$13:$AE$1003))+1), ROW(60:60))),\"\")","v":"__AUT_16__TRAN_N"},"","",null,"__AUT_16__TRAN_N","","AUT16TRANN","__AUT_16__TRAN_N",1,"______"]
[null,null,null,null,null,null,null,null,null,null,null,null,null,null,null,null,null,null,null,null,null,null,null,null,null,null,{"$f":"IFERROR(INDEX($AE$13:$AE$1003, SMALL(IF(ISBLANK($AE$13:$AE$1003)+ISERROR($AE$13:$AE$1003)+LEN($AE$13:$AE$1003)=0, \"\", ROW($AE$13:$AE$1003)-MIN(ROW($AE$13:$AE$1003))+1), ROW(61:61))),\"\")","v":"__AUT_17__D_N"},"","",null,"__AUT_17__D_N","","AUT17DN","__AUT_17__D_N",1,"______"]
[null,null,null,null,null,null,null,null,null,null,null,null,null,null,null,null,null,null,null,null,null,null,null,null,null,null,{"$f":"IFERROR(INDEX($AE$13:$AE$1003, SMALL(IF(ISBLANK($AE$13:$AE$1003)+ISERROR($AE$13:$AE$1003)+LEN($AE$13:$AE$1003)=0, \"\", ROW($AE$13:$AE$1003)-MIN(ROW($AE$13:$AE$1003))+1), ROW(62:62))),\"\")","v":"__AUT_17__DROPOUT_N"},"","",null,"__AUT_17__DROPOUT_N","","AUT17DROPOUTN","__AUT_17__DROPOUT_N",1,"______"]
[null,null,null,null,null,null,null,null,null,null,null,null,null,null,null,null,null,null,null,null,null,null,null,null,null,null,{"$f":"IFERROR(INDEX($AE$13:$AE$1003, SMALL(IF(ISBLANK($AE$13:$AE$1003)+ISERROR($AE$13:$AE$1003)+LEN($AE$13:$AE$1003)=0, \"\", ROW($AE$13:$AE$1003)-MIN(ROW($AE$13:$AE$1003))+1), ROW(63:63))),\"\")","v":"__AUT_17__GHS_N"},"","",null,"__AUT_17__GHS_N","","AUT17GHSN","__AUT_17__GHS_N",1,"______"]
[null,null,null,null,null,null,null,null,null,null,null,null,null,null,null,null,null,null,null,null,null,null,null,null,null,null,{"$f":"IFERROR(INDEX($AE$13:$AE$1003, SMALL(IF(ISBLANK($AE$13:$AE$1003)+ISERROR($AE$13:$AE$1003)+LEN($AE$13:$AE$1003)=0, \"\", ROW($AE$13:$AE$1003)-MIN(ROW($AE$13:$AE$1003))+1), ROW(64:64))),\"\")","v":"__AUT_17__GRADALTDPL_N"},"","",null,"__AUT_17__GRADALTDPL_N","","AUT17GRADALTDPLN","__AUT_17__GRADALTDPL_N",1,"______"]
[null,null,null,null,null,null,null,null,null,null,null,null,null,null,null,null,null,null,null,null,null,null,null,null,null,null,{"$f":"IFERROR(INDEX($AE$13:$AE$1003, SMALL(IF(ISBLANK($AE$13:$AE$1003)+ISERROR($AE$13:$AE$1003)+LEN($AE$13:$AE$1003)=0, \"\", ROW($AE$13:$AE$1003)-MIN(ROW($AE$13:$AE$1003))+1), ROW(65:65))),\"\")","v":"__AUT_17__MKC_N"},{"$f":"IF(AF77=\"\",\"\",IF(COUNTIF(CurrentListing,AF77)>1,AJ77,\"\"))","v":""},{"$f":"IF(LEN(AF77)=0,\"\",IF(ISNA(MATCH(AF77,MasterListing,0)),AJ77,\"\"))","v":""},null,{"$f":"IF(LEN(AG77)=0,\"\",IF(ISNA(MATCH(AG77,CurrentListing,0)),AH77,\"\"))","v":"__AUT_17__MKC_N"},{"$f":"H77&I77&P77&Q77&R77&V77&W77","v":""},"AUT17MKCN","__AUT_17__MKC_N",1,"______"]
[null,null,null,null,null,null,null,null,null,null,null,null,null,null,null,null,null,null,null,null,null,null,null,null,null,null,{"$f":"IFERROR(INDEX($AE$13:$AE$1003, SMALL(IF(ISBLANK($AE$13:$AE$1003)+ISERROR($AE$13:$AE$1003)+LEN($AE$13:$AE$1003)=0, \"\", ROW($AE$13:$AE$1003)-MIN(ROW($AE$13:$AE$1003))+1), ROW(66:66))),\"\")","v":"__AUT_17__RC_N"},"","",null,"__AUT_17__RC_N","","AUT17RCN","__AUT_17__RC_N",{"$f":"IF(LEN(AA78)>0,1,0)","v":1},{"$f":"H78&\"_\"&I78&\"_\"&P78&\"_\"&Q78&\"_\"&R78&\"_\"&V78&\"_\"&W78","v":"______"}]
[null,null,null,null,null,null,null,null,null,null,null,null,null,null,null,null,null,null,null,null,null,null,null,null,null,null,{"$f":"IFERROR(INDEX($AE$13:$AE$1003, SMALL(IF(ISBLANK($AE$13:$AE$1003)+ISERROR($AE$13:$AE$1003)+LEN($AE$13:$AE$1003)=0, \"\", ROW($AE$13:$AE$1003)-MIN(ROW($AE$13:$AE$1003))+1), ROW(67:67))),\"\")","v":"__AUT_17__RMA_N"},"","",null,"__AUT_17__RMA_N","","AUT17RMAN","__AUT_17__RMA_N",1,"______"]
[null,null,null,null,null,null,null,null,null,null,null,null,null,null,null,null,null,null,null,null,null,null,null,null,null,null,{"$f":"IFERROR(INDEX($AE$13:$AE$1003, SMALL(IF(ISBLANK($AE$13:$AE$1003)+ISERROR($AE$13:$AE$1003)+LEN($AE$13:$AE$1003)=0, \"\", ROW($AE$13:$AE$1003)-MIN(ROW($AE$13:$AE$1003))+1), ROW(68:68))),\"\")","v":"__AUT_17__TRAN_N"},"","",null,"__AUT_17__TRAN_N","","AUT17TRANN","__AUT_17__TRAN_N",1,"______"]
[null,null,null,null,null,null,null,null,null,null,null,null,null,null,null,null,null,null,null,null,null,null,null,null,null,null,{"$f":"IFERROR(INDEX($AE$13:$AE$1003, SMALL(IF(ISBLANK($AE$13:$AE$1003)+ISERROR($AE$13:$AE$1003)+LEN($AE$13:$AE$1003)=0, \"\", ROW($AE$13:$AE$1003)-MIN(ROW($AE$13:$AE$1003))+1), ROW(69:69))),\"\")","v":"__AUT_18__D_N"},"","",null,"__AUT_18__D_N","","AUT18DN","__AUT_18__D_N",1,"______"]
[null,null,null,null,null,null,null,null,null,null,null,null,null,null,null,null,null,null,null,null,null,null,null,null,null,null,{"$f":"IFERROR(INDEX($AE$13:$AE$1003, SMALL(IF(ISBLANK($AE$13:$AE$1003)+ISERROR($AE$13:$AE$1003)+LEN($AE$13:$AE$1003)=0, \"\", ROW($AE$13:$AE$1003)-MIN(ROW($AE$13:$AE$1003))+1), ROW(70:70))),\"\")","v":"__AUT_18__DROPOUT_N"},"","",null,"__AUT_18__DROPOUT_N","","AUT18DROPOUTN","__AUT_18__DROPOUT_N",1,"______"]
[null,null,null,null,null,null,null,null,null,null,null,null,null,null,null,null,null,null,null,null,null,null,null,null,null,null,{"$f":"IFERROR(INDEX($AE$13:$AE$1003, SMALL(IF(ISBLANK($AE$13:$AE$1003)+ISERROR($AE$13:$AE$1003)+LEN($AE$13:$AE$1003)=0, \"\", ROW($AE$13:$AE$1003)-MIN(ROW($AE$13:$AE$1003))+1), ROW(71:71))),\"\")","v":"__AUT_18__GHS_N"},"","",null,"__AUT_18__GHS_N","","AUT18GHSN","__AUT_18__GHS_N",1,"______"]
[null,null,null,null,null,null,null,null,null,null,null,null,null,null,null,null,null,null,null,null,null,null,null,null,null,null,{"$f":"IFERROR(INDEX($AE$13:$AE$1003, SMALL(IF(ISBLANK($AE$13:$AE$1003)+ISERROR($AE$13:$AE$1003)+LEN($AE$13:$AE$1003)=0, \"\", ROW($AE$13:$AE$1003)-MIN(ROW($AE$13:$AE$1003))+1), ROW(72:72))),\"\")","v":"__AUT_18__GRADALTDPL_N"},"","",null,"__AUT_18__GRADALTDPL_N","","AUT18GRADALTDPLN","__AUT_18__GRADALTDPL_N",1,"______"]
[null,null,null,null,null,null,null,null,null,null,null,null,null,null,null,null,null,null,null,null,null,null,null,null,null,null,{"$f":"IFERROR(INDEX($AE$13:$AE$1003, SMALL(IF(ISBLANK($AE$13:$AE$1003)+ISERROR($AE$13:$AE$1003)+LEN($AE$13:$AE$1003)=0, \"\", ROW($AE$13:$AE$1003)-MIN(ROW($AE$13:$AE$1003))+1), ROW(73:73))),\"\")","v":"__AUT_18__MKC_N"},"","",null,"__AUT_18__MKC_N","","AUT18MKCN","__AUT_18__MKC_N",1,"______"]
[null,null,null,null,null,null,null,null,null,null,null,null,null,null,null,null,null,null,null,null,null,null,null,null,null,null,{"$f":"IFERROR(INDEX($AE$13:$AE$1003, SMALL(IF(ISBLANK($AE$13:$AE$1003)+ISERROR($AE$13:$AE$1003)+LEN($AE$13:$AE$1003)=0, \"\", ROW($AE$13:$AE$1003)-MIN(ROW($AE$13:$AE$1003))+1), ROW(74:74))),\"\")","v":"__AUT_18__RC_N"},"","",null,"__AUT_18__RC_N","","AUT18RCN","__AUT_18__RC_N",1,"______"]
[null,null,null,null,null,null,null,null,null,null,null,null,null,null,null,null,null,null,null,null,null,null,null,null,null,null,{"$f":"IFERROR(INDEX($AE$13:$AE$1003, SMALL(IF(ISBLANK($AE$13:$AE$1003)+ISERROR($AE$13:$AE$1003)+LEN($AE$13:$AE$1003)=0, \"\", ROW($AE$13:$AE$1003)-MIN(ROW($AE$13:$AE$1003))+1), ROW(75:75))),\"\")","v":"__AUT_18__RMA_N"},"","",null,"__AUT_18__RMA_N","","AUT18RMAN","__AUT_18__RMA_N",1,"______"]
[null,null,null,null,null,null,null,null,null,null,null,null,null,null,null,null,null,null,null,null,null,null,null,null,null,null,{"$f":"IFERROR(INDEX($AE$13:$AE$1003, SMALL(IF(ISBLANK($AE$13:$AE$1003)+ISERROR($AE$13:$AE$1003)+LEN($AE$13:$AE$1003)=0, \"\", ROW($AE$13:$AE$1003)-MIN(ROW($AE$13:$AE$1003))+1), ROW(76:76))),\"\")","v":"__AUT_18__TRAN_N"},"","",null,"__AUT_18__TRAN_N","","AUT18TRANN","__AUT_18__TRAN_N",1,"______"]
[null,null,null,null,null,null,null,null,null,null,null,null,null,null,null,null,null,null,null,null,null,null,null,null,null,null,{"$f":"IFERROR(INDEX($AE$13:$AE$1003, SMALL(IF(ISBLANK($AE$13:$AE$1003)+ISERROR($AE$13:$AE$1003)+LEN($AE$13:$AE$1003)=0, \"\", ROW($AE$13:$AE$1003)-MIN(ROW($AE$13:$AE$1003))+1), ROW(77:77))),\"\")","v":"__AUT_19__D_N"},"","",null,"__AUT_19__D_N","","AUT19DN","__AUT_19__D_N",1,"______"]
[null,null,null,null,null,null,null,null,null,null,null,null,null,null,null,null,null,null,null,null,null,null,null,null,null,null,{"$f":"IFERROR(INDEX($AE$13:$AE$1003, SMALL(IF(ISBLANK($AE$13:$AE$1003)+ISERROR($AE$13:$AE$1003)+LEN($AE$13:$AE$1003)=0, \"\", ROW($AE$13:$AE$1003)-MIN(ROW($AE$13:$AE$1003))+1), ROW(78:78))),\"\")","v":"__AUT_19__DROPOUT_N"},"","",null,"__AUT_19__DROPOUT_N","","AUT19DROPOUTN","__AUT_19__DROPOUT_N",1,"______"]
[null,null,null,null,null,null,null,null,null,null,null,null,null,null,null,null,null,null,null,null,null,null,null,null,null,null,{"$f":"IFERROR(INDEX($AE$13:$AE$1003, SMALL(IF(ISBLANK($AE$13:$AE$1003)+ISERROR($AE$13:$AE$1003)+LEN($AE$13:$AE$1003)=0, \"\", ROW($AE$13:$AE$1003)-MIN(ROW($AE$13:$AE$1003))+1), ROW(79:79))),\"\")","v":"__AUT_19__GHS_N"},"","",null,"__AUT_19__GHS_N","","AUT19GHSN","__AUT_19__GHS_N",1,"______"]
[null,null,null,null,null,null,null,null,null,null,null,null,null,null,null,null,null,null,null,null,null,null,null,null,null,null,{"$f":"IFERROR(INDEX($AE$13:$AE$1003, SMALL(IF(ISBLANK($AE$13:$AE$1003)+ISERROR($AE$13:$AE$1003)+LEN($AE$13:$AE$1003)=0, \"\", ROW($AE$13:$AE$1003)-MIN(ROW($AE$13:$AE$1003))+1), ROW(80:80))),\"\")","v":"__AUT_19__GRADALTDPL_N"},"","",null,"__AUT_19__GRADALTDPL_N","","AUT19GRADALTDPLN","__AUT_19__GRADALTDPL_N",1,"______"]
[null,null,null,null,null,null,null,null,null,null,null,null,null,null,null,null,null,null,null,null,null,null,null,null,null,null,{"$f":"IFERROR(INDEX($AE$13:$AE$1003, SMALL(IF(ISBLANK($AE$13:$AE$1003)+ISERROR($AE$13:$AE$1003)+LEN($AE$13:$AE$1003)=0, \"\", ROW($AE$13:$AE$1003)-MIN(ROW($AE$13:$AE$1003))+1), ROW(81:81))),\"\")","v":"__AUT_19__MKC_N"},"","",null,"__AUT_19__MKC_N","","AUT19MKCN","__AUT_19__MKC_N",1,"______"]
[null,null,null,null,null,null,null,null,null,null,null,null,null,null,null,null,null,null,null,null,null,null,null,null,null,null,{"$f":"IFERROR(INDEX($AE$13:$AE$1003, SMALL(IF(ISBLANK($AE$13:$AE$1003)+ISERROR($AE$13:$AE$1003)+LEN($AE$13:$AE$1003)=0, \"\", ROW($AE$13:$AE$1003)-MIN(ROW($AE$13:$AE$1003))+1), ROW(82:82))),\"\")","v":"__AUT_19__RC_N"},"","",null,"__AUT_19__RC_N","","AUT19RCN","__AUT_19__RC_N",1,"______"]
[null,null,null,null,null,null,null,null,null,null,null,null,null,null,null,null,null,null,null,null,null,null,null,null,null,null,{"$f":"IFERROR(INDEX($AE$13:$AE$1003, SMALL(IF(ISBLANK($AE$13:$AE$1003)+ISERROR($AE$13:$AE$1003)+LEN($AE$13:$AE$1003)=0, \"\", ROW($AE$13:$AE$1003)-MIN(ROW($AE$13:$AE$1003))+1), ROW(83:83))),\"\")","v":"__AUT_19__RMA_N"},"","",null,"__AUT_19__RMA_N","","AUT19RMAN","__AUT_19__RMA_N",1,"______"]
[null,null,null,null,null,null,null,null,null,null,null,null,null,null,null,null,null,null,null,null,null,null,null,null,null,null,{"$f":"IFERROR(INDEX($AE$13:$AE$1003, SMALL(IF(ISBLANK($AE$13:$AE$1003)+ISERROR($AE$13:$AE$1003)+LEN($AE$13:$AE$1003)=0, \"\", ROW($AE$13:$AE$1003)-MIN(ROW($AE$13:$AE$1003))+1), ROW(84:84))),\"\")","v":"__AUT_19__TRAN_N"},"","",null,"__AUT_19__TRAN_N","","AUT19TRANN","__AUT_19__TRAN_N",1,"______"]
[null,null,null,null,null,null,null,null,null,null,null,null,null,null,null,null,null,null,null,null,null,null,null,null,null,null,{"$f":"IFERROR(INDEX($AE$13:$AE$1003, SMALL(IF(ISBLANK($AE$13:$AE$1003)+ISERROR($AE$13:$AE$1003)+LEN($AE$13:$AE$1003)=0, \"\", ROW($AE$13:$AE$1003)-MIN(ROW($AE$13:$AE$1003))+1), ROW(85:85))),\"\")","v":"__AUT_20__D_N"},"","",null,"__AUT_20__D_N","","AUT20DN","__AUT_20__D_N",1,"______"]
[null,null,null,null,null,null,null,null,null,null,null,null,null,null,null,null,null,null,null,null,null,null,null,null,null,null,{"$f":"IFERROR(INDEX($AE$13:$AE$1003, SMALL(IF(ISBLANK($AE$13:$AE$1003)+ISERROR($AE$13:$AE$1003)+LEN($AE$13:$AE$1003)=0, \"\", ROW($AE$13:$AE$1003)-MIN(ROW($AE$13:$AE$1003))+1), ROW(86:86))),\"\")","v":"__AUT_20__DROPOUT_N"},"","",null,"__AUT_20__DROPOUT_N","","AUT20DROPOUTN","__AUT_20__DROPOUT_N",1,"______"]
[null,null,null,null,null,null,null,null,null,null,null,null,null,null,null,null,null,null,null,null,null,null,null,null,null,null,{"$f":"IFERROR(INDEX($AE$13:$AE$1003, SMALL(IF(ISBLANK($AE$13:$AE$1003)+ISERROR($AE$13:$AE$1003)+LEN($AE$13:$AE$1003)=0, \"\", ROW($AE$13:$AE$1003)-MIN(ROW($AE$13:$AE$1003))+1), ROW(87:87))),\"\")","v":"__AUT_20__GHS_N"},"","",null,"__AUT_20__GHS_N","","AUT20GHSN","__AUT_20__GHS_N",1,"______"]
[null,null,null,null,null,null,null,null,null,null,null,null,null,null,null,null,null,null,null,null,null,null,null,null,null,null,{"$f":"IFERROR(INDEX($AE$13:$AE$1003, SMALL(IF(ISBLANK($AE$13:$AE$1003)+ISERROR($AE$13:$AE$1003)+LEN($AE$13:$AE$1003)=0, \"\", ROW($AE$13:$AE$1003)-MIN(ROW($AE$13:$AE$1003))+1), ROW(88:88))),\"\")","v":"__AUT_20__GRADALTDPL_N"},"","",null,"__AUT_20__GRADALTDPL_N","","AUT20GRADALTDPLN","__AUT_20__GRADALTDPL_N",1,"______"]
[null,null,null,null,null,null,null,null,null,null,null,null,null,null,null,null,null,null,null,null,null,null,null,null,null,null,{"$f":"IFERROR(INDEX($AE$13:$AE$1003, SMALL(IF(ISBLANK($AE$13:$AE$1003)+ISERROR($AE$13:$AE$1003)+LEN($AE$13:$AE$1003)=0, \"\", ROW($AE$13:$AE$1003)-MIN(ROW($AE$13:$AE$1003))+1), ROW(89:89))),\"\")","v":"__AUT_20__MKC_N"},"","",null,"__AUT_20__MKC_N","","AUT20MKCN","__AUT_20__MKC_N",1,"______"]
[null,null,null,null,null,null,null,null,null,null,null,null,null,null,null,null,null,null,null,null,null,null,null,null,null,null,{"$f":"IFERROR(INDEX($AE$13:$AE$1003, SMALL(IF(ISBLANK($AE$13:$AE$1003)+ISERROR($AE$13:$AE$1003)+LEN($AE$13:$AE$1003)=0, \"\", ROW($AE$13:$AE$1003)-MIN(ROW($AE$13:$AE$1003))+1), ROW(90:90))),\"\")","v":"__AUT_20__RC_N"},"","",null,"__AUT_20__RC_N","","AUT20RCN","__AUT_20__RC_N",1,"______"]
[null,null,null,null,null,null,null,null,null,null,null,null,null,null,null,null,null,null,null,null,null,null,null,null,null,null,{"$f":"IFERROR(INDEX($AE$13:$AE$1003, SMALL(IF(ISBLANK($AE$13:$AE$1003)+ISERROR($AE$13:$AE$1003)+LEN($AE$13:$AE$1003)=0, \"\", ROW($AE$13:$AE$1003)-MIN(ROW($AE$13:$AE$1003))+1), ROW(91:91))),\"\")","v":"__AUT_20__RMA_N"},"","",null,"__AUT_20__RMA_N","","AUT20RMAN","__AUT_20__RMA_N",1,"______"]
[null,null,null,null,null,null,null,null,null,null,null,null,null,null,null,null,null,null,null,null,null,null,null,null,null,null,{"$f":"IFERROR(INDEX($AE$13:$AE$1003, SMALL(IF(ISBLANK($AE$13:$AE$1003)+ISERROR($AE$13:$AE$1003)+LEN($AE$13:$AE$1003)=0, \"\", ROW($AE$13:$AE$1003)-MIN(ROW($AE$13:$AE$1003))+1), ROW(92:92))),\"\")","v":"__AUT_20__TRAN_N"},"","",null,"__AUT_20__TRAN_N","","AUT20TRANN","__AUT_20__TRAN_N",1,"______"]
[null,null,null,null,null,null,null,null,null,null,null,null,null,null,null,null,null,null,null,null,null,null,null,null,null,null,{"$f":"IFERROR(INDEX($AE$13:$AE$1003, SMALL(IF(ISBLANK($AE$13:$AE$1003)+ISERROR($AE$13:$AE$1003)+LEN($AE$13:$AE$1003)=0, \"\", ROW($AE$13:$AE$1003)-MIN(ROW($AE$13:$AE$1003))+1), ROW(93:93))),\"\")","v":"__AUT_21__D_N"},"","",null,"__AUT_21__D_N","","AUT21DN","__AUT_21__D_N",1,"______"]
[null,null,null,null,null,null,null,null,null,null,null,null,null,null,null,null,null,null,null,null,null,null,null,null,null,null,{"$f":"IFERROR(INDEX($AE$13:$AE$1003, SMALL(IF(ISBLANK($AE$13:$AE$1003)+ISERROR($AE$13:$AE$1003)+LEN($AE$13:$AE$1003)=0, \"\", ROW($AE$13:$AE$1003)-MIN(ROW($AE$13:$AE$1003))+1), ROW(94:94))),\"\")","v":"__AUT_21__DROPOUT_N"},"","",null,"__AUT_21__DROPOUT_N","","AUT21DROPOUTN","__AUT_21__DROPOUT_N",1,"______"]
[null,null,null,null,null,null,null,null,null,null,null,null,null,null,null,null,null,null,null,null,null,null,null,null,null,null,{"$f":"IFERROR(INDEX($AE$13:$AE$1003, SMALL(IF(ISBLANK($AE$13:$AE$1003)+ISERROR($AE$13:$AE$1003)+LEN($AE$13:$AE$1003)=0, \"\", ROW($AE$13:$AE$1003)-MIN(ROW($AE$13:$AE$1003))+1), ROW(95:95))),\"\")","v":"__AUT_21__GHS_N"},"","",null,"__AUT_21__GHS_N","","AUT21GHSN","__AUT_21__GHS_N",1,"______"]
[null,null,null,null,null,null,null,null,null,null,null,null,null,null,null,null,null,null,null,null,null,null,null,null,null,null,{"$f":"IFERROR(INDEX($AE$13:$AE$1003, SMALL(IF(ISBLANK($AE$13:$AE$1003)+ISERROR($AE$13:$AE$1003)+LEN($AE$13:$AE$1003)=0, \"\", ROW($AE$13:$AE$1003)-MIN(ROW($AE$13:$AE$1003))+1), ROW(96:96))),\"\")","v":"__AUT_21__GRADALTDPL_N"},"","",null,"__AUT_21__GRADALTDPL_N","","AUT21GRADALTDPLN","__AUT_21__GRADALTDPL_N",1,"______"]
[null,null,null,null,null,null,null,null,null,null,null,null,null,null,null,null,null,null,null,null,null,null,null,null,null,null,{"$f":"IFERROR(INDEX($AE$13:$AE$1003, SMALL(IF(ISBLANK($AE$13:$AE$1003)+ISERROR($AE$13:$AE$1003)+LEN($AE$13:$AE$1003)=0, \"\", ROW($AE$13:$AE$1003)-MIN(ROW($AE$13:$AE$1003))+1), ROW(97:97))),\"\")","v":"__AUT_21__MKC_N"},"","",null,"__AUT_21__MKC_N","","AUT21MKCN","__AUT_21__MKC_N",1,"______"]
[null,null,null,null,null,null,null,null,null,null,null,null,null,null,null,null,null,null,null,null,null,null,null,null,null,null,{"$f":"IFERROR(INDEX($AE$13:$AE$1003, SMALL(IF(ISBLANK($AE$13:$AE$1003)+ISERROR($AE$13:$AE$1003)+LEN($AE$13:$AE$1003)=0, \"\", ROW($AE$13:$AE$1003)-MIN(ROW($AE$13:$AE$1003))+1), ROW(98:98))),\"\")","v":"__AUT_21__RC_N"},"","",null,"__AUT_21__RC_N","","AUT21RCN","__AUT_21__RC_N",1,"______"]
[null,null,null,null,null,null,null,null,null,null,null,null,null,null,null,null,null,null,null,null,null,null,null,null,null,null,{"$f":"IFERROR(INDEX($AE$13:$AE$1003, SMALL(IF(ISBLANK($AE$13:$AE$1003)+ISERROR($AE$13:$AE$1003)+LEN($AE$13:$AE$1003)=0, \"\", ROW($AE$13:$AE$1003)-MIN(ROW($AE$13:$AE$1003))+1), ROW(99:99))),\"\")","v":"__AUT_21__RMA_N"},"","",null,"__AUT_21__RMA_N","","AUT21RMAN","__AUT_21__RMA_N",1,"______"]
[null,null,null,null,null,null,null,null,null,null,null,null,null,null,null,null,null,null,null,null,null,null,null,null,null,null,{"$f":"IFERROR(INDEX($AE$13:$AE$1003, SMALL(IF(ISBLANK($AE$13:$AE$1003)+ISERROR($AE$13:$AE$1003)+LEN($AE$13:$AE$1003)=0, \"\", ROW($AE$13:$AE$1003)-MIN(ROW($AE$13:$AE$1003))+1), ROW(100:100))),\"\")","v":"__AUT_21__TRAN_N"},"","",null,"__AUT_21__TRAN_N","","AUT21TRANN","__AUT_21__TRAN_N",1,"______"]
[null,null,null,null,null,null,null,null,null,null,null,null,null,null,null,null,null,null,null,null,null,null,null,null,null,null,{"$f":"IFERROR(INDEX($AE$13:$AE$1003, SMALL(IF(ISBLANK($AE$13:$AE$1003)+ISERROR($AE$13:$AE$1003)+LEN($AE$13:$AE$1003)=0, \"\", ROW($AE$13:$AE$1003)-MIN(ROW($AE$13:$AE$1003))+1), ROW(101:101))),\"\")","v":"__DB____Y"},"","",null,"__DB____Y","","DBY","__DB____Y",1,"______"]
[null,null,null,null,null,null,null,null,null,null,null,null,null,null,null,null,null,null,null,null,null,null,null,null,null,null,{"$f":"IFERROR(INDEX($AE$13:$AE$1003, SMALL(IF(ISBLANK($AE$13:$AE$1003)+ISERROR($AE$13:$AE$1003)+LEN($AE$13:$AE$1003)=0, \"\", ROW($AE$13:$AE$1003)-MIN(ROW($AE$13:$AE$1003))+1), ROW(102:102))),\"\")","v":"__DB_14__D_N"},"","",null,"__DB_14__D_N","","DB14DN","__DB_14__D_N",1,"______"]
[null,null,null,null,null,null,null,null,null,null,null,null,null,null,null,null,null,null,null,null,null,null,null,null,null,null,{"$f":"IFERROR(INDEX($AE$13:$AE$1003, SMALL(IF(ISBLANK($AE$13:$AE$1003)+ISERROR($AE$13:$AE$1003)+LEN($AE$13:$AE$1003)=0, \"\", ROW($AE$13:$AE$1003)-MIN(ROW($AE$13:$AE$1003))+1), ROW(103:103))),\"\")","v":"__DB_14__DROPOUT_N"},"","",null,"__DB_14__DROPOUT_N","","DB14DROPOUTN","__DB_14__DROPOUT_N",1,"______"]
[null,null,null,null,null,null,null,null,null,null,null,null,null,null,null,null,null,null,null,null,null,null,null,null,null,null,{"$f":"IFERROR(INDEX($AE$13:$AE$1003, SMALL(IF(ISBLANK($AE$13:$AE$1003)+ISERROR($AE$13:$AE$1003)+LEN($AE$13:$AE$1003)=0, \"\", ROW($AE$13:$AE$1003)-MIN(ROW($AE$13:$AE$1003))+1), ROW(104:104))),\"\")","v":"__DB_14__GHS_N"},"","",null,"__DB_14__GHS_N","","DB14GHSN","__DB_14__GHS_N",1,"______"]
[null,null,null,null,null,null,null,null,null,null,null,null,null,null,null,null,null,null,null,null,null,null,null,null,null,null,{"$f":"IFERROR(INDEX($AE$13:$AE$1003, SMALL(IF(ISBLANK($AE$13:$AE$1003)+ISERROR($AE$13:$AE$1003)+LEN($AE$13:$AE$1003)=0, \"\", ROW($AE$13:$AE$1003)-MIN(ROW($AE$13:$AE$1003))+1), ROW(105:105))),\"\")","v":"__DB_14__GRADALTDPL_N"},"","",null,"__DB_14__GRADALTDPL_N","","DB14GRADALTDPLN","__DB_14__GRADALTDPL_N",1,"______"]
[null,null,null,null,null,null,null,null,null,null,null,null,null,null,null,null,null,null,null,null,null,null,null,null,null,null,{"$f":"IFERROR(INDEX($AE$13:$AE$1003, SMALL(IF(ISBLANK($AE$13:$AE$1003)+ISERROR($AE$13:$AE$1003)+LEN($AE$13:$AE$1003)=0, \"\", ROW($AE$13:$AE$1003)-MIN(ROW($AE$13:$AE$1003))+1), ROW(106:106))),\"\")","v":"__DB_14__MKC_N"},"","",null,"__DB_14__MKC_N","","DB14MKCN","__DB_14__MKC_N",1,"______"]
[null,null,null,null,null,null,null,null,null,null,null,null,null,null,null,null,null,null,null,null,null,null,null,null,null,null,{"$f":"IFERROR(INDEX($AE$13:$AE$1003, SMALL(IF(ISBLANK($AE$13:$AE$1003)+ISERROR($AE$13:$AE$1003)+LEN($AE$13:$AE$1003)=0, \"\", ROW($AE$13:$AE$1003)-MIN(ROW($AE$13:$AE$1003))+1), ROW(107:107))),\"\")","v":"__DB_14__RC_N"},"","",null,"__DB_14__RC_N","","DB14RCN","__DB_14__RC_N",1,"______"]
[null,null,null,null,null,null,null,null,null,null,null,null,null,null,null,null,null,null,null,null,null,null,null,null,null,null,{"$f":"IFERROR(INDEX($AE$13:$AE$1003, SMALL(IF(ISBLANK($AE$13:$AE$1003)+ISERROR($AE$13:$AE$1003)+LEN($AE$13:$AE$1003)=0, \"\", ROW($AE$13:$AE$1003)-MIN(ROW($AE$13:$AE$1003))+1), ROW(108:108))),\"\")","v":"__DB_14__RMA_N"},"","",null,"__DB_14__RMA_N","","DB14RMAN","__DB_14__RMA_N",1,"______"]
[null,null,null,null,null,null,null,null,null,null,null,null,null,null,null,null,null,null,null,null,null,null,null,null,null,null,{"$f":"IFERROR(INDEX($AE$13:$AE$1003, SMALL(IF(ISBLANK($AE$13:$AE$1003)+ISERROR($AE$13:$AE$1003)+LEN($AE$13:$AE$1003)=0, \"\", ROW($AE$13:$AE$1003)-MIN(ROW($AE$13:$AE$1003))+1), ROW(109:109))),\"\")","v":"__DB_14__TRAN_N"},"","",null,"__DB_14__TRAN_N","","DB14TRANN","__DB_14__TRAN_N",1,"______"]
[null,null,null,null,null,null,null,null,null,null,null,null,null,null,null,null,null,null,null,null,null,null,null,null,null,null,{"$f":"IFERROR(INDEX($AE$13:$AE$1003, SMALL(IF(ISBLANK($AE$13:$AE$1003)+ISERROR($AE$13:$AE$1003)+LEN($AE$13:$AE$1003)=0, \"\", ROW($AE$13:$AE$1003)-MIN(ROW($AE$13:$AE$1003))+1), ROW(110:110))),\"\")","v":"__DB_15__D_N"},"","",null,"__DB_15__D_N","","DB15DN","__DB_15__D_N",1,"______"]
[null,null,null,null,null,null,null,null,null,null,null,null,null,null,null,null,null,null,null,null,null,null,null,null,null,null,{"$f":"IFERROR(INDEX($AE$13:$AE$1003, SMALL(IF(ISBLANK($AE$13:$AE$1003)+ISERROR($AE$13:$AE$1003)+LEN($AE$13:$AE$1003)=0, \"\", ROW($AE$13:$AE$1003)-MIN(ROW($AE$13:$AE$1003))+1), ROW(111:111))),\"\")","v":"__DB_15__DROPOUT_N"},"","",null,"__DB_15__DROPOUT_N","","DB15DROPOUTN","__DB_15__DROPOUT_N",1,"______"]
[null,null,null,null,null,null,null,null,null,null,null,null,null,null,null,null,null,null,null,null,null,null,null,null,null,null,{"$f":"IFERROR(INDEX($AE$13:$AE$1003, SMALL(IF(ISBLANK($AE$13:$AE$1003)+ISERROR($AE$13:$AE$1003)+LEN($AE$13:$AE$1003)=0, \"\", ROW($AE$13:$AE$1003)-MIN(ROW($AE$13:$AE$1003))+1), ROW(112:112))),\"\")","v":"__DB_15__GHS_N"},"","",null,"__DB_15__GHS_N","","DB15GHSN","__DB_15__GHS_N",1,"______"]
[null,null,null,null,null,null,null,null,null,null,null,null,null,null,null,null,null,null,null,null,null,null,null,null,null,null,{"$f":"IFERROR(INDEX($AE$13:$AE$1003, SMALL(IF(ISBLANK($AE$13:$AE$1003)+ISERROR($AE$13:$AE$1003)+LEN($AE$13:$AE$1003)=0, \"\", ROW($AE$13:$AE$1003)-MIN(ROW($AE$13:$AE$1003))+1), ROW(113:113))),\"\")","v":"__DB_15__GRADALTDPL_N"},"","",null,"__DB_15__GRADALTDPL_N","","DB15GRADALTDPLN","__DB_15__GRADALTDPL_N",1,"______"]
[null,null,null,null,null,null,null,null,null,null,null,null,null,null,null,null,null,null,null,null,null,null,null,null,null,null,{"$f":"IFERROR(INDEX($AE$13:$AE$1003, SMALL(IF(ISBLANK($AE$13:$AE$1003)+ISERROR($AE$13:$AE$1003)+LEN($AE$13:$AE$1003)=0, \"\", ROW($AE$13:$AE$1003)-MIN(ROW($AE$13:$AE$1003))+1), ROW(114:114))),\"\")","v":"__DB_15__MKC_N"},"","",null,"__DB_15__MKC_N","","DB15MKCN","__DB_15__MKC_N",1,"______"]
[null,null,null,null,null,null,null,null,null,null,null,null,null,null,null,null,null,null,null,null,null,null,null,null,null,null,{"$f":"IFERROR(INDEX($AE$13:$AE$1003, SMALL(IF(ISBLANK($AE$13:$AE$1003)+ISERROR($AE$13:$AE$1003)+LEN($AE$13:$AE$1003)=0, \"\", ROW($AE$13:$AE$1003)-MIN(ROW($AE$13:$AE$1003))+1), ROW(115:115))),\"\")","v":"__DB_15__RC_N"},"","",null,"__DB_15__RC_N","","DB15RCN","__DB_15__RC_N",1,"______"]
[null,null,null,null,null,null,null,null,null,null,null,null,null,null,null,null,null,null,null,null,null,null,null,null,null,null,{"$f":"IFERROR(INDEX($AE$13:$AE$1003, SMALL(IF(ISBLANK($AE$13:$AE$1003)+ISERROR($AE$13:$AE$1003)+LEN($AE$13:$AE$1003)=0, \"\", ROW($AE$13:$AE$1003)-MIN(ROW($AE$13:$AE$1003))+1), ROW(116:116))),\"\")","v":"__DB_15__RMA_N"},"","",null,"__DB_15__RMA_N","","DB15RMAN","__DB_15__RMA_N",1,"______"]
[null,null,null,null,null,null,null,null,null,null,null,null,null,null,null,null,null,null,null,null,null,null,null,null,null,null,{"$f":"IFERROR(INDEX($AE$13:$AE$1003, SMALL(IF(ISBLANK($AE$13:$AE$1003)+ISERROR($AE$13:$AE$1003)+LEN($AE$13:$AE$1003)=0, \"\", ROW($AE$13:$AE$1003)-MIN(ROW($AE$13:$AE$1003))+1), ROW(117:117))),\"\")","v":"__DB_15__TRAN_N"},"","",null,"__DB_15__TRAN_N","","DB15TRANN","__DB_15__TRAN_N",1,"______"]
[null,null,null,null,null,null,null,null,null,null,null,null,null,null,null,null,null,null,null,null,null,null,null,null,null,null,{"$f":"IFERROR(INDEX($AE$13:$AE$1003, SMALL(IF(ISBLANK($AE$13:$AE$1003)+ISERROR($AE$13:$AE$1003)+LEN($AE$13:$AE$1003)=0, \"\", ROW($AE$13:$AE$1003)-MIN(ROW($AE$13:$AE$1003))+1), ROW(118:118))),\"\")","v":"__DB_16__D_N"},"","",null,"__DB_16__D_N","","DB16DN","__DB_16__D_N",1,"______"]
[null,null,null,null,null,null,null,null,null,null,null,null,null,null,null,null,null,null,null,null,null,null,null,null,null,null,{"$f":"IFERROR(INDEX($AE$13:$AE$1003, SMALL(IF(ISBLANK($AE$13:$AE$1003)+ISERROR($AE$13:$AE$1003)+LEN($AE$13:$AE$1003)=0, \"\", ROW($AE$13:$AE$1003)-MIN(ROW($AE$13:$AE$1003))+1), ROW(119:119))),\"\")","v":"__DB_16__DROPOUT_N"},"","",null,"__DB_16__DROPOUT_N","","DB16DROPOUTN","__DB_16__DROPOUT_N",1,"______"]
[null,null,null,null,null,null,null,null,null,null,null,null,null,null,null,null,null,null,null,null,null,null,null,null,null,null,{"$f":"IFERROR(INDEX($AE$13:$AE$1003, SMALL(IF(ISBLANK($AE$13:$AE$1003)+ISERROR($AE$13:$AE$1003)+LEN($AE$13:$AE$1003)=0, \"\", ROW($AE$13:$AE$1003)-MIN(ROW($AE$13:$AE$1003))+1), ROW(120:120))),\"\")","v":"__DB_16__GHS_N"},"","",null,"__DB_16__GHS_N","","DB16GHSN","__DB_16__GHS_N",1,"______"]
[null,null,null,null,null,null,null,null,null,null,null,null,null,null,null,null,null,null,null,null,null,null,null,null,null,null,{"$f":"IFERROR(INDEX($AE$13:$AE$1003, SMALL(IF(ISBLANK($AE$13:$AE$1003)+ISERROR($AE$13:$AE$1003)+LEN($AE$13:$AE$1003)=0, \"\", ROW($AE$13:$AE$1003)-MIN(ROW($AE$13:$AE$1003))+1), ROW(121:121))),\"\")","v":"__DB_16__GRADALTDPL_N"},"","",null,"__DB_16__GRADALTDPL_N","","DB16GRADALTDPLN","__DB_16__GRADALTDPL_N",1,"______"]
[null,null,null,null,null,null,null,null,null,null,null,null,null,null,null,null,null,null,null,null,null,null,null,null,null,null,{"$f":"IFERROR(INDEX($AE$13:$AE$1003, SMALL(IF(ISBLANK($AE$13:$AE$1003)+ISERROR($AE$13:$AE$1003)+LEN($AE$13:$AE$1003)=0, \"\", ROW($AE$13:$AE$1003)-MIN(ROW($AE$13:$AE$1003))+1), ROW(122:122))),\"\")","v":"__DB_16__MKC_N"},"","",null,"__DB_16__MKC_N","","DB16MKCN","__DB_16__MKC_N",1,"______"]
[null,null,null,null,null,null,null,null,null,null,null,null,null,null,null,null,null,null,null,null,null,null,null,null,null,null,{"$f":"IFERROR(INDEX($AE$13:$AE$1003, SMALL(IF(ISBLANK($AE$13:$AE$1003)+ISERROR($AE$13:$AE$1003)+LEN($AE$13:$AE$1003)=0, \"\", ROW($AE$13:$AE$1003)-MIN(ROW($AE$13:$AE$1003))+1), ROW(123:123))),\"\")","v":"__DB_16__RC_N"},"","",null,"__DB_16__RC_N","","DB16RCN","__DB_16__RC_N",1,"______"]
[null,null,null,null,null,null,null,null,null,null,null,null,null,null,null,null,null,null,null,null,null,null,null,null,null,null,{"$f":"IFERROR(INDEX($AE$13:$AE$1003, SMALL(IF(ISBLANK($AE$13:$AE$1003)+ISERROR($AE$13:$AE$1003)+LEN($AE$13:$AE$1003)=0, \"\", ROW($AE$13:$AE$1003)-MIN(ROW($AE$13:$AE$1003))+1), ROW(124:124))),\"\")","v":"__DB_16__RMA_N"},"","",null,"__DB_16__RMA_N","","DB16RMAN","__DB_16__RMA_N",1,"______"]
[null,null,null,null,null,null,null,null,null,null,null,null,null,null,null,null,null,null,null,null,null,null,null,null,null,null,{"$f":"IFERROR(INDEX($AE$13:$AE$1003, SMALL(IF(ISBLANK($AE$13:$AE$1003)+ISERROR($AE$13:$AE$1003)+LEN($AE$13:$AE$1003)=0, \"\", ROW($AE$13:$AE$1003)-MIN(ROW($AE$13:$AE$1003))+1), ROW(125:125))),\"\")","v":"__DB_16__TRAN_N"},"","",null,"__DB_16__TRAN_N","","DB16TRANN","__DB_16__TRAN_N",1,"______"]
[null,null,null,null,null,null,null,null,null,null,null,null,null,null,null,null,null,null,null,null,null,null,null,null,null,null,{"$f":"IFERROR(INDEX($AE$13:$AE$1003, SMALL(IF(ISBLANK($AE$13:$AE$1003)+ISERROR($AE$13:$AE$1003)+LEN($AE$13:$AE$1003)=0, \"\", ROW($AE$13:$AE$1003)-MIN(ROW($AE$13:$AE$1003))+1), ROW(126:126))),\"\")","v":"__DB_17__D_N"},"","",null,"__DB_17__D_N","","DB17DN","__DB_17__D_N",1,"______"]
[null,null,null,null,null,null,null,null,null,null,null,null,null,null,null,null,null,null,null,null,null,null,null,null,null,null,{"$f":"IFERROR(INDEX($AE$13:$AE$1003, SMALL(IF(ISBLANK($AE$13:$AE$1003)+ISERROR($AE$13:$AE$1003)+LEN($AE$13:$AE$1003)=0, \"\", ROW($AE$13:$AE$1003)-MIN(ROW($AE$13:$AE$1003))+1), ROW(127:127))),\"\")","v":"__DB_17__DROPOUT_N"},"","",null,"__DB_17__DROPOUT_N","","DB17DROPOUTN","__DB_17__DROPOUT_N",1,"______"]
[null,null,null,null,null,null,null,null,null,null,null,null,null,null,null,null,null,null,null,null,null,null,null,null,null,null,{"$f":"IFERROR(INDEX($AE$13:$AE$1003, SMALL(IF(ISBLANK($AE$13:$AE$1003)+ISERROR($AE$13:$AE$1003)+LEN($AE$13:$AE$1003)=0, \"\", ROW($AE$13:$AE$1003)-MIN(ROW($AE$13:$AE$1003))+1), ROW(128:128))),\"\")","v":"__DB_17__GHS_N"},"","",null,"__DB_17__GHS_N","","DB17GHSN","__DB_17__GHS_N",1,"______"]
[null,null,null,null,null,null,null,null,null,null,null,null,null,null,null,null,null,null,null,null,null,null,null,null,null,null,{"$f":"IFERROR(INDEX($AE$13:$AE$1003, SMALL(IF(ISBLANK($AE$13:$AE$1003)+ISERROR($AE$13:$AE$1003)+LEN($AE$13:$AE$1003)=0, \"\", ROW($AE$13:$AE$1003)-MIN(ROW($AE$13:$AE$1003))+1), ROW(129:129))),\"\")","v":"__DB_17__GRADALTDPL_N"},{"$f":"IF(AF141=\"\",\"\",IF(COUNTIF(CurrentListing,AF141)>1,AJ141,\"\"))","v":""},{"$f":"IF(LEN(AF141)=0,\"\",IF(ISNA(MATCH(AF141,MasterListing,0)),AJ141,\"\"))","v":""},null,{"$f":"IF(LEN(AG141)=0,\"\",IF(ISNA(MATCH(AG141,CurrentListing,0)),AH141,\"\"))","v":"__DB_17__GRADALTDPL_N"},{"$f":"H141&I141&P141&Q141&R141&V141&W141","v":""},"DB17GRADALTDPLN","__DB_17__GRADALTDPL_N",1,"______"]
[null,null,null,null,null,null,null,null,null,null,null,null,null,null,null,null,null,null,null,null,null,null,null,null,null,null,{"$f":"IFERROR(INDEX($AE$13:$AE$1003, SMALL(IF(ISBLANK($AE$13:$AE$1003)+ISERROR($AE$13:$AE$1003)+LEN($AE$13:$AE$1003)=0, \"\", ROW($AE$13:$AE$1003)-MIN(ROW($AE$13:$AE$1003))+1), ROW(130:130))),\"\")","v":"__DB_17__MKC_N"},"","",null,"__DB_17__MKC_N","","DB17MKCN","__DB_17__MKC_N",{"$f":"IF(LEN(AA142)>0,1,0)","v":1},{"$f":"H142&\"_\"&I142&\"_\"&P142&\"_\"&Q142&\"_\"&R142&\"_\"&V142&\"_\"&W142","v":"______"}]
[null,null,null,null,null,null,null,null,null,null,null,null,null,null,null,null,null,null,null,null,null,null,null,null,null,null,{"$f":"IFERROR(INDEX($AE$13:$AE$1003, SMALL(IF(ISBLANK($AE$13:$AE$1003)+ISERROR($AE$13:$AE$1003)+LEN($AE$13:$AE$1003)=0, \"\", ROW($AE$13:$AE$1003)-MIN(ROW($AE$13:$AE$1003))+1), ROW(131:131))),\"\")","v":"__DB_17__RC_N"},"","",null,"__DB_17__RC_N","","DB17RCN","__DB_17__RC_N",1,"______"]
[null,null,null,null,null,null,null,null,null,null,null,null,null,null,null,null,null,null,null,null,null,null,null,null,null,null,{"$f":"IFERROR(INDEX($AE$13:$AE$1003, SMALL(IF(ISBLANK($AE$13:$AE$1003)+ISERROR($AE$13:$AE$1003)+LEN($AE$13:$AE$1003)=0, \"\", ROW($AE$13:$AE$1003)-MIN(ROW($AE$13:$AE$1003))+1), ROW(132:132))),\"\")","v":"__DB_17__RMA_N"},"","",null,"__DB_17__RMA_N","","DB17RMAN","__DB_17__RMA_N",1,"______"]
[null,null,null,null,null,null,null,null,null,null,null,null,null,null,null,null,null,null,null,null,null,null,null,null,null,null,{"$f":"IFERROR(INDEX($AE$13:$AE$1003, SMALL(IF(ISBLANK($AE$13:$AE$1003)+ISERROR($AE$13:$AE$1003)+LEN($AE$13:$AE$1003)=0, \"\", ROW($AE$13:$AE$1003)-MIN(ROW($AE$13:$AE$1003))+1), ROW(133:133))),\"\")","v":"__DB_17__TRAN_N"},"","",null,"__DB_17__TRAN_N","","DB17TRANN","__DB_17__TRAN_N",1,"______"]
[null,null,null,null,null,null,null,null,null,null,null,null,null,null,null,null,null,null,null,null,null,null,null,null,null,null,{"$f":"IFERROR(INDEX($AE$13:$AE$1003, SMALL(IF(ISBLANK($AE$13:$AE$1003)+ISERROR($AE$13:$AE$1003)+LEN($AE$13:$AE$1003)=0, \"\", ROW($AE$13:$AE$1003)-MIN(ROW($AE$13:$AE$1003))+1), ROW(134:134))),\"\")","v":"__DB_18__D_N"},"","",null,"__DB_18__D_N","","DB18DN","__DB_18__D_N",1,"______"]
[null,null,null,null,null,null,null,null,null,null,null,null,null,null,null,null,null,null,null,null,null,null,null,null,null,null,{"$f":"IFERROR(INDEX($AE$13:$AE$1003, SMALL(IF(ISBLANK($AE$13:$AE$1003)+ISERROR($AE$13:$AE$1003)+LEN($AE$13:$AE$1003)=0, \"\", ROW($AE$13:$AE$1003)-MIN(ROW($AE$13:$AE$1003))+1), ROW(135:135))),\"\")","v":"__DB_18__DROPOUT_N"},"","",null,"__DB_18__DROPOUT_N","","DB18DROPOUTN","__DB_18__DROPOUT_N",1,"______"]
[null,null,null,null,null,null,null,null,null,null,null,null,null,null,null,null,null,null,null,null,null,null,null,null,null,null,{"$f":"IFERROR(INDEX($AE$13:$AE$1003, SMALL(IF(ISBLANK($AE$13:$AE$1003)+ISERROR($AE$13:$AE$1003)+LEN($AE$13:$AE$1003)=0, \"\", ROW($AE$13:$AE$1003)-MIN(ROW($AE$13:$AE$1003))+1), ROW(136:136))),\"\")","v":"__DB_18__GHS_N"},"","",null,"__DB_18__GHS_N","","DB18GHSN","__DB_18__GHS_N",1,"______"]
[null,null,null,null,null,null,null,null,null,null,null,null,null,null,null,null,null,null,null,null,null,null,null,null,null,null,{"$f":"IFERROR(INDEX($AE$13:$AE$1003, SMALL(IF(ISBLANK($AE$13:$AE$1003)+ISERROR($AE$13:$AE$1003)+LEN($AE$13:$AE$1003)=0, \"\", ROW($AE$13:$AE$1003)-MIN(ROW($AE$13:$AE$1003))+1), ROW(137:137))),\"\")","v":"__DB_18__GRADALTDPL_N"},"","",null,"__DB_18__GRADALTDPL_N","","DB18GRADALTDPLN","__DB_18__GRADALTDPL_N",1,"______"]
[null,null,null,null,null,null,null,null,null,null,null,null,null,null,null,null,null,null,null,null,null,null,null,null,null,null,{"$f":"IFERROR(INDEX($AE$13:$AE$1003, SMALL(IF(ISBLANK($AE$13:$AE$1003)+ISERROR($AE$13:$AE$1003)+LEN($AE$13:$AE$1003)=0, \"\", ROW($AE$13:$AE$1003)-MIN(ROW($AE$13:$AE$1003))+1), ROW(138:138))),\"\")","v":"__DB_18__MKC_N"},"","",null,"__DB_18__MKC_N","","DB18MKCN","__DB_18__MKC_N",1,"______"]
[null,null,null,null,null,null,null,null,null,null,null,null,null,null,null,null,null,null,null,null,null,null,null,null,null,null,{"$f":"IFERROR(INDEX($AE$13:$AE$1003, SMALL(IF(ISBLANK($AE$13:$AE$1003)+ISERROR($AE$13:$AE$1003)+LEN($AE$13:$AE$1003)=0, \"\", ROW($AE$13:$AE$1003)-MIN(ROW($AE$13:$AE$1003))+1), ROW(139:139))),\"\")","v":"__DB_18__RC_N"},"","",null,"__DB_18__RC_N","","DB18RCN","__DB_18__RC_N",1,"______"]
[null,null,null,null,null,null,null,null,null,null,null,null,null,null,null,null,null,null,null,null,null,null,null,null,null,null,{"$f":"IFERROR(INDEX($AE$13:$AE$1003, SMALL(IF(ISBLANK($AE$13:$AE$1003)+ISERROR($AE$13:$AE$1003)+LEN($AE$13:$AE$1003)=0, \"\", ROW($AE$13:$AE$1003)-MIN(ROW($AE$13:$AE$1003))+1), ROW(140:140))),\"\")","v":"__DB_18__RMA_N"},"","",null,"__DB_18__RMA_N","","DB18RMAN","__DB_18__RMA_N",1,"______"]
[null,null,null,null,null,null,null,null,null,null,null,null,null,null,null,null,null,null,null,null,null,null,null,null,null,null,{"$f":"IFERROR(INDEX($AE$13:$AE$1003, SMALL(IF(ISBLANK($AE$13:$AE$1003)+ISERROR($AE$13:$AE$1003)+LEN($AE$13:$AE$1003)=0, \"\", ROW($AE$13:$AE$1003)-MIN(ROW($AE$13:$AE$1003))+1), ROW(141:141))),\"\")","v":"__DB_18__TRAN_N"},"","",null,"__DB_18__TRAN_N","","DB18TRANN","__DB_18__TRAN_N",1,"______"]
[null,null,null,null,null,null,null,null,null,null,null,null,null,null,null,null,null,null,null,null,null,null,null,null,null,null,{"$f":"IFERROR(INDEX($AE$13:$AE$1003, SMALL(IF(ISBLANK($AE$13:$AE$1003)+ISERROR($AE$13:$AE$1003)+LEN($AE$13:$AE$1003)=0, \"\", ROW($AE$13:$AE$1003)-MIN(ROW($AE$13:$AE$1003))+1), ROW(142:142))),\"\")","v":"__DB_19__D_N"},"","",null,"__DB_19__D_N","","DB19DN","__DB_19__D_N",1,"______"]
[null,null,null,null,null,null,null,null,null,null,null,null,null,null,null,null,null,null,null,null,null,null,null,null,null,null,{"$f":"IFERROR(INDEX($AE$13:$AE$1003, SMALL(IF(ISBLANK($AE$13:$AE$1003)+ISERROR($AE$13:$AE$1003)+LEN($AE$13:$AE$1003)=0, \"\", ROW($AE$13:$AE$1003)-MIN(ROW($AE$13:$AE$1003))+1), ROW(143:143))),\"\")","v":"__DB_19__DROPOUT_N"},"","",null,"__DB_19__DROPOUT_N","","DB19DROPOUTN","__DB_19__DROPOUT_N",1,"______"]
[null,null,null,null,null,null,null,null,null,null,null,null,null,null,null,null,null,null,null,null,null,null,null,null,null,null,{"$f":"IFERROR(INDEX($AE$13:$AE$1003, SMALL(IF(ISBLANK($AE$13:$AE$1003)+ISERROR($AE$13:$AE$1003)+LEN($AE$13:$AE$1003)=0, \"\", ROW($AE$13:$AE$1003)-MIN(ROW($AE$13:$AE$1003))+1), ROW(144:144))),\"\")","v":"__DB_19__GHS_N"},"","",null,"__DB_19__GHS_N","","DB19GHSN","__DB_19__GHS_N",1,"______"]
[null,null,null,null,null,null,null,null,null,null,null,null,null,null,null,null,null,null,null,null,null,null,null,null,null,null,{"$f":"IFERROR(INDEX($AE$13:$AE$1003, SMALL(IF(ISBLANK($AE$13:$AE$1003)+ISERROR($AE$13:$AE$1003)+LEN($AE$13:$AE$1003)=0, \"\", ROW($AE$13:$AE$1003)-MIN(ROW($AE$13:$AE$1003))+1), ROW(145:145))),\"\")","v":"__DB_19__GRADALTDPL_N"},"","",null,"__DB_19__GRADALTDPL_N","","DB19GRADALTDPLN","__DB_19__GRADALTDPL_N",1,"______"]
[null,null,null,null,null,null,null,null,null,null,null,null,null,null,null,null,null,null,null,null,null,null,null,null,null,null,{"$f":"IFERROR(INDEX($AE$13:$AE$1003, SMALL(IF(ISBLANK($AE$13:$AE$1003)+ISERROR($AE$13:$AE$1003)+LEN($AE$13:$AE$1003)=0, \"\", ROW($AE$13:$AE$1003)-MIN(ROW($AE$13:$AE$1003))+1), ROW(146:146))),\"\")","v":"__DB_19__MKC_N"},"","",null,"__DB_19__MKC_N","","DB19MKCN","__DB_19__MKC_N",1,"______"]
[null,null,null,null,null,null,null,null,null,null,null,null,null,null,null,null,null,null,null,null,null,null,null,null,null,null,{"$f":"IFERROR(INDEX($AE$13:$AE$1003, SMALL(IF(ISBLANK($AE$13:$AE$1003)+ISERROR($AE$13:$AE$1003)+LEN($AE$13:$AE$1003)=0, \"\", ROW($AE$13:$AE$1003)-MIN(ROW($AE$13:$AE$1003))+1), ROW(147:147))),\"\")","v":"__DB_19__RC_N"},"","",null,"__DB_19__RC_N","","DB19RCN","__DB_19__RC_N",1,"______"]
[null,null,null,null,null,null,null,null,null,null,null,null,null,null,null,null,null,null,null,null,null,null,null,null,null,null,{"$f":"IFERROR(INDEX($AE$13:$AE$1003, SMALL(IF(ISBLANK($AE$13:$AE$1003)+ISERROR($AE$13:$AE$1003)+LEN($AE$13:$AE$1003)=0, \"\", ROW($AE$13:$AE$1003)-MIN(ROW($AE$13:$AE$1003))+1), ROW(148:148))),\"\")","v":"__DB_19__RMA_N"},"","",null,"__DB_19__RMA_N","","DB19RMAN","__DB_19__RMA_N",1,"______"]
[null,null,null,null,null,null,null,null,null,null,null,null,null,null,null,null,null,null,null,null,null,null,null,null,null,null,{"$f":"IFERROR(INDEX($AE$13:$AE$1003, SMALL(IF(ISBLANK($AE$13:$AE$1003)+ISERROR($AE$13:$AE$1003)+LEN($AE$13:$AE$1003)=0, \"\", ROW($AE$13:$AE$1003)-MIN(ROW($AE$13:$AE$1003))+1), ROW(149:149))),\"\")","v":"__DB_19__TRAN_N"},"","",null,"__DB_19__TRAN_N","","DB19TRANN","__DB_19__TRAN_N",1,"______"]
[null,null,null,null,null,null,null,null,null,null,null,null,null,null,null,null,null,null,null,null,null,null,null,null,null,null,{"$f":"IFERROR(INDEX($AE$13:$AE$1003, SMALL(IF(ISBLANK($AE$13:$AE$1003)+ISERROR($AE$13:$AE$1003)+LEN($AE$13:$AE$1003)=0, \"\", ROW($AE$13:$AE$1003)-MIN(ROW($AE$13:$AE$1003))+1), ROW(150:150))),\"\")","v":"__DB_20__D_N"},"","",null,"__DB_20__D_N","","DB20DN","__DB_20__D_N",1,"______"]
[null,null,null,null,null,null,null,null,null,null,null,null,null,null,null,null,null,null,null,null,null,null,null,null,null,null,{"$f":"IFERROR(INDEX($AE$13:$AE$1003, SMALL(IF(ISBLANK($AE$13:$AE$1003)+ISERROR($AE$13:$AE$1003)+LEN($AE$13:$AE$1003)=0, \"\", ROW($AE$13:$AE$1003)-MIN(ROW($AE$13:$AE$1003))+1), ROW(151:151))),\"\")","v":"__DB_20__DROPOUT_N"},"","",null,"__DB_20__DROPOUT_N","","DB20DROPOUTN","__DB_20__DROPOUT_N",1,"______"]
[null,null,null,null,null,null,null,null,null,null,null,null,null,null,null,null,null,null,null,null,null,null,null,null,null,null,{"$f":"IFERROR(INDEX($AE$13:$AE$1003, SMALL(IF(ISBLANK($AE$13:$AE$1003)+ISERROR($AE$13:$AE$1003)+LEN($AE$13:$AE$1003)=0, \"\", ROW($AE$13:$AE$1003)-MIN(ROW($AE$13:$AE$1003))+1), ROW(152:152))),\"\")","v":"__DB_20__GHS_N"},"","",null,"__DB_20__GHS_N","","DB20GHSN","__DB_20__GHS_N",1,"______"]
[null,null,null,null,null,null,null,null,null,null,null,null,null,null,null,null,null,null,null,null,null,null,null,null,null,null,{"$f":"IFERROR(INDEX($AE$13:$AE$1003, SMALL(IF(ISBLANK($AE$13:$AE$1003)+ISERROR($AE$13:$AE$1003)+LEN($AE$13:$AE$1003)=0, \"\", ROW($AE$13:$AE$1003)-MIN(ROW($AE$13:$AE$1003))+1), ROW(153:153))),\"\")","v":"__DB_20__GRADALTDPL_N"},"","",null,"__DB_20__GRADALTDPL_N","","DB20GRADALTDPLN","__DB_20__GRADALTDPL_N",1,"______"]
[null,null,null,null,null,null,null,null,null,null,null,null,null,null,null,null,null,null,null,null,null,null,null,null,null,null,{"$f":"IFERROR(INDEX($AE$13:$AE$1003, SMALL(IF(ISBLANK($AE$13:$AE$1003)+ISERROR($AE$13:$AE$1003)+LEN($AE$13:$AE$1003)=0, \"\", ROW($AE$13:$AE$1003)-MIN(ROW($AE$13:$AE$1003))+1), ROW(154:154))),\"\")","v":"__DB_20__MKC_N"},"","",null,"__DB_20__MKC_N","","DB20MKCN","__DB_20__MKC_N",1,"______"]
[null,null,null,null,null,null,null,null,null,null,null,null,null,null,null,null,null,null,null,null,null,null,null,null,null,null,{"$f":"IFERROR(INDEX($AE$13:$AE$1003, SMALL(IF(ISBLANK($AE$13:$AE$1003)+ISERROR($AE$13:$AE$1003)+LEN($AE$13:$AE$1003)=0, \"\", ROW($AE$13:$AE$1003)-MIN(ROW($AE$13:$AE$1003))+1), ROW(155:155))),\"\")","v":"__DB_20__RC_N"},"","",null,"__DB_20__RC_N","","DB20RCN","__DB_20__RC_N",1,"______"]
[null,null,null,null,null,null,null,null,null,null,null,null,null,null,null,null,null,null,null,null,null,null,null,null,null,null,{"$f":"IFERROR(INDEX($AE$13:$AE$1003, SMALL(IF(ISBLANK($AE$13:$AE$1003)+ISERROR($AE$13:$AE$1003)+LEN($AE$13:$AE$1003)=0, \"\", ROW($AE$13:$AE$1003)-MIN(ROW($AE$13:$AE$1003))+1), ROW(156:156))),\"\")","v":"__DB_20__RMA_N"},"","",null,"__DB_20__RMA_N","","DB20RMAN","__DB_20__RMA_N",1,"______"]
[null,null,null,null,null,null,null,null,null,null,null,null,null,null,null,null,null,null,null,null,null,null,null,null,null,null,{"$f":"IFERROR(INDEX($AE$13:$AE$1003, SMALL(IF(ISBLANK($AE$13:$AE$1003)+ISERROR($AE$13:$AE$1003)+LEN($AE$13:$AE$1003)=0, \"\", ROW($AE$13:$AE$1003)-MIN(ROW($AE$13:$AE$1003))+1), ROW(157:157))),\"\")","v":"__DB_20__TRAN_N"},"","",null,"__DB_20__TRAN_N","","DB20TRANN","__DB_20__TRAN_N",1,"______"]
[null,null,null,null,null,null,null,null,null,null,null,null,null,null,null,null,null,null,null,null,null,null,null,null,null,null,{"$f":"IFERROR(INDEX($AE$13:$AE$1003, SMALL(IF(ISBLANK($AE$13:$AE$1003)+ISERROR($AE$13:$AE$1003)+LEN($AE$13:$AE$1003)=0, \"\", ROW($AE$13:$AE$1003)-MIN(ROW($AE$13:$AE$1003))+1), ROW(158:158))),\"\")","v":"__DB_21__D_N"},"","",null,"__DB_21__D_N","","DB21DN","__DB_21__D_N",1,"______"]
[null,null,null,null,null,null,null,null,null,null,null,null,null,null,null,null,null,null,null,null,null,null,null,null,null,null,{"$f":"IFERROR(INDEX($AE$13:$AE$1003, SMALL(IF(ISBLANK($AE$13:$AE$1003)+ISERROR($AE$13:$AE$1003)+LEN($AE$13:$AE$1003)=0, \"\", ROW($AE$13:$AE$1003)-MIN(ROW($AE$13:$AE$1003))+1), ROW(159:159))),\"\")","v":"__DB_21__DROPOUT_N"},"","",null,"__DB_21__DROPOUT_N","","DB21DROPOUTN","__DB_21__DROPOUT_N",1,"______"]
[null,null,null,null,null,null,null,null,null,null,null,null,null,null,null,null,null,null,null,null,null,null,null,null,null,null,{"$f":"IFERROR(INDEX($AE$13:$AE$1003, SMALL(IF(ISBLANK($AE$13:$AE$1003)+ISERROR($AE$13:$AE$1003)+LEN($AE$13:$AE$1003)=0, \"\", ROW($AE$13:$AE$1003)-MIN(ROW($AE$13:$AE$1003))+1), ROW(160:160))),\"\")","v":"__DB_21__GHS_N"},"","",null,"__DB_21__GHS_N","","DB21GHSN","__DB_21__GHS_N",1,"______"]
[null,null,null,null,null,null,null,null,null,null,null,null,null,null,null,null,null,null,null,null,null,null,null,null,null,null,{"$f":"IFERROR(INDEX($AE$13:$AE$1003, SMALL(IF(ISBLANK($AE$13:$AE$1003)+ISERROR($AE$13:$AE$1003)+LEN($AE$13:$AE$1003)=0, \"\", ROW($AE$13:$AE$1003)-MIN(ROW($AE$13:$AE$1003))+1), ROW(161:161))),\"\")","v":"__DB_21__GRADALTDPL_N"},"","",null,"__DB_21__GRADALTDPL_N","","DB21GRADALTDPLN","__DB_21__GRADALTDPL_N",1,"______"]
[null,null,null,null,null,null,null,null,null,null,null,null,null,null,null,null,null,null,null,null,null,null,null,null,null,null,{"$f":"IFERROR(INDEX($AE$13:$AE$1003, SMALL(IF(ISBLANK($AE$13:$AE$1003)+ISERROR($AE$13:$AE$1003)+LEN($AE$13:$AE$1003)=0, \"\", ROW($AE$13:$AE$1003)-MIN(ROW($AE$13:$AE$1003))+1), ROW(162:162))),\"\")","v":"__DB_21__MKC_N"},"","",null,"__DB_21__MKC_N","","DB21MKCN","__DB_21__MKC_N",1,"______"]
[null,null,null,null,null,null,null,null,null,null,null,null,null,null,null,null,null,null,null,null,null,null,null,null,null,null,{"$f":"IFERROR(INDEX($AE$13:$AE$1003, SMALL(IF(ISBLANK($AE$13:$AE$1003)+ISERROR($AE$13:$AE$1003)+LEN($AE$13:$AE$1003)=0, \"\", ROW($AE$13:$AE$1003)-MIN(ROW($AE$13:$AE$1003))+1), ROW(163:163))),\"\")","v":"__DB_21__RC_N"},"","",null,"__DB_21__RC_N","","DB21RCN","__DB_21__RC_N",1,"______"]
[null,null,null,null,null,null,null,null,null,null,null,null,null,null,null,null,null,null,null,null,null,null,null,null,null,null,{"$f":"IFERROR(INDEX($AE$13:$AE$1003, SMALL(IF(ISBLANK($AE$13:$AE$1003)+ISERROR($AE$13:$AE$1003)+LEN($AE$13:$AE$1003)=0, \"\", ROW($AE$13:$AE$1003)-MIN(ROW($AE$13:$AE$1003))+1), ROW(164:164))),\"\")","v":"__DB_21__RMA_N"},"","",null,"__DB_21__RMA_N","","DB21RMAN","__DB_21__RMA_N",1,"______"]
[null,null,null,null,null,null,null,null,null,null,null,null,null,null,null,null,null,null,null,null,null,null,null,null,null,null,{"$f":"IFERROR(INDEX($AE$13:$AE$1003, SMALL(IF(ISBLANK($AE$13:$AE$1003)+ISERROR($AE$13:$AE$1003)+LEN($AE$13:$AE$1003)=0, \"\", ROW($AE$13:$AE$1003)-MIN(ROW($AE$13:$AE$1003))+1), ROW(165:165))),\"\")","v":"__DB_21__TRAN_N"},"","",null,"__DB_21__TRAN_N","","DB21TRANN","__DB_21__TRAN_N",1,"______"]
[null,null,null,null,null,null,null,null,null,null,null,null,null,null,null,null,null,null,null,null,null,null,null,null,null,null,{"$f":"IFERROR(INDEX($AE$13:$AE$1003, SMALL(IF(ISBLANK($AE$13:$AE$1003)+ISERROR($AE$13:$AE$1003)+LEN($AE$13:$AE$1003)=0, \"\", ROW($AE$13:$AE$1003)-MIN(ROW($AE$13:$AE$1003))+1), ROW(166:166))),\"\")","v":"__EMN____Y"},"","",null,"__EMN____Y","","EMNY","__EMN____Y",1,"______"]
[null,null,null,null,null,null,null,null,null,null,null,null,null,null,null,null,null,null,null,null,null,null,null,null,null,null,{"$f":"IFERROR(INDEX($AE$13:$AE$1003, SMALL(IF(ISBLANK($AE$13:$AE$1003)+ISERROR($AE$13:$AE$1003)+LEN($AE$13:$AE$1003)=0, \"\", ROW($AE$13:$AE$1003)-MIN(ROW($AE$13:$AE$1003))+1), ROW(167:167))),\"\")","v":"__EMN_14__D_N"},"","",null,"__EMN_14__D_N","","EMN14DN","__EMN_14__D_N",1,"______"]
[null,null,null,null,null,null,null,null,null,null,null,null,null,null,null,null,null,null,null,null,null,null,null,null,null,null,{"$f":"IFERROR(INDEX($AE$13:$AE$1003, SMALL(IF(ISBLANK($AE$13:$AE$1003)+ISERROR($AE$13:$AE$1003)+LEN($AE$13:$AE$1003)=0, \"\", ROW($AE$13:$AE$1003)-MIN(ROW($AE$13:$AE$1003))+1), ROW(168:168))),\"\")","v":"__EMN_14__DROPOUT_N"},"","",null,"__EMN_14__DROPOUT_N","","EMN14DROPOUTN","__EMN_14__DROPOUT_N",1,"______"]
[null,null,null,null,null,null,null,null,null,null,null,null,null,null,null,null,null,null,null,null,null,null,null,null,null,null,{"$f":"IFERROR(INDEX($AE$13:$AE$1003, SMALL(IF(ISBLANK($AE$13:$AE$1003)+ISERROR($AE$13:$AE$1003)+LEN($AE$13:$AE$1003)=0, \"\", ROW($AE$13:$AE$1003)-MIN(ROW($AE$13:$AE$1003))+1), ROW(169:169))),\"\")","v":"__EMN_14__GHS_N"},"","",null,"__EMN_14__GHS_N","","EMN14GHSN","__EMN_14__GHS_N",1,"______"]
[null,null,null,null,null,null,null,null,null,null,null,null,null,null,null,null,null,null,null,null,null,null,null,null,null,null,{"$f":"IFERROR(INDEX($AE$13:$AE$1003, SMALL(IF(ISBLANK($AE$13:$AE$1003)+ISERROR($AE$13:$AE$1003)+LEN($AE$13:$AE$1003)=0, \"\", ROW($AE$13:$AE$1003)-MIN(ROW($AE$13:$AE$1003))+1), ROW(170:170))),\"\")","v":"__EMN_14__GRADALTDPL_N"},"","",null,"__EMN_14__GRADALTDPL_N","","EMN14GRADALTDPLN","__EMN_14__GRADALTDPL_N",1,"______"]
[null,null,null,null,null,null,null,null,null,null,null,null,null,null,null,null,null,null,null,null,null,null,null,null,null,null,{"$f":"IFERROR(INDEX($AE$13:$AE$1003, SMALL(IF(ISBLANK($AE$13:$AE$1003)+ISERROR($AE$13:$AE$1003)+LEN($AE$13:$AE$1003)=0, \"\", ROW($AE$13:$AE$1003)-MIN(ROW($AE$13:$AE$1003))+1), ROW(171:171))),\"\")","v":"__EMN_14__MKC_N"},"","",null,"__EMN_14__MKC_N","","EMN14MKCN","__EMN_14__MKC_N",1,"______"]
[null,null,null,null,null,null,null,null,null,null,null,null,null,null,null,null,null,null,null,null,null,null,null,null,null,null,{"$f":"IFERROR(INDEX($AE$13:$AE$1003, SMALL(IF(ISBLANK($AE$13:$AE$1003)+ISERROR($AE$13:$AE$1003)+LEN($AE$13:$AE$1003)=0, \"\", ROW($AE$13:$AE$1003)-MIN(ROW($AE$13:$AE$1003))+1), ROW(172:172))),\"\")","v":"__EMN_14__RC_N"},"","",null,"__EMN_14__RC_N","","EMN14RCN","__EMN_14__RC_N",1,"______"]
[null,null,null,null,null,null,null,null,null,null,null,null,null,null,null,null,null,null,null,null,null,null,null,null,null,null,{"$f":"IFERROR(INDEX($AE$13:$AE$1003, SMALL(IF(ISBLANK($AE$13:$AE$1003)+ISERROR($AE$13:$AE$1003)+LEN($AE$13:$AE$1003)=0, \"\", ROW($AE$13:$AE$1003)-MIN(ROW($AE$13:$AE$1003))+1), ROW(173:173))),\"\")","v":"__EMN_14__RMA_N"},"","",null,"__EMN_14__RMA_N","","EMN14RMAN","__EMN_14__RMA_N",1,"______"]
[null,null,null,null,null,null,null,null,null,null,null,null,null,null,null,null,null,null,null,null,null,null,null,null,null,null,{"$f":"IFERROR(INDEX($AE$13:$AE$1003, SMALL(IF(ISBLANK($AE$13:$AE$1003)+ISERROR($AE$13:$AE$1003)+LEN($AE$13:$AE$1003)=0, \"\", ROW($AE$13:$AE$1003)-MIN(ROW($AE$13:$AE$1003))+1), ROW(174:174))),\"\")","v":"__EMN_14__TRAN_N"},"","",null,"__EMN_14__TRAN_N","","EMN14TRANN","__EMN_14__TRAN_N",1,"______"]
[null,null,null,null,null,null,null,null,null,null,null,null,null,null,null,null,null,null,null,null,null,null,null,null,null,null,{"$f":"IFERROR(INDEX($AE$13:$AE$1003, SMALL(IF(ISBLANK($AE$13:$AE$1003)+ISERROR($AE$13:$AE$1003)+LEN($AE$13:$AE$1003)=0, \"\", ROW($AE$13:$AE$1003)-MIN(ROW($AE$13:$AE$1003))+1), ROW(175:175))),\"\")","v":"__EMN_15__D_N"},"","",null,"__EMN_15__D_N","","EMN15DN","__EMN_15__D_N",1,"______"]
[null,null,null,null,null,null,null,null,null,null,null,null,null,null,null,null,null,null,null,null,null,null,null,null,null,null,{"$f":"IFERROR(INDEX($AE$13:$AE$1003, SMALL(IF(ISBLANK($AE$13:$AE$1003)+ISERROR($AE$13:$AE$1003)+LEN($AE$13:$AE$1003)=0, \"\", ROW($AE$13:$AE$1003)-MIN(ROW($AE$13:$AE$1003))+1), ROW(176:176))),\"\")","v":"__EMN_15__DROPOUT_N"},"","",null,"__EMN_15__DROPOUT_N","","EMN15DROPOUTN","__EMN_15__DROPOUT_N",1,"______"]
[null,null,null,null,null,null,null,null,null,null,null,null,null,null,null,null,null,null,null,null,null,null,null,null,null,null,{"$f":"IFERROR(INDEX($AE$13:$AE$1003, SMALL(IF(ISBLANK($AE$13:$AE$1003)+ISERROR($AE$13:$AE$1003)+LEN($AE$13:$AE$1003)=0, \"\", ROW($AE$13:$AE$1003)-MIN(ROW($AE$13:$AE$1003))+1), ROW(177:177))),\"\")","v":"__EMN_15__GHS_N"},"","",null,"__EMN_15__GHS_N","","EMN15GHSN","__EMN_15__GHS_N",1,"______"]
[null,null,null,null,null,null,null,null,null,null,null,null,null,null,null,null,null,null,null,null,null,null,null,null,null,null,{"$f":"IFERROR(INDEX($AE$13:$AE$1003, SMALL(IF(ISBLANK($AE$13:$AE$1003)+ISERROR($AE$13:$AE$1003)+LEN($AE$13:$AE$1003)=0, \"\", ROW($AE$13:$AE$1003)-MIN(ROW($AE$13:$AE$1003))+1), ROW(178:178))),\"\")","v":"__EMN_15__GRADALTDPL_N"},"","",null,"__EMN_15__GRADALTDPL_N","","EMN15GRADALTDPLN","__EMN_15__GRADALTDPL_N",1,"______"]
[null,null,null,null,null,null,null,null,null,null,null,null,null,null,null,null,null,null,null,null,null,null,null,null,null,null,{"$f":"IFERROR(INDEX($AE$13:$AE$1003, SMALL(IF(ISBLANK($AE$13:$AE$1003)+ISERROR($AE$13:$AE$1003)+LEN($AE$13:$AE$1003)=0, \"\", ROW($AE$13:$AE$1003)-MIN(ROW($AE$13:$AE$1003))+1), ROW(179:179))),\"\")","v":"__EMN_15__MKC_N"},"","",null,"__EMN_15__MKC_N","","EMN15MKCN","__EMN_15__MKC_N",1,"______"]
[null,null,null,null,null,null,null,null,null,null,null,null,null,null,null,null,null,null,null,null,null,null,null,null,null,null,{"$f":"IFERROR(INDEX($AE$13:$AE$1003, SMALL(IF(ISBLANK($AE$13:$AE$1003)+ISERROR($AE$13:$AE$1003)+LEN($AE$13:$AE$1003)=0, \"\", ROW($AE$13:$AE$1003)-MIN(ROW($AE$13:$AE$1003))+1), ROW(180:180))),\"\")","v":"__EMN_15__RC_N"},"","",null,"__EMN_15__RC_N","","EMN15RCN","__EMN_15__RC_N",1,"______"]
[null,null,null,null,null,null,null,null,null,null,null,null,null,null,null,null,null,null,null,null,null,null,null,null,null,null,{"$f":"IFERROR(INDEX($AE$13:$AE$1003, SMALL(IF(ISBLANK($AE$13:$AE$1003)+ISERROR($AE$13:$AE$1003)+LEN($AE$13:$AE$1003)=0, \"\", ROW($AE$13:$AE$1003)-MIN(ROW($AE$13:$AE$1003))+1), ROW(181:181))),\"\")","v":"__EMN_15__RMA_N"},"","",null,"__EMN_15__RMA_N","","EMN15RMAN","__EMN_15__RMA_N",1,"______"]
[null,null,null,null,null,null,null,null,null,null,null,null,null,null,null,null,null,null,null,null,null,null,null,null,null,null,{"$f":"IFERROR(INDEX($AE$13:$AE$1003, SMALL(IF(ISBLANK($AE$13:$AE$1003)+ISERROR($AE$13:$AE$1003)+LEN($AE$13:$AE$1003)=0, \"\", ROW($AE$13:$AE$1003)-MIN(ROW($AE$13:$AE$1003))+1), ROW(182:182))),\"\")","v":"__EMN_15__TRAN_N"},"","",null,"__EMN_15__TRAN_N","","EMN15TRANN","__EMN_15__TRAN_N",1,"______"]
[null,null,null,null,null,null,null,null,null,null,null,null,null,null,null,null,null,null,null,null,null,null,null,null,null,null,{"$f":"IFERROR(INDEX($AE$13:$AE$1003, SMALL(IF(ISBLANK($AE$13:$AE$1003)+ISERROR($AE$13:$AE$1003)+LEN($AE$13:$AE$1003)=0, \"\", ROW($AE$13:$AE$1003)-MIN(ROW($AE$13:$AE$1003))+1), ROW(183:183))),\"\")","v":"__EMN_16__D_N"},"","",null,"__EMN_16__D_N","","EMN16DN","__EMN_16__D_N",1,"______"]
[null,null,null,null,null,null,null,null,null,null,null,null,null,null,null,null,null,null,null,null,null,null,null,null,null,null,{"$f":"IFERROR(INDEX($AE$13:$AE$1003, SMALL(IF(ISBLANK($AE$13:$AE$1003)+ISERROR($AE$13:$AE$1003)+LEN($AE$13:$AE$1003)=0, \"\", ROW($AE$13:$AE$1003)-MIN(ROW($AE$13:$AE$1003))+1), ROW(184:184))),\"\")","v":"__EMN_16__DROPOUT_N"},"","",null,"__EMN_16__DROPOUT_N","","EMN16DROPOUTN","__EMN_16__DROPOUT_N",1,"______"]
[null,null,null,null,null,null,null,null,null,null,null,null,null,null,null,null,null,null,null,null,null,null,null,null,null,null,{"$f":"IFERROR(INDEX($AE$13:$AE$1003, SMALL(IF(ISBLANK($AE$13:$AE$1003)+ISERROR($AE$13:$AE$1003)+LEN($AE$13:$AE$1003)=0, \"\", ROW($AE$13:$AE$1003)-MIN(ROW($AE$13:$AE$1003))+1), ROW(185:185))),\"\")","v":"__EMN_16__GHS_N"},"","",null,"__EMN_16__GHS_N","","EMN16GHSN","__EMN_16__GHS_N",1,"______"]
[null,null,null,null,null,null,null,null,null,null,null,null,null,null,null,null,null,null,null,null,null,null,null,null,null,null,{"$f":"IFERROR(INDEX($AE$13:$AE$1003, SMALL(IF(ISBLANK($AE$13:$AE$1003)+ISERROR($AE$13:$AE$1003)+LEN($AE$13:$AE$1003)=0, \"\", ROW($AE$13:$AE$1003)-MIN(ROW($AE$13:$AE$1003))+1), ROW(186:186))),\"\")","v":"__EMN_16__GRADALTDPL_N"},"","",null,"__EMN_16__GRADALTDPL_N","","EMN16GRADALTDPLN","__EMN_16__GRADALTDPL_N",1,"______"]
[null,null,null,null,null,null,null,null,null,null,null,null,null,null,null,null,null,null,null,null,null,null,null,null,null,null,{"$f":"IFERROR(INDEX($AE$13:$AE$1003, SMALL(IF(ISBLANK($AE$13:$AE$1003)+ISERROR($AE$13:$AE$1003)+LEN($AE$13:$AE$1003)=0, \"\", ROW($AE$13:$AE$1003)-MIN(ROW($AE$13:$AE$1003))+1), ROW(187:187))),\"\")","v":"__EMN_16__MKC_N"},"","",null,"__EMN_16__MKC_N","","EMN16MKCN","__EMN_16__MKC_N",1,"______"]
[null,null,null,null,null,null,null,null,null,null,null,null,null,null,null,null,null,null,null,null,null,null,null,null,null,null,{"$f":"IFERROR(INDEX($AE$13:$AE$1003, SMALL(IF(ISBLANK($AE$13:$AE$1003)+ISERROR($AE$13:$AE$1003)+LEN($AE$13:$AE$1003)=0, \"\", ROW($AE$13:$AE$1003)-MIN(ROW($AE$13:$AE$1003))+1), ROW(188:188))),\"\")","v":"__EMN_16__RC_N"},"","",null,"__EMN_16__RC_N","","EMN16RCN","__EMN_16__RC_N",1,"______"]
[null,null,null,null,null,null,null,null,null,null,null,null,null,null,null,null,null,null,null,null,null,null,null,null,null,null,{"$f":"IFERROR(INDEX($AE$13:$AE$1003, SMALL(IF(ISBLANK($AE$13:$AE$1003)+ISERROR($AE$13:$AE$1003)+LEN($AE$13:$AE$1003)=0, \"\", ROW($AE$13:$AE$1003)-MIN(ROW($AE$13:$AE$1003))+1), ROW(189:189))),\"\")","v":"__EMN_16__RMA_N"},"","",null,"__EMN_16__RMA_N","","EMN16RMAN","__EMN_16__RMA_N",1,"______"]
[null,null,null,null,null,null,null,null,null,null,null,null,null,null,null,null,null,null,null,null,null,null,null,null,null,null,{"$f":"IFERROR(INDEX($AE$13:$AE$1003, SMALL(IF(ISBLANK($AE$13:$AE$1003)+ISERROR($AE$13:$AE$1003)+LEN($AE$13:$AE$1003)=0, \"\", ROW($AE$13:$AE$1003)-MIN(ROW($AE$13:$AE$1003))+1), ROW(190:190))),\"\")","v":"__EMN_16__TRAN_N"},"","",null,"__EMN_16__TRAN_N","","EMN16TRANN","__EMN_16__TRAN_N",1,"______"]
[null,null,null,null,null,null,null,null,null,null,null,null,null,null,null,null,null,null,null,null,null,null,null,null,null,null,{"$f":"IFERROR(INDEX($AE$13:$AE$1003, SMALL(IF(ISBLANK($AE$13:$AE$1003)+ISERROR($AE$13:$AE$1003)+LEN($AE$13:$AE$1003)=0, \"\", ROW($AE$13:$AE$1003)-MIN(ROW($AE$13:$AE$1003))+1), ROW(191:191))),\"\")","v":"__EMN_17__D_N"},"","",null,"__EMN_17__D_N","","EMN17DN","__EMN_17__D_N",1,"______"]
[null,null,null,null,null,null,null,null,null,null,null,null,null,null,null,null,null,null,null,null,null,null,null,null,null,null,{"$f":"IFERROR(INDEX($AE$13:$AE$1003, SMALL(IF(ISBLANK($AE$13:$AE$1003)+ISERROR($AE$13:$AE$1003)+LEN($AE$13:$AE$1003)=0, \"\", ROW($AE$13:$AE$1003)-MIN(ROW($AE$13:$AE$1003))+1), ROW(192:192))),\"\")","v":"__EMN_17__DROPOUT_N"},"","",null,"__EMN_17__DROPOUT_N","","EMN17DROPOUTN","__EMN_17__DROPOUT_N",1,"______"]
[null,null,null,null,null,null,null,null,null,null,null,null,null,null,null,null,null,null,null,null,null,null,null,null,null,null,{"$f":"IFERROR(INDEX($AE$13:$AE$1003, SMALL(IF(ISBLANK($AE$13:$AE$1003)+ISERROR($AE$13:$AE$1003)+LEN($AE$13:$AE$1003)=0, \"\", ROW($AE$13:$AE$1003)-MIN(ROW($AE$13:$AE$1003))+1), ROW(193:193))),\"\")","v":"__EMN_17__GHS_N"},{"$f":"IF(AF205=\"\",\"\",IF(COUNTIF(CurrentListing,AF205)>1,AJ205,\"\"))","v":""},{"$f":"IF(LEN(AF205)=0,\"\",IF(ISNA(MATCH(AF205,MasterListing,0)),AJ205,\"\"))","v":""},null,{"$f":"IF(LEN(AG205)=0,\"\",IF(ISNA(MATCH(AG205,CurrentListing,0)),AH205,\"\"))","v":"__EMN_17__GHS_N"},{"$f":"H205&I205&P205&Q205&R205&V205&W205","v":""},"EMN17GHSN","__EMN_17__GHS_N",1,"______"]
[null,null,null,null,null,null,null,null,null,null,null,null,null,null,null,null,null,null,null,null,null,null,null,null,null,null,{"$f":"IFERROR(INDEX($AE$13:$AE$1003, SMALL(IF(ISBLANK($AE$13:$AE$1003)+ISERROR($AE$13:$AE$1003)+LEN($AE$13:$AE$1003)=0, \"\", ROW($AE$13:$AE$1003)-MIN(ROW($AE$13:$AE$1003))+1), ROW(194:194))),\"\")","v":"__EMN_17__GRADALTDPL_N"},"","",null,"__EMN_17__GRADALTDPL_N","","EMN17GRADALTDPLN","__EMN_17__GRADALTDPL_N",{"$f":"IF(LEN(AA206)>0,1,0)","v":1},{"$f":"H206&\"_\"&I206&\"_\"&P206&\"_\"&Q206&\"_\"&R206&\"_\"&V206&\"_\"&W206","v":"______"}]
[null,null,null,null,null,null,null,null,null,null,null,null,null,null,null,null,null,null,null,null,null,null,null,null,null,null,{"$f":"IFERROR(INDEX($AE$13:$AE$1003, SMALL(IF(ISBLANK($AE$13:$AE$1003)+ISERROR($AE$13:$AE$1003)+LEN($AE$13:$AE$1003)=0, \"\", ROW($AE$13:$AE$1003)-MIN(ROW($AE$13:$AE$1003))+1), ROW(195:195))),\"\")","v":"__EMN_17__MKC_N"},"","",null,"__EMN_17__MKC_N","","EMN17MKCN","__EMN_17__MKC_N",1,"______"]
[null,null,null,null,null,null,null,null,null,null,null,null,null,null,null,null,null,null,null,null,null,null,null,null,null,null,{"$f":"IFERROR(INDEX($AE$13:$AE$1003, SMALL(IF(ISBLANK($AE$13:$AE$1003)+ISERROR($AE$13:$AE$1003)+LEN($AE$13:$AE$1003)=0, \"\", ROW($AE$13:$AE$1003)-MIN(ROW($AE$13:$AE$1003))+1), ROW(196:196))),\"\")","v":"__EMN_17__RC_N"},"","",null,"__EMN_17__RC_N","","EMN17RCN","__EMN_17__RC_N",1,"______"]
[null,null,null,null,null,null,null,null,null,null,null,null,null,null,null,null,null,null,null,null,null,null,null,null,null,null,{"$f":"IFERROR(INDEX($AE$13:$AE$1003, SMALL(IF(ISBLANK($AE$13:$AE$1003)+ISERROR($AE$13:$AE$1003)+LEN($AE$13:$AE$1003)=0, \"\", ROW($AE$13:$AE$1003)-MIN(ROW($AE$13:$AE$1003))+1), ROW(197:197))),\"\")","v":"__EMN_17__RMA_N"},"","",null,"__EMN_17__RMA_N","","EMN17RMAN","__EMN_17__RMA_N",1,"______"]
[null,null,null,null,null,null,null,null,null,null,null,null,null,null,null,null,null,null,null,null,null,null,null,null,null,null,{"$f":"IFERROR(INDEX($AE$13:$AE$1003, SMALL(IF(ISBLANK($AE$13:$AE$1003)+ISERROR($AE$13:$AE$1003)+LEN($AE$13:$AE$1003)=0, \"\", ROW($AE$13:$AE$1003)-MIN(ROW($AE$13:$AE$1003))+1), ROW(198:198))),\"\")","v":"__EMN_17__TRAN_N"},"","",null,"__EMN_17__TRAN_N","","EMN17TRANN","__EMN_17__TRAN_N",1,"______"]
[null,null,null,null,null,null,null,null,null,null,null,null,null,null,null,null,null,null,null,null,null,null,null,null,null,null,{"$f":"IFERROR(INDEX($AE$13:$AE$1003, SMALL(IF(ISBLANK($AE$13:$AE$1003)+ISERROR($AE$13:$AE$1003)+LEN($AE$13:$AE$1003)=0, \"\", ROW($AE$13:$AE$1003)-MIN(ROW($AE$13:$AE$1003))+1), ROW(199:199))),\"\")","v":"__EMN_18__D_N"},"","",null,"__EMN_18__D_N","","EMN18DN","__EMN_18__D_N",1,"______"]
[null,null,null,null,null,null,null,null,null,null,null,null,null,null,null,null,null,null,null,null,null,null,null,null,null,null,{"$f":"IFERROR(INDEX($AE$13:$AE$1003, SMALL(IF(ISBLANK($AE$13:$AE$1003)+ISERROR($AE$13:$AE$1003)+LEN($AE$13:$AE$1003)=0, \"\", ROW($AE$13:$AE$1003)-MIN(ROW($AE$13:$AE$1003))+1), ROW(200:200))),\"\")","v":"__EMN_18__DROPOUT_N"},"","",null,"__EMN_18__DROPOUT_N","","EMN18DROPOUTN","__EMN_18__DROPOUT_N",1,"______"]
[null,null,null,null,null,null,null,null,null,null,null,null,null,null,null,null,null,null,null,null,null,null,null,null,null,null,{"$f":"IFERROR(INDEX($AE$13:$AE$1003, SMALL(IF(ISBLANK($AE$13:$AE$1003)+ISERROR($AE$13:$AE$1003)+LEN($AE$13:$AE$1003)=0, \"\", ROW($AE$13:$AE$1003)-MIN(ROW($AE$13:$AE$1003))+1), ROW(201:201))),\"\")","v":"__EMN_18__GHS_N"},"","",null,"__EMN_18__GHS_N","","EMN18GHSN","__EMN_18__GHS_N",1,"______"]
[null,null,null,null,null,null,null,null,null,null,null,null,null,null,null,null,null,null,null,null,null,null,null,null,null,null,{"$f":"IFERROR(INDEX($AE$13:$AE$1003, SMALL(IF(ISBLANK($AE$13:$AE$1003)+ISERROR($AE$13:$AE$1003)+LEN($AE$13:$AE$1003)=0, \"\", ROW($AE$13:$AE$1003)-MIN(ROW($AE$13:$AE$1003))+1), ROW(202:202))),\"\")","v":"__EMN_18__GRADALTDPL_N"},"","",null,"__EMN_18__GRADALTDPL_N","","EMN18GRADALTDPLN","__EMN_18__GRADALTDPL_N",1,"______"]
[null,null,null,null,null,null,null,null,null,null,null,null,null,null,null,null,null,null,null,null,null,null,null,null,null,null,{"$f":"IFERROR(INDEX($AE$13:$AE$1003, SMALL(IF(ISBLANK($AE$13:$AE$1003)+ISERROR($AE$13:$AE$1003)+LEN($AE$13:$AE$1003)=0, \"\", ROW($AE$13:$AE$1003)-MIN(ROW($AE$13:$AE$1003))+1), ROW(203:203))),\"\")","v":"__EMN_18__MKC_N"},"","",null,"__EMN_18__MKC_N","","EMN18MKCN","__EMN_18__MKC_N",1,"______"]
[null,null,null,null,null,null,null,null,null,null,null,null,null,null,null,null,null,null,null,null,null,null,null,null,null,null,{"$f":"IFERROR(INDEX($AE$13:$AE$1003, SMALL(IF(ISBLANK($AE$13:$AE$1003)+ISERROR($AE$13:$AE$1003)+LEN($AE$13:$AE$1003)=0, \"\", ROW($AE$13:$AE$1003)-MIN(ROW($AE$13:$AE$1003))+1), ROW(204:204))),\"\")","v":"__EMN_18__RC_N"},"","",null,"__EMN_18__RC_N","","EMN18RCN","__EMN_18__RC_N",1,"______"]
[null,null,null,null,null,null,null,null,null,null,null,null,null,null,null,null,null,null,null,null,null,null,null,null,null,null,{"$f":"IFERROR(INDEX($AE$13:$AE$1003, SMALL(IF(ISBLANK($AE$13:$AE$1003)+ISERROR($AE$13:$AE$1003)+LEN($AE$13:$AE$1003)=0, \"\", ROW($AE$13:$AE$1003)-MIN(ROW($AE$13:$AE$1003))+1), ROW(205:205))),\"\")","v":"__EMN_18__RMA_N"},"","",null,"__EMN_18__RMA_N","","EMN18RMAN","__EMN_18__RMA_N",1,"______"]
[null,null,null,null,null,null,null,null,null,null,null,null,null,null,null,null,null,null,null,null,null,null,null,null,null,null,{"$f":"IFERROR(INDEX($AE$13:$AE$1003, SMALL(IF(ISBLANK($AE$13:$AE$1003)+ISERROR($AE$13:$AE$1003)+LEN($AE$13:$AE$1003)=0, \"\", ROW($AE$13:$AE$1003)-MIN(ROW($AE$13:$AE$1003))+1), ROW(206:206))),\"\")","v":"__EMN_18__TRAN_N"},"","",null,"__EMN_18__TRAN_N","","EMN18TRANN","__EMN_18__TRAN_N",1,"______"]
[null,null,null,null,null,null,null,null,null,null,null,null,null,null,null,null,null,null,null,null,null,null,null,null,null,null,{"$f":"IFERROR(INDEX($AE$13:$AE$1003, SMALL(IF(ISBLANK($AE$13:$AE$1003)+ISERROR($AE$13:$AE$1003)+LEN($AE$13:$AE$1003)=0, \"\", ROW($AE$13:$AE$1003)-MIN(ROW($AE$13:$AE$1003))+1), ROW(207:207))),\"\")","v":"__EMN_19__D_N"},"","",null,"__EMN_19__D_N","","EMN19DN","__EMN_19__D_N",1,"______"]
[null,null,null,null,null,null,null,null,null,null,null,null,null,null,null,null,null,null,null,null,null,null,null,null,null,null,{"$f":"IFERROR(INDEX($AE$13:$AE$1003, SMALL(IF(ISBLANK($AE$13:$AE$1003)+ISERROR($AE$13:$AE$1003)+LEN($AE$13:$AE$1003)=0, \"\", ROW($AE$13:$AE$1003)-MIN(ROW($AE$13:$AE$1003))+1), ROW(208:208))),\"\")","v":"__EMN_19__DROPOUT_N"},"","",null,"__EMN_19__DROPOUT_N","","EMN19DROPOUTN","__EMN_19__DROPOUT_N",1,"______"]
[null,null,null,null,null,null,null,null,null,null,null,null,null,null,null,null,null,null,null,null,null,null,null,null,null,null,{"$f":"IFERROR(INDEX($AE$13:$AE$1003, SMALL(IF(ISBLANK($AE$13:$AE$1003)+ISERROR($AE$13:$AE$1003)+LEN($AE$13:$AE$1003)=0, \"\", ROW($AE$13:$AE$1003)-MIN(ROW($AE$13:$AE$1003))+1), ROW(209:209))),\"\")","v":"__EMN_19__GHS_N"},"","",null,"__EMN_19__GHS_N","","EMN19GHSN","__EMN_19__GHS_N",1,"______"]
[null,null,null,null,null,null,null,null,null,null,null,null,null,null,null,null,null,null,null,null,null,null,null,null,null,null,{"$f":"IFERROR(INDEX($AE$13:$AE$1003, SMALL(IF(ISBLANK($AE$13:$AE$1003)+ISERROR($AE$13:$AE$1003)+LEN($AE$13:$AE$1003)=0, \"\", ROW($AE$13:$AE$1003)-MIN(ROW($AE$13:$AE$1003))+1), ROW(210:210))),\"\")","v":"__EMN_19__GRADALTDPL_N"},"","",null,"__EMN_19__GRADALTDPL_N","","EMN19GRADALTDPLN","__EMN_19__GRADALTDPL_N",1,"______"]
[null,null,null,null,null,null,null,null,null,null,null,null,null,null,null,null,null,null,null,null,null,null,null,null,null,null,{"$f":"IFERROR(INDEX($AE$13:$AE$1003, SMALL(IF(ISBLANK($AE$13:$AE$1003)+ISERROR($AE$13:$AE$1003)+LEN($AE$13:$AE$1003)=0, \"\", ROW($AE$13:$AE$1003)-MIN(ROW($AE$13:$AE$1003))+1), ROW(211:211))),\"\")","v":"__EMN_19__MKC_N"},"","",null,"__EMN_19__MKC_N","","EMN19MKCN","__EMN_19__MKC_N",1,"______"]
[null,null,null,null,null,null,null,null,null,null,null,null,null,null,null,null,null,null,null,null,null,null,null,null,null,null,{"$f":"IFERROR(INDEX($AE$13:$AE$1003, SMALL(IF(ISBLANK($AE$13:$AE$1003)+ISERROR($AE$13:$AE$1003)+LEN($AE$13:$AE$1003)=0, \"\", ROW($AE$13:$AE$1003)-MIN(ROW($AE$13:$AE$1003))+1), ROW(212:212))),\"\")","v":"__EMN_19__RC_N"},"","",null,"__EMN_19__RC_N","","EMN19RCN","__EMN_19__RC_N",1,"______"]
[null,null,null,null,null,null,null,null,null,null,null,null,null,null,null,null,null,null,null,null,null,null,null,null,null,null,{"$f":"IFERROR(INDEX($AE$13:$AE$1003, SMALL(IF(ISBLANK($AE$13:$AE$1003)+ISERROR($AE$13:$AE$1003)+LEN($AE$13:$AE$1003)=0, \"\", ROW($AE$13:$AE$1003)-MIN(ROW($AE$13:$AE$1003))+1), ROW(213:213))),\"\")","v":"__EMN_19__RMA_N"},"","",null,"__EMN_19__RMA_N","","EMN19RMAN","__EMN_19__RMA_N",1,"______"]
[null,null,null,null,null,null,null,null,null,null,null,null,null,null,null,null,null,null,null,null,null,null,null,null,null,null,{"$f":"IFERROR(INDEX($AE$13:$AE$1003, SMALL(IF(ISBLANK($AE$13:$AE$1003)+ISERROR($AE$13:$AE$1003)+LEN($AE$13:$AE$1003)=0, \"\", ROW($AE$13:$AE$1003)-MIN(ROW($AE$13:$AE$1003))+1), ROW(214:214))),\"\")","v":"__EMN_19__TRAN_N"},"","",null,"__EMN_19__TRAN_N","","EMN19TRANN","__EMN_19__TRAN_N",1,"______"]
[null,null,null,null,null,null,null,null,null,null,null,null,null,null,null,null,null,null,null,null,null,null,null,null,null,null,{"$f":"IFERROR(INDEX($AE$13:$AE$1003, SMALL(IF(ISBLANK($AE$13:$AE$1003)+ISERROR($AE$13:$AE$1003)+LEN($AE$13:$AE$1003)=0, \"\", ROW($AE$13:$AE$1003)-MIN(ROW($AE$13:$AE$1003))+1), ROW(215:215))),\"\")","v":"__EMN_20__D_N"},"","",null,"__EMN_20__D_N","","EMN20DN","__EMN_20__D_N",1,"______"]
[null,null,null,null,null,null,null,null,null,null,null,null,null,null,null,null,null,null,null,null,null,null,null,null,null,null,{"$f":"IFERROR(INDEX($AE$13:$AE$1003, SMALL(IF(ISBLANK($AE$13:$AE$1003)+ISERROR($AE$13:$AE$1003)+LEN($AE$13:$AE$1003)=0, \"\", ROW($AE$13:$AE$1003)-MIN(ROW($AE$13:$AE$1003))+1), ROW(216:216))),\"\")","v":"__EMN_20__DROPOUT_N"},"","",null,"__EMN_20__DROPOUT_N","","EMN20DROPOUTN","__EMN_20__DROPOUT_N",1,"______"]
[null,null,null,null,null,null,null,null,null,null,null,null,null,null,null,null,null,null,null,null,null,null,null,null,null,null,{"$f":"IFERROR(INDEX($AE$13:$AE$1003, SMALL(IF(ISBLANK($AE$13:$AE$1003)+ISERROR($AE$13:$AE$1003)+LEN($AE$13:$AE$1003)=0, \"\", ROW($AE$13:$AE$1003)-MIN(ROW($AE$13:$AE$1003))+1), ROW(217:217))),\"\")","v":"__EMN_20__GHS_N"},"","",null,"__EMN_20__GHS_N","","EMN20GHSN","__EMN_20__GHS_N",1,"______"]
[null,null,null,null,null,null,null,null,null,null,null,null,null,null,null,null,null,null,null,null,null,null,null,null,null,null,{"$f":"IFERROR(INDEX($AE$13:$AE$1003, SMALL(IF(ISBLANK($AE$13:$AE$1003)+ISERROR($AE$13:$AE$1003)+LEN($AE$13:$AE$1003)=0, \"\", ROW($AE$13:$AE$1003)-MIN(ROW($AE$13:$AE$1003))+1), ROW(218:218))),\"\")","v":"__EMN_20__GRADALTDPL_N"},"","",null,"__EMN_20__GRADALTDPL_N","","EMN20GRADALTDPLN","__EMN_20__GRADALTDPL_N",1,"______"]
[null,null,null,null,null,null,null,null,null,null,null,null,null,null,null,null,null,null,null,null,null,null,null,null,null,null,{"$f":"IFERROR(INDEX($AE$13:$AE$1003, SMALL(IF(ISBLANK($AE$13:$AE$1003)+ISERROR($AE$13:$AE$1003)+LEN($AE$13:$AE$1003)=0, \"\", ROW($AE$13:$AE$1003)-MIN(ROW($AE$13:$AE$1003))+1), ROW(219:219))),\"\")","v":"__EMN_20__MKC_N"},"","",null,"__EMN_20__MKC_N","","EMN20MKCN","__EMN_20__MKC_N",1,"______"]
[null,null,null,null,null,null,null,null,null,null,null,null,null,null,null,null,null,null,null,null,null,null,null,null,null,null,{"$f":"IFERROR(INDEX($AE$13:$AE$1003, SMALL(IF(ISBLANK($AE$13:$AE$1003)+ISERROR($AE$13:$AE$1003)+LEN($AE$13:$AE$1003)=0, \"\", ROW($AE$13:$AE$1003)-MIN(ROW($AE$13:$AE$1003))+1), ROW(220:220))),\"\")","v":"__EMN_20__RC_N"},"","",null,"__EMN_20__RC_N","","EMN20RCN","__EMN_20__RC_N",1,"______"]
[null,null,null,null,null,null,null,null,null,null,null,null,null,null,null,null,null,null,null,null,null,null,null,null,null,null,{"$f":"IFERROR(INDEX($AE$13:$AE$1003, SMALL(IF(ISBLANK($AE$13:$AE$1003)+ISERROR($AE$13:$AE$1003)+LEN($AE$13:$AE$1003)=0, \"\", ROW($AE$13:$AE$1003)-MIN(ROW($AE$13:$AE$1003))+1), ROW(221:221))),\"\")","v":"__EMN_20__RMA_N"},"","",null,"__EMN_20__RMA_N","","EMN20RMAN","__EMN_20__RMA_N",1,"______"]
[null,null,null,null,null,null,null,null,null,null,null,null,null,null,null,null,null,null,null,null,null,null,null,null,null,null,{"$f":"IFERROR(INDEX($AE$13:$AE$1003, SMALL(IF(ISBLANK($AE$13:$AE$1003)+ISERROR($AE$13:$AE$1003)+LEN($AE$13:$AE$1003)=0, \"\", ROW($AE$13:$AE$1003)-MIN(ROW($AE$13:$AE$1003))+1), ROW(222:222))),\"\")","v":"__EMN_20__TRAN_N"},"","",null,"__EMN_20__TRAN_N","","EMN20TRANN","__EMN_20__TRAN_N",1,"______"]
[null,null,null,null,null,null,null,null,null,null,null,null,null,null,null,null,null,null,null,null,null,null,null,null,null,null,{"$f":"IFERROR(INDEX($AE$13:$AE$1003, SMALL(IF(ISBLANK($AE$13:$AE$1003)+ISERROR($AE$13:$AE$1003)+LEN($AE$13:$AE$1003)=0, \"\", ROW($AE$13:$AE$1003)-MIN(ROW($AE$13:$AE$1003))+1), ROW(223:223))),\"\")","v":"__EMN_21__D_N"},"","",null,"__EMN_21__D_N","","EMN21DN","__EMN_21__D_N",1,"______"]
[null,null,null,null,null,null,null,null,null,null,null,null,null,null,null,null,null,null,null,null,null,null,null,null,null,null,{"$f":"IFERROR(INDEX($AE$13:$AE$1003, SMALL(IF(ISBLANK($AE$13:$AE$1003)+ISERROR($AE$13:$AE$1003)+LEN($AE$13:$AE$1003)=0, \"\", ROW($AE$13:$AE$1003)-MIN(ROW($AE$13:$AE$1003))+1), ROW(224:224))),\"\")","v":"__EMN_21__DROPOUT_N"},"","",null,"__EMN_21__DROPOUT_N","","EMN21DROPOUTN","__EMN_21__DROPOUT_N",1,"______"]
[null,null,null,null,null,null,null,null,null,null,null,null,null,null,null,null,null,null,null,null,null,null,null,null,null,null,{"$f":"IFERROR(INDEX($AE$13:$AE$1003, SMALL(IF(ISBLANK($AE$13:$AE$1003)+ISERROR($AE$13:$AE$1003)+LEN($AE$13:$AE$1003)=0, \"\", ROW($AE$13:$AE$1003)-MIN(ROW($AE$13:$AE$1003))+1), ROW(225:225))),\"\")","v":"__EMN_21__GHS_N"},"","",null,"__EMN_21__GHS_N","","EMN21GHSN","__EMN_21__GHS_N",1,"______"]
[null,null,null,null,null,null,null,null,null,null,null,null,null,null,null,null,null,null,null,null,null,null,null,null,null,null,{"$f":"IFERROR(INDEX($AE$13:$AE$1003, SMALL(IF(ISBLANK($AE$13:$AE$1003)+ISERROR($AE$13:$AE$1003)+LEN($AE$13:$AE$1003)=0, \"\", ROW($AE$13:$AE$1003)-MIN(ROW($AE$13:$AE$1003))+1), ROW(226:226))),\"\")","v":"__EMN_21__GRADALTDPL_N"},"","",null,"__EMN_21__GRADALTDPL_N","","EMN21GRADALTDPLN","__EMN_21__GRADALTDPL_N",1,"______"]
[null,null,null,null,null,null,null,null,null,null,null,null,null,null,null,null,null,null,null,null,null,null,null,null,null,null,{"$f":"IFERROR(INDEX($AE$13:$AE$1003, SMALL(IF(ISBLANK($AE$13:$AE$1003)+ISERROR($AE$13:$AE$1003)+LEN($AE$13:$AE$1003)=0, \"\", ROW($AE$13:$AE$1003)-MIN(ROW($AE$13:$AE$1003))+1), ROW(227:227))),\"\")","v":"__EMN_21__MKC_N"},"","",null,"__EMN_21__MKC_N","","EMN21MKCN","__EMN_21__MKC_N",1,"______"]
[null,null,null,null,null,null,null,null,null,null,null,null,null,null,null,null,null,null,null,null,null,null,null,null,null,null,{"$f":"IFERROR(INDEX($AE$13:$AE$1003, SMALL(IF(ISBLANK($AE$13:$AE$1003)+ISERROR($AE$13:$AE$1003)+LEN($AE$13:$AE$1003)=0, \"\", ROW($AE$13:$AE$1003)-MIN(ROW($AE$13:$AE$1003))+1), ROW(228:228))),\"\")","v":"__EMN_21__RC_N"},"","",null,"__EMN_21__RC_N","","EMN21RCN","__EMN_21__RC_N",1,"______"]
[null,null,null,null,null,null,null,null,null,null,null,null,null,null,null,null,null,null,null,null,null,null,null,null,null,null,{"$f":"IFERROR(INDEX($AE$13:$AE$1003, SMALL(IF(ISBLANK($AE$13:$AE$1003)+ISERROR($AE$13:$AE$1003)+LEN($AE$13:$AE$1003)=0, \"\", ROW($AE$13:$AE$1003)-MIN(ROW($AE$13:$AE$1003))+1), ROW(229:229))),\"\")","v":"__EMN_21__RMA_N"},"","",null,"__EMN_21__RMA_N","","EMN21RMAN","__EMN_21__RMA_N",1,"______"]
[null,null,null,null,null,null,null,null,null,null,null,null,null,null,null,null,null,null,null,null,null,null,null,null,null,null,{"$f":"IFERROR(INDEX($AE$13:$AE$1003, SMALL(IF(ISBLANK($AE$13:$AE$1003)+ISERROR($AE$13:$AE$1003)+LEN($AE$13:$AE$1003)=0, \"\", ROW($AE$13:$AE$1003)-MIN(ROW($AE$13:$AE$1003))+1), ROW(230:230))),\"\")","v":"__EMN_21__TRAN_N"},"","",null,"__EMN_21__TRAN_N","","EMN21TRANN","__EMN_21__TRAN_N",1,"______"]
[null,null,null,null,null,null,null,null,null,null,null,null,null,null,null,null,null,null,null,null,null,null,null,null,null,null,{"$f":"IFERROR(INDEX($AE$13:$AE$1003, SMALL(IF(ISBLANK($AE$13:$AE$1003)+ISERROR($AE$13:$AE$1003)+LEN($AE$13:$AE$1003)=0, \"\", ROW($AE$13:$AE$1003)-MIN(ROW($AE$13:$AE$1003))+1), ROW(231:231))),\"\")","v":"__HI____Y"},"","",null,"__HI____Y","","HIY","__HI____Y",1,"______"]
[null,null,null,null,null,null,null,null,null,null,null,null,null,null,null,null,null,null,null,null,null,null,null,null,null,null,{"$f":"IFERROR(INDEX($AE$13:$AE$1003, SMALL(IF(ISBLANK($AE$13:$AE$1003)+ISERROR($AE$13:$AE$1003)+LEN($AE$13:$AE$1003)=0, \"\", ROW($AE$13:$AE$1003)-MIN(ROW($AE$13:$AE$1003))+1), ROW(232:232))),\"\")","v":"__HI_14__D_N"},"","",null,"__HI_14__D_N","","HI14DN","__HI_14__D_N",1,"______"]
[null,null,null,null,null,null,null,null,null,null,null,null,null,null,null,null,null,null,null,null,null,null,null,null,null,null,{"$f":"IFERROR(INDEX($AE$13:$AE$1003, SMALL(IF(ISBLANK($AE$13:$AE$1003)+ISERROR($AE$13:$AE$1003)+LEN($AE$13:$AE$1003)=0, \"\", ROW($AE$13:$AE$1003)-MIN(ROW($AE$13:$AE$1003))+1), ROW(233:233))),\"\")","v":"__HI_14__DROPOUT_N"},"","",null,"__HI_14__DROPOUT_N","","HI14DROPOUTN","__HI_14__DROPOUT_N",1,"______"]
[null,null,null,null,null,null,null,null,null,null,null,null,null,null,null,null,null,null,null,null,null,null,null,null,null,null,{"$f":"IFERROR(INDEX($AE$13:$AE$1003, SMALL(IF(ISBLANK($AE$13:$AE$1003)+ISERROR($AE$13:$AE$1003)+LEN($AE$13:$AE$1003)=0, \"\", ROW($AE$13:$AE$1003)-MIN(ROW($AE$13:$AE$1003))+1), ROW(234:234))),\"\")","v":"__HI_14__GHS_N"},"","",null,"__HI_14__GHS_N","","HI14GHSN","__HI_14__GHS_N",1,"______"]
[null,null,null,null,null,null,null,null,null,null,null,null,null,null,null,null,null,null,null,null,null,null,null,null,null,null,{"$f":"IFERROR(INDEX($AE$13:$AE$1003, SMALL(IF(ISBLANK($AE$13:$AE$1003)+ISERROR($AE$13:$AE$1003)+LEN($AE$13:$AE$1003)=0, \"\", ROW($AE$13:$AE$1003)-MIN(ROW($AE$13:$AE$1003))+1), ROW(235:235))),\"\")","v":"__HI_14__GRADALTDPL_N"},"","",null,"__HI_14__GRADALTDPL_N","","HI14GRADALTDPLN","__HI_14__GRADALTDPL_N",1,"______"]
[null,null,null,null,null,null,null,null,null,null,null,null,null,null,null,null,null,null,null,null,null,null,null,null,null,null,{"$f":"IFERROR(INDEX($AE$13:$AE$1003, SMALL(IF(ISBLANK($AE$13:$AE$1003)+ISERROR($AE$13:$AE$1003)+LEN($AE$13:$AE$1003)=0, \"\", ROW($AE$13:$AE$1003)-MIN(ROW($AE$13:$AE$1003))+1), ROW(236:236))),\"\")","v":"__HI_14__MKC_N"},"","",null,"__HI_14__MKC_N","","HI14MKCN","__HI_14__MKC_N",1,"______"]
[null,null,null,null,null,null,null,null,null,null,null,null,null,null,null,null,null,null,null,null,null,null,null,null,null,null,{"$f":"IFERROR(INDEX($AE$13:$AE$1003, SMALL(IF(ISBLANK($AE$13:$AE$1003)+ISERROR($AE$13:$AE$1003)+LEN($AE$13:$AE$1003)=0, \"\", ROW($AE$13:$AE$1003)-MIN(ROW($AE$13:$AE$1003))+1), ROW(237:237))),\"\")","v":"__HI_14__RC_N"},"","",null,"__HI_14__RC_N","","HI14RCN","__HI_14__RC_N",1,"______"]
[null,null,null,null,null,null,null,null,null,null,null,null,null,null,null,null,null,null,null,null,null,null,null,null,null,null,{"$f":"IFERROR(INDEX($AE$13:$AE$1003, SMALL(IF(ISBLANK($AE$13:$AE$1003)+ISERROR($AE$13:$AE$1003)+LEN($AE$13:$AE$1003)=0, \"\", ROW($AE$13:$AE$1003)-MIN(ROW($AE$13:$AE$1003))+1), ROW(238:238))),\"\")","v":"__HI_14__RMA_N"},"","",null,"__HI_14__RMA_N","","HI14RMAN","__HI_14__RMA_N",1,"______"]
[null,null,null,null,null,null,null,null,null,null,null,null,null,null,null,null,null,null,null,null,null,null,null,null,null,null,{"$f":"IFERROR(INDEX($AE$13:$AE$1003, SMALL(IF(ISBLANK($AE$13:$AE$1003)+ISERROR($AE$13:$AE$1003)+LEN($AE$13:$AE$1003)=0, \"\", ROW($AE$13:$AE$1003)-MIN(ROW($AE$13:$AE$1003))+1), ROW(239:239))),\"\")","v":"__HI_14__TRAN_N"},"","",null,"__HI_14__TRAN_N","","HI14TRANN","__HI_14__TRAN_N",1,"______"]
[null,null,null,null,null,null,null,null,null,null,null,null,null,null,null,null,null,null,null,null,null,null,null,null,null,null,{"$f":"IFERROR(INDEX($AE$13:$AE$1003, SMALL(IF(ISBLANK($AE$13:$AE$1003)+ISERROR($AE$13:$AE$1003)+LEN($AE$13:$AE$1003)=0, \"\", ROW($AE$13:$AE$1003)-MIN(ROW($AE$13:$AE$1003))+1), ROW(240:240))),\"\")","v":"__HI_15__D_N"},"","",null,"__HI_15__D_N","","HI15DN","__HI_15__D_N",1,"______"]
[null,null,null,null,null,null,null,null,null,null,null,null,null,null,null,null,null,null,null,null,null,null,null,null,null,null,{"$f":"IFERROR(INDEX($AE$13:$AE$1003, SMALL(IF(ISBLANK($AE$13:$AE$1003)+ISERROR($AE$13:$AE$1003)+LEN($AE$13:$AE$1003)=0, \"\", ROW($AE$13:$AE$1003)-MIN(ROW($AE$13:$AE$1003))+1), ROW(241:241))),\"\")","v":"__HI_15__DROPOUT_N"},"","",null,"__HI_15__DROPOUT_N","","HI15DROPOUTN","__HI_15__DROPOUT_N",1,"______"]
[null,null,null,null,null,null,null,null,null,null,null,null,null,null,null,null,null,null,null,null,null,null,null,null,null,null,{"$f":"IFERROR(INDEX($AE$13:$AE$1003, SMALL(IF(ISBLANK($AE$13:$AE$1003)+ISERROR($AE$13:$AE$1003)+LEN($AE$13:$AE$1003)=0, \"\", ROW($AE$13:$AE$1003)-MIN(ROW($AE$13:$AE$1003))+1), ROW(242:242))),\"\")","v":"__HI_15__GHS_N"},"","",null,"__HI_15__GHS_N","","HI15GHSN","__HI_15__GHS_N",1,"______"]
[null,null,null,null,null,null,null,null,null,null,null,null,null,null,null,null,null,null,null,null,null,null,null,null,null,null,{"$f":"IFERROR(INDEX($AE$13:$AE$1003, SMALL(IF(ISBLANK($AE$13:$AE$1003)+ISERROR($AE$13:$AE$1003)+LEN($AE$13:$AE$1003)=0, \"\", ROW($AE$13:$AE$1003)-MIN(ROW($AE$13:$AE$1003))+1), ROW(243:243))),\"\")","v":"__HI_15__GRADALTDPL_N"},"","",null,"__HI_15__GRADALTDPL_N","","HI15GRADALTDPLN","__HI_15__GRADALTDPL_N",1,"______"]
[null,null,null,null,null,null,null,null,null,null,null,null,null,null,null,null,null,null,null,null,null,null,null,null,null,null,{"$f":"IFERROR(INDEX($AE$13:$AE$1003, SMALL(IF(ISBLANK($AE$13:$AE$1003)+ISERROR($AE$13:$AE$1003)+LEN($AE$13:$AE$1003)=0, \"\", ROW($AE$13:$AE$1003)-MIN(ROW($AE$13:$AE$1003))+1), ROW(244:244))),\"\")","v":"__HI_15__MKC_N"},"","",null,"__HI_15__MKC_N","","HI15MKCN","__HI_15__MKC_N",1,"______"]
[null,null,null,null,null,null,null,null,null,null,null,null,null,null,null,null,null,null,null,null,null,null,null,null,null,null,{"$f":"IFERROR(INDEX($AE$13:$AE$1003, SMALL(IF(ISBLANK($AE$13:$AE$1003)+ISERROR($AE$13:$AE$1003)+LEN($AE$13:$AE$1003)=0, \"\", ROW($AE$13:$AE$1003)-MIN(ROW($AE$13:$AE$1003))+1), ROW(245:245))),\"\")","v":"__HI_15__RC_N"},"","",null,"__HI_15__RC_N","","HI15RCN","__HI_15__RC_N",1,"______"]
[null,null,null,null,null,null,null,null,null,null,null,null,null,null,null,null,null,null,null,null,null,null,null,null,null,null,{"$f":"IFERROR(INDEX($AE$13:$AE$1003, SMALL(IF(ISBLANK($AE$13:$AE$1003)+ISERROR($AE$13:$AE$1003)+LEN($AE$13:$AE$1003)=0, \"\", ROW($AE$13:$AE$1003)-MIN(ROW($AE$13:$AE$1003))+1), ROW(246:246))),\"\")","v":"__HI_15__RMA_N"},"","",null,"__HI_15__RMA_N","","HI15RMAN","__HI_15__RMA_N",1,"______"]
[null,null,null,null,null,null,null,null,null,null,null,null,null,null,null,null,null,null,null,null,null,null,null,null,null,null,{"$f":"IFERROR(INDEX($AE$13:$AE$1003, SMALL(IF(ISBLANK($AE$13:$AE$1003)+ISERROR($AE$13:$AE$1003)+LEN($AE$13:$AE$1003)=0, \"\", ROW($AE$13:$AE$1003)-MIN(ROW($AE$13:$AE$1003))+1), ROW(247:247))),\"\")","v":"__HI_15__TRAN_N"},"","",null,"__HI_15__TRAN_N","","HI15TRANN","__HI_15__TRAN_N",1,"______"]
[null,null,null,null,null,null,null,null,null,null,null,null,null,null,null,null,null,null,null,null,null,null,null,null,null,null,{"$f":"IFERROR(INDEX($AE$13:$AE$1003, SMALL(IF(ISBLANK($AE$13:$AE$1003)+ISERROR($AE$13:$AE$1003)+LEN($AE$13:$AE$1003)=0, \"\", ROW($AE$13:$AE$1003)-MIN(ROW($AE$13:$AE$1003))+1), ROW(248:248))),\"\")","v":"__HI_16__D_N"},"","",null,"__HI_16__D_N","","HI16DN","__HI_16__D_N",1,"______"]
[null,null,null,null,null,null,null,null,null,null,null,null,null,null,null,null,null,null,null,null,null,null,null,null,null,null,{"$f":"IFERROR(INDEX($AE$13:$AE$1003, SMALL(IF(ISBLANK($AE$13:$AE$1003)+ISERROR($AE$13:$AE$1003)+LEN($AE$13:$AE$1003)=0, \"\", ROW($AE$13:$AE$1003)-MIN(ROW($AE$13:$AE$1003))+1), ROW(249:249))),\"\")","v":"__HI_16__DROPOUT_N"},"","",null,"__HI_16__DROPOUT_N","","HI16DROPOUTN","__HI_16__DROPOUT_N",1,"______"]
[null,null,null,null,null,null,null,null,null,null,null,null,null,null,null,null,null,null,null,null,null,null,null,null,null,null,{"$f":"IFERROR(INDEX($AE$13:$AE$1003, SMALL(IF(ISBLANK($AE$13:$AE$1003)+ISERROR($AE$13:$AE$1003)+LEN($AE$13:$AE$1003)=0, \"\", ROW($AE$13:$AE$1003)-MIN(ROW($AE$13:$AE$1003))+1), ROW(250:250))),\"\")","v":"__HI_16__GHS_N"},"","",null,"__HI_16__GHS_N","","HI16GHSN","__HI_16__GHS_N",1,"______"]
[null,null,null,null,null,null,null,null,null,null,null,null,null,null,null,null,null,null,null,null,null,null,null,null,null,null,{"$f":"IFERROR(INDEX($AE$13:$AE$1003, SMALL(IF(ISBLANK($AE$13:$AE$1003)+ISERROR($AE$13:$AE$1003)+LEN($AE$13:$AE$1003)=0, \"\", ROW($AE$13:$AE$1003)-MIN(ROW($AE$13:$AE$1003))+1), ROW(251:251))),\"\")","v":"__HI_16__GRADALTDPL_N"},"","",null,"__HI_16__GRADALTDPL_N","","HI16GRADALTDPLN","__HI_16__GRADALTDPL_N",1,"______"]
[null,null,null,null,null,null,null,null,null,null,null,null,null,null,null,null,null,null,null,null,null,null,null,null,null,null,{"$f":"IFERROR(INDEX($AE$13:$AE$1003, SMALL(IF(ISBLANK($AE$13:$AE$1003)+ISERROR($AE$13:$AE$1003)+LEN($AE$13:$AE$1003)=0, \"\", ROW($AE$13:$AE$1003)-MIN(ROW($AE$13:$AE$1003))+1), ROW(252:252))),\"\")","v":"__HI_16__MKC_N"},"","",null,"__HI_16__MKC_N","","HI16MKCN","__HI_16__MKC_N",1,"______"]
[null,null,null,null,null,null,null,null,null,null,null,null,null,null,null,null,null,null,null,null,null,null,null,null,null,null,{"$f":"IFERROR(INDEX($AE$13:$AE$1003, SMALL(IF(ISBLANK($AE$13:$AE$1003)+ISERROR($AE$13:$AE$1003)+LEN($AE$13:$AE$1003)=0, \"\", ROW($AE$13:$AE$1003)-MIN(ROW($AE$13:$AE$1003))+1), ROW(253:253))),\"\")","v":"__HI_16__RC_N"},"","",null,"__HI_16__RC_N","","HI16RCN","__HI_16__RC_N",1,"______"]
[null,null,null,null,null,null,null,null,null,null,null,null,null,null,null,null,null,null,null,null,null,null,null,null,null,null,{"$f":"IFERROR(INDEX($AE$13:$AE$1003, SMALL(IF(ISBLANK($AE$13:$AE$1003)+ISERROR($AE$13:$AE$1003)+LEN($AE$13:$AE$1003)=0, \"\", ROW($AE$13:$AE$1003)-MIN(ROW($AE$13:$AE$1003))+1), ROW(254:254))),\"\")","v":"__HI_16__RMA_N"},"","",null,"__HI_16__RMA_N","","HI16RMAN","__HI_16__RMA_N",1,"______"]
[null,null,null,null,null,null,null,null,null,null,null,null,null,null,null,null,null,null,null,null,null,null,null,null,null,null,{"$f":"IFERROR(INDEX($AE$13:$AE$1003, SMALL(IF(ISBLANK($AE$13:$AE$1003)+ISERROR($AE$13:$AE$1003)+LEN($AE$13:$AE$1003)=0, \"\", ROW($AE$13:$AE$1003)-MIN(ROW($AE$13:$AE$1003))+1), ROW(255:255))),\"\")","v":"__HI_16__TRAN_N"},"","",null,"__HI_16__TRAN_N","","HI16TRANN","__HI_16__TRAN_N",1,"______"]
[null,null,null,null,null,null,null,null,null,null,null,null,null,null,null,null,null,null,null,null,null,null,null,null,null,null,{"$f":"IFERROR(INDEX($AE$13:$AE$1003, SMALL(IF(ISBLANK($AE$13:$AE$1003)+ISERROR($AE$13:$AE$1003)+LEN($AE$13:$AE$1003)=0, \"\", ROW($AE$13:$AE$1003)-MIN(ROW($AE$13:$AE$1003))+1), ROW(256:256))),\"\")","v":"__HI_17__D_N"},"","",null,"__HI_17__D_N","","HI17DN","__HI_17__D_N",1,"______"]
[null,null,null,null,null,null,null,null,null,null,null,null,null,null,null,null,null,null,null,null,null,null,null,null,null,null,{"$f":"IFERROR(INDEX($AE$13:$AE$1003, SMALL(IF(ISBLANK($AE$13:$AE$1003)+ISERROR($AE$13:$AE$1003)+LEN($AE$13:$AE$1003)=0, \"\", ROW($AE$13:$AE$1003)-MIN(ROW($AE$13:$AE$1003))+1), ROW(257:257))),\"\")","v":"__HI_17__DROPOUT_N"},{"$f":"IF(AF269=\"\",\"\",IF(COUNTIF(CurrentListing,AF269)>1,AJ269,\"\"))","v":""},{"$f":"IF(LEN(AF269)=0,\"\",IF(ISNA(MATCH(AF269,MasterListing,0)),AJ269,\"\"))","v":""},null,{"$f":"IF(LEN(AG269)=0,\"\",IF(ISNA(MATCH(AG269,CurrentListing,0)),AH269,\"\"))","v":"__HI_17__DROPOUT_N"},{"$f":"H269&I269&P269&Q269&R269&V269&W269","v":""},"HI17DROPOUTN","__HI_17__DROPOUT_N",1,"______"]
[null,null,null,null,null,null,null,null,null,null,null,null,null,null,null,null,null,null,null,null,null,null,null,null,null,null,{"$f":"IFERROR(INDEX($AE$13:$AE$1003, SMALL(IF(ISBLANK($AE$13:$AE$1003)+ISERROR($AE$13:$AE$1003)+LEN($AE$13:$AE$1003)=0, \"\", ROW($AE$13:$AE$1003)-MIN(ROW($AE$13:$AE$1003))+1), ROW(258:258))),\"\")","v":"__HI_17__GHS_N"},"","",null,"__HI_17__GHS_N","","HI17GHSN","__HI_17__GHS_N",{"$f":"IF(LEN(AA270)>0,1,0)","v":1},{"$f":"H270&\"_\"&I270&\"_\"&P270&\"_\"&Q270&\"_\"&R270&\"_\"&V270&\"_\"&W270","v":"______"}]
[null,null,null,null,null,null,null,null,null,null,null,null,null,null,null,null,null,null,null,null,null,null,null,null,null,null,{"$f":"IFERROR(INDEX($AE$13:$AE$1003, SMALL(IF(ISBLANK($AE$13:$AE$1003)+ISERROR($AE$13:$AE$1003)+LEN($AE$13:$AE$1003)=0, \"\", ROW($AE$13:$AE$1003)-MIN(ROW($AE$13:$AE$1003))+1), ROW(259:259))),\"\")","v":"__HI_17__GRADALTDPL_N"},"","",null,"__HI_17__GRADALTDPL_N","","HI17GRADALTDPLN","__HI_17__GRADALTDPL_N",1,"______"]
[null,null,null,null,null,null,null,null,null,null,null,null,null,null,null,null,null,null,null,null,null,null,null,null,null,null,{"$f":"IFERROR(INDEX($AE$13:$AE$1003, SMALL(IF(ISBLANK($AE$13:$AE$1003)+ISERROR($AE$13:$AE$1003)+LEN($AE$13:$AE$1003)=0, \"\", ROW($AE$13:$AE$1003)-MIN(ROW($AE$13:$AE$1003))+1), ROW(260:260))),\"\")","v":"__HI_17__MKC_N"},"","",null,"__HI_17__MKC_N","","HI17MKCN","__HI_17__MKC_N",1,"______"]
[null,null,null,null,null,null,null,null,null,null,null,null,null,null,null,null,null,null,null,null,null,null,null,null,null,null,{"$f":"IFERROR(INDEX($AE$13:$AE$1003, SMALL(IF(ISBLANK($AE$13:$AE$1003)+ISERROR($AE$13:$AE$1003)+LEN($AE$13:$AE$1003)=0, \"\", ROW($AE$13:$AE$1003)-MIN(ROW($AE$13:$AE$1003))+1), ROW(261:261))),\"\")","v":"__HI_17__RC_N"},"","",null,"__HI_17__RC_N","","HI17RCN","__HI_17__RC_N",1,"______"]
[null,null,null,null,null,null,null,null,null,null,null,null,null,null,null,null,null,null,null,null,null,null,null,null,null,null,{"$f":"IFERROR(INDEX($AE$13:$AE$1003, SMALL(IF(ISBLANK($AE$13:$AE$1003)+ISERROR($AE$13:$AE$1003)+LEN($AE$13:$AE$1003)=0, \"\", ROW($AE$13:$AE$1003)-MIN(ROW($AE$13:$AE$1003))+1), ROW(262:262))),\"\")","v":"__HI_17__RMA_N"},"","",null,"__HI_17__RMA_N","","HI17RMAN","__HI_17__RMA_N",1,"______"]
[null,null,null,null,null,null,null,null,null,null,null,null,null,null,null,null,null,null,null,null,null,null,null,null,null,null,{"$f":"IFERROR(INDEX($AE$13:$AE$1003, SMALL(IF(ISBLANK($AE$13:$AE$1003)+ISERROR($AE$13:$AE$1003)+LEN($AE$13:$AE$1003)=0, \"\", ROW($AE$13:$AE$1003)-MIN(ROW($AE$13:$AE$1003))+1), ROW(263:263))),\"\")","v":"__HI_17__TRAN_N"},"","",null,"__HI_17__TRAN_N","","HI17TRANN","__HI_17__TRAN_N",1,"______"]
[null,null,null,null,null,null,null,null,null,null,null,null,null,null,null,null,null,null,null,null,null,null,null,null,null,null,{"$f":"IFERROR(INDEX($AE$13:$AE$1003, SMALL(IF(ISBLANK($AE$13:$AE$1003)+ISERROR($AE$13:$AE$1003)+LEN($AE$13:$AE$1003)=0, \"\", ROW($AE$13:$AE$1003)-MIN(ROW($AE$13:$AE$1003))+1), ROW(264:264))),\"\")","v":"__HI_18__D_N"},"","",null,"__HI_18__D_N","","HI18DN","__HI_18__D_N",1,"______"]
[null,null,null,null,null,null,null,null,null,null,null,null,null,null,null,null,null,null,null,null,null,null,null,null,null,null,{"$f":"IFERROR(INDEX($AE$13:$AE$1003, SMALL(IF(ISBLANK($AE$13:$AE$1003)+ISERROR($AE$13:$AE$1003)+LEN($AE$13:$AE$1003)=0, \"\", ROW($AE$13:$AE$1003)-MIN(ROW($AE$13:$AE$1003))+1), ROW(265:265))),\"\")","v":"__HI_18__DROPOUT_N"},"","",null,"__HI_18__DROPOUT_N","","HI18DROPOUTN","__HI_18__DROPOUT_N",1,"______"]
[null,null,null,null,null,null,null,null,null,null,null,null,null,null,null,null,null,null,null,null,null,null,null,null,null,null,{"$f":"IFERROR(INDEX($AE$13:$AE$1003, SMALL(IF(ISBLANK($AE$13:$AE$1003)+ISERROR($AE$13:$AE$1003)+LEN($AE$13:$AE$1003)=0, \"\", ROW($AE$13:$AE$1003)-MIN(ROW($AE$13:$AE$1003))+1), ROW(266:266))),\"\")","v":"__HI_18__GHS_N"},"","",null,"__HI_18__GHS_N","","HI18GHSN","__HI_18__GHS_N",1,"______"]
[null,null,null,null,null,null,null,null,null,null,null,null,null,null,null,null,null,null,null,null,null,null,null,null,null,null,{"$f":"IFERROR(INDEX($AE$13:$AE$1003, SMALL(IF(ISBLANK($AE$13:$AE$1003)+ISERROR($AE$13:$AE$1003)+LEN($AE$13:$AE$1003)=0, \"\", ROW($AE$13:$AE$1003)-MIN(ROW($AE$13:$AE$1003))+1), ROW(267:267))),\"\")","v":"__HI_18__GRADALTDPL_N"},"","",null,"__HI_18__GRADALTDPL_N","","HI18GRADALTDPLN","__HI_18__GRADALTDPL_N",1,"______"]
[null,null,null,null,null,null,null,null,null,null,null,null,null,null,null,null,null,null,null,null,null,null,null,null,null,null,{"$f":"IFERROR(INDEX($AE$13:$AE$1003, SMALL(IF(ISBLANK($AE$13:$AE$1003)+ISERROR($AE$13:$AE$1003)+LEN($AE$13:$AE$1003)=0, \"\", ROW($AE$13:$AE$1003)-MIN(ROW($AE$13:$AE$1003))+1), ROW(268:268))),\"\")","v":"__HI_18__MKC_N"},"","",null,"__HI_18__MKC_N","","HI18MKCN","__HI_18__MKC_N",1,"______"]
[null,null,null,null,null,null,null,null,null,null,null,null,null,null,null,null,null,null,null,null,null,null,null,null,null,null,{"$f":"IFERROR(INDEX($AE$13:$AE$1003, SMALL(IF(ISBLANK($AE$13:$AE$1003)+ISERROR($AE$13:$AE$1003)+LEN($AE$13:$AE$1003)=0, \"\", ROW($AE$13:$AE$1003)-MIN(ROW($AE$13:$AE$1003))+1), ROW(269:269))),\"\")","v":"__HI_18__RC_N"},"","",null,"__HI_18__RC_N","","HI18RCN","__HI_18__RC_N",1,"______"]
[null,null,null,null,null,null,null,null,null,null,null,null,null,null,null,null,null,null,null,null,null,null,null,null,null,null,{"$f":"IFERROR(INDEX($AE$13:$AE$1003, SMALL(IF(ISBLANK($AE$13:$AE$1003)+ISERROR($AE$13:$AE$1003)+LEN($AE$13:$AE$1003)=0, \"\", ROW($AE$13:$AE$1003)-MIN(ROW($AE$13:$AE$1003))+1), ROW(270:270))),\"\")","v":"__HI_18__RMA_N"},"","",null,"__HI_18__RMA_N","","HI18RMAN","__HI_18__RMA_N",1,"______"]
[null,null,null,null,null,null,null,null,null,null,null,null,null,null,null,null,null,null,null,null,null,null,null,null,null,null,{"$f":"IFERROR(INDEX($AE$13:$AE$1003, SMALL(IF(ISBLANK($AE$13:$AE$1003)+ISERROR($AE$13:$AE$1003)+LEN($AE$13:$AE$1003)=0, \"\", ROW($AE$13:$AE$1003)-MIN(ROW($AE$13:$AE$1003))+1), ROW(271:271))),\"\")","v":"__HI_18__TRAN_N"},"","",null,"__HI_18__TRAN_N","","HI18TRANN","__HI_18__TRAN_N",1,"______"]
[null,null,null,null,null,null,null,null,null,null,null,null,null,null,null,null,null,null,null,null,null,null,null,null,null,null,{"$f":"IFERROR(INDEX($AE$13:$AE$1003, SMALL(IF(ISBLANK($AE$13:$AE$1003)+ISERROR($AE$13:$AE$1003)+LEN($AE$13:$AE$1003)=0, \"\", ROW($AE$13:$AE$1003)-MIN(ROW($AE$13:$AE$1003))+1), ROW(272:272))),\"\")","v":"__HI_19__D_N"},"","",null,"__HI_19__D_N","","HI19DN","__HI_19__D_N",1,"______"]
[null,null,null,null,null,null,null,null,null,null,null,null,null,null,null,null,null,null,null,null,null,null,null,null,null,null,{"$f":"IFERROR(INDEX($AE$13:$AE$1003, SMALL(IF(ISBLANK($AE$13:$AE$1003)+ISERROR($AE$13:$AE$1003)+LEN($AE$13:$AE$1003)=0, \"\", ROW($AE$13:$AE$1003)-MIN(ROW($AE$13:$AE$1003))+1), ROW(273:273))),\"\")","v":"__HI_19__DROPOUT_N"},"","",null,"__HI_19__DROPOUT_N","","HI19DROPOUTN","__HI_19__DROPOUT_N",1,"______"]
[null,null,null,null,null,null,null,null,null,null,null,null,null,null,null,null,null,null,null,null,null,null,null,null,null,null,{"$f":"IFERROR(INDEX($AE$13:$AE$1003, SMALL(IF(ISBLANK($AE$13:$AE$1003)+ISERROR($AE$13:$AE$1003)+LEN($AE$13:$AE$1003)=0, \"\", ROW($AE$13:$AE$1003)-MIN(ROW($AE$13:$AE$1003))+1), ROW(274:274))),\"\")","v":"__HI_19__GHS_N"},"","",null,"__HI_19__GHS_N","","HI19GHSN","__HI_19__GHS_N",1,"______"]
[null,null,null,null,null,null,null,null,null,null,null,null,null,null,null,null,null,null,null,null,null,null,null,null,null,null,{"$f":"IFERROR(INDEX($AE$13:$AE$1003, SMALL(IF(ISBLANK($AE$13:$AE$1003)+ISERROR($AE$13:$AE$1003)+LEN($AE$13:$AE$1003)=0, \"\", ROW($AE$13:$AE$1003)-MIN(ROW($AE$13:$AE$1003))+1), ROW(275:275))),\"\")","v":"__HI_19__GRADALTDPL_N"},"","",null,"__HI_19__GRADALTDPL_N","","HI19GRADALTDPLN","__HI_19__GRADALTDPL_N",1,"______"]
[null,null,null,null,null,null,null,null,null,null,null,null,null,null,null,null,null,null,null,null,null,null,null,null,null,null,{"$f":"IFERROR(INDEX($AE$13:$AE$1003, SMALL(IF(ISBLANK($AE$13:$AE$1003)+ISERROR($AE$13:$AE$1003)+LEN($AE$13:$AE$1003)=0, \"\", ROW($AE$13:$AE$1003)-MIN(ROW($AE$13:$AE$1003))+1), ROW(276:276))),\"\")","v":"__HI_19__MKC_N"},"","",null,"__HI_19__MKC_N","","HI19MKCN","__HI_19__MKC_N",1,"______"]
[null,null,null,null,null,null,null,null,null,null,null,null,null,null,null,null,null,null,null,null,null,null,null,null,null,null,{"$f":"IFERROR(INDEX($AE$13:$AE$1003, SMALL(IF(ISBLANK($AE$13:$AE$1003)+ISERROR($AE$13:$AE$1003)+LEN($AE$13:$AE$1003)=0, \"\", ROW($AE$13:$AE$1003)-MIN(ROW($AE$13:$AE$1003))+1), ROW(277:277))),\"\")","v":"__HI_19__RC_N"},"","",null,"__HI_19__RC_N","","HI19RCN","__HI_19__RC_N",1,"______"]
[null,null,null,null,null,null,null,null,null,null,null,null,null,null,null,null,null,null,null,null,null,null,null,null,null,null,{"$f":"IFERROR(INDEX($AE$13:$AE$1003, SMALL(IF(ISBLANK($AE$13:$AE$1003)+ISERROR($AE$13:$AE$1003)+LEN($AE$13:$AE$1003)=0, \"\", ROW($AE$13:$AE$1003)-MIN(ROW($AE$13:$AE$1003))+1), ROW(278:278))),\"\")","v":"__HI_19__RMA_N"},"","",null,"__HI_19__RMA_N","","HI19RMAN","__HI_19__RMA_N",1,"______"]
[null,null,null,null,null,null,null,null,null,null,null,null,null,null,null,null,null,null,null,null,null,null,null,null,null,null,{"$f":"IFERROR(INDEX($AE$13:$AE$1003, SMALL(IF(ISBLANK($AE$13:$AE$1003)+ISERROR($AE$13:$AE$1003)+LEN($AE$13:$AE$1003)=0, \"\", ROW($AE$13:$AE$1003)-MIN(ROW($AE$13:$AE$1003))+1), ROW(279:279))),\"\")","v":"__HI_19__TRAN_N"},"","",null,"__HI_19__TRAN_N","","HI19TRANN","__HI_19__TRAN_N",1,"______"]
[null,null,null,null,null,null,null,null,null,null,null,null,null,null,null,null,null,null,null,null,null,null,null,null,null,null,{"$f":"IFERROR(INDEX($AE$13:$AE$1003, SMALL(IF(ISBLANK($AE$13:$AE$1003)+ISERROR($AE$13:$AE$1003)+LEN($AE$13:$AE$1003)=0, \"\", ROW($AE$13:$AE$1003)-MIN(ROW($AE$13:$AE$1003))+1), ROW(280:280))),\"\")","v":"__HI_20__D_N"},"","",null,"__HI_20__D_N","","HI20DN","__HI_20__D_N",1,"______"]
[null,null,null,null,null,null,null,null,null,null,null,null,null,null,null,null,null,null,null,null,null,null,null,null,null,null,{"$f":"IFERROR(INDEX($AE$13:$AE$1003, SMALL(IF(ISBLANK($AE$13:$AE$1003)+ISERROR($AE$13:$AE$1003)+LEN($AE$13:$AE$1003)=0, \"\", ROW($AE$13:$AE$1003)-MIN(ROW($AE$13:$AE$1003))+1), ROW(281:281))),\"\")","v":"__HI_20__DROPOUT_N"},"","",null,"__HI_20__DROPOUT_N","","HI20DROPOUTN","__HI_20__DROPOUT_N",1,"______"]
[null,null,null,null,null,null,null,null,null,null,null,null,null,null,null,null,null,null,null,null,null,null,null,null,null,null,{"$f":"IFERROR(INDEX($AE$13:$AE$1003, SMALL(IF(ISBLANK($AE$13:$AE$1003)+ISERROR($AE$13:$AE$1003)+LEN($AE$13:$AE$1003)=0, \"\", ROW($AE$13:$AE$1003)-MIN(ROW($AE$13:$AE$1003))+1), ROW(282:282))),\"\")","v":"__HI_20__GHS_N"},"","",null,"__HI_20__GHS_N","","HI20GHSN","__HI_20__GHS_N",1,"______"]
[null,null,null,null,null,null,null,null,null,null,null,null,null,null,null,null,null,null,null,null,null,null,null,null,null,null,{"$f":"IFERROR(INDEX($AE$13:$AE$1003, SMALL(IF(ISBLANK($AE$13:$AE$1003)+ISERROR($AE$13:$AE$1003)+LEN($AE$13:$AE$1003)=0, \"\", ROW($AE$13:$AE$1003)-MIN(ROW($AE$13:$AE$1003))+1), ROW(283:283))),\"\")","v":"__HI_20__GRADALTDPL_N"},"","",null,"__HI_20__GRADALTDPL_N","","HI20GRADALTDPLN","__HI_20__GRADALTDPL_N",1,"______"]
[null,null,null,null,null,null,null,null,null,null,null,null,null,null,null,null,null,null,null,null,null,null,null,null,null,null,{"$f":"IFERROR(INDEX($AE$13:$AE$1003, SMALL(IF(ISBLANK($AE$13:$AE$1003)+ISERROR($AE$13:$AE$1003)+LEN($AE$13:$AE$1003)=0, \"\", ROW($AE$13:$AE$1003)-MIN(ROW($AE$13:$AE$1003))+1), ROW(284:284))),\"\")","v":"__HI_20__MKC_N"},"","",null,"__HI_20__MKC_N","","HI20MKCN","__HI_20__MKC_N",1,"______"]
[null,null,null,null,null,null,null,null,null,null,null,null,null,null,null,null,null,null,null,null,null,null,null,null,null,null,{"$f":"IFERROR(INDEX($AE$13:$AE$1003, SMALL(IF(ISBLANK($AE$13:$AE$1003)+ISERROR($AE$13:$AE$1003)+LEN($AE$13:$AE$1003)=0, \"\", ROW($AE$13:$AE$1003)-MIN(ROW($AE$13:$AE$1003))+1), ROW(285:285))),\"\")","v":"__HI_20__RC_N"},"","",null,"__HI_20__RC_N","","HI20RCN","__HI_20__RC_N",1,"______"]
[null,null,null,null,null,null,null,null,null,null,null,null,null,null,null,null,null,null,null,null,null,null,null,null,null,null,{"$f":"IFERROR(INDEX($AE$13:$AE$1003, SMALL(IF(ISBLANK($AE$13:$AE$1003)+ISERROR($AE$13:$AE$1003)+LEN($AE$13:$AE$1003)=0, \"\", ROW($AE$13:$AE$1003)-MIN(ROW($AE$13:$AE$1003))+1), ROW(286:286))),\"\")","v":"__HI_20__RMA_N"},"","",null,"__HI_20__RMA_N","","HI20RMAN","__HI_20__RMA_N",1,"______"]
[null,null,null,null,null,null,null,null,null,null,null,null,null,null,null,null,null,null,null,null,null,null,null,null,null,null,{"$f":"IFERROR(INDEX($AE$13:$AE$1003, SMALL(IF(ISBLANK($AE$13:$AE$1003)+ISERROR($AE$13:$AE$1003)+LEN($AE$13:$AE$1003)=0, \"\", ROW($AE$13:$AE$1003)-MIN(ROW($AE$13:$AE$1003))+1), ROW(287:287))),\"\")","v":"__HI_20__TRAN_N"},"","",null,"__HI_20__TRAN_N","","HI20TRANN","__HI_20__TRAN_N",1,"______"]
[null,null,null,null,null,null,null,null,null,null,null,null,null,null,null,null,null,null,null,null,null,null,null,null,null,null,{"$f":"IFERROR(INDEX($AE$13:$AE$1003, SMALL(IF(ISBLANK($AE$13:$AE$1003)+ISERROR($AE$13:$AE$1003)+LEN($AE$13:$AE$1003)=0, \"\", ROW($AE$13:$AE$1003)-MIN(ROW($AE$13:$AE$1003))+1), ROW(288:288))),\"\")","v":"__HI_21__D_N"},"","",null,"__HI_21__D_N","","HI21DN","__HI_21__D_N",1,"______"]
[null,null,null,null,null,null,null,null,null,null,null,null,null,null,null,null,null,null,null,null,null,null,null,null,null,null,{"$f":"IFERROR(INDEX($AE$13:$AE$1003, SMALL(IF(ISBLANK($AE$13:$AE$1003)+ISERROR($AE$13:$AE$1003)+LEN($AE$13:$AE$1003)=0, \"\", ROW($AE$13:$AE$1003)-MIN(ROW($AE$13:$AE$1003))+1), ROW(289:289))),\"\")","v":"__HI_21__DROPOUT_N"},"","",null,"__HI_21__DROPOUT_N","","HI21DROPOUTN","__HI_21__DROPOUT_N",1,"______"]
[null,null,null,null,null,null,null,null,null,null,null,null,null,null,null,null,null,null,null,null,null,null,null,null,null,null,{"$f":"IFERROR(INDEX($AE$13:$AE$1003, SMALL(IF(ISBLANK($AE$13:$AE$1003)+ISERROR($AE$13:$AE$1003)+LEN($AE$13:$AE$1003)=0, \"\", ROW($AE$13:$AE$1003)-MIN(ROW($AE$13:$AE$1003))+1), ROW(290:290))),\"\")","v":"__HI_21__GHS_N"},"","",null,"__HI_21__GHS_N","","HI21GHSN","__HI_21__GHS_N",1,"______"]
[null,null,null,null,null,null,null,null,null,null,null,null,null,null,null,null,null,null,null,null,null,null,null,null,null,null,{"$f":"IFERROR(INDEX($AE$13:$AE$1003, SMALL(IF(ISBLANK($AE$13:$AE$1003)+ISERROR($AE$13:$AE$1003)+LEN($AE$13:$AE$1003)=0, \"\", ROW($AE$13:$AE$1003)-MIN(ROW($AE$13:$AE$1003))+1), ROW(291:291))),\"\")","v":"__HI_21__GRADALTDPL_N"},"","",null,"__HI_21__GRADALTDPL_N","","HI21GRADALTDPLN","__HI_21__GRADALTDPL_N",1,"______"]
[null,null,null,null,null,null,null,null,null,null,null,null,null,null,null,null,null,null,null,null,null,null,null,null,null,null,{"$f":"IFERROR(INDEX($AE$13:$AE$1003, SMALL(IF(ISBLANK($AE$13:$AE$1003)+ISERROR($AE$13:$AE$1003)+LEN($AE$13:$AE$1003)=0, \"\", ROW($AE$13:$AE$1003)-MIN(ROW($AE$13:$AE$1003))+1), ROW(292:292))),\"\")","v":"__HI_21__MKC_N"},"","",null,"__HI_21__MKC_N","","HI21MKCN","__HI_21__MKC_N",1,"______"]
[null,null,null,null,null,null,null,null,null,null,null,null,null,null,null,null,null,null,null,null,null,null,null,null,null,null,{"$f":"IFERROR(INDEX($AE$13:$AE$1003, SMALL(IF(ISBLANK($AE$13:$AE$1003)+ISERROR($AE$13:$AE$1003)+LEN($AE$13:$AE$1003)=0, \"\", ROW($AE$13:$AE$1003)-MIN(ROW($AE$13:$AE$1003))+1), ROW(293:293))),\"\")","v":"__HI_21__RC_N"},"","",null,"__HI_21__RC_N","","HI21RCN","__HI_21__RC_N",1,"______"]
[null,null,null,null,null,null,null,null,null,null,null,null,null,null,null,null,null,null,null,null,null,null,null,null,null,null,{"$f":"IFERROR(INDEX($AE$13:$AE$1003, SMALL(IF(ISBLANK($AE$13:$AE$1003)+ISERROR($AE$13:$AE$1003)+LEN($AE$13:$AE$1003)=0, \"\", ROW($AE$13:$AE$1003)-MIN(ROW($AE$13:$AE$1003))+1), ROW(294:294))),\"\")","v":"__HI_21__RMA_N"},"","",null,"__HI_21__RMA_N","","HI21RMAN","__HI_21__RMA_N",1,"______"]
[null,null,null,null,null,null,null,null,null,null,null,null,null,null,null,null,null,null,null,null,null,null,null,null,null,null,{"$f":"IFERROR(INDEX($AE$13:$AE$1003, SMALL(IF(ISBLANK($AE$13:$AE$1003)+ISERROR($AE$13:$AE$1003)+LEN($AE$13:$AE$1003)=0, \"\", ROW($AE$13:$AE$1003)-MIN(ROW($AE$13:$AE$1003))+1), ROW(295:295))),\"\")","v":"__HI_21__TRAN_N"},"","",null,"__HI_21__TRAN_N","","HI21TRANN","__HI_21__TRAN_N",1,"______"]
[null,null,null,null,null,null,null,null,null,null,null,null,null,null,null,null,null,null,null,null,null,null,null,null,null,null,{"$f":"IFERROR(INDEX($AE$13:$AE$1003, SMALL(IF(ISBLANK($AE$13:$AE$1003)+ISERROR($AE$13:$AE$1003)+LEN($AE$13:$AE$1003)=0, \"\", ROW($AE$13:$AE$1003)-MIN(ROW($AE$13:$AE$1003))+1), ROW(296:296))),\"\")","v":"__MD____Y"},"","",null,"__MD____Y","","MDY","__MD____Y",1,"______"]
[null,null,null,null,null,null,null,null,null,null,null,null,null,null,null,null,null,null,null,null,null,null,null,null,null,null,{"$f":"IFERROR(INDEX($AE$13:$AE$1003, SMALL(IF(ISBLANK($AE$13:$AE$1003)+ISERROR($AE$13:$AE$1003)+LEN($AE$13:$AE$1003)=0, \"\", ROW($AE$13:$AE$1003)-MIN(ROW($AE$13:$AE$1003))+1), ROW(297:297))),\"\")","v":"__MD_14__D_N"},"","",null,"__MD_14__D_N","","MD14DN","__MD_14__D_N",1,"______"]
[null,null,null,null,null,null,null,null,null,null,null,null,null,null,null,null,null,null,null,null,null,null,null,null,null,null,{"$f":"IFERROR(INDEX($AE$13:$AE$1003, SMALL(IF(ISBLANK($AE$13:$AE$1003)+ISERROR($AE$13:$AE$1003)+LEN($AE$13:$AE$1003)=0, \"\", ROW($AE$13:$AE$1003)-MIN(ROW($AE$13:$AE$1003))+1), ROW(298:298))),\"\")","v":"__MD_14__DROPOUT_N"},"","",null,"__MD_14__DROPOUT_N","","MD14DROPOUTN","__MD_14__DROPOUT_N",1,"______"]
[null,null,null,null,null,null,null,null,null,null,null,null,null,null,null,null,null,null,null,null,null,null,null,null,null,null,{"$f":"IFERROR(INDEX($AE$13:$AE$1003, SMALL(IF(ISBLANK($AE$13:$AE$1003)+ISERROR($AE$13:$AE$1003)+LEN($AE$13:$AE$1003)=0, \"\", ROW($AE$13:$AE$1003)-MIN(ROW($AE$13:$AE$1003))+1), ROW(299:299))),\"\")","v":"__MD_14__GHS_N"},"","",null,"__MD_14__GHS_N","","MD14GHSN","__MD_14__GHS_N",1,"______"]
[null,null,null,null,null,null,null,null,null,null,null,null,null,null,null,null,null,null,null,null,null,null,null,null,null,null,{"$f":"IFERROR(INDEX($AE$13:$AE$1003, SMALL(IF(ISBLANK($AE$13:$AE$1003)+ISERROR($AE$13:$AE$1003)+LEN($AE$13:$AE$1003)=0, \"\", ROW($AE$13:$AE$1003)-MIN(ROW($AE$13:$AE$1003))+1), ROW(300:300))),\"\")","v":"__MD_14__GRADALTDPL_N"},"","",null,"__MD_14__GRADALTDPL_N","","MD14GRADALTDPLN","__MD_14__GRADALTDPL_N",1,"______"]
[null,null,null,null,null,null,null,null,null,null,null,null,null,null,null,null,null,null,null,null,null,null,null,null,null,null,{"$f":"IFERROR(INDEX($AE$13:$AE$1003, SMALL(IF(ISBLANK($AE$13:$AE$1003)+ISERROR($AE$13:$AE$1003)+LEN($AE$13:$AE$1003)=0, \"\", ROW($AE$13:$AE$1003)-MIN(ROW($AE$13:$AE$1003))+1), ROW(301:301))),\"\")","v":"__MD_14__MKC_N"},"","",null,"__MD_14__MKC_N","","MD14MKCN","__MD_14__MKC_N",1,"______"]
[null,null,null,null,null,null,null,null,null,null,null,null,null,null,null,null,null,null,null,null,null,null,null,null,null,null,{"$f":"IFERROR(INDEX($AE$13:$AE$1003, SMALL(IF(ISBLANK($AE$13:$AE$1003)+ISERROR($AE$13:$AE$1003)+LEN($AE$13:$AE$1003)=0, \"\", ROW($AE$13:$AE$1003)-MIN(ROW($AE$13:$AE$1003))+1), ROW(302:302))),\"\")","v":"__MD_14__RC_N"},"","",null,"__MD_14__RC_N","","MD14RCN","__MD_14__RC_N",1,"______"]
[null,null,null,null,null,null,null,null,null,null,null,null,null,null,null,null,null,null,null,null,null,null,null,null,null,null,{"$f":"IFERROR(INDEX($AE$13:$AE$1003, SMALL(IF(ISBLANK($AE$13:$AE$1003)+ISERROR($AE$13:$AE$1003)+LEN($AE$13:$AE$1003)=0, \"\", ROW($AE$13:$AE$1003)-MIN(ROW($AE$13:$AE$1003))+1), ROW(303:303))),\"\")","v":"__MD_14__RMA_N"},"","",null,"__MD_14__RMA_N","","MD14RMAN","__MD_14__RMA_N",1,"______"]
[null,null,null,null,null,null,null,null,null,null,null,null,null,null,null,null,null,null,null,null,null,null,null,null,null,null,{"$f":"IFERROR(INDEX($AE$13:$AE$1003, SMALL(IF(ISBLANK($AE$13:$AE$1003)+ISERROR($AE$13:$AE$1003)+LEN($AE$13:$AE$1003)=0, \"\", ROW($AE$13:$AE$1003)-MIN(ROW($AE$13:$AE$1003))+1), ROW(304:304))),\"\")","v":"__MD_14__TRAN_N"},"","",null,"__MD_14__TRAN_N","","MD14TRANN","__MD_14__TRAN_N",1,"______"]
[null,null,null,null,null,null,null,null,null,null,null,null,null,null,null,null,null,null,null,null,null,null,null,null,null,null,{"$f":"IFERROR(INDEX($AE$13:$AE$1003, SMALL(IF(ISBLANK($AE$13:$AE$1003)+ISERROR($AE$13:$AE$1003)+LEN($AE$13:$AE$1003)=0, \"\", ROW($AE$13:$AE$1003)-MIN(ROW($AE$13:$AE$1003))+1), ROW(305:305))),\"\")","v":"__MD_15__D_N"},"","",null,"__MD_15__D_N","","MD15DN","__MD_15__D_N",1,"______"]
[null,null,null,null,null,null,null,null,null,null,null,null,null,null,null,null,null,null,null,null,null,null,null,null,null,null,{"$f":"IFERROR(INDEX($AE$13:$AE$1003, SMALL(IF(ISBLANK($AE$13:$AE$1003)+ISERROR($AE$13:$AE$1003)+LEN($AE$13:$AE$1003)=0, \"\", ROW($AE$13:$AE$1003)-MIN(ROW($AE$13:$AE$1003))+1), ROW(306:306))),\"\")","v":"__MD_15__DROPOUT_N"},"","",null,"__MD_15__DROPOUT_N","","MD15DROPOUTN","__MD_15__DROPOUT_N",1,"______"]
[null,null,null,null,null,null,null,null,null,null,null,null,null,null,null,null,null,null,null,null,null,null,null,null,null,null,{"$f":"IFERROR(INDEX($AE$13:$AE$1003, SMALL(IF(ISBLANK($AE$13:$AE$1003)+ISERROR($AE$13:$AE$1003)+LEN($AE$13:$AE$1003)=0, \"\", ROW($AE$13:$AE$1003)-MIN(ROW($AE$13:$AE$1003))+1), ROW(307:307))),\"\")","v":"__MD_15__GHS_N"},"","",null,"__MD_15__GHS_N","","MD15GHSN","__MD_15__GHS_N",1,"______"]
[null,null,null,null,null,null,null,null,null,null,null,null,null,null,null,null,null,null,null,null,null,null,null,null,null,null,{"$f":"IFERROR(INDEX($AE$13:$AE$1003, SMALL(IF(ISBLANK($AE$13:$AE$1003)+ISERROR($AE$13:$AE$1003)+LEN($AE$13:$AE$1003)=0, \"\", ROW($AE$13:$AE$1003)-MIN(ROW($AE$13:$AE$1003))+1), ROW(308:308))),\"\")","v":"__MD_15__GRADALTDPL_N"},"","",null,"__MD_15__GRADALTDPL_N","","MD15GRADALTDPLN","__MD_15__GRADALTDPL_N",1,"______"]
[null,null,null,null,null,null,null,null,null,null,null,null,null,null,null,null,null,null,null,null,null,null,null,null,null,null,{"$f":"IFERROR(INDEX($AE$13:$AE$1003, SMALL(IF(ISBLANK($AE$13:$AE$1003)+ISERROR($AE$13:$AE$1003)+LEN($AE$13:$AE$1003)=0, \"\", ROW($AE$13:$AE$1003)-MIN(ROW($AE$13:$AE$1003))+1), ROW(309:309))),\"\")","v":"__MD_15__MKC_N"},"","",null,"__MD_15__MKC_N","","MD15MKCN","__MD_15__MKC_N",1,"______"]
[null,null,null,null,null,null,null,null,null,null,null,null,null,null,null,null,null,null,null,null,null,null,null,null,null,null,{"$f":"IFERROR(INDEX($AE$13:$AE$1003, SMALL(IF(ISBLANK($AE$13:$AE$1003)+ISERROR($AE$13:$AE$1003)+LEN($AE$13:$AE$1003)=0, \"\", ROW($AE$13:$AE$1003)-MIN(ROW($AE$13:$AE$1003))+1), ROW(310:310))),\"\")","v":"__MD_15__RC_N"},"","",null,"__MD_15__RC_N","","MD15RCN","__MD_15__RC_N",1,"______"]
[null,null,null,null,null,null,null,null,null,null,null,null,null,null,null,null,null,null,null,null,null,null,null,null,null,null,{"$f":"IFERROR(INDEX($AE$13:$AE$1003, SMALL(IF(ISBLANK($AE$13:$AE$1003)+ISERROR($AE$13:$AE$1003)+LEN($AE$13:$AE$1003)=0, \"\", ROW($AE$13:$AE$1003)-MIN(ROW($AE$13:$AE$1003))+1), ROW(311:311))),\"\")","v":"__MD_15__RMA_N"},"","",null,"__MD_15__RMA_N","","MD15RMAN","__MD_15__RMA_N",1,"______"]
[null,null,null,null,null,null,null,null,null,null,null,null,null,null,null,null,null,null,null,null,null,null,null,null,null,null,{"$f":"IFERROR(INDEX($AE$13:$AE$1003, SMALL(IF(ISBLANK($AE$13:$AE$1003)+ISERROR($AE$13:$AE$1003)+LEN($AE$13:$AE$1003)=0, \"\", ROW($AE$13:$AE$1003)-MIN(ROW($AE$13:$AE$1003))+1), ROW(312:312))),\"\")","v":"__MD_15__TRAN_N"},"","",null,"__MD_15__TRAN_N","","MD15TRANN","__MD_15__TRAN_N",1,"______"]
[null,null,null,null,null,null,null,null,null,null,null,null,null,null,null,null,null,null,null,null,null,null,null,null,null,null,{"$f":"IFERROR(INDEX($AE$13:$AE$1003, SMALL(IF(ISBLANK($AE$13:$AE$1003)+ISERROR($AE$13:$AE$1003)+LEN($AE$13:$AE$1003)=0, \"\", ROW($AE$13:$AE$1003)-MIN(ROW($AE$13:$AE$1003))+1), ROW(313:313))),\"\")","v":"__MD_16__D_N"},"","",null,"__MD_16__D_N","","MD16DN","__MD_16__D_N",1,"______"]
[null,null,null,null,null,null,null,null,null,null,null,null,null,null,null,null,null,null,null,null,null,null,null,null,null,null,{"$f":"IFERROR(INDEX($AE$13:$AE$1003, SMALL(IF(ISBLANK($AE$13:$AE$1003)+ISERROR($AE$13:$AE$1003)+LEN($AE$13:$AE$1003)=0, \"\", ROW($AE$13:$AE$1003)-MIN(ROW($AE$13:$AE$1003))+1), ROW(314:314))),\"\")","v":"__MD_16__DROPOUT_N"},"","",null,"__MD_16__DROPOUT_N","","MD16DROPOUTN","__MD_16__DROPOUT_N",1,"______"]
[null,null,null,null,null,null,null,null,null,null,null,null,null,null,null,null,null,null,null,null,null,null,null,null,null,null,{"$f":"IFERROR(INDEX($AE$13:$AE$1003, SMALL(IF(ISBLANK($AE$13:$AE$1003)+ISERROR($AE$13:$AE$1003)+LEN($AE$13:$AE$1003)=0, \"\", ROW($AE$13:$AE$1003)-MIN(ROW($AE$13:$AE$1003))+1), ROW(315:315))),\"\")","v":"__MD_16__GHS_N"},"","",null,"__MD_16__GHS_N","","MD16GHSN","__MD_16__GHS_N",1,"______"]
[null,null,null,null,null,null,null,null,null,null,null,null,null,null,null,null,null,null,null,null,null,null,null,null,null,null,{"$f":"IFERROR(INDEX($AE$13:$AE$1003, SMALL(IF(ISBLANK($AE$13:$AE$1003)+ISERROR($AE$13:$AE$1003)+LEN($AE$13:$AE$1003)=0, \"\", ROW($AE$13:$AE$1003)-MIN(ROW($AE$13:$AE$1003))+1), ROW(316:316))),\"\")","v":"__MD_16__GRADALTDPL_N"},"","",null,"__MD_16__GRADALTDPL_N","","MD16GRADALTDPLN","__MD_16__GRADALTDPL_N",1,"______"]
[null,null,null,null,null,null,null,null,null,null,null,null,null,null,null,null,null,null,null,null,null,null,null,null,null,null,{"$f":"IFERROR(INDEX($AE$13:$AE$1003, SMALL(IF(ISBLANK($AE$13:$AE$1003)+ISERROR($AE$13:$AE$1003)+LEN($AE$13:$AE$1003)=0, \"\", ROW($AE$13:$AE$1003)-MIN(ROW($AE$13:$AE$1003))+1), ROW(317:317))),\"\")","v":"__MD_16__MKC_N"},"","",null,"__MD_16__MKC_N","","MD16MKCN","__MD_16__MKC_N",1,"______"]
[null,null,null,null,null,null,null,null,null,null,null,null,null,null,null,null,null,null,null,null,null,null,null,null,null,null,{"$f":"IFERROR(INDEX($AE$13:$AE$1003, SMALL(IF(ISBLANK($AE$13:$AE$1003)+ISERROR($AE$13:$AE$1003)+LEN($AE$13:$AE$1003)=0, \"\", ROW($AE$13:$AE$1003)-MIN(ROW($AE$13:$AE$1003))+1), ROW(318:318))),\"\")","v":"__MD_16__RC_N"},"","",null,"__MD_16__RC_N","","MD16RCN","__MD_16__RC_N",1,"______"]
[null,null,null,null,null,null,null,null,null,null,null,null,null,null,null,null,null,null,null,null,null,null,null,null,null,null,{"$f":"IFERROR(INDEX($AE$13:$AE$1003, SMALL(IF(ISBLANK($AE$13:$AE$1003)+ISERROR($AE$13:$AE$1003)+LEN($AE$13:$AE$1003)=0, \"\", ROW($AE$13:$AE$1003)-MIN(ROW($AE$13:$AE$1003))+1), ROW(319:319))),\"\")","v":"__MD_16__RMA_N"},"","",null,"__MD_16__RMA_N","","MD16RMAN","__MD_16__RMA_N",1,"______"]
[null,null,null,null,null,null,null,null,null,null,null,null,null,null,null,null,null,null,null,null,null,null,null,null,null,null,{"$f":"IFERROR(INDEX($AE$13:$AE$1003, SMALL(IF(ISBLANK($AE$13:$AE$1003)+ISERROR($AE$13:$AE$1003)+LEN($AE$13:$AE$1003)=0, \"\", ROW($AE$13:$AE$1003)-MIN(ROW($AE$13:$AE$1003))+1), ROW(320:320))),\"\")","v":"__MD_16__TRAN_N"},"","",null,"__MD_16__TRAN_N","","MD16TRANN","__MD_16__TRAN_N",1,"______"]
[null,null,null,null,null,null,null,null,null,null,null,null,null,null,null,null,null,null,null,null,null,null,null,null,null,null,{"$f":"IFERROR(INDEX($AE$13:$AE$1003, SMALL(IF(ISBLANK($AE$13:$AE$1003)+ISERROR($AE$13:$AE$1003)+LEN($AE$13:$AE$1003)=0, \"\", ROW($AE$13:$AE$1003)-MIN(ROW($AE$13:$AE$1003))+1), ROW(321:321))),\"\")","v":"__MD_17__D_N"},{"$f":"IF(AF333=\"\",\"\",IF(COUNTIF(CurrentListing,AF333)>1,AJ333,\"\"))","v":""},{"$f":"IF(LEN(AF333)=0,\"\",IF(ISNA(MATCH(AF333,MasterListing,0)),AJ333,\"\"))","v":""},null,{"$f":"IF(LEN(AG333)=0,\"\",IF(ISNA(MATCH(AG333,CurrentListing,0)),AH333,\"\"))","v":"__MD_17__D_N"},{"$f":"H333&I333&P333&Q333&R333&V333&W333","v":""},"MD17DN","__MD_17__D_N",1,"______"]
[null,null,null,null,null,null,null,null,null,null,null,null,null,null,null,null,null,null,null,null,null,null,null,null,null,null,{"$f":"IFERROR(INDEX($AE$13:$AE$1003, SMALL(IF(ISBLANK($AE$13:$AE$1003)+ISERROR($AE$13:$AE$1003)+LEN($AE$13:$AE$1003)=0, \"\", ROW($AE$13:$AE$1003)-MIN(ROW($AE$13:$AE$1003))+1), ROW(322:322))),\"\")","v":"__MD_17__DROPOUT_N"},"","",null,"__MD_17__DROPOUT_N","","MD17DROPOUTN","__MD_17__DROPOUT_N",{"$f":"IF(LEN(AA334)>0,1,0)","v":1},{"$f":"H334&\"_\"&I334&\"_\"&P334&\"_\"&Q334&\"_\"&R334&\"_\"&V334&\"_\"&W334","v":"______"}]
[null,null,null,null,null,null,null,null,null,null,null,null,null,null,null,null,null,null,null,null,null,null,null,null,null,null,{"$f":"IFERROR(INDEX($AE$13:$AE$1003, SMALL(IF(ISBLANK($AE$13:$AE$1003)+ISERROR($AE$13:$AE$1003)+LEN($AE$13:$AE$1003)=0, \"\", ROW($AE$13:$AE$1003)-MIN(ROW($AE$13:$AE$1003))+1), ROW(323:323))),\"\")","v":"__MD_17__GHS_N"},"","",null,"__MD_17__GHS_N","","MD17GHSN","__MD_17__GHS_N",1,"______"]
[null,null,null,null,null,null,null,null,null,null,null,null,null,null,null,null,null,null,null,null,null,null,null,null,null,null,{"$f":"IFERROR(INDEX($AE$13:$AE$1003, SMALL(IF(ISBLANK($AE$13:$AE$1003)+ISERROR($AE$13:$AE$1003)+LEN($AE$13:$AE$1003)=0, \"\", ROW($AE$13:$AE$1003)-MIN(ROW($AE$13:$AE$1003))+1), ROW(324:324))),\"\")","v":"__MD_17__GRADALTDPL_N"},"","",null,"__MD_17__GRADALTDPL_N","","MD17GRADALTDPLN","__MD_17__GRADALTDPL_N",1,"______"]
[null,null,null,null,null,null,null,null,null,null,null,null,null,null,null,null,null,null,null,null,null,null,null,null,null,null,{"$f":"IFERROR(INDEX($AE$13:$AE$1003, SMALL(IF(ISBLANK($AE$13:$AE$1003)+ISERROR($AE$13:$AE$1003)+LEN($AE$13:$AE$1003)=0, \"\", ROW($AE$13:$AE$1003)-MIN(ROW($AE$13:$AE$1003))+1), ROW(325:325))),\"\")","v":"__MD_17__MKC_N"},"","",null,"__MD_17__MKC_N","","MD17MKCN","__MD_17__MKC_N",1,"______"]
[null,null,null,null,null,null,null,null,null,null,null,null,null,null,null,null,null,null,null,null,null,null,null,null,null,null,{"$f":"IFERROR(INDEX($AE$13:$AE$1003, SMALL(IF(ISBLANK($AE$13:$AE$1003)+ISERROR($AE$13:$AE$1003)+LEN($AE$13:$AE$1003)=0, \"\", ROW($AE$13:$AE$1003)-MIN(ROW($AE$13:$AE$1003))+1), ROW(326:326))),\"\")","v":"__MD_17__RC_N"},"","",null,"__MD_17__RC_N","","MD17RCN","__MD_17__RC_N",1,"______"]
[null,null,null,null,null,null,null,null,null,null,null,null,null,null,null,null,null,null,null,null,null,null,null,null,null,null,{"$f":"IFERROR(INDEX($AE$13:$AE$1003, SMALL(IF(ISBLANK($AE$13:$AE$1003)+ISERROR($AE$13:$AE$1003)+LEN($AE$13:$AE$1003)=0, \"\", ROW($AE$13:$AE$1003)-MIN(ROW($AE$13:$AE$1003))+1), ROW(327:327))),\"\")","v":"__MD_17__RMA_N"},"","",null,"__MD_17__RMA_N","","MD17RMAN","__MD_17__RMA_N",1,"______"]
[null,null,null,null,null,null,null,null,null,null,null,null,null,null,null,null,null,null,null,null,null,null,null,null,null,null,{"$f":"IFERROR(INDEX($AE$13:$AE$1003, SMALL(IF(ISBLANK($AE$13:$AE$1003)+ISERROR($AE$13:$AE$1003)+LEN($AE$13:$AE$1003)=0, \"\", ROW($AE$13:$AE$1003)-MIN(ROW($AE$13:$AE$1003))+1), ROW(328:328))),\"\")","v":"__MD_17__TRAN_N"},"","",null,"__MD_17__TRAN_N","","MD17TRANN","__MD_17__TRAN_N",1,"______"]
[null,null,null,null,null,null,null,null,null,null,null,null,null,null,null,null,null,null,null,null,null,null,null,null,null,null,{"$f":"IFERROR(INDEX($AE$13:$AE$1003, SMALL(IF(ISBLANK($AE$13:$AE$1003)+ISERROR($AE$13:$AE$1003)+LEN($AE$13:$AE$1003)=0, \"\", ROW($AE$13:$AE$1003)-MIN(ROW($AE$13:$AE$1003))+1), ROW(329:329))),\"\")","v":"__MD_18__D_N"},"","",null,"__MD_18__D_N","","MD18DN","__MD_18__D_N",1,"______"]
[null,null,null,null,null,null,null,null,null,null,null,null,null,null,null,null,null,null,null,null,null,null,null,null,null,null,{"$f":"IFERROR(INDEX($AE$13:$AE$1003, SMALL(IF(ISBLANK($AE$13:$AE$1003)+ISERROR($AE$13:$AE$1003)+LEN($AE$13:$AE$1003)=0, \"\", ROW($AE$13:$AE$1003)-MIN(ROW($AE$13:$AE$1003))+1), ROW(330:330))),\"\")","v":"__MD_18__DROPOUT_N"},"","",null,"__MD_18__DROPOUT_N","","MD18DROPOUTN","__MD_18__DROPOUT_N",1,"______"]
[null,null,null,null,null,null,null,null,null,null,null,null,null,null,null,null,null,null,null,null,null,null,null,null,null,null,{"$f":"IFERROR(INDEX($AE$13:$AE$1003, SMALL(IF(ISBLANK($AE$13:$AE$1003)+ISERROR($AE$13:$AE$1003)+LEN($AE$13:$AE$1003)=0, \"\", ROW($AE$13:$AE$1003)-MIN(ROW($AE$13:$AE$1003))+1), ROW(331:331))),\"\")","v":"__MD_18__GHS_N"},"","",null,"__MD_18__GHS_N","","MD18GHSN","__MD_18__GHS_N",1,"______"]
[null,null,null,null,null,null,null,null,null,null,null,null,null,null,null,null,null,null,null,null,null,null,null,null,null,null,{"$f":"IFERROR(INDEX($AE$13:$AE$1003, SMALL(IF(ISBLANK($AE$13:$AE$1003)+ISERROR($AE$13:$AE$1003)+LEN($AE$13:$AE$1003)=0, \"\", ROW($AE$13:$AE$1003)-MIN(ROW($AE$13:$AE$1003))+1), ROW(332:332))),\"\")","v":"__MD_18__GRADALTDPL_N"},"","",null,"__MD_18__GRADALTDPL_N","","MD18GRADALTDPLN","__MD_18__GRADALTDPL_N",1,"______"]
[null,null,null,null,null,null,null,null,null,null,null,null,null,null,null,null,null,null,null,null,null,null,null,null,null,null,{"$f":"IFERROR(INDEX($AE$13:$AE$1003, SMALL(IF(ISBLANK($AE$13:$AE$1003)+ISERROR($AE$13:$AE$1003)+LEN($AE$13:$AE$1003)=0, \"\", ROW($AE$13:$AE$1003)-MIN(ROW($AE$13:$AE$1003))+1), ROW(333:333))),\"\")","v":"__MD_18__MKC_N"},"","",null,"__MD_18__MKC_N","","MD18MKCN","__MD_18__MKC_N",1,"______"]
[null,null,null,null,null,null,null,null,null,null,null,null,null,null,null,null,null,null,null,null,null,null,null,null,null,null,{"$f":"IFERROR(INDEX($AE$13:$AE$1003, SMALL(IF(ISBLANK($AE$13:$AE$1003)+ISERROR($AE$13:$AE$1003)+LEN($AE$13:$AE$1003)=0, \"\", ROW($AE$13:$AE$1003)-MIN(ROW($AE$13:$AE$1003))+1), ROW(334:334))),\"\")","v":"__MD_18__RC_N"},"","",null,"__MD_18__RC_N","","MD18RCN","__MD_18__RC_N",1,"______"]
[null,null,null,null,null,null,null,null,null,null,null,null,null,null,null,null,null,null,null,null,null,null,null,null,null,null,{"$f":"IFERROR(INDEX($AE$13:$AE$1003, SMALL(IF(ISBLANK($AE$13:$AE$1003)+ISERROR($AE$13:$AE$1003)+LEN($AE$13:$AE$1003)=0, \"\", ROW($AE$13:$AE$1003)-MIN(ROW($AE$13:$AE$1003))+1), ROW(335:335))),\"\")","v":"__MD_18__RMA_N"},"","",null,"__MD_18__RMA_N","","MD18RMAN","__MD_18__RMA_N",1,"______"]
[null,null,null,null,null,null,null,null,null,null,null,null,null,null,null,null,null,null,null,null,null,null,null,null,null,null,{"$f":"IFERROR(INDEX($AE$13:$AE$1003, SMALL(IF(ISBLANK($AE$13:$AE$1003)+ISERROR($AE$13:$AE$1003)+LEN($AE$13:$AE$1003)=0, \"\", ROW($AE$13:$AE$1003)-MIN(ROW($AE$13:$AE$1003))+1), ROW(336:336))),\"\")","v":"__MD_18__TRAN_N"},"","",null,"__MD_18__TRAN_N","","MD18TRANN","__MD_18__TRAN_N",1,"______"]
[null,null,null,null,null,null,null,null,null,null,null,null,null,null,null,null,null,null,null,null,null,null,null,null,null,null,{"$f":"IFERROR(INDEX($AE$13:$AE$1003, SMALL(IF(ISBLANK($AE$13:$AE$1003)+ISERROR($AE$13:$AE$1003)+LEN($AE$13:$AE$1003)=0, \"\", ROW($AE$13:$AE$1003)-MIN(ROW($AE$13:$AE$1003))+1), ROW(337:337))),\"\")","v":"__MD_19__D_N"},"","",null,"__MD_19__D_N","","MD19DN","__MD_19__D_N",1,"______"]
[null,null,null,null,null,null,null,null,null,null,null,null,null,null,null,null,null,null,null,null,null,null,null,null,null,null,{"$f":"IFERROR(INDEX($AE$13:$AE$1003, SMALL(IF(ISBLANK($AE$13:$AE$1003)+ISERROR($AE$13:$AE$1003)+LEN($AE$13:$AE$1003)=0, \"\", ROW($AE$13:$AE$1003)-MIN(ROW($AE$13:$AE$1003))+1), ROW(338:338))),\"\")","v":"__MD_19__DROPOUT_N"},"","",null,"__MD_19__DROPOUT_N","","MD19DROPOUTN","__MD_19__DROPOUT_N",1,"______"]
[null,null,null,null,null,null,null,null,null,null,null,null,null,null,null,null,null,null,null,null,null,null,null,null,null,null,{"$f":"IFERROR(INDEX($AE$13:$AE$1003, SMALL(IF(ISBLANK($AE$13:$AE$1003)+ISERROR($AE$13:$AE$1003)+LEN($AE$13:$AE$1003)=0, \"\", ROW($AE$13:$AE$1003)-MIN(ROW($AE$13:$AE$1003))+1), ROW(339:339))),\"\")","v":"__MD_19__GHS_N"},"","",null,"__MD_19__GHS_N","","MD19GHSN","__MD_19__GHS_N",1,"______"]
[null,null,null,null,null,null,null,null,null,null,null,null,null,null,null,null,null,null,null,null,null,null,null,null,null,null,{"$f":"IFERROR(INDEX($AE$13:$AE$1003, SMALL(IF(ISBLANK($AE$13:$AE$1003)+ISERROR($AE$13:$AE$1003)+LEN($AE$13:$AE$1003)=0, \"\", ROW($AE$13:$AE$1003)-MIN(ROW($AE$13:$AE$1003))+1), ROW(340:340))),\"\")","v":"__MD_19__GRADALTDPL_N"},"","",null,"__MD_19__GRADALTDPL_N","","MD19GRADALTDPLN","__MD_19__GRADALTDPL_N",1,"______"]
[null,null,null,null,null,null,null,null,null,null,null,null,null,null,null,null,null,null,null,null,null,null,null,null,null,null,{"$f":"IFERROR(INDEX($AE$13:$AE$1003, SMALL(IF(ISBLANK($AE$13:$AE$1003)+ISERROR($AE$13:$AE$1003)+LEN($AE$13:$AE$1003)=0, \"\", ROW($AE$13:$AE$1003)-MIN(ROW($AE$13:$AE$1003))+1), ROW(341:341))),\"\")","v":"__MD_19__MKC_N"},"","",null,"__MD_19__MKC_N","","MD19MKCN","__MD_19__MKC_N",1,"______"]
[null,null,null,null,null,null,null,null,null,null,null,null,null,null,null,null,null,null,null,null,null,null,null,null,null,null,{"$f":"IFERROR(INDEX($AE$13:$AE$1003, SMALL(IF(ISBLANK($AE$13:$AE$1003)+ISERROR($AE$13:$AE$1003)+LEN($AE$13:$AE$1003)=0, \"\", ROW($AE$13:$AE$1003)-MIN(ROW($AE$13:$AE$1003))+1), ROW(342:342))),\"\")","v":"__MD_19__RC_N"},"","",null,"__MD_19__RC_N","","MD19RCN","__MD_19__RC_N",1,"______"]
[null,null,null,null,null,null,null,null,null,null,null,null,null,null,null,null,null,null,null,null,null,null,null,null,null,null,{"$f":"IFERROR(INDEX($AE$13:$AE$1003, SMALL(IF(ISBLANK($AE$13:$AE$1003)+ISERROR($AE$13:$AE$1003)+LEN($AE$13:$AE$1003)=0, \"\", ROW($AE$13:$AE$1003)-MIN(ROW($AE$13:$AE$1003))+1), ROW(343:343))),\"\")","v":"__MD_19__RMA_N"},"","",null,"__MD_19__RMA_N","","MD19RMAN","__MD_19__RMA_N",1,"______"]
[null,null,null,null,null,null,null,null,null,null,null,null,null,null,null,null,null,null,null,null,null,null,null,null,null,null,{"$f":"IFERROR(INDEX($AE$13:$AE$1003, SMALL(IF(ISBLANK($AE$13:$AE$1003)+ISERROR($AE$13:$AE$1003)+LEN($AE$13:$AE$1003)=0, \"\", ROW($AE$13:$AE$1003)-MIN(ROW($AE$13:$AE$1003))+1), ROW(344:344))),\"\")","v":"__MD_19__TRAN_N"},"","",null,"__MD_19__TRAN_N","","MD19TRANN","__MD_19__TRAN_N",1,"______"]
[null,null,null,null,null,null,null,null,null,null,null,null,null,null,null,null,null,null,null,null,null,null,null,null,null,null,{"$f":"IFERROR(INDEX($AE$13:$AE$1003, SMALL(IF(ISBLANK($AE$13:$AE$1003)+ISERROR($AE$13:$AE$1003)+LEN($AE$13:$AE$1003)=0, \"\", ROW($AE$13:$AE$1003)-MIN(ROW($AE$13:$AE$1003))+1), ROW(345:345))),\"\")","v":"__MD_20__D_N"},"","",null,"__MD_20__D_N","","MD20DN","__MD_20__D_N",1,"______"]
[null,null,null,null,null,null,null,null,null,null,null,null,null,null,null,null,null,null,null,null,null,null,null,null,null,null,{"$f":"IFERROR(INDEX($AE$13:$AE$1003, SMALL(IF(ISBLANK($AE$13:$AE$1003)+ISERROR($AE$13:$AE$1003)+LEN($AE$13:$AE$1003)=0, \"\", ROW($AE$13:$AE$1003)-MIN(ROW($AE$13:$AE$1003))+1), ROW(346:346))),\"\")","v":"__MD_20__DROPOUT_N"},"","",null,"__MD_20__DROPOUT_N","","MD20DROPOUTN","__MD_20__DROPOUT_N",1,"______"]
[null,null,null,null,null,null,null,null,null,null,null,null,null,null,null,null,null,null,null,null,null,null,null,null,null,null,{"$f":"IFERROR(INDEX($AE$13:$AE$1003, SMALL(IF(ISBLANK($AE$13:$AE$1003)+ISERROR($AE$13:$AE$1003)+LEN($AE$13:$AE$1003)=0, \"\", ROW($AE$13:$AE$1003)-MIN(ROW($AE$13:$AE$1003))+1), ROW(347:347))),\"\")","v":"__MD_20__GHS_N"},"","",null,"__MD_20__GHS_N","","MD20GHSN","__MD_20__GHS_N",1,"______"]
[null,null,null,null,null,null,null,null,null,null,null,null,null,null,null,null,null,null,null,null,null,null,null,null,null,null,{"$f":"IFERROR(INDEX($AE$13:$AE$1003, SMALL(IF(ISBLANK($AE$13:$AE$1003)+ISERROR($AE$13:$AE$1003)+LEN($AE$13:$AE$1003)=0, \"\", ROW($AE$13:$AE$1003)-MIN(ROW($AE$13:$AE$1003))+1), ROW(348:348))),\"\")","v":"__MD_20__GRADALTDPL_N"},"","",null,"__MD_20__GRADALTDPL_N","","MD20GRADALTDPLN","__MD_20__GRADALTDPL_N",1,"______"]
[null,null,null,null,null,null,null,null,null,null,null,null,null,null,null,null,null,null,null,null,null,null,null,null,null,null,{"$f":"IFERROR(INDEX($AE$13:$AE$1003, SMALL(IF(ISBLANK($AE$13:$AE$1003)+ISERROR($AE$13:$AE$1003)+LEN($AE$13:$AE$1003)=0, \"\", ROW($AE$13:$AE$1003)-MIN(ROW($AE$13:$AE$1003))+1), ROW(349:349))),\"\")","v":"__MD_20__MKC_N"},"","",null,"__MD_20__MKC_N","","MD20MKCN","__MD_20__MKC_N",1,"______"]
[null,null,null,null,null,null,null,null,null,null,null,null,null,null,null,null,null,null,null,null,null,null,null,null,null,null,{"$f":"IFERROR(INDEX($AE$13:$AE$1003, SMALL(IF(ISBLANK($AE$13:$AE$1003)+ISERROR($AE$13:$AE$1003)+LEN($AE$13:$AE$1003)=0, \"\", ROW($AE$13:$AE$1003)-MIN(ROW($AE$13:$AE$1003))+1), ROW(350:350))),\"\")","v":"__MD_20__RC_N"},"","",null,"__MD_20__RC_N","","MD20RCN","__MD_20__RC_N",1,"______"]
[null,null,null,null,null,null,null,null,null,null,null,null,null,null,null,null,null,null,null,null,null,null,null,null,null,null,{"$f":"IFERROR(INDEX($AE$13:$AE$1003, SMALL(IF(ISBLANK($AE$13:$AE$1003)+ISERROR($AE$13:$AE$1003)+LEN($AE$13:$AE$1003)=0, \"\", ROW($AE$13:$AE$1003)-MIN(ROW($AE$13:$AE$1003))+1), ROW(351:351))),\"\")","v":"__MD_20__RMA_N"},"","",null,"__MD_20__RMA_N","","MD20RMAN","__MD_20__RMA_N",1,"______"]
[null,null,null,null,null,null,null,null,null,null,null,null,null,null,null,null,null,null,null,null,null,null,null,null,null,null,{"$f":"IFERROR(INDEX($AE$13:$AE$1003, SMALL(IF(ISBLANK($AE$13:$AE$1003)+ISERROR($AE$13:$AE$1003)+LEN($AE$13:$AE$1003)=0, \"\", ROW($AE$13:$AE$1003)-MIN(ROW($AE$13:$AE$1003))+1), ROW(352:352))),\"\")","v":"__MD_20__TRAN_N"},"","",null,"__MD_20__TRAN_N","","MD20TRANN","__MD_20__TRAN_N",1,"______"]
[null,null,null,null,null,null,null,null,null,null,null,null,null,null,null,null,null,null,null,null,null,null,null,null,null,null,{"$f":"IFERROR(INDEX($AE$13:$AE$1003, SMALL(IF(ISBLANK($AE$13:$AE$1003)+ISERROR($AE$13:$AE$1003)+LEN($AE$13:$AE$1003)=0, \"\", ROW($AE$13:$AE$1003)-MIN(ROW($AE$13:$AE$1003))+1), ROW(353:353))),\"\")","v":"__MD_21__D_N"},"","",null,"__MD_21__D_N","","MD21DN","__MD_21__D_N",1,"______"]
[null,null,null,null,null,null,null,null,null,null,null,null,null,null,null,null,null,null,null,null,null,null,null,null,null,null,{"$f":"IFERROR(INDEX($AE$13:$AE$1003, SMALL(IF(ISBLANK($AE$13:$AE$1003)+ISERROR($AE$13:$AE$1003)+LEN($AE$13:$AE$1003)=0, \"\", ROW($AE$13:$AE$1003)-MIN(ROW($AE$13:$AE$1003))+1), ROW(354:354))),\"\")","v":"__MD_21__DROPOUT_N"},"","",null,"__MD_21__DROPOUT_N","","MD21DROPOUTN","__MD_21__DROPOUT_N",1,"______"]
[null,null,null,null,null,null,null,null,null,null,null,null,null,null,null,null,null,null,null,null,null,null,null,null,null,null,{"$f":"IFERROR(INDEX($AE$13:$AE$1003, SMALL(IF(ISBLANK($AE$13:$AE$1003)+ISERROR($AE$13:$AE$1003)+LEN($AE$13:$AE$1003)=0, \"\", ROW($AE$13:$AE$1003)-MIN(ROW($AE$13:$AE$1003))+1), ROW(355:355))),\"\")","v":"__MD_21__GHS_N"},"","",null,"__MD_21__GHS_N","","MD21GHSN","__MD_21__GHS_N",1,"______"]
[null,null,null,null,null,null,null,null,null,null,null,null,null,null,null,null,null,null,null,null,null,null,null,null,null,null,{"$f":"IFERROR(INDEX($AE$13:$AE$1003, SMALL(IF(ISBLANK($AE$13:$AE$1003)+ISERROR($AE$13:$AE$1003)+LEN($AE$13:$AE$1003)=0, \"\", ROW($AE$13:$AE$1003)-MIN(ROW($AE$13:$AE$1003))+1), ROW(356:356))),\"\")","v":"__MD_21__GRADALTDPL_N"},"","",null,"__MD_21__GRADALTDPL_N","","MD21GRADALTDPLN","__MD_21__GRADALTDPL_N",1,"______"]
[null,null,null,null,null,null,null,null,null,null,null,null,null,null,null,null,null,null,null,null,null,null,null,null,null,null,{"$f":"IFERROR(INDEX($AE$13:$AE$1003, SMALL(IF(ISBLANK($AE$13:$AE$1003)+ISERROR($AE$13:$AE$1003)+LEN($AE$13:$AE$1003)=0, \"\", ROW($AE$13:$AE$1003)-MIN(ROW($AE$13:$AE$1003))+1), ROW(357:357))),\"\")","v":"__MD_21__MKC_N"},"","",null,"__MD_21__MKC_N","","MD21MKCN","__MD_21__MKC_N",1,"______"]
[null,null,null,null,null,null,null,null,null,null,null,null,null,null,null,null,null,null,null,null,null,null,null,null,null,null,{"$f":"IFERROR(INDEX($AE$13:$AE$1003, SMALL(IF(ISBLANK($AE$13:$AE$1003)+ISERROR($AE$13:$AE$1003)+LEN($AE$13:$AE$1003)=0, \"\", ROW($AE$13:$AE$1003)-MIN(ROW($AE$13:$AE$1003))+1), ROW(358:358))),\"\")","v":"__MD_21__RC_N"},"","",null,"__MD_21__RC_N","","MD21RCN","__MD_21__RC_N",1,"______"]
[null,null,null,null,null,null,null,null,null,null,null,null,null,null,null,null,null,null,null,null,null,null,null,null,null,null,{"$f":"IFERROR(INDEX($AE$13:$AE$1003, SMALL(IF(ISBLANK($AE$13:$AE$1003)+ISERROR($AE$13:$AE$1003)+LEN($AE$13:$AE$1003)=0, \"\", ROW($AE$13:$AE$1003)-MIN(ROW($AE$13:$AE$1003))+1), ROW(359:359))),\"\")","v":"__MD_21__RMA_N"},"","",null,"__MD_21__RMA_N","","MD21RMAN","__MD_21__RMA_N",1,"______"]
[null,null,null,null,null,null,null,null,null,null,null,null,null,null,null,null,null,null,null,null,null,null,null,null,null,null,{"$f":"IFERROR(INDEX($AE$13:$AE$1003, SMALL(IF(ISBLANK($AE$13:$AE$1003)+ISERROR($AE$13:$AE$1003)+LEN($AE$13:$AE$1003)=0, \"\", ROW($AE$13:$AE$1003)-MIN(ROW($AE$13:$AE$1003))+1), ROW(360:360))),\"\")","v":"__MD_21__TRAN_N"},"","",null,"__MD_21__TRAN_N","","MD21TRANN","__MD_21__TRAN_N",1,"______"]
[null,null,null,null,null,null,null,null,null,null,null,null,null,null,null,null,null,null,null,null,null,null,null,null,null,null,{"$f":"IFERROR(INDEX($AE$13:$AE$1003, SMALL(IF(ISBLANK($AE$13:$AE$1003)+ISERROR($AE$13:$AE$1003)+LEN($AE$13:$AE$1003)=0, \"\", ROW($AE$13:$AE$1003)-MIN(ROW($AE$13:$AE$1003))+1), ROW(361:361))),\"\")","v":"__ID____Y"},"","",null,"__ID____Y","","IDY","__ID____Y",1,"______"]
[null,null,null,null,null,null,null,null,null,null,null,null,null,null,null,null,null,null,null,null,null,null,null,null,null,null,{"$f":"IFERROR(INDEX($AE$13:$AE$1003, SMALL(IF(ISBLANK($AE$13:$AE$1003)+ISERROR($AE$13:$AE$1003)+LEN($AE$13:$AE$1003)=0, \"\", ROW($AE$13:$AE$1003)-MIN(ROW($AE$13:$AE$1003))+1), ROW(362:362))),\"\")","v":"__ID_14__D_N"},"","",null,"__ID_14__D_N","","ID14DN","__ID_14__D_N",1,"______"]
[null,null,null,null,null,null,null,null,null,null,null,null,null,null,null,null,null,null,null,null,null,null,null,null,null,null,{"$f":"IFERROR(INDEX($AE$13:$AE$1003, SMALL(IF(ISBLANK($AE$13:$AE$1003)+ISERROR($AE$13:$AE$1003)+LEN($AE$13:$AE$1003)=0, \"\", ROW($AE$13:$AE$1003)-MIN(ROW($AE$13:$AE$1003))+1), ROW(363:363))),\"\")","v":"__ID_14__DROPOUT_N"},"","",null,"__ID_14__DROPOUT_N","","ID14DROPOUTN","__ID_14__DROPOUT_N",1,"______"]
[null,null,null,null,null,null,null,null,null,null,null,null,null,null,null,null,null,null,null,null,null,null,null,null,null,null,{"$f":"IFERROR(INDEX($AE$13:$AE$1003, SMALL(IF(ISBLANK($AE$13:$AE$1003)+ISERROR($AE$13:$AE$1003)+LEN($AE$13:$AE$1003)=0, \"\", ROW($AE$13:$AE$1003)-MIN(ROW($AE$13:$AE$1003))+1), ROW(364:364))),\"\")","v":"__ID_14__GHS_N"},"","",null,"__ID_14__GHS_N","","ID14GHSN","__ID_14__GHS_N",1,"______"]
[null,null,null,null,null,null,null,null,null,null,null,null,null,null,null,null,null,null,null,null,null,null,null,null,null,null,{"$f":"IFERROR(INDEX($AE$13:$AE$1003, SMALL(IF(ISBLANK($AE$13:$AE$1003)+ISERROR($AE$13:$AE$1003)+LEN($AE$13:$AE$1003)=0, \"\", ROW($AE$13:$AE$1003)-MIN(ROW($AE$13:$AE$1003))+1), ROW(365:365))),\"\")","v":"__ID_14__GRADALTDPL_N"},"","",null,"__ID_14__GRADALTDPL_N","","ID14GRADALTDPLN","__ID_14__GRADALTDPL_N",1,"______"]
[null,null,null,null,null,null,null,null,null,null,null,null,null,null,null,null,null,null,null,null,null,null,null,null,null,null,{"$f":"IFERROR(INDEX($AE$13:$AE$1003, SMALL(IF(ISBLANK($AE$13:$AE$1003)+ISERROR($AE$13:$AE$1003)+LEN($AE$13:$AE$1003)=0, \"\", ROW($AE$13:$AE$1003)-MIN(ROW($AE$13:$AE$1003))+1), ROW(366:366))),\"\")","v":"__ID_14__MKC_N"},"","",null,"__ID_14__MKC_N","","ID14MKCN","__ID_14__MKC_N",1,"______"]
[null,null,null,null,null,null,null,null,null,null,null,null,null,null,null,null,null,null,null,null,null,null,null,null,null,null,{"$f":"IFERROR(INDEX($AE$13:$AE$1003, SMALL(IF(ISBLANK($AE$13:$AE$1003)+ISERROR($AE$13:$AE$1003)+LEN($AE$13:$AE$1003)=0, \"\", ROW($AE$13:$AE$1003)-MIN(ROW($AE$13:$AE$1003))+1), ROW(367:367))),\"\")","v":"__ID_14__RC_N"},"","",null,"__ID_14__RC_N","","ID14RCN","__ID_14__RC_N",1,"______"]
[null,null,null,null,null,null,null,null,null,null,null,null,null,null,null,null,null,null,null,null,null,null,null,null,null,null,{"$f":"IFERROR(INDEX($AE$13:$AE$1003, SMALL(IF(ISBLANK($AE$13:$AE$1003)+ISERROR($AE$13:$AE$1003)+LEN($AE$13:$AE$1003)=0, \"\", ROW($AE$13:$AE$1003)-MIN(ROW($AE$13:$AE$1003))+1), ROW(368:368))),\"\")","v":"__ID_14__RMA_N"},"","",null,"__ID_14__RMA_N","","ID14RMAN","__ID_14__RMA_N",1,"______"]
[null,null,null,null,null,null,null,null,null,null,null,null,null,null,null,null,null,null,null,null,null,null,null,null,null,null,{"$f":"IFERROR(INDEX($AE$13:$AE$1003, SMALL(IF(ISBLANK($AE$13:$AE$1003)+ISERROR($AE$13:$AE$1003)+LEN($AE$13:$AE$1003)=0, \"\", ROW($AE$13:$AE$1003)-MIN(ROW($AE$13:$AE$1003))+1), ROW(369:369))),\"\")","v":"__ID_14__TRAN_N"},"","",null,"__ID_14__TRAN_N","","ID14TRANN","__ID_14__TRAN_N",1,"______"]
[null,null,null,null,null,null,null,null,null,null,null,null,null,null,null,null,null,null,null,null,null,null,null,null,null,null,{"$f":"IFERROR(INDEX($AE$13:$AE$1003, SMALL(IF(ISBLANK($AE$13:$AE$1003)+ISERROR($AE$13:$AE$1003)+LEN($AE$13:$AE$1003)=0, \"\", ROW($AE$13:$AE$1003)-MIN(ROW($AE$13:$AE$1003))+1), ROW(370:370))),\"\")","v":"__ID_15__D_N"},"","",null,"__ID_15__D_N","","ID15DN","__ID_15__D_N",1,"______"]
[null,null,null,null,null,null,null,null,null,null,null,null,null,null,null,null,null,null,null,null,null,null,null,null,null,null,{"$f":"IFERROR(INDEX($AE$13:$AE$1003, SMALL(IF(ISBLANK($AE$13:$AE$1003)+ISERROR($AE$13:$AE$1003)+LEN($AE$13:$AE$1003)=0, \"\", ROW($AE$13:$AE$1003)-MIN(ROW($AE$13:$AE$1003))+1), ROW(371:371))),\"\")","v":"__ID_15__DROPOUT_N"},"","",null,"__ID_15__DROPOUT_N","","ID15DROPOUTN","__ID_15__DROPOUT_N",1,"______"]
[null,null,null,null,null,null,null,null,null,null,null,null,null,null,null,null,null,null,null,null,null,null,null,null,null,null,{"$f":"IFERROR(INDEX($AE$13:$AE$1003, SMALL(IF(ISBLANK($AE$13:$AE$1003)+ISERROR($AE$13:$AE$1003)+LEN($AE$13:$AE$1003)=0, \"\", ROW($AE$13:$AE$1003)-MIN(ROW($AE$13:$AE$1003))+1), ROW(372:372))),\"\")","v":"__ID_15__GHS_N"},"","",null,"__ID_15__GHS_N","","ID15GHSN","__ID_15__GHS_N",1,"______"]
[null,null,null,null,null,null,null,null,null,null,null,null,null,null,null,null,null,null,null,null,null,null,null,null,null,null,{"$f":"IFERROR(INDEX($AE$13:$AE$1003, SMALL(IF(ISBLANK($AE$13:$AE$1003)+ISERROR($AE$13:$AE$1003)+LEN($AE$13:$AE$1003)=0, \"\", ROW($AE$13:$AE$1003)-MIN(ROW($AE$13:$AE$1003))+1), ROW(373:373))),\"\")","v":"__ID_15__GRADALTDPL_N"},"","",null,"__ID_15__GRADALTDPL_N","","ID15GRADALTDPLN","__ID_15__GRADALTDPL_N",1,"______"]
[null,null,null,null,null,null,null,null,null,null,null,null,null,null,null,null,null,null,null,null,null,null,null,null,null,null,{"$f":"IFERROR(INDEX($AE$13:$AE$1003, SMALL(IF(ISBLANK($AE$13:$AE$1003)+ISERROR($AE$13:$AE$1003)+LEN($AE$13:$AE$1003)=0, \"\", ROW($AE$13:$AE$1003)-MIN(ROW($AE$13:$AE$1003))+1), ROW(374:374))),\"\")","v":"__ID_15__MKC_N"},"","",null,"__ID_15__MKC_N","","ID15MKCN","__ID_15__MKC_N",1,"______"]
[null,null,null,null,null,null,null,null,null,null,null,null,null,null,null,null,null,null,null,null,null,null,null,null,null,null,{"$f":"IFERROR(INDEX($AE$13:$AE$1003, SMALL(IF(ISBLANK($AE$13:$AE$1003)+ISERROR($AE$13:$AE$1003)+LEN($AE$13:$AE$1003)=0, \"\", ROW($AE$13:$AE$1003)-MIN(ROW($AE$13:$AE$1003))+1), ROW(375:375))),\"\")","v":"__ID_15__RC_N"},"","",null,"__ID_15__RC_N","","ID15RCN","__ID_15__RC_N",1,"______"]
[null,null,null,null,null,null,null,null,null,null,null,null,null,null,null,null,null,null,null,null,null,null,null,null,null,null,{"$f":"IFERROR(INDEX($AE$13:$AE$1003, SMALL(IF(ISBLANK($AE$13:$AE$1003)+ISERROR($AE$13:$AE$1003)+LEN($AE$13:$AE$1003)=0, \"\", ROW($AE$13:$AE$1003)-MIN(ROW($AE$13:$AE$1003))+1), ROW(376:376))),\"\")","v":"__ID_15__RMA_N"},"","",null,"__ID_15__RMA_N","","ID15RMAN","__ID_15__RMA_N",1,"______"]
[null,null,null,null,null,null,null,null,null,null,null,null,null,null,null,null,null,null,null,null,null,null,null,null,null,null,{"$f":"IFERROR(INDEX($AE$13:$AE$1003, SMALL(IF(ISBLANK($AE$13:$AE$1003)+ISERROR($AE$13:$AE$1003)+LEN($AE$13:$AE$1003)=0, \"\", ROW($AE$13:$AE$1003)-MIN(ROW($AE$13:$AE$1003))+1), ROW(377:377))),\"\")","v":"__ID_15__TRAN_N"},"","",null,"__ID_15__TRAN_N","","ID15TRANN","__ID_15__TRAN_N",1,"______"]
[null,null,null,null,null,null,null,null,null,null,null,null,null,null,null,null,null,null,null,null,null,null,null,null,null,null,{"$f":"IFERROR(INDEX($AE$13:$AE$1003, SMALL(IF(ISBLANK($AE$13:$AE$1003)+ISERROR($AE$13:$AE$1003)+LEN($AE$13:$AE$1003)=0, \"\", ROW($AE$13:$AE$1003)-MIN(ROW($AE$13:$AE$1003))+1), ROW(378:378))),\"\")","v":"__ID_16__D_N"},"","",null,"__ID_16__D_N","","ID16DN","__ID_16__D_N",1,"______"]
[null,null,null,null,null,null,null,null,null,null,null,null,null,null,null,null,null,null,null,null,null,null,null,null,null,null,{"$f":"IFERROR(INDEX($AE$13:$AE$1003, SMALL(IF(ISBLANK($AE$13:$AE$1003)+ISERROR($AE$13:$AE$1003)+LEN($AE$13:$AE$1003)=0, \"\", ROW($AE$13:$AE$1003)-MIN(ROW($AE$13:$AE$1003))+1), ROW(379:379))),\"\")","v":"__ID_16__DROPOUT_N"},"","",null,"__ID_16__DROPOUT_N","","ID16DROPOUTN","__ID_16__DROPOUT_N",1,"______"]
[null,null,null,null,null,null,null,null,null,null,null,null,null,null,null,null,null,null,null,null,null,null,null,null,null,null,{"$f":"IFERROR(INDEX($AE$13:$AE$1003, SMALL(IF(ISBLANK($AE$13:$AE$1003)+ISERROR($AE$13:$AE$1003)+LEN($AE$13:$AE$1003)=0, \"\", ROW($AE$13:$AE$1003)-MIN(ROW($AE$13:$AE$1003))+1), ROW(380:380))),\"\")","v":"__ID_16__GHS_N"},"","",null,"__ID_16__GHS_N","","ID16GHSN","__ID_16__GHS_N",1,"______"]
[null,null,null,null,null,null,null,null,null,null,null,null,null,null,null,null,null,null,null,null,null,null,null,null,null,null,{"$f":"IFERROR(INDEX($AE$13:$AE$1003, SMALL(IF(ISBLANK($AE$13:$AE$1003)+ISERROR($AE$13:$AE$1003)+LEN($AE$13:$AE$1003)=0, \"\", ROW($AE$13:$AE$1003)-MIN(ROW($AE$13:$AE$1003))+1), ROW(381:381))),\"\")","v":"__ID_16__GRADALTDPL_N"},"","",null,"__ID_16__GRADALTDPL_N","","ID16GRADALTDPLN","__ID_16__GRADALTDPL_N",1,"______"]
[null,null,null,null,null,null,null,null,null,null,null,null,null,null,null,null,null,null,null,null,null,null,null,null,null,null,{"$f":"IFERROR(INDEX($AE$13:$AE$1003, SMALL(IF(ISBLANK($AE$13:$AE$1003)+ISERROR($AE$13:$AE$1003)+LEN($AE$13:$AE$1003)=0, \"\", ROW($AE$13:$AE$1003)-MIN(ROW($AE$13:$AE$1003))+1), ROW(382:382))),\"\")","v":"__ID_16__MKC_N"},"","",null,"__ID_16__MKC_N","","ID16MKCN","__ID_16__MKC_N",1,"______"]
[null,null,null,null,null,null,null,null,null,null,null,null,null,null,null,null,null,null,null,null,null,null,null,null,null,null,{"$f":"IFERROR(INDEX($AE$13:$AE$1003, SMALL(IF(ISBLANK($AE$13:$AE$1003)+ISERROR($AE$13:$AE$1003)+LEN($AE$13:$AE$1003)=0, \"\", ROW($AE$13:$AE$1003)-MIN(ROW($AE$13:$AE$1003))+1), ROW(383:383))),\"\")","v":"__ID_16__RC_N"},"","",null,"__ID_16__RC_N","","ID16RCN","__ID_16__RC_N",1,"______"]
[null,null,null,null,null,null,null,null,null,null,null,null,null,null,null,null,null,null,null,null,null,null,null,null,null,null,{"$f":"IFERROR(INDEX($AE$13:$AE$1003, SMALL(IF(ISBLANK($AE$13:$AE$1003)+ISERROR($AE$13:$AE$1003)+LEN($AE$13:$AE$1003)=0, \"\", ROW($AE$13:$AE$1003)-MIN(ROW($AE$13:$AE$1003))+1), ROW(384:384))),\"\")","v":"__ID_16__RMA_N"},"","",null,"__ID_16__RMA_N","","ID16RMAN","__ID_16__RMA_N",1,"______"]
[null,null,null,null,null,null,null,null,null,null,null,null,null,null,null,null,null,null,null,null,null,null,null,null,null,null,{"$f":"IFERROR(INDEX($AE$13:$AE$1003, SMALL(IF(ISBLANK($AE$13:$AE$1003)+ISERROR($AE$13:$AE$1003)+LEN($AE$13:$AE$1003)=0, \"\", ROW($AE$13:$AE$1003)-MIN(ROW($AE$13:$AE$1003))+1), ROW(385:385))),\"\")","v":"__ID_16__TRAN_N"},{"$f":"IF(AF397=\"\",\"\",IF(COUNTIF(CurrentListing,AF397)>1,AJ397,\"\"))","v":""},{"$f":"IF(LEN(AF397)=0,\"\",IF(ISNA(MATCH(AF397,MasterListing,0)),AJ397,\"\"))","v":""},null,{"$f":"IF(LEN(AG397)=0,\"\",IF(ISNA(MATCH(AG397,CurrentListing,0)),AH397,\"\"))","v":"__ID_16__TRAN_N"},{"$f":"H397&I397&P397&Q397&R397&V397&W397","v":""},"ID16TRANN","__ID_16__TRAN_N",1,"______"]
[null,null,null,null,null,null,null,null,null,null,null,null,null,null,null,null,null,null,null,null,null,null,null,null,null,null,{"$f":"IFERROR(INDEX($AE$13:$AE$1003, SMALL(IF(ISBLANK($AE$13:$AE$1003)+ISERROR($AE$13:$AE$1003)+LEN($AE$13:$AE$1003)=0, \"\", ROW($AE$13:$AE$1003)-MIN(ROW($AE$13:$AE$1003))+1), ROW(386:386))),\"\")","v":"__ID_17__D_N"},"","",null,"__ID_17__D_N","","ID17DN","__ID_17__D_N",{"$f":"IF(LEN(AA398)>0,1,0)","v":1},{"$f":"H398&\"_\"&I398&\"_\"&P398&\"_\"&Q398&\"_\"&R398&\"_\"&V398&\"_\"&W398","v":"______"}]
[null,null,null,null,null,null,null,null,null,null,null,null,null,null,null,null,null,null,null,null,null,null,null,null,null,null,{"$f":"IFERROR(INDEX($AE$13:$AE$1003, SMALL(IF(ISBLANK($AE$13:$AE$1003)+ISERROR($AE$13:$AE$1003)+LEN($AE$13:$AE$1003)=0, \"\", ROW($AE$13:$AE$1003)-MIN(ROW($AE$13:$AE$1003))+1), ROW(387:387))),\"\")","v":"__ID_17__DROPOUT_N"},"","",null,"__ID_17__DROPOUT_N","","ID17DROPOUTN","__ID_17__DROPOUT_N",1,"______"]
[null,null,null,null,null,null,null,null,null,null,null,null,null,null,null,null,null,null,null,null,null,null,null,null,null,null,{"$f":"IFERROR(INDEX($AE$13:$AE$1003, SMALL(IF(ISBLANK($AE$13:$AE$1003)+ISERROR($AE$13:$AE$1003)+LEN($AE$13:$AE$1003)=0, \"\", ROW($AE$13:$AE$1003)-MIN(ROW($AE$13:$AE$1003))+1), ROW(388:388))),\"\")","v":"__ID_17__GHS_N"},"","",null,"__ID_17__GHS_N","","ID17GHSN","__ID_17__GHS_N",1,"______"]
[null,null,null,null,null,null,null,null,null,null,null,null,null,null,null,null,null,null,null,null,null,null,null,null,null,null,{"$f":"IFERROR(INDEX($AE$13:$AE$1003, SMALL(IF(ISBLANK($AE$13:$AE$1003)+ISERROR($AE$13:$AE$1003)+LEN($AE$13:$AE$1003)=0, \"\", ROW($AE$13:$AE$1003)-MIN(ROW($AE$13:$AE$1003))+1), ROW(389:389))),\"\")","v":"__ID_17__GRADALTDPL_N"},"","",null,"__ID_17__GRADALTDPL_N","","ID17GRADALTDPLN","__ID_17__GRADALTDPL_N",1,"______"]
[null,null,null,null,null,null,null,null,null,null,null,null,null,null,null,null,null,null,null,null,null,null,null,null,null,null,{"$f":"IFERROR(INDEX($AE$13:$AE$1003, SMALL(IF(ISBLANK($AE$13:$AE$1003)+ISERROR($AE$13:$AE$1003)+LEN($AE$13:$AE$1003)=0, \"\", ROW($AE$13:$AE$1003)-MIN(ROW($AE$13:$AE$1003))+1), ROW(390:390))),\"\")","v":"__ID_17__MKC_N"},"","",null,"__ID_17__MKC_N","","ID17MKCN","__ID_17__MKC_N",1,"______"]
[null,null,null,null,null,null,null,null,null,null,null,null,null,null,null,null,null,null,null,null,null,null,null,null,null,null,{"$f":"IFERROR(INDEX($AE$13:$AE$1003, SMALL(IF(ISBLANK($AE$13:$AE$1003)+ISERROR($AE$13:$AE$1003)+LEN($AE$13:$AE$1003)=0, \"\", ROW($AE$13:$AE$1003)-MIN(ROW($AE$13:$AE$1003))+1), ROW(391:391))),\"\")","v":"__ID_17__RC_N"},"","",null,"__ID_17__RC_N","","ID17RCN","__ID_17__RC_N",1,"______"]
[null,null,null,null,null,null,null,null,null,null,null,null,null,null,null,null,null,null,null,null,null,null,null,null,null,null,{"$f":"IFERROR(INDEX($AE$13:$AE$1003, SMALL(IF(ISBLANK($AE$13:$AE$1003)+ISERROR($AE$13:$AE$1003)+LEN($AE$13:$AE$1003)=0, \"\", ROW($AE$13:$AE$1003)-MIN(ROW($AE$13:$AE$1003))+1), ROW(392:392))),\"\")","v":"__ID_17__RMA_N"},"","",null,"__ID_17__RMA_N","","ID17RMAN","__ID_17__RMA_N",1,"______"]
[null,null,null,null,null,null,null,null,null,null,null,null,null,null,null,null,null,null,null,null,null,null,null,null,null,null,{"$f":"IFERROR(INDEX($AE$13:$AE$1003, SMALL(IF(ISBLANK($AE$13:$AE$1003)+ISERROR($AE$13:$AE$1003)+LEN($AE$13:$AE$1003)=0, \"\", ROW($AE$13:$AE$1003)-MIN(ROW($AE$13:$AE$1003))+1), ROW(393:393))),\"\")","v":"__ID_17__TRAN_N"},"","",null,"__ID_17__TRAN_N","","ID17TRANN","__ID_17__TRAN_N",1,"______"]
[null,null,null,null,null,null,null,null,null,null,null,null,null,null,null,null,null,null,null,null,null,null,null,null,null,null,{"$f":"IFERROR(INDEX($AE$13:$AE$1003, SMALL(IF(ISBLANK($AE$13:$AE$1003)+ISERROR($AE$13:$AE$1003)+LEN($AE$13:$AE$1003)=0, \"\", ROW($AE$13:$AE$1003)-MIN(ROW($AE$13:$AE$1003))+1), ROW(394:394))),\"\")","v":"__ID_18__D_N"},"","",null,"__ID_18__D_N","","ID18DN","__ID_18__D_N",1,"______"]
[null,null,null,null,null,null,null,null,null,null,null,null,null,null,null,null,null,null,null,null,null,null,null,null,null,null,{"$f":"IFERROR(INDEX($AE$13:$AE$1003, SMALL(IF(ISBLANK($AE$13:$AE$1003)+ISERROR($AE$13:$AE$1003)+LEN($AE$13:$AE$1003)=0, \"\", ROW($AE$13:$AE$1003)-MIN(ROW($AE$13:$AE$1003))+1), ROW(395:395))),\"\")","v":"__ID_18__DROPOUT_N"},"","",null,"__ID_18__DROPOUT_N","","ID18DROPOUTN","__ID_18__DROPOUT_N",1,"______"]
[null,null,null,null,null,null,null,null,null,null,null,null,null,null,null,null,null,null,null,null,null,null,null,null,null,null,{"$f":"IFERROR(INDEX($AE$13:$AE$1003, SMALL(IF(ISBLANK($AE$13:$AE$1003)+ISERROR($AE$13:$AE$1003)+LEN($AE$13:$AE$1003)=0, \"\", ROW($AE$13:$AE$1003)-MIN(ROW($AE$13:$AE$1003))+1), ROW(396:396))),\"\")","v":"__ID_18__GHS_N"},"","",null,"__ID_18__GHS_N","","ID18GHSN","__ID_18__GHS_N",1,"______"]
[null,null,null,null,null,null,null,null,null,null,null,null,null,null,null,null,null,null,null,null,null,null,null,null,null,null,{"$f":"IFERROR(INDEX($AE$13:$AE$1003, SMALL(IF(ISBLANK($AE$13:$AE$1003)+ISERROR($AE$13:$AE$1003)+LEN($AE$13:$AE$1003)=0, \"\", ROW($AE$13:$AE$1003)-MIN(ROW($AE$13:$AE$1003))+1), ROW(397:397))),\"\")","v":"__ID_18__GRADALTDPL_N"},"","",null,"__ID_18__GRADALTDPL_N","","ID18GRADALTDPLN","__ID_18__GRADALTDPL_N",1,"______"]
[null,null,null,null,null,null,null,null,null,null,null,null,null,null,null,null,null,null,null,null,null,null,null,null,null,null,{"$f":"IFERROR(INDEX($AE$13:$AE$1003, SMALL(IF(ISBLANK($AE$13:$AE$1003)+ISERROR($AE$13:$AE$1003)+LEN($AE$13:$AE$1003)=0, \"\", ROW($AE$13:$AE$1003)-MIN(ROW($AE$13:$AE$1003))+1), ROW(398:398))),\"\")","v":"__ID_18__MKC_N"},"","",null,"__ID_18__MKC_N","","ID18MKCN","__ID_18__MKC_N",1,"______"]
[null,null,null,null,null,null,null,null,null,null,null,null,null,null,null,null,null,null,null,null,null,null,null,null,null,null,{"$f":"IFERROR(INDEX($AE$13:$AE$1003, SMALL(IF(ISBLANK($AE$13:$AE$1003)+ISERROR($AE$13:$AE$1003)+LEN($AE$13:$AE$1003)=0, \"\", ROW($AE$13:$AE$1003)-MIN(ROW($AE$13:$AE$1003))+1), ROW(399:399))),\"\")","v":"__ID_18__RC_N"},"","",null,"__ID_18__RC_N","","ID18RCN","__ID_18__RC_N",1,"______"]
[null,null,null,null,null,null,null,null,null,null,null,null,null,null,null,null,null,null,null,null,null,null,null,null,null,null,{"$f":"IFERROR(INDEX($AE$13:$AE$1003, SMALL(IF(ISBLANK($AE$13:$AE$1003)+ISERROR($AE$13:$AE$1003)+LEN($AE$13:$AE$1003)=0, \"\", ROW($AE$13:$AE$1003)-MIN(ROW($AE$13:$AE$1003))+1), ROW(400:400))),\"\")","v":"__ID_18__RMA_N"},"","",null,"__ID_18__RMA_N","","ID18RMAN","__ID_18__RMA_N",1,"______"]
[null,null,null,null,null,null,null,null,null,null,null,null,null,null,null,null,null,null,null,null,null,null,null,null,null,null,{"$f":"IFERROR(INDEX($AE$13:$AE$1003, SMALL(IF(ISBLANK($AE$13:$AE$1003)+ISERROR($AE$13:$AE$1003)+LEN($AE$13:$AE$1003)=0, \"\", ROW($AE$13:$AE$1003)-MIN(ROW($AE$13:$AE$1003))+1), ROW(401:401))),\"\")","v":"__ID_18__TRAN_N"},"","",null,"__ID_18__TRAN_N","","ID18TRANN","__ID_18__TRAN_N",1,"______"]
[null,null,null,null,null,null,null,null,null,null,null,null,null,null,null,null,null,null,null,null,null,null,null,null,null,null,{"$f":"IFERROR(INDEX($AE$13:$AE$1003, SMALL(IF(ISBLANK($AE$13:$AE$1003)+ISERROR($AE$13:$AE$1003)+LEN($AE$13:$AE$1003)=0, \"\", ROW($AE$13:$AE$1003)-MIN(ROW($AE$13:$AE$1003))+1), ROW(402:402))),\"\")","v":"__ID_19__D_N"},"","",null,"__ID_19__D_N","","ID19DN","__ID_19__D_N",1,"______"]
[null,null,null,null,null,null,null,null,null,null,null,null,null,null,null,null,null,null,null,null,null,null,null,null,null,null,{"$f":"IFERROR(INDEX($AE$13:$AE$1003, SMALL(IF(ISBLANK($AE$13:$AE$1003)+ISERROR($AE$13:$AE$1003)+LEN($AE$13:$AE$1003)=0, \"\", ROW($AE$13:$AE$1003)-MIN(ROW($AE$13:$AE$1003))+1), ROW(403:403))),\"\")","v":"__ID_19__DROPOUT_N"},"","",null,"__ID_19__DROPOUT_N","","ID19DROPOUTN","__ID_19__DROPOUT_N",1,"______"]
[null,null,null,null,null,null,null,null,null,null,null,null,null,null,null,null,null,null,null,null,null,null,null,null,null,null,{"$f":"IFERROR(INDEX($AE$13:$AE$1003, SMALL(IF(ISBLANK($AE$13:$AE$1003)+ISERROR($AE$13:$AE$1003)+LEN($AE$13:$AE$1003)=0, \"\", ROW($AE$13:$AE$1003)-MIN(ROW($AE$13:$AE$1003))+1), ROW(404:404))),\"\")","v":"__ID_19__GHS_N"},"","",null,"__ID_19__GHS_N","","ID19GHSN","__ID_19__GHS_N",1,"______"]
[null,null,null,null,null,null,null,null,null,null,null,null,null,null,null,null,null,null,null,null,null,null,null,null,null,null,{"$f":"IFERROR(INDEX($AE$13:$AE$1003, SMALL(IF(ISBLANK($AE$13:$AE$1003)+ISERROR($AE$13:$AE$1003)+LEN($AE$13:$AE$1003)=0, \"\", ROW($AE$13:$AE$1003)-MIN(ROW($AE$13:$AE$1003))+1), ROW(405:405))),\"\")","v":"__ID_19__GRADALTDPL_N"},"","",null,"__ID_19__GRADALTDPL_N","","ID19GRADALTDPLN","__ID_19__GRADALTDPL_N",1,"______"]
[null,null,null,null,null,null,null,null,null,null,null,null,null,null,null,null,null,null,null,null,null,null,null,null,null,null,{"$f":"IFERROR(INDEX($AE$13:$AE$1003, SMALL(IF(ISBLANK($AE$13:$AE$1003)+ISERROR($AE$13:$AE$1003)+LEN($AE$13:$AE$1003)=0, \"\", ROW($AE$13:$AE$1003)-MIN(ROW($AE$13:$AE$1003))+1), ROW(406:406))),\"\")","v":"__ID_19__MKC_N"},"","",null,"__ID_19__MKC_N","","ID19MKCN","__ID_19__MKC_N",1,"______"]
[null,null,null,null,null,null,null,null,null,null,null,null,null,null,null,null,null,null,null,null,null,null,null,null,null,null,{"$f":"IFERROR(INDEX($AE$13:$AE$1003, SMALL(IF(ISBLANK($AE$13:$AE$1003)+ISERROR($AE$13:$AE$1003)+LEN($AE$13:$AE$1003)=0, \"\", ROW($AE$13:$AE$1003)-MIN(ROW($AE$13:$AE$1003))+1), ROW(407:407))),\"\")","v":"__ID_19__RC_N"},"","",null,"__ID_19__RC_N","","ID19RCN","__ID_19__RC_N",1,"______"]
[null,null,null,null,null,null,null,null,null,null,null,null,null,null,null,null,null,null,null,null,null,null,null,null,null,null,{"$f":"IFERROR(INDEX($AE$13:$AE$1003, SMALL(IF(ISBLANK($AE$13:$AE$1003)+ISERROR($AE$13:$AE$1003)+LEN($AE$13:$AE$1003)=0, \"\", ROW($AE$13:$AE$1003)-MIN(ROW($AE$13:$AE$1003))+1), ROW(408:408))),\"\")","v":"__ID_19__RMA_N"},"","",null,"__ID_19__RMA_N","","ID19RMAN","__ID_19__RMA_N",1,"______"]
[null,null,null,null,null,null,null,null,null,null,null,null,null,null,null,null,null,null,null,null,null,null,null,null,null,null,{"$f":"IFERROR(INDEX($AE$13:$AE$1003, SMALL(IF(ISBLANK($AE$13:$AE$1003)+ISERROR($AE$13:$AE$1003)+LEN($AE$13:$AE$1003)=0, \"\", ROW($AE$13:$AE$1003)-MIN(ROW($AE$13:$AE$1003))+1), ROW(409:409))),\"\")","v":"__ID_19__TRAN_N"},"","",null,"__ID_19__TRAN_N","","ID19TRANN","__ID_19__TRAN_N",1,"______"]
[null,null,null,null,null,null,null,null,null,null,null,null,null,null,null,null,null,null,null,null,null,null,null,null,null,null,{"$f":"IFERROR(INDEX($AE$13:$AE$1003, SMALL(IF(ISBLANK($AE$13:$AE$1003)+ISERROR($AE$13:$AE$1003)+LEN($AE$13:$AE$1003)=0, \"\", ROW($AE$13:$AE$1003)-MIN(ROW($AE$13:$AE$1003))+1), ROW(410:410))),\"\")","v":"__ID_20__D_N"},"","",null,"__ID_20__D_N","","ID20DN","__ID_20__D_N",1,"______"]
[null,null,null,null,null,null,null,null,null,null,null,null,null,null,null,null,null,null,null,null,null,null,null,null,null,null,{"$f":"IFERROR(INDEX($AE$13:$AE$1003, SMALL(IF(ISBLANK($AE$13:$AE$1003)+ISERROR($AE$13:$AE$1003)+LEN($AE$13:$AE$1003)=0, \"\", ROW($AE$13:$AE$1003)-MIN(ROW($AE$13:$AE$1003))+1), ROW(411:411))),\"\")","v":"__ID_20__DROPOUT_N"},"","",null,"__ID_20__DROPOUT_N","","ID20DROPOUTN","__ID_20__DROPOUT_N",1,"______"]
[null,null,null,null,null,null,null,null,null,null,null,null,null,null,null,null,null,null,null,null,null,null,null,null,null,null,{"$f":"IFERROR(INDEX($AE$13:$AE$1003, SMALL(IF(ISBLANK($AE$13:$AE$1003)+ISERROR($AE$13:$AE$1003)+LEN($AE$13:$AE$1003)=0, \"\", ROW($AE$13:$AE$1003)-MIN(ROW($AE$13:$AE$1003))+1), ROW(412:412))),\"\")","v":"__ID_20__GHS_N"},"","",null,"__ID_20__GHS_N","","ID20GHSN","__ID_20__GHS_N",1,"______"]
[null,null,null,null,null,null,null,null,null,null,null,null,null,null,null,null,null,null,null,null,null,null,null,null,null,null,{"$f":"IFERROR(INDEX($AE$13:$AE$1003, SMALL(IF(ISBLANK($AE$13:$AE$1003)+ISERROR($AE$13:$AE$1003)+LEN($AE$13:$AE$1003)=0, \"\", ROW($AE$13:$AE$1003)-MIN(ROW($AE$13:$AE$1003))+1), ROW(413:413))),\"\")","v":"__ID_20__GRADALTDPL_N"},"","",null,"__ID_20__GRADALTDPL_N","","ID20GRADALTDPLN","__ID_20__GRADALTDPL_N",1,"______"]
[null,null,null,null,null,null,null,null,null,null,null,null,null,null,null,null,null,null,null,null,null,null,null,null,null,null,{"$f":"IFERROR(INDEX($AE$13:$AE$1003, SMALL(IF(ISBLANK($AE$13:$AE$1003)+ISERROR($AE$13:$AE$1003)+LEN($AE$13:$AE$1003)=0, \"\", ROW($AE$13:$AE$1003)-MIN(ROW($AE$13:$AE$1003))+1), ROW(414:414))),\"\")","v":"__ID_20__MKC_N"},"","",null,"__ID_20__MKC_N","","ID20MKCN","__ID_20__MKC_N",1,"______"]
[null,null,null,null,null,null,null,null,null,null,null,null,null,null,null,null,null,null,null,null,null,null,null,null,null,null,{"$f":"IFERROR(INDEX($AE$13:$AE$1003, SMALL(IF(ISBLANK($AE$13:$AE$1003)+ISERROR($AE$13:$AE$1003)+LEN($AE$13:$AE$1003)=0, \"\", ROW($AE$13:$AE$1003)-MIN(ROW($AE$13:$AE$1003))+1), ROW(415:415))),\"\")","v":"__ID_20__RC_N"},"","",null,"__ID_20__RC_N","","ID20RCN","__ID_20__RC_N",1,"______"]
[null,null,null,null,null,null,null,null,null,null,null,null,null,null,null,null,null,null,null,null,null,null,null,null,null,null,{"$f":"IFERROR(INDEX($AE$13:$AE$1003, SMALL(IF(ISBLANK($AE$13:$AE$1003)+ISERROR($AE$13:$AE$1003)+LEN($AE$13:$AE$1003)=0, \"\", ROW($AE$13:$AE$1003)-MIN(ROW($AE$13:$AE$1003))+1), ROW(416:416))),\"\")","v":"__ID_20__RMA_N"},"","",null,"__ID_20__RMA_N","","ID20RMAN","__ID_20__RMA_N",1,"______"]
[null,null,null,null,null,null,null,null,null,null,null,null,null,null,null,null,null,null,null,null,null,null,null,null,null,null,{"$f":"IFERROR(INDEX($AE$13:$AE$1003, SMALL(IF(ISBLANK($AE$13:$AE$1003)+ISERROR($AE$13:$AE$1003)+LEN($AE$13:$AE$1003)=0, \"\", ROW($AE$13:$AE$1003)-MIN(ROW($AE$13:$AE$1003))+1), ROW(417:417))),\"\")","v":"__ID_20__TRAN_N"},"","",null,"__ID_20__TRAN_N","","ID20TRANN","__ID_20__TRAN_N",1,"______"]
[null,null,null,null,null,null,null,null,null,null,null,null,null,null,null,null,null,null,null,null,null,null,null,null,null,null,{"$f":"IFERROR(INDEX($AE$13:$AE$1003, SMALL(IF(ISBLANK($AE$13:$AE$1003)+ISERROR($AE$13:$AE$1003)+LEN($AE$13:$AE$1003)=0, \"\", ROW($AE$13:$AE$1003)-MIN(ROW($AE$13:$AE$1003))+1), ROW(418:418))),\"\")","v":"__ID_21__D_N"},"","",null,"__ID_21__D_N","","ID21DN","__ID_21__D_N",1,"______"]
[null,null,null,null,null,null,null,null,null,null,null,null,null,null,null,null,null,null,null,null,null,null,null,null,null,null,{"$f":"IFERROR(INDEX($AE$13:$AE$1003, SMALL(IF(ISBLANK($AE$13:$AE$1003)+ISERROR($AE$13:$AE$1003)+LEN($AE$13:$AE$1003)=0, \"\", ROW($AE$13:$AE$1003)-MIN(ROW($AE$13:$AE$1003))+1), ROW(419:419))),\"\")","v":"__ID_21__DROPOUT_N"},"","",null,"__ID_21__DROPOUT_N","","ID21DROPOUTN","__ID_21__DROPOUT_N",1,"______"]
[null,null,null,null,null,null,null,null,null,null,null,null,null,null,null,null,null,null,null,null,null,null,null,null,null,null,{"$f":"IFERROR(INDEX($AE$13:$AE$1003, SMALL(IF(ISBLANK($AE$13:$AE$1003)+ISERROR($AE$13:$AE$1003)+LEN($AE$13:$AE$1003)=0, \"\", ROW($AE$13:$AE$1003)-MIN(ROW($AE$13:$AE$1003))+1), ROW(420:420))),\"\")","v":"__ID_21__GHS_N"},"","",null,"__ID_21__GHS_N","","ID21GHSN","__ID_21__GHS_N",1,"______"]
[null,null,null,null,null,null,null,null,null,null,null,null,null,null,null,null,null,null,null,null,null,null,null,null,null,null,{"$f":"IFERROR(INDEX($AE$13:$AE$1003, SMALL(IF(ISBLANK($AE$13:$AE$1003)+ISERROR($AE$13:$AE$1003)+LEN($AE$13:$AE$1003)=0, \"\", ROW($AE$13:$AE$1003)-MIN(ROW($AE$13:$AE$1003))+1), ROW(421:421))),\"\")","v":"__ID_21__GRADALTDPL_N"},"","",null,"__ID_21__GRADALTDPL_N","","ID21GRADALTDPLN","__ID_21__GRADALTDPL_N",1,"______"]
[null,null,null,null,null,null,null,null,null,null,null,null,null,null,null,null,null,null,null,null,null,null,null,null,null,null,{"$f":"IFERROR(INDEX($AE$13:$AE$1003, SMALL(IF(ISBLANK($AE$13:$AE$1003)+ISERROR($AE$13:$AE$1003)+LEN($AE$13:$AE$1003)=0, \"\", ROW($AE$13:$AE$1003)-MIN(ROW($AE$13:$AE$1003))+1), ROW(422:422))),\"\")","v":"__ID_21__MKC_N"},"","",null,"__ID_21__MKC_N","","ID21MKCN","__ID_21__MKC_N",1,"______"]
[null,null,null,null,null,null,null,null,null,null,null,null,null,null,null,null,null,null,null,null,null,null,null,null,null,null,{"$f":"IFERROR(INDEX($AE$13:$AE$1003, SMALL(IF(ISBLANK($AE$13:$AE$1003)+ISERROR($AE$13:$AE$1003)+LEN($AE$13:$AE$1003)=0, \"\", ROW($AE$13:$AE$1003)-MIN(ROW($AE$13:$AE$1003))+1), ROW(423:423))),\"\")","v":"__ID_21__RC_N"},"","",null,"__ID_21__RC_N","","ID21RCN","__ID_21__RC_N",1,"______"]
[null,null,null,null,null,null,null,null,null,null,null,null,null,null,null,null,null,null,null,null,null,null,null,null,null,null,{"$f":"IFERROR(INDEX($AE$13:$AE$1003, SMALL(IF(ISBLANK($AE$13:$AE$1003)+ISERROR($AE$13:$AE$1003)+LEN($AE$13:$AE$1003)=0, \"\", ROW($AE$13:$AE$1003)-MIN(ROW($AE$13:$AE$1003))+1), ROW(424:424))),\"\")","v":"__ID_21__RMA_N"},"","",null,"__ID_21__RMA_N","","ID21RMAN","__ID_21__RMA_N",1,"______"]
[null,null,null,null,null,null,null,null,null,null,null,null,null,null,null,null,null,null,null,null,null,null,null,null,null,null,{"$f":"IFERROR(INDEX($AE$13:$AE$1003, SMALL(IF(ISBLANK($AE$13:$AE$1003)+ISERROR($AE$13:$AE$1003)+LEN($AE$13:$AE$1003)=0, \"\", ROW($AE$13:$AE$1003)-MIN(ROW($AE$13:$AE$1003))+1), ROW(425:425))),\"\")","v":"__ID_21__TRAN_N"},"","",null,"__ID_21__TRAN_N","","ID21TRANN","__ID_21__TRAN_N",1,"______"]
[null,null,null,null,null,null,null,null,null,null,null,null,null,null,null,null,null,null,null,null,null,null,null,null,null,null,{"$f":"IFERROR(INDEX($AE$13:$AE$1003, SMALL(IF(ISBLANK($AE$13:$AE$1003)+ISERROR($AE$13:$AE$1003)+LEN($AE$13:$AE$1003)=0, \"\", ROW($AE$13:$AE$1003)-MIN(ROW($AE$13:$AE$1003))+1), ROW(426:426))),\"\")","v":"__OHI____Y"},"","",null,"__OHI____Y","","OHIY","__OHI____Y",1,"______"]
[null,null,null,null,null,null,null,null,null,null,null,null,null,null,null,null,null,null,null,null,null,null,null,null,null,null,{"$f":"IFERROR(INDEX($AE$13:$AE$1003, SMALL(IF(ISBLANK($AE$13:$AE$1003)+ISERROR($AE$13:$AE$1003)+LEN($AE$13:$AE$1003)=0, \"\", ROW($AE$13:$AE$1003)-MIN(ROW($AE$13:$AE$1003))+1), ROW(427:427))),\"\")","v":"__OHI_14__D_N"},"","",null,"__OHI_14__D_N","","OHI14DN","__OHI_14__D_N",1,"______"]
[null,null,null,null,null,null,null,null,null,null,null,null,null,null,null,null,null,null,null,null,null,null,null,null,null,null,{"$f":"IFERROR(INDEX($AE$13:$AE$1003, SMALL(IF(ISBLANK($AE$13:$AE$1003)+ISERROR($AE$13:$AE$1003)+LEN($AE$13:$AE$1003)=0, \"\", ROW($AE$13:$AE$1003)-MIN(ROW($AE$13:$AE$1003))+1), ROW(428:428))),\"\")","v":"__OHI_14__DROPOUT_N"},"","",null,"__OHI_14__DROPOUT_N","","OHI14DROPOUTN","__OHI_14__DROPOUT_N",1,"______"]
[null,null,null,null,null,null,null,null,null,null,null,null,null,null,null,null,null,null,null,null,null,null,null,null,null,null,{"$f":"IFERROR(INDEX($AE$13:$AE$1003, SMALL(IF(ISBLANK($AE$13:$AE$1003)+ISERROR($AE$13:$AE$1003)+LEN($AE$13:$AE$1003)=0, \"\", ROW($AE$13:$AE$1003)-MIN(ROW($AE$13:$AE$1003))+1), ROW(429:429))),\"\")","v":"__OHI_14__GHS_N"},"","",null,"__OHI_14__GHS_N","","OHI14GHSN","__OHI_14__GHS_N",1,"______"]
[null,null,null,null,null,null,null,null,null,null,null,null,null,null,null,null,null,null,null,null,null,null,null,null,null,null,{"$f":"IFERROR(INDEX($AE$13:$AE$1003, SMALL(IF(ISBLANK($AE$13:$AE$1003)+ISERROR($AE$13:$AE$1003)+LEN($AE$13:$AE$1003)=0, \"\", ROW($AE$13:$AE$1003)-MIN(ROW($AE$13:$AE$1003))+1), ROW(430:430))),\"\")","v":"__OHI_14__GRADALTDPL_N"},"","",null,"__OHI_14__GRADALTDPL_N","","OHI14GRADALTDPLN","__OHI_14__GRADALTDPL_N",1,"______"]
[null,null,null,null,null,null,null,null,null,null,null,null,null,null,null,null,null,null,null,null,null,null,null,null,null,null,{"$f":"IFERROR(INDEX($AE$13:$AE$1003, SMALL(IF(ISBLANK($AE$13:$AE$1003)+ISERROR($AE$13:$AE$1003)+LEN($AE$13:$AE$1003)=0, \"\", ROW($AE$13:$AE$1003)-MIN(ROW($AE$13:$AE$1003))+1), ROW(431:431))),\"\")","v":"__OHI_14__MKC_N"},"","",null,"__OHI_14__MKC_N","","OHI14MKCN","__OHI_14__MKC_N",1,"______"]
[null,null,null,null,null,null,null,null,null,null,null,null,null,null,null,null,null,null,null,null,null,null,null,null,null,null,{"$f":"IFERROR(INDEX($AE$13:$AE$1003, SMALL(IF(ISBLANK($AE$13:$AE$1003)+ISERROR($AE$13:$AE$1003)+LEN($AE$13:$AE$1003)=0, \"\", ROW($AE$13:$AE$1003)-MIN(ROW($AE$13:$AE$1003))+1), ROW(432:432))),\"\")","v":"__OHI_14__RC_N"},"","",null,"__OHI_14__RC_N","","OHI14RCN","__OHI_14__RC_N",1,"______"]
[null,null,null,null,null,null,null,null,null,null,null,null,null,null,null,null,null,null,null,null,null,null,null,null,null,null,{"$f":"IFERROR(INDEX($AE$13:$AE$1003, SMALL(IF(ISBLANK($AE$13:$AE$1003)+ISERROR($AE$13:$AE$1003)+LEN($AE$13:$AE$1003)=0, \"\", ROW($AE$13:$AE$1003)-MIN(ROW($AE$13:$AE$1003))+1), ROW(433:433))),\"\")","v":"__OHI_14__RMA_N"},"","",null,"__OHI_14__RMA_N","","OHI14RMAN","__OHI_14__RMA_N",1,"______"]
[null,null,null,null,null,null,null,null,null,null,null,null,null,null,null,null,null,null,null,null,null,null,null,null,null,null,{"$f":"IFERROR(INDEX($AE$13:$AE$1003, SMALL(IF(ISBLANK($AE$13:$AE$1003)+ISERROR($AE$13:$AE$1003)+LEN($AE$13:$AE$1003)=0, \"\", ROW($AE$13:$AE$1003)-MIN(ROW($AE$13:$AE$1003))+1), ROW(434:434))),\"\")","v":"__OHI_14__TRAN_N"},"","",null,"__OHI_14__TRAN_N","","OHI14TRANN","__OHI_14__TRAN_N",1,"______"]
[null,null,null,null,null,null,null,null,null,null,null,null,null,null,null,null,null,null,null,null,null,null,null,null,null,null,{"$f":"IFERROR(INDEX($AE$13:$AE$1003, SMALL(IF(ISBLANK($AE$13:$AE$1003)+ISERROR($AE$13:$AE$1003)+LEN($AE$13:$AE$1003)=0, \"\", ROW($AE$13:$AE$1003)-MIN(ROW($AE$13:$AE$1003))+1), ROW(435:435))),\"\")","v":"__OHI_15__D_N"},"","",null,"__OHI_15__D_N","","OHI15DN","__OHI_15__D_N",1,"______"]
[null,null,null,null,null,null,null,null,null,null,null,null,null,null,null,null,null,null,null,null,null,null,null,null,null,null,{"$f":"IFERROR(INDEX($AE$13:$AE$1003, SMALL(IF(ISBLANK($AE$13:$AE$1003)+ISERROR($AE$13:$AE$1003)+LEN($AE$13:$AE$1003)=0, \"\", ROW($AE$13:$AE$1003)-MIN(ROW($AE$13:$AE$1003))+1), ROW(436:436))),\"\")","v":"__OHI_15__DROPOUT_N"},"","",null,"__OHI_15__DROPOUT_N","","OHI15DROPOUTN","__OHI_15__DROPOUT_N",1,"______"]
[null,null,null,null,null,null,null,null,null,null,null,null,null,null,null,null,null,null,null,null,null,null,null,null,null,null,{"$f":"IFERROR(INDEX($AE$13:$AE$1003, SMALL(IF(ISBLANK($AE$13:$AE$1003)+ISERROR($AE$13:$AE$1003)+LEN($AE$13:$AE$1003)=0, \"\", ROW($AE$13:$AE$1003)-MIN(ROW($AE$13:$AE$1003))+1), ROW(437:437))),\"\")","v":"__OHI_15__GHS_N"},"","",null,"__OHI_15__GHS_N","","OHI15GHSN","__OHI_15__GHS_N",1,"______"]
[null,null,null,null,null,null,null,null,null,null,null,null,null,null,null,null,null,null,null,null,null,null,null,null,null,null,{"$f":"IFERROR(INDEX($AE$13:$AE$1003, SMALL(IF(ISBLANK($AE$13:$AE$1003)+ISERROR($AE$13:$AE$1003)+LEN($AE$13:$AE$1003)=0, \"\", ROW($AE$13:$AE$1003)-MIN(ROW($AE$13:$AE$1003))+1), ROW(438:438))),\"\")","v":"__OHI_15__GRADALTDPL_N"},"","",null,"__OHI_15__GRADALTDPL_N","","OHI15GRADALTDPLN","__OHI_15__GRADALTDPL_N",1,"______"]
[null,null,null,null,null,null,null,null,null,null,null,null,null,null,null,null,null,null,null,null,null,null,null,null,null,null,{"$f":"IFERROR(INDEX($AE$13:$AE$1003, SMALL(IF(ISBLANK($AE$13:$AE$1003)+ISERROR($AE$13:$AE$1003)+LEN($AE$13:$AE$1003)=0, \"\", ROW($AE$13:$AE$1003)-MIN(ROW($AE$13:$AE$1003))+1), ROW(439:439))),\"\")","v":"__OHI_15__MKC_N"},"","",null,"__OHI_15__MKC_N","","OHI15MKCN","__OHI_15__MKC_N",1,"______"]
[null,null,null,null,null,null,null,null,null,null,null,null,null,null,null,null,null,null,null,null,null,null,null,null,null,null,{"$f":"IFERROR(INDEX($AE$13:$AE$1003, SMALL(IF(ISBLANK($AE$13:$AE$1003)+ISERROR($AE$13:$AE$1003)+LEN($AE$13:$AE$1003)=0, \"\", ROW($AE$13:$AE$1003)-MIN(ROW($AE$13:$AE$1003))+1), ROW(440:440))),\"\")","v":"__OHI_15__RC_N"},"","",null,"__OHI_15__RC_N","","OHI15RCN","__OHI_15__RC_N",1,"______"]
[null,null,null,null,null,null,null,null,null,null,null,null,null,null,null,null,null,null,null,null,null,null,null,null,null,null,{"$f":"IFERROR(INDEX($AE$13:$AE$1003, SMALL(IF(ISBLANK($AE$13:$AE$1003)+ISERROR($AE$13:$AE$1003)+LEN($AE$13:$AE$1003)=0, \"\", ROW($AE$13:$AE$1003)-MIN(ROW($AE$13:$AE$1003))+1), ROW(441:441))),\"\")","v":"__OHI_15__RMA_N"},"","",null,"__OHI_15__RMA_N","","OHI15RMAN","__OHI_15__RMA_N",1,"______"]
[null,null,null,null,null,null,null,null,null,null,null,null,null,null,null,null,null,null,null,null,null,null,null,null,null,null,{"$f":"IFERROR(INDEX($AE$13:$AE$1003, SMALL(IF(ISBLANK($AE$13:$AE$1003)+ISERROR($AE$13:$AE$1003)+LEN($AE$13:$AE$1003)=0, \"\", ROW($AE$13:$AE$1003)-MIN(ROW($AE$13:$AE$1003))+1), ROW(442:442))),\"\")","v":"__OHI_15__TRAN_N"},"","",null,"__OHI_15__TRAN_N","","OHI15TRANN","__OHI_15__TRAN_N",1,"______"]
[null,null,null,null,null,null,null,null,null,null,null,null,null,null,null,null,null,null,null,null,null,null,null,null,null,null,{"$f":"IFERROR(INDEX($AE$13:$AE$1003, SMALL(IF(ISBLANK($AE$13:$AE$1003)+ISERROR($AE$13:$AE$1003)+LEN($AE$13:$AE$1003)=0, \"\", ROW($AE$13:$AE$1003)-MIN(ROW($AE$13:$AE$1003))+1), ROW(443:443))),\"\")","v":"__OHI_16__D_N"},"","",null,"__OHI_16__D_N","","OHI16DN","__OHI_16__D_N",1,"______"]
[null,null,null,null,null,null,null,null,null,null,null,null,null,null,null,null,null,null,null,null,null,null,null,null,null,null,{"$f":"IFERROR(INDEX($AE$13:$AE$1003, SMALL(IF(ISBLANK($AE$13:$AE$1003)+ISERROR($AE$13:$AE$1003)+LEN($AE$13:$AE$1003)=0, \"\", ROW($AE$13:$AE$1003)-MIN(ROW($AE$13:$AE$1003))+1), ROW(444:444))),\"\")","v":"__OHI_16__DROPOUT_N"},"","",null,"__OHI_16__DROPOUT_N","","OHI16DROPOUTN","__OHI_16__DROPOUT_N",1,"______"]
[null,null,null,null,null,null,null,null,null,null,null,null,null,null,null,null,null,null,null,null,null,null,null,null,null,null,{"$f":"IFERROR(INDEX($AE$13:$AE$1003, SMALL(IF(ISBLANK($AE$13:$AE$1003)+ISERROR($AE$13:$AE$1003)+LEN($AE$13:$AE$1003)=0, \"\", ROW($AE$13:$AE$1003)-MIN(ROW($AE$13:$AE$1003))+1), ROW(445:445))),\"\")","v":"__OHI_16__GHS_N"},"","",null,"__OHI_16__GHS_N","","OHI16GHSN","__OHI_16__GHS_N",1,"______"]
[null,null,null,null,null,null,null,null,null,null,null,null,null,null,null,null,null,null,null,null,null,null,null,null,null,null,{"$f":"IFERROR(INDEX($AE$13:$AE$1003, SMALL(IF(ISBLANK($AE$13:$AE$1003)+ISERROR($AE$13:$AE$1003)+LEN($AE$13:$AE$1003)=0, \"\", ROW($AE$13:$AE$1003)-MIN(ROW($AE$13:$AE$1003))+1), ROW(446:446))),\"\")","v":"__OHI_16__GRADALTDPL_N"},"","",null,"__OHI_16__GRADALTDPL_N","","OHI16GRADALTDPLN","__OHI_16__GRADALTDPL_N",1,"______"]
[null,null,null,null,null,null,null,null,null,null,null,null,null,null,null,null,null,null,null,null,null,null,null,null,null,null,{"$f":"IFERROR(INDEX($AE$13:$AE$1003, SMALL(IF(ISBLANK($AE$13:$AE$1003)+ISERROR($AE$13:$AE$1003)+LEN($AE$13:$AE$1003)=0, \"\", ROW($AE$13:$AE$1003)-MIN(ROW($AE$13:$AE$1003))+1), ROW(447:447))),\"\")","v":"__OHI_16__MKC_N"},"","",null,"__OHI_16__MKC_N","","OHI16MKCN","__OHI_16__MKC_N",1,"______"]
[null,null,null,null,null,null,null,null,null,null,null,null,null,null,null,null,null,null,null,null,null,null,null,null,null,null,{"$f":"IFERROR(INDEX($AE$13:$AE$1003, SMALL(IF(ISBLANK($AE$13:$AE$1003)+ISERROR($AE$13:$AE$1003)+LEN($AE$13:$AE$1003)=0, \"\", ROW($AE$13:$AE$1003)-MIN(ROW($AE$13:$AE$1003))+1), ROW(448:448))),\"\")","v":"__OHI_16__RC_N"},"","",null,"__OHI_16__RC_N","","OHI16RCN","__OHI_16__RC_N",1,"______"]
[null,null,null,null,null,null,null,null,null,null,null,null,null,null,null,null,null,null,null,null,null,null,null,null,null,null,{"$f":"IFERROR(INDEX($AE$13:$AE$1003, SMALL(IF(ISBLANK($AE$13:$AE$1003)+ISERROR($AE$13:$AE$1003)+LEN($AE$13:$AE$1003)=0, \"\", ROW($AE$13:$AE$1003)-MIN(ROW($AE$13:$AE$1003))+1), ROW(449:449))),\"\")","v":"__OHI_16__RMA_N"},{"$f":"IF(AF461=\"\",\"\",IF(COUNTIF(CurrentListing,AF461)>1,AJ461,\"\"))","v":""},{"$f":"IF(LEN(AF461)=0,\"\",IF(ISNA(MATCH(AF461,MasterListing,0)),AJ461,\"\"))","v":""},null,{"$f":"IF(LEN(AG461)=0,\"\",IF(ISNA(MATCH(AG461,CurrentListing,0)),AH461,\"\"))","v":"__OHI_16__RMA_N"},{"$f":"H461&I461&P461&Q461&R461&V461&W461","v":""},"OHI16RMAN","__OHI_16__RMA_N",1,"______"]
[null,null,null,null,null,null,null,null,null,null,null,null,null,null,null,null,null,null,null,null,null,null,null,null,null,null,{"$f":"IFERROR(INDEX($AE$13:$AE$1003, SMALL(IF(ISBLANK($AE$13:$AE$1003)+ISERROR($AE$13:$AE$1003)+LEN($AE$13:$AE$1003)=0, \"\", ROW($AE$13:$AE$1003)-MIN(ROW($AE$13:$AE$1003))+1), ROW(450:450))),\"\")","v":"__OHI_16__TRAN_N"},"","",null,"__OHI_16__TRAN_N","","OHI16TRANN","__OHI_16__TRAN_N",{"$f":"IF(LEN(AA462)>0,1,0)","v":1},{"$f":"H462&\"_\"&I462&\"_\"&P462&\"_\"&Q462&\"_\"&R462&\"_\"&V462&\"_\"&W462","v":"______"}]
[null,null,null,null,null,null,null,null,null,null,null,null,null,null,null,null,null,null,null,null,null,null,null,null,null,null,{"$f":"IFERROR(INDEX($AE$13:$AE$1003, SMALL(IF(ISBLANK($AE$13:$AE$1003)+ISERROR($AE$13:$AE$1003)+LEN($AE$13:$AE$1003)=0, \"\", ROW($AE$13:$AE$1003)-MIN(ROW($AE$13:$AE$1003))+1), ROW(451:451))),\"\")","v":"__OHI_17__D_N"},"","",null,"__OHI_17__D_N","","OHI17DN","__OHI_17__D_N",1,"______"]
[null,null,null,null,null,null,null,null,null,null,null,null,null,null,null,null,null,null,null,null,null,null,null,null,null,null,{"$f":"IFERROR(INDEX($AE$13:$AE$1003, SMALL(IF(ISBLANK($AE$13:$AE$1003)+ISERROR($AE$13:$AE$1003)+LEN($AE$13:$AE$1003)=0, \"\", ROW($AE$13:$AE$1003)-MIN(ROW($AE$13:$AE$1003))+1), ROW(452:452))),\"\")","v":"__OHI_17__DROPOUT_N"},"","",null,"__OHI_17__DROPOUT_N","","OHI17DROPOUTN","__OHI_17__DROPOUT_N",1,"______"]
[null,null,null,null,null,null,null,null,null,null,null,null,null,null,null,null,null,null,null,null,null,null,null,null,null,null,{"$f":"IFERROR(INDEX($AE$13:$AE$1003, SMALL(IF(ISBLANK($AE$13:$AE$1003)+ISERROR($AE$13:$AE$1003)+LEN($AE$13:$AE$1003)=0, \"\", ROW($AE$13:$AE$1003)-MIN(ROW($AE$13:$AE$1003))+1), ROW(453:453))),\"\")","v":"__OHI_17__GHS_N"},"","",null,"__OHI_17__GHS_N","","OHI17GHSN","__OHI_17__GHS_N",1,"______"]
[null,null,null,null,null,null,null,null,null,null,null,null,null,null,null,null,null,null,null,null,null,null,null,null,null,null,{"$f":"IFERROR(INDEX($AE$13:$AE$1003, SMALL(IF(ISBLANK($AE$13:$AE$1003)+ISERROR($AE$13:$AE$1003)+LEN($AE$13:$AE$1003)=0, \"\", ROW($AE$13:$AE$1003)-MIN(ROW($AE$13:$AE$1003))+1), ROW(454:454))),\"\")","v":"__OHI_17__GRADALTDPL_N"},"","",null,"__OHI_17__GRADALTDPL_N","","OHI17GRADALTDPLN","__OHI_17__GRADALTDPL_N",1,"______"]
[null,null,null,null,null,null,null,null,null,null,null,null,null,null,null,null,null,null,null,null,null,null,null,null,null,null,{"$f":"IFERROR(INDEX($AE$13:$AE$1003, SMALL(IF(ISBLANK($AE$13:$AE$1003)+ISERROR($AE$13:$AE$1003)+LEN($AE$13:$AE$1003)=0, \"\", ROW($AE$13:$AE$1003)-MIN(ROW($AE$13:$AE$1003))+1), ROW(455:455))),\"\")","v":"__OHI_17__MKC_N"},"","",null,"__OHI_17__MKC_N","","OHI17MKCN","__OHI_17__MKC_N",1,"______"]
[null,null,null,null,null,null,null,null,null,null,null,null,null,null,null,null,null,null,null,null,null,null,null,null,null,null,{"$f":"IFERROR(INDEX($AE$13:$AE$1003, SMALL(IF(ISBLANK($AE$13:$AE$1003)+ISERROR($AE$13:$AE$1003)+LEN($AE$13:$AE$1003)=0, \"\", ROW($AE$13:$AE$1003)-MIN(ROW($AE$13:$AE$1003))+1), ROW(456:456))),\"\")","v":"__OHI_17__RC_N"},"","",null,"__OHI_17__RC_N","","OHI17RCN","__OHI_17__RC_N",1,"______"]
[null,null,null,null,null,null,null,null,null,null,null,null,null,null,null,null,null,null,null,null,null,null,null,null,null,null,{"$f":"IFERROR(INDEX($AE$13:$AE$1003, SMALL(IF(ISBLANK($AE$13:$AE$1003)+ISERROR($AE$13:$AE$1003)+LEN($AE$13:$AE$1003)=0, \"\", ROW($AE$13:$AE$1003)-MIN(ROW($AE$13:$AE$1003))+1), ROW(457:457))),\"\")","v":"__OHI_17__RMA_N"},"","",null,"__OHI_17__RMA_N","","OHI17RMAN","__OHI_17__RMA_N",1,"______"]
[null,null,null,null,null,null,null,null,null,null,null,null,null,null,null,null,null,null,null,null,null,null,null,null,null,null,{"$f":"IFERROR(INDEX($AE$13:$AE$1003, SMALL(IF(ISBLANK($AE$13:$AE$1003)+ISERROR($AE$13:$AE$1003)+LEN($AE$13:$AE$1003)=0, \"\", ROW($AE$13:$AE$1003)-MIN(ROW($AE$13:$AE$1003))+1), ROW(458:458))),\"\")","v":"__OHI_17__TRAN_N"},"","",null,"__OHI_17__TRAN_N","","OHI17TRANN","__OHI_17__TRAN_N",1,"______"]
[null,null,null,null,null,null,null,null,null,null,null,null,null,null,null,null,null,null,null,null,null,null,null,null,null,null,{"$f":"IFERROR(INDEX($AE$13:$AE$1003, SMALL(IF(ISBLANK($AE$13:$AE$1003)+ISERROR($AE$13:$AE$1003)+LEN($AE$13:$AE$1003)=0, \"\", ROW($AE$13:$AE$1003)-MIN(ROW($AE$13:$AE$1003))+1), ROW(459:459))),\"\")","v":"__OHI_18__D_N"},"","",null,"__OHI_18__D_N","","OHI18DN","__OHI_18__D_N",1,"______"]
[null,null,null,null,null,null,null,null,null,null,null,null,null,null,null,null,null,null,null,null,null,null,null,null,null,null,{"$f":"IFERROR(INDEX($AE$13:$AE$1003, SMALL(IF(ISBLANK($AE$13:$AE$1003)+ISERROR($AE$13:$AE$1003)+LEN($AE$13:$AE$1003)=0, \"\", ROW($AE$13:$AE$1003)-MIN(ROW($AE$13:$AE$1003))+1), ROW(460:460))),\"\")","v":"__OHI_18__DROPOUT_N"},"","",null,"__OHI_18__DROPOUT_N","","OHI18DROPOUTN","__OHI_18__DROPOUT_N",1,"______"]
[null,null,null,null,null,null,null,null,null,null,null,null,null,null,null,null,null,null,null,null,null,null,null,null,null,null,{"$f":"IFERROR(INDEX($AE$13:$AE$1003, SMALL(IF(ISBLANK($AE$13:$AE$1003)+ISERROR($AE$13:$AE$1003)+LEN($AE$13:$AE$1003)=0, \"\", ROW($AE$13:$AE$1003)-MIN(ROW($AE$13:$AE$1003))+1), ROW(461:461))),\"\")","v":"__OHI_18__GHS_N"},"","",null,"__OHI_18__GHS_N","","OHI18GHSN","__OHI_18__GHS_N",1,"______"]
[null,null,null,null,null,null,null,null,null,null,null,null,null,null,null,null,null,null,null,null,null,null,null,null,null,null,{"$f":"IFERROR(INDEX($AE$13:$AE$1003, SMALL(IF(ISBLANK($AE$13:$AE$1003)+ISERROR($AE$13:$AE$1003)+LEN($AE$13:$AE$1003)=0, \"\", ROW($AE$13:$AE$1003)-MIN(ROW($AE$13:$AE$1003))+1), ROW(462:462))),\"\")","v":"__OHI_18__GRADALTDPL_N"},"","",null,"__OHI_18__GRADALTDPL_N","","OHI18GRADALTDPLN","__OHI_18__GRADALTDPL_N",1,"______"]
[null,null,null,null,null,null,null,null,null,null,null,null,null,null,null,null,null,null,null,null,null,null,null,null,null,null,{"$f":"IFERROR(INDEX($AE$13:$AE$1003, SMALL(IF(ISBLANK($AE$13:$AE$1003)+ISERROR($AE$13:$AE$1003)+LEN($AE$13:$AE$1003)=0, \"\", ROW($AE$13:$AE$1003)-MIN(ROW($AE$13:$AE$1003))+1), ROW(463:463))),\"\")","v":"__OHI_18__MKC_N"},"","",null,"__OHI_18__MKC_N","","OHI18MKCN","__OHI_18__MKC_N",1,"______"]
[null,null,null,null,null,null,null,null,null,null,null,null,null,null,null,null,null,null,null,null,null,null,null,null,null,null,{"$f":"IFERROR(INDEX($AE$13:$AE$1003, SMALL(IF(ISBLANK($AE$13:$AE$1003)+ISERROR($AE$13:$AE$1003)+LEN($AE$13:$AE$1003)=0, \"\", ROW($AE$13:$AE$1003)-MIN(ROW($AE$13:$AE$1003))+1), ROW(464:464))),\"\")","v":"__OHI_18__RC_N"},"","",null,"__OHI_18__RC_N","","OHI18RCN","__OHI_18__RC_N",1,"______"]
[null,null,null,null,null,null,null,null,null,null,null,null,null,null,null,null,null,null,null,null,null,null,null,null,null,null,{"$f":"IFERROR(INDEX($AE$13:$AE$1003, SMALL(IF(ISBLANK($AE$13:$AE$1003)+ISERROR($AE$13:$AE$1003)+LEN($AE$13:$AE$1003)=0, \"\", ROW($AE$13:$AE$1003)-MIN(ROW($AE$13:$AE$1003))+1), ROW(465:465))),\"\")","v":"__OHI_18__RMA_N"},"","",null,"__OHI_18__RMA_N","","OHI18RMAN","__OHI_18__RMA_N",1,"______"]
[null,null,null,null,null,null,null,null,null,null,null,null,null,null,null,null,null,null,null,null,null,null,null,null,null,null,{"$f":"IFERROR(INDEX($AE$13:$AE$1003, SMALL(IF(ISBLANK($AE$13:$AE$1003)+ISERROR($AE$13:$AE$1003)+LEN($AE$13:$AE$1003)=0, \"\", ROW($AE$13:$AE$1003)-MIN(ROW($AE$13:$AE$1003))+1), ROW(466:466))),\"\")","v":"__OHI_18__TRAN_N"},"","",null,"__OHI_18__TRAN_N","","OHI18TRANN","__OHI_18__TRAN_N",1,"______"]
[null,null,null,null,null,null,null,null,null,null,null,null,null,null,null,null,null,null,null,null,null,null,null,null,null,null,{"$f":"IFERROR(INDEX($AE$13:$AE$1003, SMALL(IF(ISBLANK($AE$13:$AE$1003)+ISERROR($AE$13:$AE$1003)+LEN($AE$13:$AE$1003)=0, \"\", ROW($AE$13:$AE$1003)-MIN(ROW($AE$13:$AE$1003))+1), ROW(467:467))),\"\")","v":"__OHI_19__D_N"},"","",null,"__OHI_19__D_N","","OHI19DN","__OHI_19__D_N",1,"______"]
[null,null,null,null,null,null,null,null,null,null,null,null,null,null,null,null,null,null,null,null,null,null,null,null,null,null,{"$f":"IFERROR(INDEX($AE$13:$AE$1003, SMALL(IF(ISBLANK($AE$13:$AE$1003)+ISERROR($AE$13:$AE$1003)+LEN($AE$13:$AE$1003)=0, \"\", ROW($AE$13:$AE$1003)-MIN(ROW($AE$13:$AE$1003))+1), ROW(468:468))),\"\")","v":"__OHI_19__DROPOUT_N"},"","",null,"__OHI_19__DROPOUT_N","","OHI19DROPOUTN","__OHI_19__DROPOUT_N",1,"______"]
[null,null,null,null,null,null,null,null,null,null,null,null,null,null,null,null,null,null,null,null,null,null,null,null,null,null,{"$f":"IFERROR(INDEX($AE$13:$AE$1003, SMALL(IF(ISBLANK($AE$13:$AE$1003)+ISERROR($AE$13:$AE$1003)+LEN($AE$13:$AE$1003)=0, \"\", ROW($AE$13:$AE$1003)-MIN(ROW($AE$13:$AE$1003))+1), ROW(469:469))),\"\")","v":"__OHI_19__GHS_N"},"","",null,"__OHI_19__GHS_N","","OHI19GHSN","__OHI_19__GHS_N",1,"______"]
[null,null,null,null,null,null,null,null,null,null,null,null,null,null,null,null,null,null,null,null,null,null,null,null,null,null,{"$f":"IFERROR(INDEX($AE$13:$AE$1003, SMALL(IF(ISBLANK($AE$13:$AE$1003)+ISERROR($AE$13:$AE$1003)+LEN($AE$13:$AE$1003)=0, \"\", ROW($AE$13:$AE$1003)-MIN(ROW($AE$13:$AE$1003))+1), ROW(470:470))),\"\")","v":"__OHI_19__GRADALTDPL_N"},"","",null,"__OHI_19__GRADALTDPL_N","","OHI19GRADALTDPLN","__OHI_19__GRADALTDPL_N",1,"______"]
[null,null,null,null,null,null,null,null,null,null,null,null,null,null,null,null,null,null,null,null,null,null,null,null,null,null,{"$f":"IFERROR(INDEX($AE$13:$AE$1003, SMALL(IF(ISBLANK($AE$13:$AE$1003)+ISERROR($AE$13:$AE$1003)+LEN($AE$13:$AE$1003)=0, \"\", ROW($AE$13:$AE$1003)-MIN(ROW($AE$13:$AE$1003))+1), ROW(471:471))),\"\")","v":"__OHI_19__MKC_N"},"","",null,"__OHI_19__MKC_N","","OHI19MKCN","__OHI_19__MKC_N",1,"______"]
[null,null,null,null,null,null,null,null,null,null,null,null,null,null,null,null,null,null,null,null,null,null,null,null,null,null,{"$f":"IFERROR(INDEX($AE$13:$AE$1003, SMALL(IF(ISBLANK($AE$13:$AE$1003)+ISERROR($AE$13:$AE$1003)+LEN($AE$13:$AE$1003)=0, \"\", ROW($AE$13:$AE$1003)-MIN(ROW($AE$13:$AE$1003))+1), ROW(472:472))),\"\")","v":"__OHI_19__RC_N"},"","",null,"__OHI_19__RC_N","","OHI19RCN","__OHI_19__RC_N",1,"______"]
[null,null,null,null,null,null,null,null,null,null,null,null,null,null,null,null,null,null,null,null,null,null,null,null,null,null,{"$f":"IFERROR(INDEX($AE$13:$AE$1003, SMALL(IF(ISBLANK($AE$13:$AE$1003)+ISERROR($AE$13:$AE$1003)+LEN($AE$13:$AE$1003)=0, \"\", ROW($AE$13:$AE$1003)-MIN(ROW($AE$13:$AE$1003))+1), ROW(473:473))),\"\")","v":"__OHI_19__RMA_N"},"","",null,"__OHI_19__RMA_N","","OHI19RMAN","__OHI_19__RMA_N",1,"______"]
[null,null,null,null,null,null,null,null,null,null,null,null,null,null,null,null,null,null,null,null,null,null,null,null,null,null,{"$f":"IFERROR(INDEX($AE$13:$AE$1003, SMALL(IF(ISBLANK($AE$13:$AE$1003)+ISERROR($AE$13:$AE$1003)+LEN($AE$13:$AE$1003)=0, \"\", ROW($AE$13:$AE$1003)-MIN(ROW($AE$13:$AE$1003))+1), ROW(474:474))),\"\")","v":"__OHI_19__TRAN_N"},"","",null,"__OHI_19__TRAN_N","","OHI19TRANN","__OHI_19__TRAN_N",1,"______"]
[null,null,null,null,null,null,null,null,null,null,null,null,null,null,null,null,null,null,null,null,null,null,null,null,null,null,{"$f":"IFERROR(INDEX($AE$13:$AE$1003, SMALL(IF(ISBLANK($AE$13:$AE$1003)+ISERROR($AE$13:$AE$1003)+LEN($AE$13:$AE$1003)=0, \"\", ROW($AE$13:$AE$1003)-MIN(ROW($AE$13:$AE$1003))+1), ROW(475:475))),\"\")","v":"__OHI_20__D_N"},"","",null,"__OHI_20__D_N","","OHI20DN","__OHI_20__D_N",1,"______"]
[null,null,null,null,null,null,null,null,null,null,null,null,null,null,null,null,null,null,null,null,null,null,null,null,null,null,{"$f":"IFERROR(INDEX($AE$13:$AE$1003, SMALL(IF(ISBLANK($AE$13:$AE$1003)+ISERROR($AE$13:$AE$1003)+LEN($AE$13:$AE$1003)=0, \"\", ROW($AE$13:$AE$1003)-MIN(ROW($AE$13:$AE$1003))+1), ROW(476:476))),\"\")","v":"__OHI_20__DROPOUT_N"},"","",null,"__OHI_20__DROPOUT_N","","OHI20DROPOUTN","__OHI_20__DROPOUT_N",1,"______"]
[null,null,null,null,null,null,null,null,null,null,null,null,null,null,null,null,null,null,null,null,null,null,null,null,null,null,{"$f":"IFERROR(INDEX($AE$13:$AE$1003, SMALL(IF(ISBLANK($AE$13:$AE$1003)+ISERROR($AE$13:$AE$1003)+LEN($AE$13:$AE$1003)=0, \"\", ROW($AE$13:$AE$1003)-MIN(ROW($AE$13:$AE$1003))+1), ROW(477:477))),\"\")","v":"__OHI_20__GHS_N"},"","",null,"__OHI_20__GHS_N","","OHI20GHSN","__OHI_20__GHS_N",1,"______"]
[null,null,null,null,null,null,null,null,null,null,null,null,null,null,null,null,null,null,null,null,null,null,null,null,null,null,{"$f":"IFERROR(INDEX($AE$13:$AE$1003, SMALL(IF(ISBLANK($AE$13:$AE$1003)+ISERROR($AE$13:$AE$1003)+LEN($AE$13:$AE$1003)=0, \"\", ROW($AE$13:$AE$1003)-MIN(ROW($AE$13:$AE$1003))+1), ROW(478:478))),\"\")","v":"__OHI_20__GRADALTDPL_N"},"","",null,"__OHI_20__GRADALTDPL_N","","OHI20GRADALTDPLN","__OHI_20__GRADALTDPL_N",1,"______"]
[null,null,null,null,null,null,null,null,null,null,null,null,null,null,null,null,null,null,null,null,null,null,null,null,null,null,{"$f":"IFERROR(INDEX($AE$13:$AE$1003, SMALL(IF(ISBLANK($AE$13:$AE$1003)+ISERROR($AE$13:$AE$1003)+LEN($AE$13:$AE$1003)=0, \"\", ROW($AE$13:$AE$1003)-MIN(ROW($AE$13:$AE$1003))+1), ROW(479:479))),\"\")","v":"__OHI_20__MKC_N"},"","",null,"__OHI_20__MKC_N","","OHI20MKCN","__OHI_20__MKC_N",1,"______"]
[null,null,null,null,null,null,null,null,null,null,null,null,null,null,null,null,null,null,null,null,null,null,null,null,null,null,{"$f":"IFERROR(INDEX($AE$13:$AE$1003, SMALL(IF(ISBLANK($AE$13:$AE$1003)+ISERROR($AE$13:$AE$1003)+LEN($AE$13:$AE$1003)=0, \"\", ROW($AE$13:$AE$1003)-MIN(ROW($AE$13:$AE$1003))+1), ROW(480:480))),\"\")","v":"__OHI_20__RC_N"},"","",null,"__OHI_20__RC_N","","OHI20RCN","__OHI_20__RC_N",1,"______"]
[null,null,null,null,null,null,null,null,null,null,null,null,null,null,null,null,null,null,null,null,null,null,null,null,null,null,{"$f":"IFERROR(INDEX($AE$13:$AE$1003, SMALL(IF(ISBLANK($AE$13:$AE$1003)+ISERROR($AE$13:$AE$1003)+LEN($AE$13:$AE$1003)=0, \"\", ROW($AE$13:$AE$1003)-MIN(ROW($AE$13:$AE$1003))+1), ROW(481:481))),\"\")","v":"__OHI_20__RMA_N"},"","",null,"__OHI_20__RMA_N","","OHI20RMAN","__OHI_20__RMA_N",1,"______"]
[null,null,null,null,null,null,null,null,null,null,null,null,null,null,null,null,null,null,null,null,null,null,null,null,null,null,{"$f":"IFERROR(INDEX($AE$13:$AE$1003, SMALL(IF(ISBLANK($AE$13:$AE$1003)+ISERROR($AE$13:$AE$1003)+LEN($AE$13:$AE$1003)=0, \"\", ROW($AE$13:$AE$1003)-MIN(ROW($AE$13:$AE$1003))+1), ROW(482:482))),\"\")","v":"__OHI_20__TRAN_N"},"","",null,"__OHI_20__TRAN_N","","OHI20TRANN","__OHI_20__TRAN_N",1,"______"]
[null,null,null,null,null,null,null,null,null,null,null,null,null,null,null,null,null,null,null,null,null,null,null,null,null,null,{"$f":"IFERROR(INDEX($AE$13:$AE$1003, SMALL(IF(ISBLANK($AE$13:$AE$1003)+ISERROR($AE$13:$AE$1003)+LEN($AE$13:$AE$1003)=0, \"\", ROW($AE$13:$AE$1003)-MIN(ROW($AE$13:$AE$1003))+1), ROW(483:483))),\"\")","v":"__OHI_21__D_N"},"","",null,"__OHI_21__D_N","","OHI21DN","__OHI_21__D_N",1,"______"]
[null,null,null,null,null,null,null,null,null,null,null,null,null,null,null,null,null,null,null,null,null,null,null,null,null,null,{"$f":"IFERROR(INDEX($AE$13:$AE$1003, SMALL(IF(ISBLANK($AE$13:$AE$1003)+ISERROR($AE$13:$AE$1003)+LEN($AE$13:$AE$1003)=0, \"\", ROW($AE$13:$AE$1003)-MIN(ROW($AE$13:$AE$1003))+1), ROW(484:484))),\"\")","v":"__OHI_21__DROPOUT_N"},"","",null,"__OHI_21__DROPOUT_N","","OHI21DROPOUTN","__OHI_21__DROPOUT_N",1,"______"]
[null,null,null,null,null,null,null,null,null,null,null,null,null,null,null,null,null,null,null,null,null,null,null,null,null,null,{"$f":"IFERROR(INDEX($AE$13:$AE$1003, SMALL(IF(ISBLANK($AE$13:$AE$1003)+ISERROR($AE$13:$AE$1003)+LEN($AE$13:$AE$1003)=0, \"\", ROW($AE$13:$AE$1003)-MIN(ROW($AE$13:$AE$1003))+1), ROW(485:485))),\"\")","v":"__OHI_21__GHS_N"},"","",null,"__OHI_21__GHS_N","","OHI21GHSN","__OHI_21__GHS_N",1,"______"]
[null,null,null,null,null,null,null,null,null,null,null,null,null,null,null,null,null,null,null,null,null,null,null,null,null,null,{"$f":"IFERROR(INDEX($AE$13:$AE$1003, SMALL(IF(ISBLANK($AE$13:$AE$1003)+ISERROR($AE$13:$AE$1003)+LEN($AE$13:$AE$1003)=0, \"\", ROW($AE$13:$AE$1003)-MIN(ROW($AE$13:$AE$1003))+1), ROW(486:486))),\"\")","v":"__OHI_21__GRADALTDPL_N"},"","",null,"__OHI_21__GRADALTDPL_N","","OHI21GRADALTDPLN","__OHI_21__GRADALTDPL_N",1,"______"]
[null,null,null,null,null,null,null,null,null,null,null,null,null,null,null,null,null,null,null,null,null,null,null,null,null,null,{"$f":"IFERROR(INDEX($AE$13:$AE$1003, SMALL(IF(ISBLANK($AE$13:$AE$1003)+ISERROR($AE$13:$AE$1003)+LEN($AE$13:$AE$1003)=0, \"\", ROW($AE$13:$AE$1003)-MIN(ROW($AE$13:$AE$1003))+1), ROW(487:487))),\"\")","v":"__OHI_21__MKC_N"},"","",null,"__OHI_21__MKC_N","","OHI21MKCN","__OHI_21__MKC_N",1,"______"]
[null,null,null,null,null,null,null,null,null,null,null,null,null,null,null,null,null,null,null,null,null,null,null,null,null,null,{"$f":"IFERROR(INDEX($AE$13:$AE$1003, SMALL(IF(ISBLANK($AE$13:$AE$1003)+ISERROR($AE$13:$AE$1003)+LEN($AE$13:$AE$1003)=0, \"\", ROW($AE$13:$AE$1003)-MIN(ROW($AE$13:$AE$1003))+1), ROW(488:488))),\"\")","v":"__OHI_21__RC_N"},"","",null,"__OHI_21__RC_N","","OHI21RCN","__OHI_21__RC_N",1,"______"]
[null,null,null,null,null,null,null,null,null,null,null,null,null,null,null,null,null,null,null,null,null,null,null,null,null,null,{"$f":"IFERROR(INDEX($AE$13:$AE$1003, SMALL(IF(ISBLANK($AE$13:$AE$1003)+ISERROR($AE$13:$AE$1003)+LEN($AE$13:$AE$1003)=0, \"\", ROW($AE$13:$AE$1003)-MIN(ROW($AE$13:$AE$1003))+1), ROW(489:489))),\"\")","v":"__OHI_21__RMA_N"},"","",null,"__OHI_21__RMA_N","","OHI21RMAN","__OHI_21__RMA_N",1,"______"]
[null,null,null,null,null,null,null,null,null,null,null,null,null,null,null,null,null,null,null,null,null,null,null,null,null,null,{"$f":"IFERROR(INDEX($AE$13:$AE$1003, SMALL(IF(ISBLANK($AE$13:$AE$1003)+ISERROR($AE$13:$AE$1003)+LEN($AE$13:$AE$1003)=0, \"\", ROW($AE$13:$AE$1003)-MIN(ROW($AE$13:$AE$1003))+1), ROW(490:490))),\"\")","v":"__OHI_21__TRAN_N"},"","",null,"__OHI_21__TRAN_N","","OHI21TRANN","__OHI_21__TRAN_N",1,"______"]
[null,null,null,null,null,null,null,null,null,null,null,null,null,null,null,null,null,null,null,null,null,null,null,null,null,null,{"$f":"IFERROR(INDEX($AE$13:$AE$1003, SMALL(IF(ISBLANK($AE$13:$AE$1003)+ISERROR($AE$13:$AE$1003)+LEN($AE$13:$AE$1003)=0, \"\", ROW($AE$13:$AE$1003)-MIN(ROW($AE$13:$AE$1003))+1), ROW(491:491))),\"\")","v":"__OI____Y"},"","",null,"__OI____Y","","OIY","__OI____Y",1,"______"]
[null,null,null,null,null,null,null,null,null,null,null,null,null,null,null,null,null,null,null,null,null,null,null,null,null,null,{"$f":"IFERROR(INDEX($AE$13:$AE$1003, SMALL(IF(ISBLANK($AE$13:$AE$1003)+ISERROR($AE$13:$AE$1003)+LEN($AE$13:$AE$1003)=0, \"\", ROW($AE$13:$AE$1003)-MIN(ROW($AE$13:$AE$1003))+1), ROW(492:492))),\"\")","v":"__OI_14__D_N"},"","",null,"__OI_14__D_N","","OI14DN","__OI_14__D_N",1,"______"]
[null,null,null,null,null,null,null,null,null,null,null,null,null,null,null,null,null,null,null,null,null,null,null,null,null,null,{"$f":"IFERROR(INDEX($AE$13:$AE$1003, SMALL(IF(ISBLANK($AE$13:$AE$1003)+ISERROR($AE$13:$AE$1003)+LEN($AE$13:$AE$1003)=0, \"\", ROW($AE$13:$AE$1003)-MIN(ROW($AE$13:$AE$1003))+1), ROW(493:493))),\"\")","v":"__OI_14__DROPOUT_N"},"","",null,"__OI_14__DROPOUT_N","","OI14DROPOUTN","__OI_14__DROPOUT_N",1,"______"]
[null,null,null,null,null,null,null,null,null,null,null,null,null,null,null,null,null,null,null,null,null,null,null,null,null,null,{"$f":"IFERROR(INDEX($AE$13:$AE$1003, SMALL(IF(ISBLANK($AE$13:$AE$1003)+ISERROR($AE$13:$AE$1003)+LEN($AE$13:$AE$1003)=0, \"\", ROW($AE$13:$AE$1003)-MIN(ROW($AE$13:$AE$1003))+1), ROW(494:494))),\"\")","v":"__OI_14__GHS_N"},"","",null,"__OI_14__GHS_N","","OI14GHSN","__OI_14__GHS_N",1,"______"]
[null,null,null,null,null,null,null,null,null,null,null,null,null,null,null,null,null,null,null,null,null,null,null,null,null,null,{"$f":"IFERROR(INDEX($AE$13:$AE$1003, SMALL(IF(ISBLANK($AE$13:$AE$1003)+ISERROR($AE$13:$AE$1003)+LEN($AE$13:$AE$1003)=0, \"\", ROW($AE$13:$AE$1003)-MIN(ROW($AE$13:$AE$1003))+1), ROW(495:495))),\"\")","v":"__OI_14__GRADALTDPL_N"},"","",null,"__OI_14__GRADALTDPL_N","","OI14GRADALTDPLN","__OI_14__GRADALTDPL_N",1,"______"]
[null,null,null,null,null,null,null,null,null,null,null,null,null,null,null,null,null,null,null,null,null,null,null,null,null,null,{"$f":"IFERROR(INDEX($AE$13:$AE$1003, SMALL(IF(ISBLANK($AE$13:$AE$1003)+ISERROR($AE$13:$AE$1003)+LEN($AE$13:$AE$1003)=0, \"\", ROW($AE$13:$AE$1003)-MIN(ROW($AE$13:$AE$1003))+1), ROW(496:496))),\"\")","v":"__OI_14__MKC_N"},"","",null,"__OI_14__MKC_N","","OI14MKCN","__OI_14__MKC_N",1,"______"]
[null,null,null,null,null,null,null,null,null,null,null,null,null,null,null,null,null,null,null,null,null,null,null,null,null,null,{"$f":"IFERROR(INDEX($AE$13:$AE$1003, SMALL(IF(ISBLANK($AE$13:$AE$1003)+ISERROR($AE$13:$AE$1003)+LEN($AE$13:$AE$1003)=0, \"\", ROW($AE$13:$AE$1003)-MIN(ROW($AE$13:$AE$1003))+1), ROW(497:497))),\"\")","v":"__OI_14__RC_N"},"","",null,"__OI_14__RC_N","","OI14RCN","__OI_14__RC_N",1,"______"]
[null,null,null,null,null,null,null,null,null,null,null,null,null,null,null,null,null,null,null,null,null,null,null,null,null,null,{"$f":"IFERROR(INDEX($AE$13:$AE$1003, SMALL(IF(ISBLANK($AE$13:$AE$1003)+ISERROR($AE$13:$AE$1003)+LEN($AE$13:$AE$1003)=0, \"\", ROW($AE$13:$AE$1003)-MIN(ROW($AE$13:$AE$1003))+1), ROW(498:498))),\"\")","v":"__OI_14__RMA_N"},"","",null,"__OI_14__RMA_N","","OI14RMAN","__OI_14__RMA_N",1,"______"]
[null,null,null,null,null,null,null,null,null,null,null,null,null,null,null,null,null,null,null,null,null,null,null,null,null,null,{"$f":"IFERROR(INDEX($AE$13:$AE$1003, SMALL(IF(ISBLANK($AE$13:$AE$1003)+ISERROR($AE$13:$AE$1003)+LEN($AE$13:$AE$1003)=0, \"\", ROW($AE$13:$AE$1003)-MIN(ROW($AE$13:$AE$1003))+1), ROW(499:499))),\"\")","v":"__OI_14__TRAN_N"},"","",null,"__OI_14__TRAN_N","","OI14TRANN","__OI_14__TRAN_N",1,"______"]
[null,null,null,null,null,null,null,null,null,null,null,null,null,null,null,null,null,null,null,null,null,null,null,null,null,null,{"$f":"IFERROR(INDEX($AE$13:$AE$1003, SMALL(IF(ISBLANK($AE$13:$AE$1003)+ISERROR($AE$13:$AE$1003)+LEN($AE$13:$AE$1003)=0, \"\", ROW($AE$13:$AE$1003)-MIN(ROW($AE$13:$AE$1003))+1), ROW(500:500))),\"\")","v":"__OI_15__D_N"},"","",null,"__OI_15__D_N","","OI15DN","__OI_15__D_N",1,"______"]
[null,null,null,null,null,null,null,null,null,null,null,null,null,null,null,null,null,null,null,null,null,null,null,null,null,null,{"$f":"IFERROR(INDEX($AE$13:$AE$1003, SMALL(IF(ISBLANK($AE$13:$AE$1003)+ISERROR($AE$13:$AE$1003)+LEN($AE$13:$AE$1003)=0, \"\", ROW($AE$13:$AE$1003)-MIN(ROW($AE$13:$AE$1003))+1), ROW(501:501))),\"\")","v":"__OI_15__DROPOUT_N"},"","",null,"__OI_15__DROPOUT_N","","OI15DROPOUTN","__OI_15__DROPOUT_N",1,"______"]
[null,null,null,null,null,null,null,null,null,null,null,null,null,null,null,null,null,null,null,null,null,null,null,null,null,null,{"$f":"IFERROR(INDEX($AE$13:$AE$1003, SMALL(IF(ISBLANK($AE$13:$AE$1003)+ISERROR($AE$13:$AE$1003)+LEN($AE$13:$AE$1003)=0, \"\", ROW($AE$13:$AE$1003)-MIN(ROW($AE$13:$AE$1003))+1), ROW(502:502))),\"\")","v":"__OI_15__GHS_N"},"","",null,"__OI_15__GHS_N","","OI15GHSN","__OI_15__GHS_N",1,"______"]
[null,null,null,null,null,null,null,null,null,null,null,null,null,null,null,null,null,null,null,null,null,null,null,null,null,null,{"$f":"IFERROR(INDEX($AE$13:$AE$1003, SMALL(IF(ISBLANK($AE$13:$AE$1003)+ISERROR($AE$13:$AE$1003)+LEN($AE$13:$AE$1003)=0, \"\", ROW($AE$13:$AE$1003)-MIN(ROW($AE$13:$AE$1003))+1), ROW(503:503))),\"\")","v":"__OI_15__GRADALTDPL_N"},"","",null,"__OI_15__GRADALTDPL_N","","OI15GRADALTDPLN","__OI_15__GRADALTDPL_N",1,"______"]
[null,null,null,null,null,null,null,null,null,null,null,null,null,null,null,null,null,null,null,null,null,null,null,null,null,null,{"$f":"IFERROR(INDEX($AE$13:$AE$1003, SMALL(IF(ISBLANK($AE$13:$AE$1003)+ISERROR($AE$13:$AE$1003)+LEN($AE$13:$AE$1003)=0, \"\", ROW($AE$13:$AE$1003)-MIN(ROW($AE$13:$AE$1003))+1), ROW(504:504))),\"\")","v":"__OI_15__MKC_N"},"","",null,"__OI_15__MKC_N","","OI15MKCN","__OI_15__MKC_N",1,"______"]
[null,null,null,null,null,null,null,null,null,null,null,null,null,null,null,null,null,null,null,null,null,null,null,null,null,null,{"$f":"IFERROR(INDEX($AE$13:$AE$1003, SMALL(IF(ISBLANK($AE$13:$AE$1003)+ISERROR($AE$13:$AE$1003)+LEN($AE$13:$AE$1003)=0, \"\", ROW($AE$13:$AE$1003)-MIN(ROW($AE$13:$AE$1003))+1), ROW(505:505))),\"\")","v":"__OI_15__RC_N"},"","",null,"__OI_15__RC_N","","OI15RCN","__OI_15__RC_N",1,"______"]
[null,null,null,null,null,null,null,null,null,null,null,null,null,null,null,null,null,null,null,null,null,null,null,null,null,null,{"$f":"IFERROR(INDEX($AE$13:$AE$1003, SMALL(IF(ISBLANK($AE$13:$AE$1003)+ISERROR($AE$13:$AE$1003)+LEN($AE$13:$AE$1003)=0, \"\", ROW($AE$13:$AE$1003)-MIN(ROW($AE$13:$AE$1003))+1), ROW(506:506))),\"\")","v":"__OI_15__RMA_N"},"","",null,"__OI_15__RMA_N","","OI15RMAN","__OI_15__RMA_N",1,"______"]
[null,null,null,null,null,null,null,null,null,null,null,null,null,null,null,null,null,null,null,null,null,null,null,null,null,null,{"$f":"IFERROR(INDEX($AE$13:$AE$1003, SMALL(IF(ISBLANK($AE$13:$AE$1003)+ISERROR($AE$13:$AE$1003)+LEN($AE$13:$AE$1003)=0, \"\", ROW($AE$13:$AE$1003)-MIN(ROW($AE$13:$AE$1003))+1), ROW(507:507))),\"\")","v":"__OI_15__TRAN_N"},"","",null,"__OI_15__TRAN_N","","OI15TRANN","__OI_15__TRAN_N",1,"______"]
[null,null,null,null,null,null,null,null,null,null,null,null,null,null,null,null,null,null,null,null,null,null,null,null,null,null,{"$f":"IFERROR(INDEX($AE$13:$AE$1003, SMALL(IF(ISBLANK($AE$13:$AE$1003)+ISERROR($AE$13:$AE$1003)+LEN($AE$13:$AE$1003)=0, \"\", ROW($AE$13:$AE$1003)-MIN(ROW($AE$13:$AE$1003))+1), ROW(508:508))),\"\")","v":"__OI_16__D_N"},"","",null,"__OI_16__D_N","","OI16DN","__OI_16__D_N",1,"______"]
[null,null,null,null,null,null,null,null,null,null,null,null,null,null,null,null,null,null,null,null,null,null,null,null,null,null,{"$f":"IFERROR(INDEX($AE$13:$AE$1003, SMALL(IF(ISBLANK($AE$13:$AE$1003)+ISERROR($AE$13:$AE$1003)+LEN($AE$13:$AE$1003)=0, \"\", ROW($AE$13:$AE$1003)-MIN(ROW($AE$13:$AE$1003))+1), ROW(509:509))),\"\")","v":"__OI_16__DROPOUT_N"},"","",null,"__OI_16__DROPOUT_N","","OI16DROPOUTN","__OI_16__DROPOUT_N",1,"______"]
[null,null,null,null,null,null,null,null,null,null,null,null,null,null,null,null,null,null,null,null,null,null,null,null,null,null,{"$f":"IFERROR(INDEX($AE$13:$AE$1003, SMALL(IF(ISBLANK($AE$13:$AE$1003)+ISERROR($AE$13:$AE$1003)+LEN($AE$13:$AE$1003)=0, \"\", ROW($AE$13:$AE$1003)-MIN(ROW($AE$13:$AE$1003))+1), ROW(510:510))),\"\")","v":"__OI_16__GHS_N"},"","",null,"__OI_16__GHS_N","","OI16GHSN","__OI_16__GHS_N",1,"______"]
[null,null,null,null,null,null,null,null,null,null,null,null,null,null,null,null,null,null,null,null,null,null,null,null,null,null,{"$f":"IFERROR(INDEX($AE$13:$AE$1003, SMALL(IF(ISBLANK($AE$13:$AE$1003)+ISERROR($AE$13:$AE$1003)+LEN($AE$13:$AE$1003)=0, \"\", ROW($AE$13:$AE$1003)-MIN(ROW($AE$13:$AE$1003))+1), ROW(511:511))),\"\")","v":"__OI_16__GRADALTDPL_N"},"","",null,"__OI_16__GRADALTDPL_N","","OI16GRADALTDPLN","__OI_16__GRADALTDPL_N",1,"______"]
[null,null,null,null,null,null,null,null,null,null,null,null,null,null,null,null,null,null,null,null,null,null,null,null,null,null,{"$f":"IFERROR(INDEX($AE$13:$AE$1003, SMALL(IF(ISBLANK($AE$13:$AE$1003)+ISERROR($AE$13:$AE$1003)+LEN($AE$13:$AE$1003)=0, \"\", ROW($AE$13:$AE$1003)-MIN(ROW($AE$13:$AE$1003))+1), ROW(512:512))),\"\")","v":"__OI_16__MKC_N"},"","",null,"__OI_16__MKC_N","","OI16MKCN","__OI_16__MKC_N",1,"______"]
[null,null,null,null,null,null,null,null,null,null,null,null,null,null,null,null,null,null,null,null,null,null,null,null,null,null,{"$f":"IFERROR(INDEX($AE$13:$AE$1003, SMALL(IF(ISBLANK($AE$13:$AE$1003)+ISERROR($AE$13:$AE$1003)+LEN($AE$13:$AE$1003)=0, \"\", ROW($AE$13:$AE$1003)-MIN(ROW($AE$13:$AE$1003))+1), ROW(513:513))),\"\")","v":"__OI_16__RC_N"},{"$f":"IF(AF525=\"\",\"\",IF(COUNTIF(CurrentListing,AF525)>1,AJ525,\"\"))","v":""},{"$f":"IF(LEN(AF525)=0,\"\",IF(ISNA(MATCH(AF525,MasterListing,0)),AJ525,\"\"))","v":""},null,{"$f":"IF(LEN(AG525)=0,\"\",IF(ISNA(MATCH(AG525,CurrentListing,0)),AH525,\"\"))","v":"__OI_16__RC_N"},{"$f":"H525&I525&P525&Q525&R525&V525&W525","v":""},"OI16RCN","__OI_16__RC_N",1,"______"]
[null,null,null,null,null,null,null,null,null,null,null,null,null,null,null,null,null,null,null,null,null,null,null,null,null,null,{"$f":"IFERROR(INDEX($AE$13:$AE$1003, SMALL(IF(ISBLANK($AE$13:$AE$1003)+ISERROR($AE$13:$AE$1003)+LEN($AE$13:$AE$1003)=0, \"\", ROW($AE$13:$AE$1003)-MIN(ROW($AE$13:$AE$1003))+1), ROW(514:514))),\"\")","v":"__OI_16__RMA_N"},"","",null,"__OI_16__RMA_N","","OI16RMAN","__OI_16__RMA_N",{"$f":"IF(LEN(AA526)>0,1,0)","v":1},{"$f":"H526&\"_\"&I526&\"_\"&P526&\"_\"&Q526&\"_\"&R526&\"_\"&V526&\"_\"&W526","v":"______"}]
[null,null,null,null,null,null,null,null,null,null,null,null,null,null,null,null,null,null,null,null,null,null,null,null,null,null,{"$f":"IFERROR(INDEX($AE$13:$AE$1003, SMALL(IF(ISBLANK($AE$13:$AE$1003)+ISERROR($AE$13:$AE$1003)+LEN($AE$13:$AE$1003)=0, \"\", ROW($AE$13:$AE$1003)-MIN(ROW($AE$13:$AE$1003))+1), ROW(515:515))),\"\")","v":"__OI_16__TRAN_N"},"","",null,"__OI_16__TRAN_N","","OI16TRANN","__OI_16__TRAN_N",1,"______"]
[null,null,null,null,null,null,null,null,null,null,null,null,null,null,null,null,null,null,null,null,null,null,null,null,null,null,{"$f":"IFERROR(INDEX($AE$13:$AE$1003, SMALL(IF(ISBLANK($AE$13:$AE$1003)+ISERROR($AE$13:$AE$1003)+LEN($AE$13:$AE$1003)=0, \"\", ROW($AE$13:$AE$1003)-MIN(ROW($AE$13:$AE$1003))+1), ROW(516:516))),\"\")","v":"__OI_17__D_N"},"","",null,"__OI_17__D_N","","OI17DN","__OI_17__D_N",1,"______"]
[null,null,null,null,null,null,null,null,null,null,null,null,null,null,null,null,null,null,null,null,null,null,null,null,null,null,{"$f":"IFERROR(INDEX($AE$13:$AE$1003, SMALL(IF(ISBLANK($AE$13:$AE$1003)+ISERROR($AE$13:$AE$1003)+LEN($AE$13:$AE$1003)=0, \"\", ROW($AE$13:$AE$1003)-MIN(ROW($AE$13:$AE$1003))+1), ROW(517:517))),\"\")","v":"__OI_17__DROPOUT_N"},"","",null,"__OI_17__DROPOUT_N","","OI17DROPOUTN","__OI_17__DROPOUT_N",1,"______"]
[null,null,null,null,null,null,null,null,null,null,null,null,null,null,null,null,null,null,null,null,null,null,null,null,null,null,{"$f":"IFERROR(INDEX($AE$13:$AE$1003, SMALL(IF(ISBLANK($AE$13:$AE$1003)+ISERROR($AE$13:$AE$1003)+LEN($AE$13:$AE$1003)=0, \"\", ROW($AE$13:$AE$1003)-MIN(ROW($AE$13:$AE$1003))+1), ROW(518:518))),\"\")","v":"__OI_17__GHS_N"},"","",null,"__OI_17__GHS_N","","OI17GHSN","__OI_17__GHS_N",1,"______"]
[null,null,null,null,null,null,null,null,null,null,null,null,null,null,null,null,null,null,null,null,null,null,null,null,null,null,{"$f":"IFERROR(INDEX($AE$13:$AE$1003, SMALL(IF(ISBLANK($AE$13:$AE$1003)+ISERROR($AE$13:$AE$1003)+LEN($AE$13:$AE$1003)=0, \"\", ROW($AE$13:$AE$1003)-MIN(ROW($AE$13:$AE$1003))+1), ROW(519:519))),\"\")","v":"__OI_17__GRADALTDPL_N"},"","",null,"__OI_17__GRADALTDPL_N","","OI17GRADALTDPLN","__OI_17__GRADALTDPL_N",1,"______"]
[null,null,null,null,null,null,null,null,null,null,null,null,null,null,null,null,null,null,null,null,null,null,null,null,null,null,{"$f":"IFERROR(INDEX($AE$13:$AE$1003, SMALL(IF(ISBLANK($AE$13:$AE$1003)+ISERROR($AE$13:$AE$1003)+LEN($AE$13:$AE$1003)=0, \"\", ROW($AE$13:$AE$1003)-MIN(ROW($AE$13:$AE$1003))+1), ROW(520:520))),\"\")","v":"__OI_17__MKC_N"},"","",null,"__OI_17__MKC_N","","OI17MKCN","__OI_17__MKC_N",1,"______"]
[null,null,null,null,null,null,null,null,null,null,null,null,null,null,null,null,null,null,null,null,null,null,null,null,null,null,{"$f":"IFERROR(INDEX($AE$13:$AE$1003, SMALL(IF(ISBLANK($AE$13:$AE$1003)+ISERROR($AE$13:$AE$1003)+LEN($AE$13:$AE$1003)=0, \"\", ROW($AE$13:$AE$1003)-MIN(ROW($AE$13:$AE$1003))+1), ROW(521:521))),\"\")","v":"__OI_17__RC_N"},"","",null,"__OI_17__RC_N","","OI17RCN","__OI_17__RC_N",1,"______"]
[null,null,null,null,null,null,null,null,null,null,null,null,null,null,null,null,null,null,null,null,null,null,null,null,null,null,{"$f":"IFERROR(INDEX($AE$13:$AE$1003, SMALL(IF(ISBLANK($AE$13:$AE$1003)+ISERROR($AE$13:$AE$1003)+LEN($AE$13:$AE$1003)=0, \"\", ROW($AE$13:$AE$1003)-MIN(ROW($AE$13:$AE$1003))+1), ROW(522:522))),\"\")","v":"__OI_17__RMA_N"},"","",null,"__OI_17__RMA_N","","OI17RMAN","__OI_17__RMA_N",1,"______"]
[null,null,null,null,null,null,null,null,null,null,null,null,null,null,null,null,null,null,null,null,null,null,null,null,null,null,{"$f":"IFERROR(INDEX($AE$13:$AE$1003, SMALL(IF(ISBLANK($AE$13:$AE$1003)+ISERROR($AE$13:$AE$1003)+LEN($AE$13:$AE$1003)=0, \"\", ROW($AE$13:$AE$1003)-MIN(ROW($AE$13:$AE$1003))+1), ROW(523:523))),\"\")","v":"__OI_17__TRAN_N"},"","",null,"__OI_17__TRAN_N","","OI17TRANN","__OI_17__TRAN_N",1,"______"]
[null,null,null,null,null,null,null,null,null,null,null,null,null,null,null,null,null,null,null,null,null,null,null,null,null,null,{"$f":"IFERROR(INDEX($AE$13:$AE$1003, SMALL(IF(ISBLANK($AE$13:$AE$1003)+ISERROR($AE$13:$AE$1003)+LEN($AE$13:$AE$1003)=0, \"\", ROW($AE$13:$AE$1003)-MIN(ROW($AE$13:$AE$1003))+1), ROW(524:524))),\"\")","v":"__OI_18__D_N"},"","",null,"__OI_18__D_N","","OI18DN","__OI_18__D_N",1,"______"]
[null,null,null,null,null,null,null,null,null,null,null,null,null,null,null,null,null,null,null,null,null,null,null,null,null,null,{"$f":"IFERROR(INDEX($AE$13:$AE$1003, SMALL(IF(ISBLANK($AE$13:$AE$1003)+ISERROR($AE$13:$AE$1003)+LEN($AE$13:$AE$1003)=0, \"\", ROW($AE$13:$AE$1003)-MIN(ROW($AE$13:$AE$1003))+1), ROW(525:525))),\"\")","v":"__OI_18__DROPOUT_N"},"","",null,"__OI_18__DROPOUT_N","","OI18DROPOUTN","__OI_18__DROPOUT_N",1,"______"]
[null,null,null,null,null,null,null,null,null,null,null,null,null,null,null,null,null,null,null,null,null,null,null,null,null,null,{"$f":"IFERROR(INDEX($AE$13:$AE$1003, SMALL(IF(ISBLANK($AE$13:$AE$1003)+ISERROR($AE$13:$AE$1003)+LEN($AE$13:$AE$1003)=0, \"\", ROW($AE$13:$AE$1003)-MIN(ROW($AE$13:$AE$1003))+1), ROW(526:526))),\"\")","v":"__OI_18__GHS_N"},"","",null,"__OI_18__GHS_N","","OI18GHSN","__OI_18__GHS_N",1,"______"]
[null,null,null,null,null,null,null,null,null,null,null,null,null,null,null,null,null,null,null,null,null,null,null,null,null,null,{"$f":"IFERROR(INDEX($AE$13:$AE$1003, SMALL(IF(ISBLANK($AE$13:$AE$1003)+ISERROR($AE$13:$AE$1003)+LEN($AE$13:$AE$1003)=0, \"\", ROW($AE$13:$AE$1003)-MIN(ROW($AE$13:$AE$1003))+1), ROW(527:527))),\"\")","v":"__OI_18__GRADALTDPL_N"},"","",null,"__OI_18__GRADALTDPL_N","","OI18GRADALTDPLN","__OI_18__GRADALTDPL_N",1,"______"]
[null,null,null,null,null,null,null,null,null,null,null,null,null,null,null,null,null,null,null,null,null,null,null,null,null,null,{"$f":"IFERROR(INDEX($AE$13:$AE$1003, SMALL(IF(ISBLANK($AE$13:$AE$1003)+ISERROR($AE$13:$AE$1003)+LEN($AE$13:$AE$1003)=0, \"\", ROW($AE$13:$AE$1003)-MIN(ROW($AE$13:$AE$1003))+1), ROW(528:528))),\"\")","v":"__OI_18__MKC_N"},"","",null,"__OI_18__MKC_N","","OI18MKCN","__OI_18__MKC_N",1,"______"]
[null,null,null,null,null,null,null,null,null,null,null,null,null,null,null,null,null,null,null,null,null,null,null,null,null,null,{"$f":"IFERROR(INDEX($AE$13:$AE$1003, SMALL(IF(ISBLANK($AE$13:$AE$1003)+ISERROR($AE$13:$AE$1003)+LEN($AE$13:$AE$1003)=0, \"\", ROW($AE$13:$AE$1003)-MIN(ROW($AE$13:$AE$1003))+1), ROW(529:529))),\"\")","v":"__OI_18__RC_N"},"","",null,"__OI_18__RC_N","","OI18RCN","__OI_18__RC_N",1,"______"]
[null,null,null,null,null,null,null,null,null,null,null,null,null,null,null,null,null,null,null,null,null,null,null,null,null,null,{"$f":"IFERROR(INDEX($AE$13:$AE$1003, SMALL(IF(ISBLANK($AE$13:$AE$1003)+ISERROR($AE$13:$AE$1003)+LEN($AE$13:$AE$1003)=0, \"\", ROW($AE$13:$AE$1003)-MIN(ROW($AE$13:$AE$1003))+1), ROW(530:530))),\"\")","v":"__OI_18__RMA_N"},"","",null,"__OI_18__RMA_N","","OI18RMAN","__OI_18__RMA_N",1,"______"]
[null,null,null,null,null,null,null,null,null,null,null,null,null,null,null,null,null,null,null,null,null,null,null,null,null,null,{"$f":"IFERROR(INDEX($AE$13:$AE$1003, SMALL(IF(ISBLANK($AE$13:$AE$1003)+ISERROR($AE$13:$AE$1003)+LEN($AE$13:$AE$1003)=0, \"\", ROW($AE$13:$AE$1003)-MIN(ROW($AE$13:$AE$1003))+1), ROW(531:531))),\"\")","v":"__OI_18__TRAN_N"},"","",null,"__OI_18__TRAN_N","","OI18TRANN","__OI_18__TRAN_N",1,"______"]
[null,null,null,null,null,null,null,null,null,null,null,null,null,null,null,null,null,null,null,null,null,null,null,null,null,null,{"$f":"IFERROR(INDEX($AE$13:$AE$1003, SMALL(IF(ISBLANK($AE$13:$AE$1003)+ISERROR($AE$13:$AE$1003)+LEN($AE$13:$AE$1003)=0, \"\", ROW($AE$13:$AE$1003)-MIN(ROW($AE$13:$AE$1003))+1), ROW(532:532))),\"\")","v":"__OI_19__D_N"},"","",null,"__OI_19__D_N","","OI19DN","__OI_19__D_N",1,"______"]
[null,null,null,null,null,null,null,null,null,null,null,null,null,null,null,null,null,null,null,null,null,null,null,null,null,null,{"$f":"IFERROR(INDEX($AE$13:$AE$1003, SMALL(IF(ISBLANK($AE$13:$AE$1003)+ISERROR($AE$13:$AE$1003)+LEN($AE$13:$AE$1003)=0, \"\", ROW($AE$13:$AE$1003)-MIN(ROW($AE$13:$AE$1003))+1), ROW(533:533))),\"\")","v":"__OI_19__DROPOUT_N"},"","",null,"__OI_19__DROPOUT_N","","OI19DROPOUTN","__OI_19__DROPOUT_N",1,"______"]
[null,null,null,null,null,null,null,null,null,null,null,null,null,null,null,null,null,null,null,null,null,null,null,null,null,null,{"$f":"IFERROR(INDEX($AE$13:$AE$1003, SMALL(IF(ISBLANK($AE$13:$AE$1003)+ISERROR($AE$13:$AE$1003)+LEN($AE$13:$AE$1003)=0, \"\", ROW($AE$13:$AE$1003)-MIN(ROW($AE$13:$AE$1003))+1), ROW(534:534))),\"\")","v":"__OI_19__GHS_N"},"","",null,"__OI_19__GHS_N","","OI19GHSN","__OI_19__GHS_N",1,"______"]
[null,null,null,null,null,null,null,null,null,null,null,null,null,null,null,null,null,null,null,null,null,null,null,null,null,null,{"$f":"IFERROR(INDEX($AE$13:$AE$1003, SMALL(IF(ISBLANK($AE$13:$AE$1003)+ISERROR($AE$13:$AE$1003)+LEN($AE$13:$AE$1003)=0, \"\", ROW($AE$13:$AE$1003)-MIN(ROW($AE$13:$AE$1003))+1), ROW(535:535))),\"\")","v":"__OI_19__GRADALTDPL_N"},"","",null,"__OI_19__GRADALTDPL_N","","OI19GRADALTDPLN","__OI_19__GRADALTDPL_N",1,"______"]
[null,null,null,null,null,null,null,null,null,null,null,null,null,null,null,null,null,null,null,null,null,null,null,null,null,null,{"$f":"IFERROR(INDEX($AE$13:$AE$1003, SMALL(IF(ISBLANK($AE$13:$AE$1003)+ISERROR($AE$13:$AE$1003)+LEN($AE$13:$AE$1003)=0, \"\", ROW($AE$13:$AE$1003)-MIN(ROW($AE$13:$AE$1003))+1), ROW(536:536))),\"\")","v":"__OI_19__MKC_N"},"","",null,"__OI_19__MKC_N","","OI19MKCN","__OI_19__MKC_N",1,"______"]
[null,null,null,null,null,null,null,null,null,null,null,null,null,null,null,null,null,null,null,null,null,null,null,null,null,null,{"$f":"IFERROR(INDEX($AE$13:$AE$1003, SMALL(IF(ISBLANK($AE$13:$AE$1003)+ISERROR($AE$13:$AE$1003)+LEN($AE$13:$AE$1003)=0, \"\", ROW($AE$13:$AE$1003)-MIN(ROW($AE$13:$AE$1003))+1), ROW(537:537))),\"\")","v":"__OI_19__RC_N"},"","",null,"__OI_19__RC_N","","OI19RCN","__OI_19__RC_N",1,"______"]
[null,null,null,null,null,null,null,null,null,null,null,null,null,null,null,null,null,null,null,null,null,null,null,null,null,null,{"$f":"IFERROR(INDEX($AE$13:$AE$1003, SMALL(IF(ISBLANK($AE$13:$AE$1003)+ISERROR($AE$13:$AE$1003)+LEN($AE$13:$AE$1003)=0, \"\", ROW($AE$13:$AE$1003)-MIN(ROW($AE$13:$AE$1003))+1), ROW(538:538))),\"\")","v":"__OI_19__RMA_N"},"","",null,"__OI_19__RMA_N","","OI19RMAN","__OI_19__RMA_N",1,"______"]
[null,null,null,null,null,null,null,null,null,null,null,null,null,null,null,null,null,null,null,null,null,null,null,null,null,null,{"$f":"IFERROR(INDEX($AE$13:$AE$1003, SMALL(IF(ISBLANK($AE$13:$AE$1003)+ISERROR($AE$13:$AE$1003)+LEN($AE$13:$AE$1003)=0, \"\", ROW($AE$13:$AE$1003)-MIN(ROW($AE$13:$AE$1003))+1), ROW(539:539))),\"\")","v":"__OI_19__TRAN_N"},"","",null,"__OI_19__TRAN_N","","OI19TRANN","__OI_19__TRAN_N",1,"______"]
[null,null,null,null,null,null,null,null,null,null,null,null,null,null,null,null,null,null,null,null,null,null,null,null,null,null,{"$f":"IFERROR(INDEX($AE$13:$AE$1003, SMALL(IF(ISBLANK($AE$13:$AE$1003)+ISERROR($AE$13:$AE$1003)+LEN($AE$13:$AE$1003)=0, \"\", ROW($AE$13:$AE$1003)-MIN(ROW($AE$13:$AE$1003))+1), ROW(540:540))),\"\")","v":"__OI_20__D_N"},"","",null,"__OI_20__D_N","","OI20DN","__OI_20__D_N",1,"______"]
[null,null,null,null,null,null,null,null,null,null,null,null,null,null,null,null,null,null,null,null,null,null,null,null,null,null,{"$f":"IFERROR(INDEX($AE$13:$AE$1003, SMALL(IF(ISBLANK($AE$13:$AE$1003)+ISERROR($AE$13:$AE$1003)+LEN($AE$13:$AE$1003)=0, \"\", ROW($AE$13:$AE$1003)-MIN(ROW($AE$13:$AE$1003))+1), ROW(541:541))),\"\")","v":"__OI_20__DROPOUT_N"},"","",null,"__OI_20__DROPOUT_N","","OI20DROPOUTN","__OI_20__DROPOUT_N",1,"______"]
[null,null,null,null,null,null,null,null,null,null,null,null,null,null,null,null,null,null,null,null,null,null,null,null,null,null,{"$f":"IFERROR(INDEX($AE$13:$AE$1003, SMALL(IF(ISBLANK($AE$13:$AE$1003)+ISERROR($AE$13:$AE$1003)+LEN($AE$13:$AE$1003)=0, \"\", ROW($AE$13:$AE$1003)-MIN(ROW($AE$13:$AE$1003))+1), ROW(542:542))),\"\")","v":"__OI_20__GHS_N"},"","",null,"__OI_20__GHS_N","","OI20GHSN","__OI_20__GHS_N",1,"______"]
[null,null,null,null,null,null,null,null,null,null,null,null,null,null,null,null,null,null,null,null,null,null,null,null,null,null,{"$f":"IFERROR(INDEX($AE$13:$AE$1003, SMALL(IF(ISBLANK($AE$13:$AE$1003)+ISERROR($AE$13:$AE$1003)+LEN($AE$13:$AE$1003)=0, \"\", ROW($AE$13:$AE$1003)-MIN(ROW($AE$13:$AE$1003))+1), ROW(543:543))),\"\")","v":"__OI_20__GRADALTDPL_N"},"","",null,"__OI_20__GRADALTDPL_N","","OI20GRADALTDPLN","__OI_20__GRADALTDPL_N",1,"______"]
[null,null,null,null,null,null,null,null,null,null,null,null,null,null,null,null,null,null,null,null,null,null,null,null,null,null,{"$f":"IFERROR(INDEX($AE$13:$AE$1003, SMALL(IF(ISBLANK($AE$13:$AE$1003)+ISERROR($AE$13:$AE$1003)+LEN($AE$13:$AE$1003)=0, \"\", ROW($AE$13:$AE$1003)-MIN(ROW($AE$13:$AE$1003))+1), ROW(544:544))),\"\")","v":"__OI_20__MKC_N"},"","",null,"__OI_20__MKC_N","","OI20MKCN","__OI_20__MKC_N",1,"______"]
[null,null,null,null,null,null,null,null,null,null,null,null,null,null,null,null,null,null,null,null,null,null,null,null,null,null,{"$f":"IFERROR(INDEX($AE$13:$AE$1003, SMALL(IF(ISBLANK($AE$13:$AE$1003)+ISERROR($AE$13:$AE$1003)+LEN($AE$13:$AE$1003)=0, \"\", ROW($AE$13:$AE$1003)-MIN(ROW($AE$13:$AE$1003))+1), ROW(545:545))),\"\")","v":"__OI_20__RC_N"},"","",null,"__OI_20__RC_N","","OI20RCN","__OI_20__RC_N",1,"______"]
[null,null,null,null,null,null,null,null,null,null,null,null,null,null,null,null,null,null,null,null,null,null,null,null,null,null,{"$f":"IFERROR(INDEX($AE$13:$AE$1003, SMALL(IF(ISBLANK($AE$13:$AE$1003)+ISERROR($AE$13:$AE$1003)+LEN($AE$13:$AE$1003)=0, \"\", ROW($AE$13:$AE$1003)-MIN(ROW($AE$13:$AE$1003))+1), ROW(546:546))),\"\")","v":"__OI_20__RMA_N"},"","",null,"__OI_20__RMA_N","","OI20RMAN","__OI_20__RMA_N",1,"______"]
[null,null,null,null,null,null,null,null,null,null,null,null,null,null,null,null,null,null,null,null,null,null,null,null,null,null,{"$f":"IFERROR(INDEX($AE$13:$AE$1003, SMALL(IF(ISBLANK($AE$13:$AE$1003)+ISERROR($AE$13:$AE$1003)+LEN($AE$13:$AE$1003)=0, \"\", ROW($AE$13:$AE$1003)-MIN(ROW($AE$13:$AE$1003))+1), ROW(547:547))),\"\")","v":"__OI_20__TRAN_N"},"","",null,"__OI_20__TRAN_N","","OI20TRANN","__OI_20__TRAN_N",1,"______"]
[null,null,null,null,null,null,null,null,null,null,null,null,null,null,null,null,null,null,null,null,null,null,null,null,null,null,{"$f":"IFERROR(INDEX($AE$13:$AE$1003, SMALL(IF(ISBLANK($AE$13:$AE$1003)+ISERROR($AE$13:$AE$1003)+LEN($AE$13:$AE$1003)=0, \"\", ROW($AE$13:$AE$1003)-MIN(ROW($AE$13:$AE$1003))+1), ROW(548:548))),\"\")","v":"__OI_21__D_N"},"","",null,"__OI_21__D_N","","OI21DN","__OI_21__D_N",1,"______"]
[null,null,null,null,null,null,null,null,null,null,null,null,null,null,null,null,null,null,null,null,null,null,null,null,null,null,{"$f":"IFERROR(INDEX($AE$13:$AE$1003, SMALL(IF(ISBLANK($AE$13:$AE$1003)+ISERROR($AE$13:$AE$1003)+LEN($AE$13:$AE$1003)=0, \"\", ROW($AE$13:$AE$1003)-MIN(ROW($AE$13:$AE$1003))+1), ROW(549:549))),\"\")","v":"__OI_21__DROPOUT_N"},"","",null,"__OI_21__DROPOUT_N","","OI21DROPOUTN","__OI_21__DROPOUT_N",1,"______"]
[null,null,null,null,null,null,null,null,null,null,null,null,null,null,null,null,null,null,null,null,null,null,null,null,null,null,{"$f":"IFERROR(INDEX($AE$13:$AE$1003, SMALL(IF(ISBLANK($AE$13:$AE$1003)+ISERROR($AE$13:$AE$1003)+LEN($AE$13:$AE$1003)=0, \"\", ROW($AE$13:$AE$1003)-MIN(ROW($AE$13:$AE$1003))+1), ROW(550:550))),\"\")","v":"__OI_21__GHS_N"},"","",null,"__OI_21__GHS_N","","OI21GHSN","__OI_21__GHS_N",1,"______"]
[null,null,null,null,null,null,null,null,null,null,null,null,null,null,null,null,null,null,null,null,null,null,null,null,null,null,{"$f":"IFERROR(INDEX($AE$13:$AE$1003, SMALL(IF(ISBLANK($AE$13:$AE$1003)+ISERROR($AE$13:$AE$1003)+LEN($AE$13:$AE$1003)=0, \"\", ROW($AE$13:$AE$1003)-MIN(ROW($AE$13:$AE$1003))+1), ROW(551:551))),\"\")","v":"__OI_21__GRADALTDPL_N"},"","",null,"__OI_21__GRADALTDPL_N","","OI21GRADALTDPLN","__OI_21__GRADALTDPL_N",1,"______"]
[null,null,null,null,null,null,null,null,null,null,null,null,null,null,null,null,null,null,null,null,null,null,null,null,null,null,{"$f":"IFERROR(INDEX($AE$13:$AE$1003, SMALL(IF(ISBLANK($AE$13:$AE$1003)+ISERROR($AE$13:$AE$1003)+LEN($AE$13:$AE$1003)=0, \"\", ROW($AE$13:$AE$1003)-MIN(ROW($AE$13:$AE$1003))+1), ROW(552:552))),\"\")","v":"__OI_21__MKC_N"},"","",null,"__OI_21__MKC_N","","OI21MKCN","__OI_21__MKC_N",1,"______"]
[null,null,null,null,null,null,null,null,null,null,null,null,null,null,null,null,null,null,null,null,null,null,null,null,null,null,{"$f":"IFERROR(INDEX($AE$13:$AE$1003, SMALL(IF(ISBLANK($AE$13:$AE$1003)+ISERROR($AE$13:$AE$1003)+LEN($AE$13:$AE$1003)=0, \"\", ROW($AE$13:$AE$1003)-MIN(ROW($AE$13:$AE$1003))+1), ROW(553:553))),\"\")","v":"__OI_21__RC_N"},"","",null,"__OI_21__RC_N","","OI21RCN","__OI_21__RC_N",1,"______"]
[null,null,null,null,null,null,null,null,null,null,null,null,null,null,null,null,null,null,null,null,null,null,null,null,null,null,{"$f":"IFERROR(INDEX($AE$13:$AE$1003, SMALL(IF(ISBLANK($AE$13:$AE$1003)+ISERROR($AE$13:$AE$1003)+LEN($AE$13:$AE$1003)=0, \"\", ROW($AE$13:$AE$1003)-MIN(ROW($AE$13:$AE$1003))+1), ROW(554:554))),\"\")","v":"__OI_21__RMA_N"},"","",null,"__OI_21__RMA_N","","OI21RMAN","__OI_21__RMA_N",1,"______"]
[null,null,null,null,null,null,null,null,null,null,null,null,null,null,null,null,null,null,null,null,null,null,null,null,null,null,{"$f":"IFERROR(INDEX($AE$13:$AE$1003, SMALL(IF(ISBLANK($AE$13:$AE$1003)+ISERROR($AE$13:$AE$1003)+LEN($AE$13:$AE$1003)=0, \"\", ROW($AE$13:$AE$1003)-MIN(ROW($AE$13:$AE$1003))+1), ROW(555:555))),\"\")","v":"__OI_21__TRAN_N"},"","",null,"__OI_21__TRAN_N","","OI21TRANN","__OI_21__TRAN_N",1,"______"]
[null,null,null,null,null,null,null,null,null,null,null,null,null,null,null,null,null,null,null,null,null,null,null,null,null,null,{"$f":"IFERROR(INDEX($AE$13:$AE$1003, SMALL(IF(ISBLANK($AE$13:$AE$1003)+ISERROR($AE$13:$AE$1003)+LEN($AE$13:$AE$1003)=0, \"\", ROW($AE$13:$AE$1003)-MIN(ROW($AE$13:$AE$1003))+1), ROW(556:556))),\"\")","v":"__SLD____Y"},"","",null,"__SLD____Y","","SLDY","__SLD____Y",1,"______"]
[null,null,null,null,null,null,null,null,null,null,null,null,null,null,null,null,null,null,null,null,null,null,null,null,null,null,{"$f":"IFERROR(INDEX($AE$13:$AE$1003, SMALL(IF(ISBLANK($AE$13:$AE$1003)+ISERROR($AE$13:$AE$1003)+LEN($AE$13:$AE$1003)=0, \"\", ROW($AE$13:$AE$1003)-MIN(ROW($AE$13:$AE$1003))+1), ROW(557:557))),\"\")","v":"__SLD_14__D_N"},"","",null,"__SLD_14__D_N","","SLD14DN","__SLD_14__D_N",1,"______"]
[null,null,null,null,null,null,null,null,null,null,null,null,null,null,null,null,null,null,null,null,null,null,null,null,null,null,{"$f":"IFERROR(INDEX($AE$13:$AE$1003, SMALL(IF(ISBLANK($AE$13:$AE$1003)+ISERROR($AE$13:$AE$1003)+LEN($AE$13:$AE$1003)=0, \"\", ROW($AE$13:$AE$1003)-MIN(ROW($AE$13:$AE$1003))+1), ROW(558:558))),\"\")","v":"__SLD_14__DROPOUT_N"},"","",null,"__SLD_14__DROPOUT_N","","SLD14DROPOUTN","__SLD_14__DROPOUT_N",1,"______"]
[null,null,null,null,null,null,null,null,null,null,null,null,null,null,null,null,null,null,null,null,null,null,null,null,null,null,{"$f":"IFERROR(INDEX($AE$13:$AE$1003, SMALL(IF(ISBLANK($AE$13:$AE$1003)+ISERROR($AE$13:$AE$1003)+LEN($AE$13:$AE$1003)=0, \"\", ROW($AE$13:$AE$1003)-MIN(ROW($AE$13:$AE$1003))+1), ROW(559:559))),\"\")","v":"__SLD_14__GHS_N"},"","",null,"__SLD_14__GHS_N","","SLD14GHSN","__SLD_14__GHS_N",1,"______"]
[null,null,null,null,null,null,null,null,null,null,null,null,null,null,null,null,null,null,null,null,null,null,null,null,null,null,{"$f":"IFERROR(INDEX($AE$13:$AE$1003, SMALL(IF(ISBLANK($AE$13:$AE$1003)+ISERROR($AE$13:$AE$1003)+LEN($AE$13:$AE$1003)=0, \"\", ROW($AE$13:$AE$1003)-MIN(ROW($AE$13:$AE$1003))+1), ROW(560:560))),\"\")","v":"__SLD_14__GRADALTDPL_N"},"","",null,"__SLD_14__GRADALTDPL_N","","SLD14GRADALTDPLN","__SLD_14__GRADALTDPL_N",1,"______"]
[null,null,null,null,null,null,null,null,null,null,null,null,null,null,null,null,null,null,null,null,null,null,null,null,null,null,{"$f":"IFERROR(INDEX($AE$13:$AE$1003, SMALL(IF(ISBLANK($AE$13:$AE$1003)+ISERROR($AE$13:$AE$1003)+LEN($AE$13:$AE$1003)=0, \"\", ROW($AE$13:$AE$1003)-MIN(ROW($AE$13:$AE$1003))+1), ROW(561:561))),\"\")","v":"__SLD_14__MKC_N"},"","",null,"__SLD_14__MKC_N","","SLD14MKCN","__SLD_14__MKC_N",1,"______"]
[null,null,null,null,null,null,null,null,null,null,null,null,null,null,null,null,null,null,null,null,null,null,null,null,null,null,{"$f":"IFERROR(INDEX($AE$13:$AE$1003, SMALL(IF(ISBLANK($AE$13:$AE$1003)+ISERROR($AE$13:$AE$1003)+LEN($AE$13:$AE$1003)=0, \"\", ROW($AE$13:$AE$1003)-MIN(ROW($AE$13:$AE$1003))+1), ROW(562:562))),\"\")","v":"__SLD_14__RC_N"},"","",null,"__SLD_14__RC_N","","SLD14RCN","__SLD_14__RC_N",1,"______"]
[null,null,null,null,null,null,null,null,null,null,null,null,null,null,null,null,null,null,null,null,null,null,null,null,null,null,{"$f":"IFERROR(INDEX($AE$13:$AE$1003, SMALL(IF(ISBLANK($AE$13:$AE$1003)+ISERROR($AE$13:$AE$1003)+LEN($AE$13:$AE$1003)=0, \"\", ROW($AE$13:$AE$1003)-MIN(ROW($AE$13:$AE$1003))+1), ROW(563:563))),\"\")","v":"__SLD_14__RMA_N"},"","",null,"__SLD_14__RMA_N","","SLD14RMAN","__SLD_14__RMA_N",1,"______"]
[null,null,null,null,null,null,null,null,null,null,null,null,null,null,null,null,null,null,null,null,null,null,null,null,null,null,{"$f":"IFERROR(INDEX($AE$13:$AE$1003, SMALL(IF(ISBLANK($AE$13:$AE$1003)+ISERROR($AE$13:$AE$1003)+LEN($AE$13:$AE$1003)=0, \"\", ROW($AE$13:$AE$1003)-MIN(ROW($AE$13:$AE$1003))+1), ROW(564:564))),\"\")","v":"__SLD_14__TRAN_N"},"","",null,"__SLD_14__TRAN_N","","SLD14TRANN","__SLD_14__TRAN_N",1,"______"]
[null,null,null,null,null,null,null,null,null,null,null,null,null,null,null,null,null,null,null,null,null,null,null,null,null,null,{"$f":"IFERROR(INDEX($AE$13:$AE$1003, SMALL(IF(ISBLANK($AE$13:$AE$1003)+ISERROR($AE$13:$AE$1003)+LEN($AE$13:$AE$1003)=0, \"\", ROW($AE$13:$AE$1003)-MIN(ROW($AE$13:$AE$1003))+1), ROW(565:565))),\"\")","v":"__SLD_15__D_N"},"","",null,"__SLD_15__D_N","","SLD15DN","__SLD_15__D_N",1,"______"]
[null,null,null,null,null,null,null,null,null,null,null,null,null,null,null,null,null,null,null,null,null,null,null,null,null,null,{"$f":"IFERROR(INDEX($AE$13:$AE$1003, SMALL(IF(ISBLANK($AE$13:$AE$1003)+ISERROR($AE$13:$AE$1003)+LEN($AE$13:$AE$1003)=0, \"\", ROW($AE$13:$AE$1003)-MIN(ROW($AE$13:$AE$1003))+1), ROW(566:566))),\"\")","v":"__SLD_15__DROPOUT_N"},"","",null,"__SLD_15__DROPOUT_N","","SLD15DROPOUTN","__SLD_15__DROPOUT_N",1,"______"]
[null,null,null,null,null,null,null,null,null,null,null,null,null,null,null,null,null,null,null,null,null,null,null,null,null,null,{"$f":"IFERROR(INDEX($AE$13:$AE$1003, SMALL(IF(ISBLANK($AE$13:$AE$1003)+ISERROR($AE$13:$AE$1003)+LEN($AE$13:$AE$1003)=0, \"\", ROW($AE$13:$AE$1003)-MIN(ROW($AE$13:$AE$1003))+1), ROW(567:567))),\"\")","v":"__SLD_15__GHS_N"},"","",null,"__SLD_15__GHS_N","","SLD15GHSN","__SLD_15__GHS_N",1,"______"]
[null,null,null,null,null,null,null,null,null,null,null,null,null,null,null,null,null,null,null,null,null,null,null,null,null,null,{"$f":"IFERROR(INDEX($AE$13:$AE$1003, SMALL(IF(ISBLANK($AE$13:$AE$1003)+ISERROR($AE$13:$AE$1003)+LEN($AE$13:$AE$1003)=0, \"\", ROW($AE$13:$AE$1003)-MIN(ROW($AE$13:$AE$1003))+1), ROW(568:568))),\"\")","v":"__SLD_15__GRADALTDPL_N"},"","",null,"__SLD_15__GRADALTDPL_N","","SLD15GRADALTDPLN","__SLD_15__GRADALTDPL_N",1,"______"]
[null,null,null,null,null,null,null,null,null,null,null,null,null,null,null,null,null,null,null,null,null,null,null,null,null,null,{"$f":"IFERROR(INDEX($AE$13:$AE$1003, SMALL(IF(ISBLANK($AE$13:$AE$1003)+ISERROR($AE$13:$AE$1003)+LEN($AE$13:$AE$1003)=0, \"\", ROW($AE$13:$AE$1003)-MIN(ROW($AE$13:$AE$1003))+1), ROW(569:569))),\"\")","v":"__SLD_15__MKC_N"},"","",null,"__SLD_15__MKC_N","","SLD15MKCN","__SLD_15__MKC_N",1,"______"]
[null,null,null,null,null,null,null,null,null,null,null,null,null,null,null,null,null,null,null,null,null,null,null,null,null,null,{"$f":"IFERROR(INDEX($AE$13:$AE$1003, SMALL(IF(ISBLANK($AE$13:$AE$1003)+ISERROR($AE$13:$AE$1003)+LEN($AE$13:$AE$1003)=0, \"\", ROW($AE$13:$AE$1003)-MIN(ROW($AE$13:$AE$1003))+1), ROW(570:570))),\"\")","v":"__SLD_15__RC_N"},"","",null,"__SLD_15__RC_N","","SLD15RCN","__SLD_15__RC_N",1,"______"]
[null,null,null,null,null,null,null,null,null,null,null,null,null,null,null,null,null,null,null,null,null,null,null,null,null,null,{"$f":"IFERROR(INDEX($AE$13:$AE$1003, SMALL(IF(ISBLANK($AE$13:$AE$1003)+ISERROR($AE$13:$AE$1003)+LEN($AE$13:$AE$1003)=0, \"\", ROW($AE$13:$AE$1003)-MIN(ROW($AE$13:$AE$1003))+1), ROW(571:571))),\"\")","v":"__SLD_15__RMA_N"},"","",null,"__SLD_15__RMA_N","","SLD15RMAN","__SLD_15__RMA_N",1,"______"]
[null,null,null,null,null,null,null,null,null,null,null,null,null,null,null,null,null,null,null,null,null,null,null,null,null,null,{"$f":"IFERROR(INDEX($AE$13:$AE$1003, SMALL(IF(ISBLANK($AE$13:$AE$1003)+ISERROR($AE$13:$AE$1003)+LEN($AE$13:$AE$1003)=0, \"\", ROW($AE$13:$AE$1003)-MIN(ROW($AE$13:$AE$1003))+1), ROW(572:572))),\"\")","v":"__SLD_15__TRAN_N"},"","",null,"__SLD_15__TRAN_N","","SLD15TRANN","__SLD_15__TRAN_N",1,"______"]
[null,null,null,null,null,null,null,null,null,null,null,null,null,null,null,null,null,null,null,null,null,null,null,null,null,null,{"$f":"IFERROR(INDEX($AE$13:$AE$1003, SMALL(IF(ISBLANK($AE$13:$AE$1003)+ISERROR($AE$13:$AE$1003)+LEN($AE$13:$AE$1003)=0, \"\", ROW($AE$13:$AE$1003)-MIN(ROW($AE$13:$AE$1003))+1), ROW(573:573))),\"\")","v":"__SLD_16__D_N"},"","",null,"__SLD_16__D_N","","SLD16DN","__SLD_16__D_N",1,"______"]
[null,null,null,null,null,null,null,null,null,null,null,null,null,null,null,null,null,null,null,null,null,null,null,null,null,null,{"$f":"IFERROR(INDEX($AE$13:$AE$1003, SMALL(IF(ISBLANK($AE$13:$AE$1003)+ISERROR($AE$13:$AE$1003)+LEN($AE$13:$AE$1003)=0, \"\", ROW($AE$13:$AE$1003)-MIN(ROW($AE$13:$AE$1003))+1), ROW(574:574))),\"\")","v":"__SLD_16__DROPOUT_N"},"","",null,"__SLD_16__DROPOUT_N","","SLD16DROPOUTN","__SLD_16__DROPOUT_N",1,"______"]
[null,null,null,null,null,null,null,null,null,null,null,null,null,null,null,null,null,null,null,null,null,null,null,null,null,null,{"$f":"IFERROR(INDEX($AE$13:$AE$1003, SMALL(IF(ISBLANK($AE$13:$AE$1003)+ISERROR($AE$13:$AE$1003)+LEN($AE$13:$AE$1003)=0, \"\", ROW($AE$13:$AE$1003)-MIN(ROW($AE$13:$AE$1003))+1), ROW(575:575))),\"\")","v":"__SLD_16__GHS_N"},"","",null,"__SLD_16__GHS_N","","SLD16GHSN","__SLD_16__GHS_N",1,"______"]
[null,null,null,null,null,null,null,null,null,null,null,null,null,null,null,null,null,null,null,null,null,null,null,null,null,null,{"$f":"IFERROR(INDEX($AE$13:$AE$1003, SMALL(IF(ISBLANK($AE$13:$AE$1003)+ISERROR($AE$13:$AE$1003)+LEN($AE$13:$AE$1003)=0, \"\", ROW($AE$13:$AE$1003)-MIN(ROW($AE$13:$AE$1003))+1), ROW(576:576))),\"\")","v":"__SLD_16__GRADALTDPL_N"},"","",null,"__SLD_16__GRADALTDPL_N","","SLD16GRADALTDPLN","__SLD_16__GRADALTDPL_N",1,"______"]
[null,null,null,null,null,null,null,null,null,null,null,null,null,null,null,null,null,null,null,null,null,null,null,null,null,null,{"$f":"IFERROR(INDEX($AE$13:$AE$1003, SMALL(IF(ISBLANK($AE$13:$AE$1003)+ISERROR($AE$13:$AE$1003)+LEN($AE$13:$AE$1003)=0, \"\", ROW($AE$13:$AE$1003)-MIN(ROW($AE$13:$AE$1003))+1), ROW(577:577))),\"\")","v":"__SLD_16__MKC_N"},{"$f":"IF(AF589=\"\",\"\",IF(COUNTIF(CurrentListing,AF589)>1,AJ589,\"\"))","v":""},{"$f":"IF(LEN(AF589)=0,\"\",IF(ISNA(MATCH(AF589,MasterListing,0)),AJ589,\"\"))","v":""},null,{"$f":"IF(LEN(AG589)=0,\"\",IF(ISNA(MATCH(AG589,CurrentListing,0)),AH589,\"\"))","v":"__SLD_16__MKC_N"},{"$f":"H589&I589&P589&Q589&R589&V589&W589","v":""},"SLD16MKCN","__SLD_16__MKC_N",1,"______"]
[null,null,null,null,null,null,null,null,null,null,null,null,null,null,null,null,null,null,null,null,null,null,null,null,null,null,{"$f":"IFERROR(INDEX($AE$13:$AE$1003, SMALL(IF(ISBLANK($AE$13:$AE$1003)+ISERROR($AE$13:$AE$1003)+LEN($AE$13:$AE$1003)=0, \"\", ROW($AE$13:$AE$1003)-MIN(ROW($AE$13:$AE$1003))+1), ROW(578:578))),\"\")","v":"__SLD_16__RC_N"},"","",null,"__SLD_16__RC_N","","SLD16RCN","__SLD_16__RC_N",{"$f":"IF(LEN(AA590)>0,1,0)","v":1},{"$f":"H590&\"_\"&I590&\"_\"&P590&\"_\"&Q590&\"_\"&R590&\"_\"&V590&\"_\"&W590","v":"______"}]
[null,null,null,null,null,null,null,null,null,null,null,null,null,null,null,null,null,null,null,null,null,null,null,null,null,null,{"$f":"IFERROR(INDEX($AE$13:$AE$1003, SMALL(IF(ISBLANK($AE$13:$AE$1003)+ISERROR($AE$13:$AE$1003)+LEN($AE$13:$AE$1003)=0, \"\", ROW($AE$13:$AE$1003)-MIN(ROW($AE$13:$AE$1003))+1), ROW(579:579))),\"\")","v":"__SLD_16__RMA_N"},"","",null,"__SLD_16__RMA_N","","SLD16RMAN","__SLD_16__RMA_N",1,"______"]
[null,null,null,null,null,null,null,null,null,null,null,null,null,null,null,null,null,null,null,null,null,null,null,null,null,null,{"$f":"IFERROR(INDEX($AE$13:$AE$1003, SMALL(IF(ISBLANK($AE$13:$AE$1003)+ISERROR($AE$13:$AE$1003)+LEN($AE$13:$AE$1003)=0, \"\", ROW($AE$13:$AE$1003)-MIN(ROW($AE$13:$AE$1003))+1), ROW(580:580))),\"\")","v":"__SLD_16__TRAN_N"},"","",null,"__SLD_16__TRAN_N","","SLD16TRANN","__SLD_16__TRAN_N",1,"______"]
[null,null,null,null,null,null,null,null,null,null,null,null,null,null,null,null,null,null,null,null,null,null,null,null,null,null,{"$f":"IFERROR(INDEX($AE$13:$AE$1003, SMALL(IF(ISBLANK($AE$13:$AE$1003)+ISERROR($AE$13:$AE$1003)+LEN($AE$13:$AE$1003)=0, \"\", ROW($AE$13:$AE$1003)-MIN(ROW($AE$13:$AE$1003))+1), ROW(581:581))),\"\")","v":"__SLD_17__D_N"},"","",null,"__SLD_17__D_N","","SLD17DN","__SLD_17__D_N",1,"______"]
[null,null,null,null,null,null,null,null,null,null,null,null,null,null,null,null,null,null,null,null,null,null,null,null,null,null,{"$f":"IFERROR(INDEX($AE$13:$AE$1003, SMALL(IF(ISBLANK($AE$13:$AE$1003)+ISERROR($AE$13:$AE$1003)+LEN($AE$13:$AE$1003)=0, \"\", ROW($AE$13:$AE$1003)-MIN(ROW($AE$13:$AE$1003))+1), ROW(582:582))),\"\")","v":"__SLD_17__DROPOUT_N"},"","",null,"__SLD_17__DROPOUT_N","","SLD17DROPOUTN","__SLD_17__DROPOUT_N",1,"______"]
[null,null,null,null,null,null,null,null,null,null,null,null,null,null,null,null,null,null,null,null,null,null,null,null,null,null,{"$f":"IFERROR(INDEX($AE$13:$AE$1003, SMALL(IF(ISBLANK($AE$13:$AE$1003)+ISERROR($AE$13:$AE$1003)+LEN($AE$13:$AE$1003)=0, \"\", ROW($AE$13:$AE$1003)-MIN(ROW($AE$13:$AE$1003))+1), ROW(583:583))),\"\")","v":"__SLD_17__GHS_N"},"","",null,"__SLD_17__GHS_N","","SLD17GHSN","__SLD_17__GHS_N",1,"______"]
[null,null,null,null,null,null,null,null,null,null,null,null,null,null,null,null,null,null,null,null,null,null,null,null,null,null,{"$f":"IFERROR(INDEX($AE$13:$AE$1003, SMALL(IF(ISBLANK($AE$13:$AE$1003)+ISERROR($AE$13:$AE$1003)+LEN($AE$13:$AE$1003)=0, \"\", ROW($AE$13:$AE$1003)-MIN(ROW($AE$13:$AE$1003))+1), ROW(584:584))),\"\")","v":"__SLD_17__GRADALTDPL_N"},"","",null,"__SLD_17__GRADALTDPL_N","","SLD17GRADALTDPLN","__SLD_17__GRADALTDPL_N",1,"______"]
[null,null,null,null,null,null,null,null,null,null,null,null,null,null,null,null,null,null,null,null,null,null,null,null,null,null,{"$f":"IFERROR(INDEX($AE$13:$AE$1003, SMALL(IF(ISBLANK($AE$13:$AE$1003)+ISERROR($AE$13:$AE$1003)+LEN($AE$13:$AE$1003)=0, \"\", ROW($AE$13:$AE$1003)-MIN(ROW($AE$13:$AE$1003))+1), ROW(585:585))),\"\")","v":"__SLD_17__MKC_N"},"","",null,"__SLD_17__MKC_N","","SLD17MKCN","__SLD_17__MKC_N",1,"______"]
[null,null,null,null,null,null,null,null,null,null,null,null,null,null,null,null,null,null,null,null,null,null,null,null,null,null,{"$f":"IFERROR(INDEX($AE$13:$AE$1003, SMALL(IF(ISBLANK($AE$13:$AE$1003)+ISERROR($AE$13:$AE$1003)+LEN($AE$13:$AE$1003)=0, \"\", ROW($AE$13:$AE$1003)-MIN(ROW($AE$13:$AE$1003))+1), ROW(586:586))),\"\")","v":"__SLD_17__RC_N"},"","",null,"__SLD_17__RC_N","","SLD17RCN","__SLD_17__RC_N",1,"______"]
[null,null,null,null,null,null,null,null,null,null,null,null,null,null,null,null,null,null,null,null,null,null,null,null,null,null,{"$f":"IFERROR(INDEX($AE$13:$AE$1003, SMALL(IF(ISBLANK($AE$13:$AE$1003)+ISERROR($AE$13:$AE$1003)+LEN($AE$13:$AE$1003)=0, \"\", ROW($AE$13:$AE$1003)-MIN(ROW($AE$13:$AE$1003))+1), ROW(587:587))),\"\")","v":"__SLD_17__RMA_N"},"","",null,"__SLD_17__RMA_N","","SLD17RMAN","__SLD_17__RMA_N",1,"______"]
[null,null,null,null,null,null,null,null,null,null,null,null,null,null,null,null,null,null,null,null,null,null,null,null,null,null,{"$f":"IFERROR(INDEX($AE$13:$AE$1003, SMALL(IF(ISBLANK($AE$13:$AE$1003)+ISERROR($AE$13:$AE$1003)+LEN($AE$13:$AE$1003)=0, \"\", ROW($AE$13:$AE$1003)-MIN(ROW($AE$13:$AE$1003))+1), ROW(588:588))),\"\")","v":"__SLD_17__TRAN_N"},"","",null,"__SLD_17__TRAN_N","","SLD17TRANN","__SLD_17__TRAN_N",1,"______"]
[null,null,null,null,null,null,null,null,null,null,null,null,null,null,null,null,null,null,null,null,null,null,null,null,null,null,{"$f":"IFERROR(INDEX($AE$13:$AE$1003, SMALL(IF(ISBLANK($AE$13:$AE$1003)+ISERROR($AE$13:$AE$1003)+LEN($AE$13:$AE$1003)=0, \"\", ROW($AE$13:$AE$1003)-MIN(ROW($AE$13:$AE$1003))+1), ROW(589:589))),\"\")","v":"__SLD_18__D_N"},"","",null,"__SLD_18__D_N","","SLD18DN","__SLD_18__D_N",1,"______"]
[null,null,null,null,null,null,null,null,null,null,null,null,null,null,null,null,null,null,null,null,null,null,null,null,null,null,{"$f":"IFERROR(INDEX($AE$13:$AE$1003, SMALL(IF(ISBLANK($AE$13:$AE$1003)+ISERROR($AE$13:$AE$1003)+LEN($AE$13:$AE$1003)=0, \"\", ROW($AE$13:$AE$1003)-MIN(ROW($AE$13:$AE$1003))+1), ROW(590:590))),\"\")","v":"__SLD_18__DROPOUT_N"},"","",null,"__SLD_18__DROPOUT_N","","SLD18DROPOUTN","__SLD_18__DROPOUT_N",1,"______"]
[null,null,null,null,null,null,null,null,null,null,null,null,null,null,null,null,null,null,null,null,null,null,null,null,null,null,{"$f":"IFERROR(INDEX($AE$13:$AE$1003, SMALL(IF(ISBLANK($AE$13:$AE$1003)+ISERROR($AE$13:$AE$1003)+LEN($AE$13:$AE$1003)=0, \"\", ROW($AE$13:$AE$1003)-MIN(ROW($AE$13:$AE$1003))+1), ROW(591:591))),\"\")","v":"__SLD_18__GHS_N"},"","",null,"__SLD_18__GHS_N","","SLD18GHSN","__SLD_18__GHS_N",1,"______"]
[null,null,null,null,null,null,null,null,null,null,null,null,null,null,null,null,null,null,null,null,null,null,null,null,null,null,{"$f":"IFERROR(INDEX($AE$13:$AE$1003, SMALL(IF(ISBLANK($AE$13:$AE$1003)+ISERROR($AE$13:$AE$1003)+LEN($AE$13:$AE$1003)=0, \"\", ROW($AE$13:$AE$1003)-MIN(ROW($AE$13:$AE$1003))+1), ROW(592:592))),\"\")","v":"__SLD_18__GRADALTDPL_N"},"","",null,"__SLD_18__GRADALTDPL_N","","SLD18GRADALTDPLN","__SLD_18__GRADALTDPL_N",1,"______"]
[null,null,null,null,null,null,null,null,null,null,null,null,null,null,null,null,null,null,null,null,null,null,null,null,null,null,{"$f":"IFERROR(INDEX($AE$13:$AE$1003, SMALL(IF(ISBLANK($AE$13:$AE$1003)+ISERROR($AE$13:$AE$1003)+LEN($AE$13:$AE$1003)=0, \"\", ROW($AE$13:$AE$1003)-MIN(ROW($AE$13:$AE$1003))+1), ROW(593:593))),\"\")","v":"__SLD_18__MKC_N"},"","",null,"__SLD_18__MKC_N","","SLD18MKCN","__SLD_18__MKC_N",1,"______"]
[null,null,null,null,null,null,null,null,null,null,null,null,null,null,null,null,null,null,null,null,null,null,null,null,null,null,{"$f":"IFERROR(INDEX($AE$13:$AE$1003, SMALL(IF(ISBLANK($AE$13:$AE$1003)+ISERROR($AE$13:$AE$1003)+LEN($AE$13:$AE$1003)=0, \"\", ROW($AE$13:$AE$1003)-MIN(ROW($AE$13:$AE$1003))+1), ROW(594:594))),\"\")","v":"__SLD_18__RC_N"},"","",null,"__SLD_18__RC_N","","SLD18RCN","__SLD_18__RC_N",1,"______"]
[null,null,null,null,null,null,null,null,null,null,null,null,null,null,null,null,null,null,null,null,null,null,null,null,null,null,{"$f":"IFERROR(INDEX($AE$13:$AE$1003, SMALL(IF(ISBLANK($AE$13:$AE$1003)+ISERROR($AE$13:$AE$1003)+LEN($AE$13:$AE$1003)=0, \"\", ROW($AE$13:$AE$1003)-MIN(ROW($AE$13:$AE$1003))+1), ROW(595:595))),\"\")","v":"__SLD_18__RMA_N"},"","",null,"__SLD_18__RMA_N","","SLD18RMAN","__SLD_18__RMA_N",1,"______"]
[null,null,null,null,null,null,null,null,null,null,null,null,null,null,null,null,null,null,null,null,null,null,null,null,null,null,{"$f":"IFERROR(INDEX($AE$13:$AE$1003, SMALL(IF(ISBLANK($AE$13:$AE$1003)+ISERROR($AE$13:$AE$1003)+LEN($AE$13:$AE$1003)=0, \"\", ROW($AE$13:$AE$1003)-MIN(ROW($AE$13:$AE$1003))+1), ROW(596:596))),\"\")","v":"__SLD_18__TRAN_N"},"","",null,"__SLD_18__TRAN_N","","SLD18TRANN","__SLD_18__TRAN_N",1,"______"]
[null,null,null,null,null,null,null,null,null,null,null,null,null,null,null,null,null,null,null,null,null,null,null,null,null,null,{"$f":"IFERROR(INDEX($AE$13:$AE$1003, SMALL(IF(ISBLANK($AE$13:$AE$1003)+ISERROR($AE$13:$AE$1003)+LEN($AE$13:$AE$1003)=0, \"\", ROW($AE$13:$AE$1003)-MIN(ROW($AE$13:$AE$1003))+1), ROW(597:597))),\"\")","v":"__SLD_19__D_N"},"","",null,"__SLD_19__D_N","","SLD19DN","__SLD_19__D_N",1,"______"]
[null,null,null,null,null,null,null,null,null,null,null,null,null,null,null,null,null,null,null,null,null,null,null,null,null,null,{"$f":"IFERROR(INDEX($AE$13:$AE$1003, SMALL(IF(ISBLANK($AE$13:$AE$1003)+ISERROR($AE$13:$AE$1003)+LEN($AE$13:$AE$1003)=0, \"\", ROW($AE$13:$AE$1003)-MIN(ROW($AE$13:$AE$1003))+1), ROW(598:598))),\"\")","v":"__SLD_19__DROPOUT_N"},"","",null,"__SLD_19__DROPOUT_N","","SLD19DROPOUTN","__SLD_19__DROPOUT_N",1,"______"]
[null,null,null,null,null,null,null,null,null,null,null,null,null,null,null,null,null,null,null,null,null,null,null,null,null,null,{"$f":"IFERROR(INDEX($AE$13:$AE$1003, SMALL(IF(ISBLANK($AE$13:$AE$1003)+ISERROR($AE$13:$AE$1003)+LEN($AE$13:$AE$1003)=0, \"\", ROW($AE$13:$AE$1003)-MIN(ROW($AE$13:$AE$1003))+1), ROW(599:599))),\"\")","v":"__SLD_19__GHS_N"},"","",null,"__SLD_19__GHS_N","","SLD19GHSN","__SLD_19__GHS_N",1,"______"]
[null,null,null,null,null,null,null,null,null,null,null,null,null,null,null,null,null,null,null,null,null,null,null,null,null,null,{"$f":"IFERROR(INDEX($AE$13:$AE$1003, SMALL(IF(ISBLANK($AE$13:$AE$1003)+ISERROR($AE$13:$AE$1003)+LEN($AE$13:$AE$1003)=0, \"\", ROW($AE$13:$AE$1003)-MIN(ROW($AE$13:$AE$1003))+1), ROW(600:600))),\"\")","v":"__SLD_19__GRADALTDPL_N"},"","",null,"__SLD_19__GRADALTDPL_N","","SLD19GRADALTDPLN","__SLD_19__GRADALTDPL_N",1,"______"]
[null,null,null,null,null,null,null,null,null,null,null,null,null,null,null,null,null,null,null,null,null,null,null,null,null,null,{"$f":"IFERROR(INDEX($AE$13:$AE$1003, SMALL(IF(ISBLANK($AE$13:$AE$1003)+ISERROR($AE$13:$AE$1003)+LEN($AE$13:$AE$1003)=0, \"\", ROW($AE$13:$AE$1003)-MIN(ROW($AE$13:$AE$1003))+1), ROW(601:601))),\"\")","v":"__SLD_19__MKC_N"},"","",null,"__SLD_19__MKC_N","","SLD19MKCN","__SLD_19__MKC_N",1,"______"]
[null,null,null,null,null,null,null,null,null,null,null,null,null,null,null,null,null,null,null,null,null,null,null,null,null,null,{"$f":"IFERROR(INDEX($AE$13:$AE$1003, SMALL(IF(ISBLANK($AE$13:$AE$1003)+ISERROR($AE$13:$AE$1003)+LEN($AE$13:$AE$1003)=0, \"\", ROW($AE$13:$AE$1003)-MIN(ROW($AE$13:$AE$1003))+1), ROW(602:602))),\"\")","v":"__SLD_19__RC_N"},"","",null,"__SLD_19__RC_N","","SLD19RCN","__SLD_19__RC_N",1,"______"]
[null,null,null,null,null,null,null,null,null,null,null,null,null,null,null,null,null,null,null,null,null,null,null,null,null,null,{"$f":"IFERROR(INDEX($AE$13:$AE$1003, SMALL(IF(ISBLANK($AE$13:$AE$1003)+ISERROR($AE$13:$AE$1003)+LEN($AE$13:$AE$1003)=0, \"\", ROW($AE$13:$AE$1003)-MIN(ROW($AE$13:$AE$1003))+1), ROW(603:603))),\"\")","v":"__SLD_19__RMA_N"},"","",null,"__SLD_19__RMA_N","","SLD19RMAN","__SLD_19__RMA_N",1,"______"]
[null,null,null,null,null,null,null,null,null,null,null,null,null,null,null,null,null,null,null,null,null,null,null,null,null,null,{"$f":"IFERROR(INDEX($AE$13:$AE$1003, SMALL(IF(ISBLANK($AE$13:$AE$1003)+ISERROR($AE$13:$AE$1003)+LEN($AE$13:$AE$1003)=0, \"\", ROW($AE$13:$AE$1003)-MIN(ROW($AE$13:$AE$1003))+1), ROW(604:604))),\"\")","v":"__SLD_19__TRAN_N"},"","",null,"__SLD_19__TRAN_N","","SLD19TRANN","__SLD_19__TRAN_N",1,"______"]
[null,null,null,null,null,null,null,null,null,null,null,null,null,null,null,null,null,null,null,null,null,null,null,null,null,null,{"$f":"IFERROR(INDEX($AE$13:$AE$1003, SMALL(IF(ISBLANK($AE$13:$AE$1003)+ISERROR($AE$13:$AE$1003)+LEN($AE$13:$AE$1003)=0, \"\", ROW($AE$13:$AE$1003)-MIN(ROW($AE$13:$AE$1003))+1), ROW(605:605))),\"\")","v":"__SLD_20__D_N"},"","",null,"__SLD_20__D_N","","SLD20DN","__SLD_20__D_N",1,"______"]
[null,null,null,null,null,null,null,null,null,null,null,null,null,null,null,null,null,null,null,null,null,null,null,null,null,null,{"$f":"IFERROR(INDEX($AE$13:$AE$1003, SMALL(IF(ISBLANK($AE$13:$AE$1003)+ISERROR($AE$13:$AE$1003)+LEN($AE$13:$AE$1003)=0, \"\", ROW($AE$13:$AE$1003)-MIN(ROW($AE$13:$AE$1003))+1), ROW(606:606))),\"\")","v":"__SLD_20__DROPOUT_N"},"","",null,"__SLD_20__DROPOUT_N","","SLD20DROPOUTN","__SLD_20__DROPOUT_N",1,"______"]
[null,null,null,null,null,null,null,null,null,null,null,null,null,null,null,null,null,null,null,null,null,null,null,null,null,null,{"$f":"IFERROR(INDEX($AE$13:$AE$1003, SMALL(IF(ISBLANK($AE$13:$AE$1003)+ISERROR($AE$13:$AE$1003)+LEN($AE$13:$AE$1003)=0, \"\", ROW($AE$13:$AE$1003)-MIN(ROW($AE$13:$AE$1003))+1), ROW(607:607))),\"\")","v":"__SLD_20__GHS_N"},"","",null,"__SLD_20__GHS_N","","SLD20GHSN","__SLD_20__GHS_N",1,"______"]
[null,null,null,null,null,null,null,null,null,null,null,null,null,null,null,null,null,null,null,null,null,null,null,null,null,null,{"$f":"IFERROR(INDEX($AE$13:$AE$1003, SMALL(IF(ISBLANK($AE$13:$AE$1003)+ISERROR($AE$13:$AE$1003)+LEN($AE$13:$AE$1003)=0, \"\", ROW($AE$13:$AE$1003)-MIN(ROW($AE$13:$AE$1003))+1), ROW(608:608))),\"\")","v":"__SLD_20__GRADALTDPL_N"},"","",null,"__SLD_20__GRADALTDPL_N","","SLD20GRADALTDPLN","__SLD_20__GRADALTDPL_N",1,"______"]
[null,null,null,null,null,null,null,null,null,null,null,null,null,null,null,null,null,null,null,null,null,null,null,null,null,null,{"$f":"IFERROR(INDEX($AE$13:$AE$1003, SMALL(IF(ISBLANK($AE$13:$AE$1003)+ISERROR($AE$13:$AE$1003)+LEN($AE$13:$AE$1003)=0, \"\", ROW($AE$13:$AE$1003)-MIN(ROW($AE$13:$AE$1003))+1), ROW(609:609))),\"\")","v":"__SLD_20__MKC_N"},"","",null,"__SLD_20__MKC_N","","SLD20MKCN","__SLD_20__MKC_N",1,"______"]
[null,null,null,null,null,null,null,null,null,null,null,null,null,null,null,null,null,null,null,null,null,null,null,null,null,null,{"$f":"IFERROR(INDEX($AE$13:$AE$1003, SMALL(IF(ISBLANK($AE$13:$AE$1003)+ISERROR($AE$13:$AE$1003)+LEN($AE$13:$AE$1003)=0, \"\", ROW($AE$13:$AE$1003)-MIN(ROW($AE$13:$AE$1003))+1), ROW(610:610))),\"\")","v":"__SLD_20__RC_N"},"","",null,"__SLD_20__RC_N","","SLD20RCN","__SLD_20__RC_N",1,"______"]
[null,null,null,null,null,null,null,null,null,null,null,null,null,null,null,null,null,null,null,null,null,null,null,null,null,null,{"$f":"IFERROR(INDEX($AE$13:$AE$1003, SMALL(IF(ISBLANK($AE$13:$AE$1003)+ISERROR($AE$13:$AE$1003)+LEN($AE$13:$AE$1003)=0, \"\", ROW($AE$13:$AE$1003)-MIN(ROW($AE$13:$AE$1003))+1), ROW(611:611))),\"\")","v":"__SLD_20__RMA_N"},"","",null,"__SLD_20__RMA_N","","SLD20RMAN","__SLD_20__RMA_N",1,"______"]
[null,null,null,null,null,null,null,null,null,null,null,null,null,null,null,null,null,null,null,null,null,null,null,null,null,null,{"$f":"IFERROR(INDEX($AE$13:$AE$1003, SMALL(IF(ISBLANK($AE$13:$AE$1003)+ISERROR($AE$13:$AE$1003)+LEN($AE$13:$AE$1003)=0, \"\", ROW($AE$13:$AE$1003)-MIN(ROW($AE$13:$AE$1003))+1), ROW(612:612))),\"\")","v":"__SLD_20__TRAN_N"},"","",null,"__SLD_20__TRAN_N","","SLD20TRANN","__SLD_20__TRAN_N",1,"______"]
[null,null,null,null,null,null,null,null,null,null,null,null,null,null,null,null,null,null,null,null,null,null,null,null,null,null,{"$f":"IFERROR(INDEX($AE$13:$AE$1003, SMALL(IF(ISBLANK($AE$13:$AE$1003)+ISERROR($AE$13:$AE$1003)+LEN($AE$13:$AE$1003)=0, \"\", ROW($AE$13:$AE$1003)-MIN(ROW($AE$13:$AE$1003))+1), ROW(613:613))),\"\")","v":"__SLD_21__D_N"},"","",null,"__SLD_21__D_N","","SLD21DN","__SLD_21__D_N",1,"______"]
[null,null,null,null,null,null,null,null,null,null,null,null,null,null,null,null,null,null,null,null,null,null,null,null,null,null,{"$f":"IFERROR(INDEX($AE$13:$AE$1003, SMALL(IF(ISBLANK($AE$13:$AE$1003)+ISERROR($AE$13:$AE$1003)+LEN($AE$13:$AE$1003)=0, \"\", ROW($AE$13:$AE$1003)-MIN(ROW($AE$13:$AE$1003))+1), ROW(614:614))),\"\")","v":"__SLD_21__DROPOUT_N"},"","",null,"__SLD_21__DROPOUT_N","","SLD21DROPOUTN","__SLD_21__DROPOUT_N",1,"______"]
[null,null,null,null,null,null,null,null,null,null,null,null,null,null,null,null,null,null,null,null,null,null,null,null,null,null,{"$f":"IFERROR(INDEX($AE$13:$AE$1003, SMALL(IF(ISBLANK($AE$13:$AE$1003)+ISERROR($AE$13:$AE$1003)+LEN($AE$13:$AE$1003)=0, \"\", ROW($AE$13:$AE$1003)-MIN(ROW($AE$13:$AE$1003))+1), ROW(615:615))),\"\")","v":"__SLD_21__GHS_N"},"","",null,"__SLD_21__GHS_N","","SLD21GHSN","__SLD_21__GHS_N",1,"______"]
[null,null,null,null,null,null,null,null,null,null,null,null,null,null,null,null,null,null,null,null,null,null,null,null,null,null,{"$f":"IFERROR(INDEX($AE$13:$AE$1003, SMALL(IF(ISBLANK($AE$13:$AE$1003)+ISERROR($AE$13:$AE$1003)+LEN($AE$13:$AE$1003)=0, \"\", ROW($AE$13:$AE$1003)-MIN(ROW($AE$13:$AE$1003))+1), ROW(616:616))),\"\")","v":"__SLD_21__GRADALTDPL_N"},"","",null,"__SLD_21__GRADALTDPL_N","","SLD21GRADALTDPLN","__SLD_21__GRADALTDPL_N",1,"______"]
[null,null,null,null,null,null,null,null,null,null,null,null,null,null,null,null,null,null,null,null,null,null,null,null,null,null,{"$f":"IFERROR(INDEX($AE$13:$AE$1003, SMALL(IF(ISBLANK($AE$13:$AE$1003)+ISERROR($AE$13:$AE$1003)+LEN($AE$13:$AE$1003)=0, \"\", ROW($AE$13:$AE$1003)-MIN(ROW($AE$13:$AE$1003))+1), ROW(617:617))),\"\")","v":"__SLD_21__MKC_N"},"","",null,"__SLD_21__MKC_N","","SLD21MKCN","__SLD_21__MKC_N",1,"______"]
[null,null,null,null,null,null,null,null,null,null,null,null,null,null,null,null,null,null,null,null,null,null,null,null,null,null,{"$f":"IFERROR(INDEX($AE$13:$AE$1003, SMALL(IF(ISBLANK($AE$13:$AE$1003)+ISERROR($AE$13:$AE$1003)+LEN($AE$13:$AE$1003)=0, \"\", ROW($AE$13:$AE$1003)-MIN(ROW($AE$13:$AE$1003))+1), ROW(618:618))),\"\")","v":"__SLD_21__RC_N"},"","",null,"__SLD_21__RC_N","","SLD21RCN","__SLD_21__RC_N",1,"______"]
[null,null,null,null,null,null,null,null,null,null,null,null,null,null,null,null,null,null,null,null,null,null,null,null,null,null,{"$f":"IFERROR(INDEX($AE$13:$AE$1003, SMALL(IF(ISBLANK($AE$13:$AE$1003)+ISERROR($AE$13:$AE$1003)+LEN($AE$13:$AE$1003)=0, \"\", ROW($AE$13:$AE$1003)-MIN(ROW($AE$13:$AE$1003))+1), ROW(619:619))),\"\")","v":"__SLD_21__RMA_N"},"","",null,"__SLD_21__RMA_N","","SLD21RMAN","__SLD_21__RMA_N",1,"______"]
[null,null,null,null,null,null,null,null,null,null,null,null,null,null,null,null,null,null,null,null,null,null,null,null,null,null,{"$f":"IFERROR(INDEX($AE$13:$AE$1003, SMALL(IF(ISBLANK($AE$13:$AE$1003)+ISERROR($AE$13:$AE$1003)+LEN($AE$13:$AE$1003)=0, \"\", ROW($AE$13:$AE$1003)-MIN(ROW($AE$13:$AE$1003))+1), ROW(620:620))),\"\")","v":"__SLD_21__TRAN_N"},"","",null,"__SLD_21__TRAN_N","","SLD21TRANN","__SLD_21__TRAN_N",1,"______"]
[null,null,null,null,null,null,null,null,null,null,null,null,null,null,null,null,null,null,null,null,null,null,null,null,null,null,{"$f":"IFERROR(INDEX($AE$13:$AE$1003, SMALL(IF(ISBLANK($AE$13:$AE$1003)+ISERROR($AE$13:$AE$1003)+LEN($AE$13:$AE$1003)=0, \"\", ROW($AE$13:$AE$1003)-MIN(ROW($AE$13:$AE$1003))+1), ROW(621:621))),\"\")","v":"__SLI____Y"},"","",null,"__SLI____Y","","SLIY","__SLI____Y",1,"______"]
[null,null,null,null,null,null,null,null,null,null,null,null,null,null,null,null,null,null,null,null,null,null,null,null,null,null,{"$f":"IFERROR(INDEX($AE$13:$AE$1003, SMALL(IF(ISBLANK($AE$13:$AE$1003)+ISERROR($AE$13:$AE$1003)+LEN($AE$13:$AE$1003)=0, \"\", ROW($AE$13:$AE$1003)-MIN(ROW($AE$13:$AE$1003))+1), ROW(622:622))),\"\")","v":"__SLI_14__D_N"},"","",null,"__SLI_14__D_N","","SLI14DN","__SLI_14__D_N",1,"______"]
[null,null,null,null,null,null,null,null,null,null,null,null,null,null,null,null,null,null,null,null,null,null,null,null,null,null,{"$f":"IFERROR(INDEX($AE$13:$AE$1003, SMALL(IF(ISBLANK($AE$13:$AE$1003)+ISERROR($AE$13:$AE$1003)+LEN($AE$13:$AE$1003)=0, \"\", ROW($AE$13:$AE$1003)-MIN(ROW($AE$13:$AE$1003))+1), ROW(623:623))),\"\")","v":"__SLI_14__DROPOUT_N"},"","",null,"__SLI_14__DROPOUT_N","","SLI14DROPOUTN","__SLI_14__DROPOUT_N",1,"______"]
[null,null,null,null,null,null,null,null,null,null,null,null,null,null,null,null,null,null,null,null,null,null,null,null,null,null,{"$f":"IFERROR(INDEX($AE$13:$AE$1003, SMALL(IF(ISBLANK($AE$13:$AE$1003)+ISERROR($AE$13:$AE$1003)+LEN($AE$13:$AE$1003)=0, \"\", ROW($AE$13:$AE$1003)-MIN(ROW($AE$13:$AE$1003))+1), ROW(624:624))),\"\")","v":"__SLI_14__GHS_N"},"","",null,"__SLI_14__GHS_N","","SLI14GHSN","__SLI_14__GHS_N",1,"______"]
[null,null,null,null,null,null,null,null,null,null,null,null,null,null,null,null,null,null,null,null,null,null,null,null,null,null,{"$f":"IFERROR(INDEX($AE$13:$AE$1003, SMALL(IF(ISBLANK($AE$13:$AE$1003)+ISERROR($AE$13:$AE$1003)+LEN($AE$13:$AE$1003)=0, \"\", ROW($AE$13:$AE$1003)-MIN(ROW($AE$13:$AE$1003))+1), ROW(625:625))),\"\")","v":"__SLI_14__GRADALTDPL_N"},"","",null,"__SLI_14__GRADALTDPL_N","","SLI14GRADALTDPLN","__SLI_14__GRADALTDPL_N",1,"______"]
[null,null,null,null,null,null,null,null,null,null,null,null,null,null,null,null,null,null,null,null,null,null,null,null,null,null,{"$f":"IFERROR(INDEX($AE$13:$AE$1003, SMALL(IF(ISBLANK($AE$13:$AE$1003)+ISERROR($AE$13:$AE$1003)+LEN($AE$13:$AE$1003)=0, \"\", ROW($AE$13:$AE$1003)-MIN(ROW($AE$13:$AE$1003))+1), ROW(626:626))),\"\")","v":"__SLI_14__MKC_N"},"","",null,"__SLI_14__MKC_N","","SLI14MKCN","__SLI_14__MKC_N",1,"______"]
[null,null,null,null,null,null,null,null,null,null,null,null,null,null,null,null,null,null,null,null,null,null,null,null,null,null,{"$f":"IFERROR(INDEX($AE$13:$AE$1003, SMALL(IF(ISBLANK($AE$13:$AE$1003)+ISERROR($AE$13:$AE$1003)+LEN($AE$13:$AE$1003)=0, \"\", ROW($AE$13:$AE$1003)-MIN(ROW($AE$13:$AE$1003))+1), ROW(627:627))),\"\")","v":"__SLI_14__RC_N"},"","",null,"__SLI_14__RC_N","","SLI14RCN","__SLI_14__RC_N",1,"______"]
[null,null,null,null,null,null,null,null,null,null,null,null,null,null,null,null,null,null,null,null,null,null,null,null,null,null,{"$f":"IFERROR(INDEX($AE$13:$AE$1003, SMALL(IF(ISBLANK($AE$13:$AE$1003)+ISERROR($AE$13:$AE$1003)+LEN($AE$13:$AE$1003)=0, \"\", ROW($AE$13:$AE$1003)-MIN(ROW($AE$13:$AE$1003))+1), ROW(628:628))),\"\")","v":"__SLI_14__RMA_N"},"","",null,"__SLI_14__RMA_N","","SLI14RMAN","__SLI_14__RMA_N",1,"______"]
[null,null,null,null,null,null,null,null,null,null,null,null,null,null,null,null,null,null,null,null,null,null,null,null,null,null,{"$f":"IFERROR(INDEX($AE$13:$AE$1003, SMALL(IF(ISBLANK($AE$13:$AE$1003)+ISERROR($AE$13:$AE$1003)+LEN($AE$13:$AE$1003)=0, \"\", ROW($AE$13:$AE$1003)-MIN(ROW($AE$13:$AE$1003))+1), ROW(629:629))),\"\")","v":"__SLI_14__TRAN_N"},"","",null,"__SLI_14__TRAN_N","","SLI14TRANN","__SLI_14__TRAN_N",1,"______"]
[null,null,null,null,null,null,null,null,null,null,null,null,null,null,null,null,null,null,null,null,null,null,null,null,null,null,{"$f":"IFERROR(INDEX($AE$13:$AE$1003, SMALL(IF(ISBLANK($AE$13:$AE$1003)+ISERROR($AE$13:$AE$1003)+LEN($AE$13:$AE$1003)=0, \"\", ROW($AE$13:$AE$1003)-MIN(ROW($AE$13:$AE$1003))+1), ROW(630:630))),\"\")","v":"__SLI_15__D_N"},"","",null,"__SLI_15__D_N","","SLI15DN","__SLI_15__D_N",1,"______"]
[null,null,null,null,null,null,null,null,null,null,null,null,null,null,null,null,null,null,null,null,null,null,null,null,null,null,{"$f":"IFERROR(INDEX($AE$13:$AE$1003, SMALL(IF(ISBLANK($AE$13:$AE$1003)+ISERROR($AE$13:$AE$1003)+LEN($AE$13:$AE$1003)=0, \"\", ROW($AE$13:$AE$1003)-MIN(ROW($AE$13:$AE$1003))+1), ROW(631:631))),\"\")","v":"__SLI_15__DROPOUT_N"},"","",null,"__SLI_15__DROPOUT_N","","SLI15DROPOUTN","__SLI_15__DROPOUT_N",1,"______"]
[null,null,null,null,null,null,null,null,null,null,null,null,null,null,null,null,null,null,null,null,null,null,null,null,null,null,{"$f":"IFERROR(INDEX($AE$13:$AE$1003, SMALL(IF(ISBLANK($AE$13:$AE$1003)+ISERROR($AE$13:$AE$1003)+LEN($AE$13:$AE$1003)=0, \"\", ROW($AE$13:$AE$1003)-MIN(ROW($AE$13:$AE$1003))+1), ROW(632:632))),\"\")","v":"__SLI_15__GHS_N"},"","",null,"__SLI_15__GHS_N","","SLI15GHSN","__SLI_15__GHS_N",1,"______"]
[null,null,null,null,null,null,null,null,null,null,null,null,null,null,null,null,null,null,null,null,null,null,null,null,null,null,{"$f":"IFERROR(INDEX($AE$13:$AE$1003, SMALL(IF(ISBLANK($AE$13:$AE$1003)+ISERROR($AE$13:$AE$1003)+LEN($AE$13:$AE$1003)=0, \"\", ROW($AE$13:$AE$1003)-MIN(ROW($AE$13:$AE$1003))+1), ROW(633:633))),\"\")","v":"__SLI_15__GRADALTDPL_N"},"","",null,"__SLI_15__GRADALTDPL_N","","SLI15GRADALTDPLN","__SLI_15__GRADALTDPL_N",1,"______"]
[null,null,null,null,null,null,null,null,null,null,null,null,null,null,null,null,null,null,null,null,null,null,null,null,null,null,{"$f":"IFERROR(INDEX($AE$13:$AE$1003, SMALL(IF(ISBLANK($AE$13:$AE$1003)+ISERROR($AE$13:$AE$1003)+LEN($AE$13:$AE$1003)=0, \"\", ROW($AE$13:$AE$1003)-MIN(ROW($AE$13:$AE$1003))+1), ROW(634:634))),\"\")","v":"__SLI_15__MKC_N"},"","",null,"__SLI_15__MKC_N","","SLI15MKCN","__SLI_15__MKC_N",1,"______"]
[null,null,null,null,null,null,null,null,null,null,null,null,null,null,null,null,null,null,null,null,null,null,null,null,null,null,{"$f":"IFERROR(INDEX($AE$13:$AE$1003, SMALL(IF(ISBLANK($AE$13:$AE$1003)+ISERROR($AE$13:$AE$1003)+LEN($AE$13:$AE$1003)=0, \"\", ROW($AE$13:$AE$1003)-MIN(ROW($AE$13:$AE$1003))+1), ROW(635:635))),\"\")","v":"__SLI_15__RC_N"},"","",null,"__SLI_15__RC_N","","SLI15RCN","__SLI_15__RC_N",1,"______"]
[null,null,null,null,null,null,null,null,null,null,null,null,null,null,null,null,null,null,null,null,null,null,null,null,null,null,{"$f":"IFERROR(INDEX($AE$13:$AE$1003, SMALL(IF(ISBLANK($AE$13:$AE$1003)+ISERROR($AE$13:$AE$1003)+LEN($AE$13:$AE$1003)=0, \"\", ROW($AE$13:$AE$1003)-MIN(ROW($AE$13:$AE$1003))+1), ROW(636:636))),\"\")","v":"__SLI_15__RMA_N"},"","",null,"__SLI_15__RMA_N","","SLI15RMAN","__SLI_15__RMA_N",1,"______"]
[null,null,null,null,null,null,null,null,null,null,null,null,null,null,null,null,null,null,null,null,null,null,null,null,null,null,{"$f":"IFERROR(INDEX($AE$13:$AE$1003, SMALL(IF(ISBLANK($AE$13:$AE$1003)+ISERROR($AE$13:$AE$1003)+LEN($AE$13:$AE$1003)=0, \"\", ROW($AE$13:$AE$1003)-MIN(ROW($AE$13:$AE$1003))+1), ROW(637:637))),\"\")","v":"__SLI_15__TRAN_N"},"","",null,"__SLI_15__TRAN_N","","SLI15TRANN","__SLI_15__TRAN_N",1,"______"]
[null,null,null,null,null,null,null,null,null,null,null,null,null,null,null,null,null,null,null,null,null,null,null,null,null,null,{"$f":"IFERROR(INDEX($AE$13:$AE$1003, SMALL(IF(ISBLANK($AE$13:$AE$1003)+ISERROR($AE$13:$AE$1003)+LEN($AE$13:$AE$1003)=0, \"\", ROW($AE$13:$AE$1003)-MIN(ROW($AE$13:$AE$1003))+1), ROW(638:638))),\"\")","v":"__SLI_16__D_N"},"","",null,"__SLI_16__D_N","","SLI16DN","__SLI_16__D_N",1,"______"]
[null,null,null,null,null,null,null,null,null,null,null,null,null,null,null,null,null,null,null,null,null,null,null,null,null,null,{"$f":"IFERROR(INDEX($AE$13:$AE$1003, SMALL(IF(ISBLANK($AE$13:$AE$1003)+ISERROR($AE$13:$AE$1003)+LEN($AE$13:$AE$1003)=0, \"\", ROW($AE$13:$AE$1003)-MIN(ROW($AE$13:$AE$1003))+1), ROW(639:639))),\"\")","v":"__SLI_16__DROPOUT_N"},"","",null,"__SLI_16__DROPOUT_N","","SLI16DROPOUTN","__SLI_16__DROPOUT_N",1,"______"]
[null,null,null,null,null,null,null,null,null,null,null,null,null,null,null,null,null,null,null,null,null,null,null,null,null,null,{"$f":"IFERROR(INDEX($AE$13:$AE$1003, SMALL(IF(ISBLANK($AE$13:$AE$1003)+ISERROR($AE$13:$AE$1003)+LEN($AE$13:$AE$1003)=0, \"\", ROW($AE$13:$AE$1003)-MIN(ROW($AE$13:$AE$1003))+1), ROW(640:640))),\"\")","v":"__SLI_16__GHS_N"},"","",null,"__SLI_16__GHS_N","","SLI16GHSN","__SLI_16__GHS_N",1,"______"]
[null,null,null,null,null,null,null,null,null,null,null,null,null,null,null,null,null,null,null,null,null,null,null,null,null,null,{"$f":"IFERROR(INDEX($AE$13:$AE$1003, SMALL(IF(ISBLANK($AE$13:$AE$1003)+ISERROR($AE$13:$AE$1003)+LEN($AE$13:$AE$1003)=0, \"\", ROW($AE$13:$AE$1003)-MIN(ROW($AE$13:$AE$1003))+1), ROW(641:641))),\"\")","v":"__SLI_16__GRADALTDPL_N"},{"$f":"IF(AF653=\"\",\"\",IF(COUNTIF(CurrentListing,AF653)>1,AJ653,\"\"))","v":""},{"$f":"IF(LEN(AF653)=0,\"\",IF(ISNA(MATCH(AF653,MasterListing,0)),AJ653,\"\"))","v":""},null,{"$f":"IF(LEN(AG653)=0,\"\",IF(ISNA(MATCH(AG653,CurrentListing,0)),AH653,\"\"))","v":"__SLI_16__GRADALTDPL_N"},{"$f":"H653&I653&P653&Q653&R653&V653&W653","v":""},"SLI16GRADALTDPLN","__SLI_16__GRADALTDPL_N",1,"______"]
[null,null,null,null,null,null,null,null,null,null,null,null,null,null,null,null,null,null,null,null,null,null,null,null,null,null,{"$f":"IFERROR(INDEX($AE$13:$AE$1003, SMALL(IF(ISBLANK($AE$13:$AE$1003)+ISERROR($AE$13:$AE$1003)+LEN($AE$13:$AE$1003)=0, \"\", ROW($AE$13:$AE$1003)-MIN(ROW($AE$13:$AE$1003))+1), ROW(642:642))),\"\")","v":"__SLI_16__MKC_N"},"","",null,"__SLI_16__MKC_N","","SLI16MKCN","__SLI_16__MKC_N",{"$f":"IF(LEN(AA654)>0,1,0)","v":1},{"$f":"H654&\"_\"&I654&\"_\"&P654&\"_\"&Q654&\"_\"&R654&\"_\"&V654&\"_\"&W654","v":"______"}]
[null,null,null,null,null,null,null,null,null,null,null,null,null,null,null,null,null,null,null,null,null,null,null,null,null,null,{"$f":"IFERROR(INDEX($AE$13:$AE$1003, SMALL(IF(ISBLANK($AE$13:$AE$1003)+ISERROR($AE$13:$AE$1003)+LEN($AE$13:$AE$1003)=0, \"\", ROW($AE$13:$AE$1003)-MIN(ROW($AE$13:$AE$1003))+1), ROW(643:643))),\"\")","v":"__SLI_16__RC_N"},"","",null,"__SLI_16__RC_N","","SLI16RCN","__SLI_16__RC_N",1,"______"]
[null,null,null,null,null,null,null,null,null,null,null,null,null,null,null,null,null,null,null,null,null,null,null,null,null,null,{"$f":"IFERROR(INDEX($AE$13:$AE$1003, SMALL(IF(ISBLANK($AE$13:$AE$1003)+ISERROR($AE$13:$AE$1003)+LEN($AE$13:$AE$1003)=0, \"\", ROW($AE$13:$AE$1003)-MIN(ROW($AE$13:$AE$1003))+1), ROW(644:644))),\"\")","v":"__SLI_16__RMA_N"},"","",null,"__SLI_16__RMA_N","","SLI16RMAN","__SLI_16__RMA_N",1,"______"]
[null,null,null,null,null,null,null,null,null,null,null,null,null,null,null,null,null,null,null,null,null,null,null,null,null,null,{"$f":"IFERROR(INDEX($AE$13:$AE$1003, SMALL(IF(ISBLANK($AE$13:$AE$1003)+ISERROR($AE$13:$AE$1003)+LEN($AE$13:$AE$1003)=0, \"\", ROW($AE$13:$AE$1003)-MIN(ROW($AE$13:$AE$1003))+1), ROW(645:645))),\"\")","v":"__SLI_16__TRAN_N"},"","",null,"__SLI_16__TRAN_N","","SLI16TRANN","__SLI_16__TRAN_N",1,"______"]
[null,null,null,null,null,null,null,null,null,null,null,null,null,null,null,null,null,null,null,null,null,null,null,null,null,null,{"$f":"IFERROR(INDEX($AE$13:$AE$1003, SMALL(IF(ISBLANK($AE$13:$AE$1003)+ISERROR($AE$13:$AE$1003)+LEN($AE$13:$AE$1003)=0, \"\", ROW($AE$13:$AE$1003)-MIN(ROW($AE$13:$AE$1003))+1), ROW(646:646))),\"\")","v":"__SLI_17__D_N"},"","",null,"__SLI_17__D_N","","SLI17DN","__SLI_17__D_N",1,"______"]
[null,null,null,null,null,null,null,null,null,null,null,null,null,null,null,null,null,null,null,null,null,null,null,null,null,null,{"$f":"IFERROR(INDEX($AE$13:$AE$1003, SMALL(IF(ISBLANK($AE$13:$AE$1003)+ISERROR($AE$13:$AE$1003)+LEN($AE$13:$AE$1003)=0, \"\", ROW($AE$13:$AE$1003)-MIN(ROW($AE$13:$AE$1003))+1), ROW(647:647))),\"\")","v":"__SLI_17__DROPOUT_N"},"","",null,"__SLI_17__DROPOUT_N","","SLI17DROPOUTN","__SLI_17__DROPOUT_N",1,"______"]
[null,null,null,null,null,null,null,null,null,null,null,null,null,null,null,null,null,null,null,null,null,null,null,null,null,null,{"$f":"IFERROR(INDEX($AE$13:$AE$1003, SMALL(IF(ISBLANK($AE$13:$AE$1003)+ISERROR($AE$13:$AE$1003)+LEN($AE$13:$AE$1003)=0, \"\", ROW($AE$13:$AE$1003)-MIN(ROW($AE$13:$AE$1003))+1), ROW(648:648))),\"\")","v":"__SLI_17__GHS_N"},"","",null,"__SLI_17__GHS_N","","SLI17GHSN","__SLI_17__GHS_N",1,"______"]
[null,null,null,null,null,null,null,null,null,null,null,null,null,null,null,null,null,null,null,null,null,null,null,null,null,null,{"$f":"IFERROR(INDEX($AE$13:$AE$1003, SMALL(IF(ISBLANK($AE$13:$AE$1003)+ISERROR($AE$13:$AE$1003)+LEN($AE$13:$AE$1003)=0, \"\", ROW($AE$13:$AE$1003)-MIN(ROW($AE$13:$AE$1003))+1), ROW(649:649))),\"\")","v":"__SLI_17__GRADALTDPL_N"},"","",null,"__SLI_17__GRADALTDPL_N","","SLI17GRADALTDPLN","__SLI_17__GRADALTDPL_N",1,"______"]
[null,null,null,null,null,null,null,null,null,null,null,null,null,null,null,null,null,null,null,null,null,null,null,null,null,null,{"$f":"IFERROR(INDEX($AE$13:$AE$1003, SMALL(IF(ISBLANK($AE$13:$AE$1003)+ISERROR($AE$13:$AE$1003)+LEN($AE$13:$AE$1003)=0, \"\", ROW($AE$13:$AE$1003)-MIN(ROW($AE$13:$AE$1003))+1), ROW(650:650))),\"\")","v":"__SLI_17__MKC_N"},"","",null,"__SLI_17__MKC_N","","SLI17MKCN","__SLI_17__MKC_N",1,"______"]
[null,null,null,null,null,null,null,null,null,null,null,null,null,null,null,null,null,null,null,null,null,null,null,null,null,null,{"$f":"IFERROR(INDEX($AE$13:$AE$1003, SMALL(IF(ISBLANK($AE$13:$AE$1003)+ISERROR($AE$13:$AE$1003)+LEN($AE$13:$AE$1003)=0, \"\", ROW($AE$13:$AE$1003)-MIN(ROW($AE$13:$AE$1003))+1), ROW(651:651))),\"\")","v":"__SLI_17__RC_N"},"","",null,"__SLI_17__RC_N","","SLI17RCN","__SLI_17__RC_N",1,"______"]
[null,null,null,null,null,null,null,null,null,null,null,null,null,null,null,null,null,null,null,null,null,null,null,null,null,null,{"$f":"IFERROR(INDEX($AE$13:$AE$1003, SMALL(IF(ISBLANK($AE$13:$AE$1003)+ISERROR($AE$13:$AE$1003)+LEN($AE$13:$AE$1003)=0, \"\", ROW($AE$13:$AE$1003)-MIN(ROW($AE$13:$AE$1003))+1), ROW(652:652))),\"\")","v":"__SLI_17__RMA_N"},"","",null,"__SLI_17__RMA_N","","SLI17RMAN","__SLI_17__RMA_N",1,"______"]
[null,null,null,null,null,null,null,null,null,null,null,null,null,null,null,null,null,null,null,null,null,null,null,null,null,null,{"$f":"IFERROR(INDEX($AE$13:$AE$1003, SMALL(IF(ISBLANK($AE$13:$AE$1003)+ISERROR($AE$13:$AE$1003)+LEN($AE$13:$AE$1003)=0, \"\", ROW($AE$13:$AE$1003)-MIN(ROW($AE$13:$AE$1003))+1), ROW(653:653))),\"\")","v":"__SLI_17__TRAN_N"},"","",null,"__SLI_17__TRAN_N","","SLI17TRANN","__SLI_17__TRAN_N",1,"______"]
[null,null,null,null,null,null,null,null,null,null,null,null,null,null,null,null,null,null,null,null,null,null,null,null,null,null,{"$f":"IFERROR(INDEX($AE$13:$AE$1003, SMALL(IF(ISBLANK($AE$13:$AE$1003)+ISERROR($AE$13:$AE$1003)+LEN($AE$13:$AE$1003)=0, \"\", ROW($AE$13:$AE$1003)-MIN(ROW($AE$13:$AE$1003))+1), ROW(654:654))),\"\")","v":"__SLI_18__D_N"},"","",null,"__SLI_18__D_N","","SLI18DN","__SLI_18__D_N",1,"______"]
[null,null,null,null,null,null,null,null,null,null,null,null,null,null,null,null,null,null,null,null,null,null,null,null,null,null,{"$f":"IFERROR(INDEX($AE$13:$AE$1003, SMALL(IF(ISBLANK($AE$13:$AE$1003)+ISERROR($AE$13:$AE$1003)+LEN($AE$13:$AE$1003)=0, \"\", ROW($AE$13:$AE$1003)-MIN(ROW($AE$13:$AE$1003))+1), ROW(655:655))),\"\")","v":"__SLI_18__DROPOUT_N"},"","",null,"__SLI_18__DROPOUT_N","","SLI18DROPOUTN","__SLI_18__DROPOUT_N",1,"______"]
[null,null,null,null,null,null,null,null,null,null,null,null,null,null,null,null,null,null,null,null,null,null,null,null,null,null,{"$f":"IFERROR(INDEX($AE$13:$AE$1003, SMALL(IF(ISBLANK($AE$13:$AE$1003)+ISERROR($AE$13:$AE$1003)+LEN($AE$13:$AE$1003)=0, \"\", ROW($AE$13:$AE$1003)-MIN(ROW($AE$13:$AE$1003))+1), ROW(656:656))),\"\")","v":"__SLI_18__GHS_N"},"","",null,"__SLI_18__GHS_N","","SLI18GHSN","__SLI_18__GHS_N",1,"______"]
[null,null,null,null,null,null,null,null,null,null,null,null,null,null,null,null,null,null,null,null,null,null,null,null,null,null,{"$f":"IFERROR(INDEX($AE$13:$AE$1003, SMALL(IF(ISBLANK($AE$13:$AE$1003)+ISERROR($AE$13:$AE$1003)+LEN($AE$13:$AE$1003)=0, \"\", ROW($AE$13:$AE$1003)-MIN(ROW($AE$13:$AE$1003))+1), ROW(657:657))),\"\")","v":"__SLI_18__GRADALTDPL_N"},"","",null,"__SLI_18__GRADALTDPL_N","","SLI18GRADALTDPLN","__SLI_18__GRADALTDPL_N",1,"______"]
[null,null,null,null,null,null,null,null,null,null,null,null,null,null,null,null,null,null,null,null,null,null,null,null,null,null,{"$f":"IFERROR(INDEX($AE$13:$AE$1003, SMALL(IF(ISBLANK($AE$13:$AE$1003)+ISERROR($AE$13:$AE$1003)+LEN($AE$13:$AE$1003)=0, \"\", ROW($AE$13:$AE$1003)-MIN(ROW($AE$13:$AE$1003))+1), ROW(658:658))),\"\")","v":"__SLI_18__MKC_N"},"","",null,"__SLI_18__MKC_N","","SLI18MKCN","__SLI_18__MKC_N",1,"______"]
[null,null,null,null,null,null,null,null,null,null,null,null,null,null,null,null,null,null,null,null,null,null,null,null,null,null,{"$f":"IFERROR(INDEX($AE$13:$AE$1003, SMALL(IF(ISBLANK($AE$13:$AE$1003)+ISERROR($AE$13:$AE$1003)+LEN($AE$13:$AE$1003)=0, \"\", ROW($AE$13:$AE$1003)-MIN(ROW($AE$13:$AE$1003))+1), ROW(659:659))),\"\")","v":"__SLI_18__RC_N"},"","",null,"__SLI_18__RC_N","","SLI18RCN","__SLI_18__RC_N",1,"______"]
[null,null,null,null,null,null,null,null,null,null,null,null,null,null,null,null,null,null,null,null,null,null,null,null,null,null,{"$f":"IFERROR(INDEX($AE$13:$AE$1003, SMALL(IF(ISBLANK($AE$13:$AE$1003)+ISERROR($AE$13:$AE$1003)+LEN($AE$13:$AE$1003)=0, \"\", ROW($AE$13:$AE$1003)-MIN(ROW($AE$13:$AE$1003))+1), ROW(660:660))),\"\")","v":"__SLI_18__RMA_N"},"","",null,"__SLI_18__RMA_N","","SLI18RMAN","__SLI_18__RMA_N",1,"______"]
[null,null,null,null,null,null,null,null,null,null,null,null,null,null,null,null,null,null,null,null,null,null,null,null,null,null,{"$f":"IFERROR(INDEX($AE$13:$AE$1003, SMALL(IF(ISBLANK($AE$13:$AE$1003)+ISERROR($AE$13:$AE$1003)+LEN($AE$13:$AE$1003)=0, \"\", ROW($AE$13:$AE$1003)-MIN(ROW($AE$13:$AE$1003))+1), ROW(661:661))),\"\")","v":"__SLI_18__TRAN_N"},"","",null,"__SLI_18__TRAN_N","","SLI18TRANN","__SLI_18__TRAN_N",1,"______"]
[null,null,null,null,null,null,null,null,null,null,null,null,null,null,null,null,null,null,null,null,null,null,null,null,null,null,{"$f":"IFERROR(INDEX($AE$13:$AE$1003, SMALL(IF(ISBLANK($AE$13:$AE$1003)+ISERROR($AE$13:$AE$1003)+LEN($AE$13:$AE$1003)=0, \"\", ROW($AE$13:$AE$1003)-MIN(ROW($AE$13:$AE$1003))+1), ROW(662:662))),\"\")","v":"__SLI_19__D_N"},"","",null,"__SLI_19__D_N","","SLI19DN","__SLI_19__D_N",1,"______"]
[null,null,null,null,null,null,null,null,null,null,null,null,null,null,null,null,null,null,null,null,null,null,null,null,null,null,{"$f":"IFERROR(INDEX($AE$13:$AE$1003, SMALL(IF(ISBLANK($AE$13:$AE$1003)+ISERROR($AE$13:$AE$1003)+LEN($AE$13:$AE$1003)=0, \"\", ROW($AE$13:$AE$1003)-MIN(ROW($AE$13:$AE$1003))+1), ROW(663:663))),\"\")","v":"__SLI_19__DROPOUT_N"},"","",null,"__SLI_19__DROPOUT_N","","SLI19DROPOUTN","__SLI_19__DROPOUT_N",1,"______"]
[null,null,null,null,null,null,null,null,null,null,null,null,null,null,null,null,null,null,null,null,null,null,null,null,null,null,{"$f":"IFERROR(INDEX($AE$13:$AE$1003, SMALL(IF(ISBLANK($AE$13:$AE$1003)+ISERROR($AE$13:$AE$1003)+LEN($AE$13:$AE$1003)=0, \"\", ROW($AE$13:$AE$1003)-MIN(ROW($AE$13:$AE$1003))+1), ROW(664:664))),\"\")","v":"__SLI_19__GHS_N"},"","",null,"__SLI_19__GHS_N","","SLI19GHSN","__SLI_19__GHS_N",1,"______"]
[null,null,null,null,null,null,null,null,null,null,null,null,null,null,null,null,null,null,null,null,null,null,null,null,null,null,{"$f":"IFERROR(INDEX($AE$13:$AE$1003, SMALL(IF(ISBLANK($AE$13:$AE$1003)+ISERROR($AE$13:$AE$1003)+LEN($AE$13:$AE$1003)=0, \"\", ROW($AE$13:$AE$1003)-MIN(ROW($AE$13:$AE$1003))+1), ROW(665:665))),\"\")","v":"__SLI_19__GRADALTDPL_N"},"","",null,"__SLI_19__GRADALTDPL_N","","SLI19GRADALTDPLN","__SLI_19__GRADALTDPL_N",1,"______"]
[null,null,null,null,null,null,null,null,null,null,null,null,null,null,null,null,null,null,null,null,null,null,null,null,null,null,{"$f":"IFERROR(INDEX($AE$13:$AE$1003, SMALL(IF(ISBLANK($AE$13:$AE$1003)+ISERROR($AE$13:$AE$1003)+LEN($AE$13:$AE$1003)=0, \"\", ROW($AE$13:$AE$1003)-MIN(ROW($AE$13:$AE$1003))+1), ROW(666:666))),\"\")","v":"__SLI_19__MKC_N"},"","",null,"__SLI_19__MKC_N","","SLI19MKCN","__SLI_19__MKC_N",1,"______"]
[null,null,null,null,null,null,null,null,null,null,null,null,null,null,null,null,null,null,null,null,null,null,null,null,null,null,{"$f":"IFERROR(INDEX($AE$13:$AE$1003, SMALL(IF(ISBLANK($AE$13:$AE$1003)+ISERROR($AE$13:$AE$1003)+LEN($AE$13:$AE$1003)=0, \"\", ROW($AE$13:$AE$1003)-MIN(ROW($AE$13:$AE$1003))+1), ROW(667:667))),\"\")","v":"__SLI_19__RC_N"},"","",null,"__SLI_19__RC_N","","SLI19RCN","__SLI_19__RC_N",1,"______"]
[null,null,null,null,null,null,null,null,null,null,null,null,null,null,null,null,null,null,null,null,null,null,null,null,null,null,{"$f":"IFERROR(INDEX($AE$13:$AE$1003, SMALL(IF(ISBLANK($AE$13:$AE$1003)+ISERROR($AE$13:$AE$1003)+LEN($AE$13:$AE$1003)=0, \"\", ROW($AE$13:$AE$1003)-MIN(ROW($AE$13:$AE$1003))+1), ROW(668:668))),\"\")","v":"__SLI_19__RMA_N"},"","",null,"__SLI_19__RMA_N","","SLI19RMAN","__SLI_19__RMA_N",1,"______"]
[null,null,null,null,null,null,null,null,null,null,null,null,null,null,null,null,null,null,null,null,null,null,null,null,null,null,{"$f":"IFERROR(INDEX($AE$13:$AE$1003, SMALL(IF(ISBLANK($AE$13:$AE$1003)+ISERROR($AE$13:$AE$1003)+LEN($AE$13:$AE$1003)=0, \"\", ROW($AE$13:$AE$1003)-MIN(ROW($AE$13:$AE$1003))+1), ROW(669:669))),\"\")","v":"__SLI_19__TRAN_N"},"","",null,"__SLI_19__TRAN_N","","SLI19TRANN","__SLI_19__TRAN_N",1,"______"]
[null,null,null,null,null,null,null,null,null,null,null,null,null,null,null,null,null,null,null,null,null,null,null,null,null,null,{"$f":"IFERROR(INDEX($AE$13:$AE$1003, SMALL(IF(ISBLANK($AE$13:$AE$1003)+ISERROR($AE$13:$AE$1003)+LEN($AE$13:$AE$1003)=0, \"\", ROW($AE$13:$AE$1003)-MIN(ROW($AE$13:$AE$1003))+1), ROW(670:670))),\"\")","v":"__SLI_20__D_N"},"","",null,"__SLI_20__D_N","","SLI20DN","__SLI_20__D_N",1,"______"]
[null,null,null,null,null,null,null,null,null,null,null,null,null,null,null,null,null,null,null,null,null,null,null,null,null,null,{"$f":"IFERROR(INDEX($AE$13:$AE$1003, SMALL(IF(ISBLANK($AE$13:$AE$1003)+ISERROR($AE$13:$AE$1003)+LEN($AE$13:$AE$1003)=0, \"\", ROW($AE$13:$AE$1003)-MIN(ROW($AE$13:$AE$1003))+1), ROW(671:671))),\"\")","v":"__SLI_20__DROPOUT_N"},"","",null,"__SLI_20__DROPOUT_N","","SLI20DROPOUTN","__SLI_20__DROPOUT_N",1,"______"]
[null,null,null,null,null,null,null,null,null,null,null,null,null,null,null,null,null,null,null,null,null,null,null,null,null,null,{"$f":"IFERROR(INDEX($AE$13:$AE$1003, SMALL(IF(ISBLANK($AE$13:$AE$1003)+ISERROR($AE$13:$AE$1003)+LEN($AE$13:$AE$1003)=0, \"\", ROW($AE$13:$AE$1003)-MIN(ROW($AE$13:$AE$1003))+1), ROW(672:672))),\"\")","v":"__SLI_20__GHS_N"},"","",null,"__SLI_20__GHS_N","","SLI20GHSN","__SLI_20__GHS_N",1,"______"]
[null,null,null,null,null,null,null,null,null,null,null,null,null,null,null,null,null,null,null,null,null,null,null,null,null,null,{"$f":"IFERROR(INDEX($AE$13:$AE$1003, SMALL(IF(ISBLANK($AE$13:$AE$1003)+ISERROR($AE$13:$AE$1003)+LEN($AE$13:$AE$1003)=0, \"\", ROW($AE$13:$AE$1003)-MIN(ROW($AE$13:$AE$1003))+1), ROW(673:673))),\"\")","v":"__SLI_20__GRADALTDPL_N"},"","",null,"__SLI_20__GRADALTDPL_N","","SLI20GRADALTDPLN","__SLI_20__GRADALTDPL_N",1,"______"]
[null,null,null,null,null,null,null,null,null,null,null,null,null,null,null,null,null,null,null,null,null,null,null,null,null,null,{"$f":"IFERROR(INDEX($AE$13:$AE$1003, SMALL(IF(ISBLANK($AE$13:$AE$1003)+ISERROR($AE$13:$AE$1003)+LEN($AE$13:$AE$1003)=0, \"\", ROW($AE$13:$AE$1003)-MIN(ROW($AE$13:$AE$1003))+1), ROW(674:674))),\"\")","v":"__SLI_20__MKC_N"},"","",null,"__SLI_20__MKC_N","","SLI20MKCN","__SLI_20__MKC_N",1,"______"]
[null,null,null,null,null,null,null,null,null,null,null,null,null,null,null,null,null,null,null,null,null,null,null,null,null,null,{"$f":"IFERROR(INDEX($AE$13:$AE$1003, SMALL(IF(ISBLANK($AE$13:$AE$1003)+ISERROR($AE$13:$AE$1003)+LEN($AE$13:$AE$1003)=0, \"\", ROW($AE$13:$AE$1003)-MIN(ROW($AE$13:$AE$1003))+1), ROW(675:675))),\"\")","v":"__SLI_20__RC_N"},"","",null,"__SLI_20__RC_N","","SLI20RCN","__SLI_20__RC_N",1,"______"]
[null,null,null,null,null,null,null,null,null,null,null,null,null,null,null,null,null,null,null,null,null,null,null,null,null,null,{"$f":"IFERROR(INDEX($AE$13:$AE$1003, SMALL(IF(ISBLANK($AE$13:$AE$1003)+ISERROR($AE$13:$AE$1003)+LEN($AE$13:$AE$1003)=0, \"\", ROW($AE$13:$AE$1003)-MIN(ROW($AE$13:$AE$1003))+1), ROW(676:676))),\"\")","v":"__SLI_20__RMA_N"},"","",null,"__SLI_20__RMA_N","","SLI20RMAN","__SLI_20__RMA_N",1,"______"]
[null,null,null,null,null,null,null,null,null,null,null,null,null,null,null,null,null,null,null,null,null,null,null,null,null,null,{"$f":"IFERROR(INDEX($AE$13:$AE$1003, SMALL(IF(ISBLANK($AE$13:$AE$1003)+ISERROR($AE$13:$AE$1003)+LEN($AE$13:$AE$1003)=0, \"\", ROW($AE$13:$AE$1003)-MIN(ROW($AE$13:$AE$1003))+1), ROW(677:677))),\"\")","v":"__SLI_20__TRAN_N"},"","",null,"__SLI_20__TRAN_N","","SLI20TRANN","__SLI_20__TRAN_N",1,"______"]
[null,null,null,null,null,null,null,null,null,null,null,null,null,null,null,null,null,null,null,null,null,null,null,null,null,null,{"$f":"IFERROR(INDEX($AE$13:$AE$1003, SMALL(IF(ISBLANK($AE$13:$AE$1003)+ISERROR($AE$13:$AE$1003)+LEN($AE$13:$AE$1003)=0, \"\", ROW($AE$13:$AE$1003)-MIN(ROW($AE$13:$AE$1003))+1), ROW(678:678))),\"\")","v":"__SLI_21__D_N"},"","",null,"__SLI_21__D_N","","SLI21DN","__SLI_21__D_N",1,"______"]
[null,null,null,null,null,null,null,null,null,null,null,null,null,null,null,null,null,null,null,null,null,null,null,null,null,null,{"$f":"IFERROR(INDEX($AE$13:$AE$1003, SMALL(IF(ISBLANK($AE$13:$AE$1003)+ISERROR($AE$13:$AE$1003)+LEN($AE$13:$AE$1003)=0, \"\", ROW($AE$13:$AE$1003)-MIN(ROW($AE$13:$AE$1003))+1), ROW(679:679))),\"\")","v":"__SLI_21__DROPOUT_N"},"","",null,"__SLI_21__DROPOUT_N","","SLI21DROPOUTN","__SLI_21__DROPOUT_N",1,"______"]
[null,null,null,null,null,null,null,null,null,null,null,null,null,null,null,null,null,null,null,null,null,null,null,null,null,null,{"$f":"IFERROR(INDEX($AE$13:$AE$1003, SMALL(IF(ISBLANK($AE$13:$AE$1003)+ISERROR($AE$13:$AE$1003)+LEN($AE$13:$AE$1003)=0, \"\", ROW($AE$13:$AE$1003)-MIN(ROW($AE$13:$AE$1003))+1), ROW(680:680))),\"\")","v":"__SLI_21__GHS_N"},"","",null,"__SLI_21__GHS_N","","SLI21GHSN","__SLI_21__GHS_N",1,"______"]
[null,null,null,null,null,null,null,null,null,null,null,null,null,null,null,null,null,null,null,null,null,null,null,null,null,null,{"$f":"IFERROR(INDEX($AE$13:$AE$1003, SMALL(IF(ISBLANK($AE$13:$AE$1003)+ISERROR($AE$13:$AE$1003)+LEN($AE$13:$AE$1003)=0, \"\", ROW($AE$13:$AE$1003)-MIN(ROW($AE$13:$AE$1003))+1), ROW(681:681))),\"\")","v":"__SLI_21__GRADALTDPL_N"},"","",null,"__SLI_21__GRADALTDPL_N","","SLI21GRADALTDPLN","__SLI_21__GRADALTDPL_N",1,"______"]
[null,null,null,null,null,null,null,null,null,null,null,null,null,null,null,null,null,null,null,null,null,null,null,null,null,null,{"$f":"IFERROR(INDEX($AE$13:$AE$1003, SMALL(IF(ISBLANK($AE$13:$AE$1003)+ISERROR($AE$13:$AE$1003)+LEN($AE$13:$AE$1003)=0, \"\", ROW($AE$13:$AE$1003)-MIN(ROW($AE$13:$AE$1003))+1), ROW(682:682))),\"\")","v":"__SLI_21__MKC_N"},"","",null,"__SLI_21__MKC_N","","SLI21MKCN","__SLI_21__MKC_N",1,"______"]
[null,null,null,null,null,null,null,null,null,null,null,null,null,null,null,null,null,null,null,null,null,null,null,null,null,null,{"$f":"IFERROR(INDEX($AE$13:$AE$1003, SMALL(IF(ISBLANK($AE$13:$AE$1003)+ISERROR($AE$13:$AE$1003)+LEN($AE$13:$AE$1003)=0, \"\", ROW($AE$13:$AE$1003)-MIN(ROW($AE$13:$AE$1003))+1), ROW(683:683))),\"\")","v":"__SLI_21__RC_N"},"","",null,"__SLI_21__RC_N","","SLI21RCN","__SLI_21__RC_N",1,"______"]
[null,null,null,null,null,null,null,null,null,null,null,null,null,null,null,null,null,null,null,null,null,null,null,null,null,null,{"$f":"IFERROR(INDEX($AE$13:$AE$1003, SMALL(IF(ISBLANK($AE$13:$AE$1003)+ISERROR($AE$13:$AE$1003)+LEN($AE$13:$AE$1003)=0, \"\", ROW($AE$13:$AE$1003)-MIN(ROW($AE$13:$AE$1003))+1), ROW(684:684))),\"\")","v":"__SLI_21__RMA_N"},"","",null,"__SLI_21__RMA_N","","SLI21RMAN","__SLI_21__RMA_N",1,"______"]
[null,null,null,null,null,null,null,null,null,null,null,null,null,null,null,null,null,null,null,null,null,null,null,null,null,null,{"$f":"IFERROR(INDEX($AE$13:$AE$1003, SMALL(IF(ISBLANK($AE$13:$AE$1003)+ISERROR($AE$13:$AE$1003)+LEN($AE$13:$AE$1003)=0, \"\", ROW($AE$13:$AE$1003)-MIN(ROW($AE$13:$AE$1003))+1), ROW(685:685))),\"\")","v":"__SLI_21__TRAN_N"},"","",null,"__SLI_21__TRAN_N","","SLI21TRANN","__SLI_21__TRAN_N",1,"______"]
[null,null,null,null,null,null,null,null,null,null,null,null,null,null,null,null,null,null,null,null,null,null,null,null,null,null,{"$f":"IFERROR(INDEX($AE$13:$AE$1003, SMALL(IF(ISBLANK($AE$13:$AE$1003)+ISERROR($AE$13:$AE$1003)+LEN($AE$13:$AE$1003)=0, \"\", ROW($AE$13:$AE$1003)-MIN(ROW($AE$13:$AE$1003))+1), ROW(686:686))),\"\")","v":"__TBI____Y"},"","",null,"__TBI____Y","","TBIY","__TBI____Y",1,"______"]
[null,null,null,null,null,null,null,null,null,null,null,null,null,null,null,null,null,null,null,null,null,null,null,null,null,null,{"$f":"IFERROR(INDEX($AE$13:$AE$1003, SMALL(IF(ISBLANK($AE$13:$AE$1003)+ISERROR($AE$13:$AE$1003)+LEN($AE$13:$AE$1003)=0, \"\", ROW($AE$13:$AE$1003)-MIN(ROW($AE$13:$AE$1003))+1), ROW(687:687))),\"\")","v":"__TBI_14__D_N"},"","",null,"__TBI_14__D_N","","TBI14DN","__TBI_14__D_N",1,"______"]
[null,null,null,null,null,null,null,null,null,null,null,null,null,null,null,null,null,null,null,null,null,null,null,null,null,null,{"$f":"IFERROR(INDEX($AE$13:$AE$1003, SMALL(IF(ISBLANK($AE$13:$AE$1003)+ISERROR($AE$13:$AE$1003)+LEN($AE$13:$AE$1003)=0, \"\", ROW($AE$13:$AE$1003)-MIN(ROW($AE$13:$AE$1003))+1), ROW(688:688))),\"\")","v":"__TBI_14__DROPOUT_N"},"","",null,"__TBI_14__DROPOUT_N","","TBI14DROPOUTN","__TBI_14__DROPOUT_N",1,"______"]
[null,null,null,null,null,null,null,null,null,null,null,null,null,null,null,null,null,null,null,null,null,null,null,null,null,null,{"$f":"IFERROR(INDEX($AE$13:$AE$1003, SMALL(IF(ISBLANK($AE$13:$AE$1003)+ISERROR($AE$13:$AE$1003)+LEN($AE$13:$AE$1003)=0, \"\", ROW($AE$13:$AE$1003)-MIN(ROW($AE$13:$AE$1003))+1), ROW(689:689))),\"\")","v":"__TBI_14__GHS_N"},"","",null,"__TBI_14__GHS_N","","TBI14GHSN","__TBI_14__GHS_N",1,"______"]
[null,null,null,null,null,null,null,null,null,null,null,null,null,null,null,null,null,null,null,null,null,null,null,null,null,null,{"$f":"IFERROR(INDEX($AE$13:$AE$1003, SMALL(IF(ISBLANK($AE$13:$AE$1003)+ISERROR($AE$13:$AE$1003)+LEN($AE$13:$AE$1003)=0, \"\", ROW($AE$13:$AE$1003)-MIN(ROW($AE$13:$AE$1003))+1), ROW(690:690))),\"\")","v":"__TBI_14__GRADALTDPL_N"},"","",null,"__TBI_14__GRADALTDPL_N","","TBI14GRADALTDPLN","__TBI_14__GRADALTDPL_N",1,"______"]
[null,null,null,null,null,null,null,null,null,null,null,null,null,null,null,null,null,null,null,null,null,null,null,null,null,null,{"$f":"IFERROR(INDEX($AE$13:$AE$1003, SMALL(IF(ISBLANK($AE$13:$AE$1003)+ISERROR($AE$13:$AE$1003)+LEN($AE$13:$AE$1003)=0, \"\", ROW($AE$13:$AE$1003)-MIN(ROW($AE$13:$AE$1003))+1), ROW(691:691))),\"\")","v":"__TBI_14__MKC_N"},"","",null,"__TBI_14__MKC_N","","TBI14MKCN","__TBI_14__MKC_N",1,"______"]
[null,null,null,null,null,null,null,null,null,null,null,null,null,null,null,null,null,null,null,null,null,null,null,null,null,null,{"$f":"IFERROR(INDEX($AE$13:$AE$1003, SMALL(IF(ISBLANK($AE$13:$AE$1003)+ISERROR($AE$13:$AE$1003)+LEN($AE$13:$AE$1003)=0, \"\", ROW($AE$13:$AE$1003)-MIN(ROW($AE$13:$AE$1003))+1), ROW(692:692))),\"\")","v":"__TBI_14__RC_N"},"","",null,"__TBI_14__RC_N","","TBI14RCN","__TBI_14__RC_N",1,"______"]
[null,null,null,null,null,null,null,null,null,null,null,null,null,null,null,null,null,null,null,null,null,null,null,null,null,null,{"$f":"IFERROR(INDEX($AE$13:$AE$1003, SMALL(IF(ISBLANK($AE$13:$AE$1003)+ISERROR($AE$13:$AE$1003)+LEN($AE$13:$AE$1003)=0, \"\", ROW($AE$13:$AE$1003)-MIN(ROW($AE$13:$AE$1003))+1), ROW(693:693))),\"\")","v":"__TBI_14__RMA_N"},"","",null,"__TBI_14__RMA_N","","TBI14RMAN","__TBI_14__RMA_N",1,"______"]
[null,null,null,null,null,null,null,null,null,null,null,null,null,null,null,null,null,null,null,null,null,null,null,null,null,null,{"$f":"IFERROR(INDEX($AE$13:$AE$1003, SMALL(IF(ISBLANK($AE$13:$AE$1003)+ISERROR($AE$13:$AE$1003)+LEN($AE$13:$AE$1003)=0, \"\", ROW($AE$13:$AE$1003)-MIN(ROW($AE$13:$AE$1003))+1), ROW(694:694))),\"\")","v":"__TBI_14__TRAN_N"},"","",null,"__TBI_14__TRAN_N","","TBI14TRANN","__TBI_14__TRAN_N",1,"______"]
[null,null,null,null,null,null,null,null,null,null,null,null,null,null,null,null,null,null,null,null,null,null,null,null,null,null,{"$f":"IFERROR(INDEX($AE$13:$AE$1003, SMALL(IF(ISBLANK($AE$13:$AE$1003)+ISERROR($AE$13:$AE$1003)+LEN($AE$13:$AE$1003)=0, \"\", ROW($AE$13:$AE$1003)-MIN(ROW($AE$13:$AE$1003))+1), ROW(695:695))),\"\")","v":"__TBI_15__D_N"},"","",null,"__TBI_15__D_N","","TBI15DN","__TBI_15__D_N",1,"______"]
[null,null,null,null,null,null,null,null,null,null,null,null,null,null,null,null,null,null,null,null,null,null,null,null,null,null,{"$f":"IFERROR(INDEX($AE$13:$AE$1003, SMALL(IF(ISBLANK($AE$13:$AE$1003)+ISERROR($AE$13:$AE$1003)+LEN($AE$13:$AE$1003)=0, \"\", ROW($AE$13:$AE$1003)-MIN(ROW($AE$13:$AE$1003))+1), ROW(696:696))),\"\")","v":"__TBI_15__DROPOUT_N"},"","",null,"__TBI_15__DROPOUT_N","","TBI15DROPOUTN","__TBI_15__DROPOUT_N",1,"______"]
[null,null,null,null,null,null,null,null,null,null,null,null,null,null,null,null,null,null,null,null,null,null,null,null,null,null,{"$f":"IFERROR(INDEX($AE$13:$AE$1003, SMALL(IF(ISBLANK($AE$13:$AE$1003)+ISERROR($AE$13:$AE$1003)+LEN($AE$13:$AE$1003)=0, \"\", ROW($AE$13:$AE$1003)-MIN(ROW($AE$13:$AE$1003))+1), ROW(697:697))),\"\")","v":"__TBI_15__GHS_N"},"","",null,"__TBI_15__GHS_N","","TBI15GHSN","__TBI_15__GHS_N",1,"______"]
[null,null,null,null,null,null,null,null,null,null,null,null,null,null,null,null,null,null,null,null,null,null,null,null,null,null,{"$f":"IFERROR(INDEX($AE$13:$AE$1003, SMALL(IF(ISBLANK($AE$13:$AE$1003)+ISERROR($AE$13:$AE$1003)+LEN($AE$13:$AE$1003)=0, \"\", ROW($AE$13:$AE$1003)-MIN(ROW($AE$13:$AE$1003))+1), ROW(698:698))),\"\")","v":"__TBI_15__GRADALTDPL_N"},"","",null,"__TBI_15__GRADALTDPL_N","","TBI15GRADALTDPLN","__TBI_15__GRADALTDPL_N",1,"______"]
[null,null,null,null,null,null,null,null,null,null,null,null,null,null,null,null,null,null,null,null,null,null,null,null,null,null,{"$f":"IFERROR(INDEX($AE$13:$AE$1003, SMALL(IF(ISBLANK($AE$13:$AE$1003)+ISERROR($AE$13:$AE$1003)+LEN($AE$13:$AE$1003)=0, \"\", ROW($AE$13:$AE$1003)-MIN(ROW($AE$13:$AE$1003))+1), ROW(699:699))),\"\")","v":"__TBI_15__MKC_N"},"","",null,"__TBI_15__MKC_N","","TBI15MKCN","__TBI_15__MKC_N",1,"______"]
[null,null,null,null,null,null,null,null,null,null,null,null,null,null,null,null,null,null,null,null,null,null,null,null,null,null,{"$f":"IFERROR(INDEX($AE$13:$AE$1003, SMALL(IF(ISBLANK($AE$13:$AE$1003)+ISERROR($AE$13:$AE$1003)+LEN($AE$13:$AE$1003)=0, \"\", ROW($AE$13:$AE$1003)-MIN(ROW($AE$13:$AE$1003))+1), ROW(700:700))),\"\")","v":"__TBI_15__RC_N"},"","",null,"__TBI_15__RC_N","","TBI15RCN","__TBI_15__RC_N",1,"______"]
[null,null,null,null,null,null,null,null,null,null,null,null,null,null,null,null,null,null,null,null,null,null,null,null,null,null,{"$f":"IFERROR(INDEX($AE$13:$AE$1003, SMALL(IF(ISBLANK($AE$13:$AE$1003)+ISERROR($AE$13:$AE$1003)+LEN($AE$13:$AE$1003)=0, \"\", ROW($AE$13:$AE$1003)-MIN(ROW($AE$13:$AE$1003))+1), ROW(701:701))),\"\")","v":"__TBI_15__RMA_N"},"","",null,"__TBI_15__RMA_N","","TBI15RMAN","__TBI_15__RMA_N",1,"______"]
[null,null,null,null,null,null,null,null,null,null,null,null,null,null,null,null,null,null,null,null,null,null,null,null,null,null,{"$f":"IFERROR(INDEX($AE$13:$AE$1003, SMALL(IF(ISBLANK($AE$13:$AE$1003)+ISERROR($AE$13:$AE$1003)+LEN($AE$13:$AE$1003)=0, \"\", ROW($AE$13:$AE$1003)-MIN(ROW($AE$13:$AE$1003))+1), ROW(702:702))),\"\")","v":"__TBI_15__TRAN_N"},"","",null,"__TBI_15__TRAN_N","","TBI15TRANN","__TBI_15__TRAN_N",1,"______"]
[null,null,null,null,null,null,null,null,null,null,null,null,null,null,null,null,null,null,null,null,null,null,null,null,null,null,{"$f":"IFERROR(INDEX($AE$13:$AE$1003, SMALL(IF(ISBLANK($AE$13:$AE$1003)+ISERROR($AE$13:$AE$1003)+LEN($AE$13:$AE$1003)=0, \"\", ROW($AE$13:$AE$1003)-MIN(ROW($AE$13:$AE$1003))+1), ROW(703:703))),\"\")","v":"__TBI_16__D_N"},"","",null,"__TBI_16__D_N","","TBI16DN","__TBI_16__D_N",1,"______"]
[null,null,null,null,null,null,null,null,null,null,null,null,null,null,null,null,null,null,null,null,null,null,null,null,null,null,{"$f":"IFERROR(INDEX($AE$13:$AE$1003, SMALL(IF(ISBLANK($AE$13:$AE$1003)+ISERROR($AE$13:$AE$1003)+LEN($AE$13:$AE$1003)=0, \"\", ROW($AE$13:$AE$1003)-MIN(ROW($AE$13:$AE$1003))+1), ROW(704:704))),\"\")","v":"__TBI_16__DROPOUT_N"},"","",null,"__TBI_16__DROPOUT_N","","TBI16DROPOUTN","__TBI_16__DROPOUT_N",1,"______"]
[null,null,null,null,null,null,null,null,null,null,null,null,null,null,null,null,null,null,null,null,null,null,null,null,null,null,{"$f":"IFERROR(INDEX($AE$13:$AE$1003, SMALL(IF(ISBLANK($AE$13:$AE$1003)+ISERROR($AE$13:$AE$1003)+LEN($AE$13:$AE$1003)=0, \"\", ROW($AE$13:$AE$1003)-MIN(ROW($AE$13:$AE$1003))+1), ROW(705:705))),\"\")","v":"__TBI_16__GHS_N"},{"$f":"IF(AF717=\"\",\"\",IF(COUNTIF(CurrentListing,AF717)>1,AJ717,\"\"))","v":""},{"$f":"IF(LEN(AF717)=0,\"\",IF(ISNA(MATCH(AF717,MasterListing,0)),AJ717,\"\"))","v":""},null,{"$f":"IF(LEN(AG717)=0,\"\",IF(ISNA(MATCH(AG717,CurrentListing,0)),AH717,\"\"))","v":"__TBI_16__GHS_N"},{"$f":"H717&I717&P717&Q717&R717&V717&W717","v":""},"TBI16GHSN","__TBI_16__GHS_N",1,"______"]
[null,null,null,null,null,null,null,null,null,null,null,null,null,null,null,null,null,null,null,null,null,null,null,null,null,null,{"$f":"IFERROR(INDEX($AE$13:$AE$1003, SMALL(IF(ISBLANK($AE$13:$AE$1003)+ISERROR($AE$13:$AE$1003)+LEN($AE$13:$AE$1003)=0, \"\", ROW($AE$13:$AE$1003)-MIN(ROW($AE$13:$AE$1003))+1), ROW(706:706))),\"\")","v":"__TBI_16__GRADALTDPL_N"},"","",null,"__TBI_16__GRADALTDPL_N","","TBI16GRADALTDPLN","__TBI_16__GRADALTDPL_N",{"$f":"IF(LEN(AA718)>0,1,0)","v":1},{"$f":"H718&\"_\"&I718&\"_\"&P718&\"_\"&Q718&\"_\"&R718&\"_\"&V718&\"_\"&W718","v":"______"}]
[null,null,null,null,null,null,null,null,null,null,null,null,null,null,null,null,null,null,null,null,null,null,null,null,null,null,{"$f":"IFERROR(INDEX($AE$13:$AE$1003, SMALL(IF(ISBLANK($AE$13:$AE$1003)+ISERROR($AE$13:$AE$1003)+LEN($AE$13:$AE$1003)=0, \"\", ROW($AE$13:$AE$1003)-MIN(ROW($AE$13:$AE$1003))+1), ROW(707:707))),\"\")","v":"__TBI_16__MKC_N"},"","",null,"__TBI_16__MKC_N","","TBI16MKCN","__TBI_16__MKC_N",1,"______"]
[null,null,null,null,null,null,null,null,null,null,null,null,null,null,null,null,null,null,null,null,null,null,null,null,null,null,{"$f":"IFERROR(INDEX($AE$13:$AE$1003, SMALL(IF(ISBLANK($AE$13:$AE$1003)+ISERROR($AE$13:$AE$1003)+LEN($AE$13:$AE$1003)=0, \"\", ROW($AE$13:$AE$1003)-MIN(ROW($AE$13:$AE$1003))+1), ROW(708:708))),\"\")","v":"__TBI_16__RC_N"},"","",null,"__TBI_16__RC_N","","TBI16RCN","__TBI_16__RC_N",1,"______"]
[null,null,null,null,null,null,null,null,null,null,null,null,null,null,null,null,null,null,null,null,null,null,null,null,null,null,{"$f":"IFERROR(INDEX($AE$13:$AE$1003, SMALL(IF(ISBLANK($AE$13:$AE$1003)+ISERROR($AE$13:$AE$1003)+LEN($AE$13:$AE$1003)=0, \"\", ROW($AE$13:$AE$1003)-MIN(ROW($AE$13:$AE$1003))+1), ROW(709:709))),\"\")","v":"__TBI_16__RMA_N"},"","",null,"__TBI_16__RMA_N","","TBI16RMAN","__TBI_16__RMA_N",1,"______"]
[null,null,null,null,null,null,null,null,null,null,null,null,null,null,null,null,null,null,null,null,null,null,null,null,null,null,{"$f":"IFERROR(INDEX($AE$13:$AE$1003, SMALL(IF(ISBLANK($AE$13:$AE$1003)+ISERROR($AE$13:$AE$1003)+LEN($AE$13:$AE$1003)=0, \"\", ROW($AE$13:$AE$1003)-MIN(ROW($AE$13:$AE$1003))+1), ROW(710:710))),\"\")","v":"__TBI_16__TRAN_N"},"","",null,"__TBI_16__TRAN_N","","TBI16TRANN","__TBI_16__TRAN_N",1,"______"]
[null,null,null,null,null,null,null,null,null,null,null,null,null,null,null,null,null,null,null,null,null,null,null,null,null,null,{"$f":"IFERROR(INDEX($AE$13:$AE$1003, SMALL(IF(ISBLANK($AE$13:$AE$1003)+ISERROR($AE$13:$AE$1003)+LEN($AE$13:$AE$1003)=0, \"\", ROW($AE$13:$AE$1003)-MIN(ROW($AE$13:$AE$1003))+1), ROW(711:711))),\"\")","v":"__TBI_17__D_N"},"","",null,"__TBI_17__D_N","","TBI17DN","__TBI_17__D_N",1,"______"]
[null,null,null,null,null,null,null,null,null,null,null,null,null,null,null,null,null,null,null,null,null,null,null,null,null,null,{"$f":"IFERROR(INDEX($AE$13:$AE$1003, SMALL(IF(ISBLANK($AE$13:$AE$1003)+ISERROR($AE$13:$AE$1003)+LEN($AE$13:$AE$1003)=0, \"\", ROW($AE$13:$AE$1003)-MIN(ROW($AE$13:$AE$1003))+1), ROW(712:712))),\"\")","v":"__TBI_17__DROPOUT_N"},"","",null,"__TBI_17__DROPOUT_N","","TBI17DROPOUTN","__TBI_17__DROPOUT_N",1,"______"]
[null,null,null,null,null,null,null,null,null,null,null,null,null,null,null,null,null,null,null,null,null,null,null,null,null,null,{"$f":"IFERROR(INDEX($AE$13:$AE$1003, SMALL(IF(ISBLANK($AE$13:$AE$1003)+ISERROR($AE$13:$AE$1003)+LEN($AE$13:$AE$1003)=0, \"\", ROW($AE$13:$AE$1003)-MIN(ROW($AE$13:$AE$1003))+1), ROW(713:713))),\"\")","v":"__TBI_17__GHS_N"},"","",null,"__TBI_17__GHS_N","","TBI17GHSN","__TBI_17__GHS_N",1,"______"]
[null,null,null,null,null,null,null,null,null,null,null,null,null,null,null,null,null,null,null,null,null,null,null,null,null,null,{"$f":"IFERROR(INDEX($AE$13:$AE$1003, SMALL(IF(ISBLANK($AE$13:$AE$1003)+ISERROR($AE$13:$AE$1003)+LEN($AE$13:$AE$1003)=0, \"\", ROW($AE$13:$AE$1003)-MIN(ROW($AE$13:$AE$1003))+1), ROW(714:714))),\"\")","v":"__TBI_17__GRADALTDPL_N"},"","",null,"__TBI_17__GRADALTDPL_N","","TBI17GRADALTDPLN","__TBI_17__GRADALTDPL_N",1,"______"]
[null,null,null,null,null,null,null,null,null,null,null,null,null,null,null,null,null,null,null,null,null,null,null,null,null,null,{"$f":"IFERROR(INDEX($AE$13:$AE$1003, SMALL(IF(ISBLANK($AE$13:$AE$1003)+ISERROR($AE$13:$AE$1003)+LEN($AE$13:$AE$1003)=0, \"\", ROW($AE$13:$AE$1003)-MIN(ROW($AE$13:$AE$1003))+1), ROW(715:715))),\"\")","v":"__TBI_17__MKC_N"},"","",null,"__TBI_17__MKC_N","","TBI17MKCN","__TBI_17__MKC_N",1,"______"]
[null,null,null,null,null,null,null,null,null,null,null,null,null,null,null,null,null,null,null,null,null,null,null,null,null,null,{"$f":"IFERROR(INDEX($AE$13:$AE$1003, SMALL(IF(ISBLANK($AE$13:$AE$1003)+ISERROR($AE$13:$AE$1003)+LEN($AE$13:$AE$1003)=0, \"\", ROW($AE$13:$AE$1003)-MIN(ROW($AE$13:$AE$1003))+1), ROW(716:716))),\"\")","v":"__TBI_17__RC_N"},"","",null,"__TBI_17__RC_N","","TBI17RCN","__TBI_17__RC_N",1,"______"]
[null,null,null,null,null,null,null,null,null,null,null,null,null,null,null,null,null,null,null,null,null,null,null,null,null,null,{"$f":"IFERROR(INDEX($AE$13:$AE$1003, SMALL(IF(ISBLANK($AE$13:$AE$1003)+ISERROR($AE$13:$AE$1003)+LEN($AE$13:$AE$1003)=0, \"\", ROW($AE$13:$AE$1003)-MIN(ROW($AE$13:$AE$1003))+1), ROW(717:717))),\"\")","v":"__TBI_17__RMA_N"},"","",null,"__TBI_17__RMA_N","","TBI17RMAN","__TBI_17__RMA_N",1,"______"]
[null,null,null,null,null,null,null,null,null,null,null,null,null,null,null,null,null,null,null,null,null,null,null,null,null,null,{"$f":"IFERROR(INDEX($AE$13:$AE$1003, SMALL(IF(ISBLANK($AE$13:$AE$1003)+ISERROR($AE$13:$AE$1003)+LEN($AE$13:$AE$1003)=0, \"\", ROW($AE$13:$AE$1003)-MIN(ROW($AE$13:$AE$1003))+1), ROW(718:718))),\"\")","v":"__TBI_17__TRAN_N"},"","",null,"__TBI_17__TRAN_N","","TBI17TRANN","__TBI_17__TRAN_N",1,"______"]
[null,null,null,null,null,null,null,null,null,null,null,null,null,null,null,null,null,null,null,null,null,null,null,null,null,null,{"$f":"IFERROR(INDEX($AE$13:$AE$1003, SMALL(IF(ISBLANK($AE$13:$AE$1003)+ISERROR($AE$13:$AE$1003)+LEN($AE$13:$AE$1003)=0, \"\", ROW($AE$13:$AE$1003)-MIN(ROW($AE$13:$AE$1003))+1), ROW(719:719))),\"\")","v":"__TBI_18__D_N"},"","",null,"__TBI_18__D_N","","TBI18DN","__TBI_18__D_N",1,"______"]
[null,null,null,null,null,null,null,null,null,null,null,null,null,null,null,null,null,null,null,null,null,null,null,null,null,null,{"$f":"IFERROR(INDEX($AE$13:$AE$1003, SMALL(IF(ISBLANK($AE$13:$AE$1003)+ISERROR($AE$13:$AE$1003)+LEN($AE$13:$AE$1003)=0, \"\", ROW($AE$13:$AE$1003)-MIN(ROW($AE$13:$AE$1003))+1), ROW(720:720))),\"\")","v":"__TBI_18__DROPOUT_N"},"","",null,"__TBI_18__DROPOUT_N","","TBI18DROPOUTN","__TBI_18__DROPOUT_N",1,"______"]
[null,null,null,null,null,null,null,null,null,null,null,null,null,null,null,null,null,null,null,null,null,null,null,null,null,null,{"$f":"IFERROR(INDEX($AE$13:$AE$1003, SMALL(IF(ISBLANK($AE$13:$AE$1003)+ISERROR($AE$13:$AE$1003)+LEN($AE$13:$AE$1003)=0, \"\", ROW($AE$13:$AE$1003)-MIN(ROW($AE$13:$AE$1003))+1), ROW(721:721))),\"\")","v":"__TBI_18__GHS_N"},"","",null,"__TBI_18__GHS_N","","TBI18GHSN","__TBI_18__GHS_N",1,"______"]
[null,null,null,null,null,null,null,null,null,null,null,null,null,null,null,null,null,null,null,null,null,null,null,null,null,null,{"$f":"IFERROR(INDEX($AE$13:$AE$1003, SMALL(IF(ISBLANK($AE$13:$AE$1003)+ISERROR($AE$13:$AE$1003)+LEN($AE$13:$AE$1003)=0, \"\", ROW($AE$13:$AE$1003)-MIN(ROW($AE$13:$AE$1003))+1), ROW(722:722))),\"\")","v":"__TBI_18__GRADALTDPL_N"},"","",null,"__TBI_18__GRADALTDPL_N","","TBI18GRADALTDPLN","__TBI_18__GRADALTDPL_N",1,"______"]
[null,null,null,null,null,null,null,null,null,null,null,null,null,null,null,null,null,null,null,null,null,null,null,null,null,null,{"$f":"IFERROR(INDEX($AE$13:$AE$1003, SMALL(IF(ISBLANK($AE$13:$AE$1003)+ISERROR($AE$13:$AE$1003)+LEN($AE$13:$AE$1003)=0, \"\", ROW($AE$13:$AE$1003)-MIN(ROW($AE$13:$AE$1003))+1), ROW(723:723))),\"\")","v":"__TBI_18__MKC_N"},"","",null,"__TBI_18__MKC_N","","TBI18MKCN","__TBI_18__MKC_N",1,"______"]
[null,null,null,null,null,null,null,null,null,null,null,null,null,null,null,null,null,null,null,null,null,null,null,null,null,null,{"$f":"IFERROR(INDEX($AE$13:$AE$1003, SMALL(IF(ISBLANK($AE$13:$AE$1003)+ISERROR($AE$13:$AE$1003)+LEN($AE$13:$AE$1003)=0, \"\", ROW($AE$13:$AE$1003)-MIN(ROW($AE$13:$AE$1003))+1), ROW(724:724))),\"\")","v":"__TBI_18__RC_N"},"","",null,"__TBI_18__RC_N","","TBI18RCN","__TBI_18__RC_N",1,"______"]
[null,null,null,null,null,null,null,null,null,null,null,null,null,null,null,null,null,null,null,null,null,null,null,null,null,null,{"$f":"IFERROR(INDEX($AE$13:$AE$1003, SMALL(IF(ISBLANK($AE$13:$AE$1003)+ISERROR($AE$13:$AE$1003)+LEN($AE$13:$AE$1003)=0, \"\", ROW($AE$13:$AE$1003)-MIN(ROW($AE$13:$AE$1003))+1), ROW(725:725))),\"\")","v":"__TBI_18__RMA_N"},"","",null,"__TBI_18__RMA_N","","TBI18RMAN","__TBI_18__RMA_N",1,"______"]
[null,null,null,null,null,null,null,null,null,null,null,null,null,null,null,null,null,null,null,null,null,null,null,null,null,null,{"$f":"IFERROR(INDEX($AE$13:$AE$1003, SMALL(IF(ISBLANK($AE$13:$AE$1003)+ISERROR($AE$13:$AE$1003)+LEN($AE$13:$AE$1003)=0, \"\", ROW($AE$13:$AE$1003)-MIN(ROW($AE$13:$AE$1003))+1), ROW(726:726))),\"\")","v":"__TBI_18__TRAN_N"},"","",null,"__TBI_18__TRAN_N","","TBI18TRANN","__TBI_18__TRAN_N",1,"______"]
[null,null,null,null,null,null,null,null,null,null,null,null,null,null,null,null,null,null,null,null,null,null,null,null,null,null,{"$f":"IFERROR(INDEX($AE$13:$AE$1003, SMALL(IF(ISBLANK($AE$13:$AE$1003)+ISERROR($AE$13:$AE$1003)+LEN($AE$13:$AE$1003)=0, \"\", ROW($AE$13:$AE$1003)-MIN(ROW($AE$13:$AE$1003))+1), ROW(727:727))),\"\")","v":"__TBI_19__D_N"},"","",null,"__TBI_19__D_N","","TBI19DN","__TBI_19__D_N",1,"______"]
[null,null,null,null,null,null,null,null,null,null,null,null,null,null,null,null,null,null,null,null,null,null,null,null,null,null,{"$f":"IFERROR(INDEX($AE$13:$AE$1003, SMALL(IF(ISBLANK($AE$13:$AE$1003)+ISERROR($AE$13:$AE$1003)+LEN($AE$13:$AE$1003)=0, \"\", ROW($AE$13:$AE$1003)-MIN(ROW($AE$13:$AE$1003))+1), ROW(728:728))),\"\")","v":"__TBI_19__DROPOUT_N"},"","",null,"__TBI_19__DROPOUT_N","","TBI19DROPOUTN","__TBI_19__DROPOUT_N",1,"______"]
[null,null,null,null,null,null,null,null,null,null,null,null,null,null,null,null,null,null,null,null,null,null,null,null,null,null,{"$f":"IFERROR(INDEX($AE$13:$AE$1003, SMALL(IF(ISBLANK($AE$13:$AE$1003)+ISERROR($AE$13:$AE$1003)+LEN($AE$13:$AE$1003)=0, \"\", ROW($AE$13:$AE$1003)-MIN(ROW($AE$13:$AE$1003))+1), ROW(729:729))),\"\")","v":"__TBI_19__GHS_N"},"","",null,"__TBI_19__GHS_N","","TBI19GHSN","__TBI_19__GHS_N",1,"______"]
[null,null,null,null,null,null,null,null,null,null,null,null,null,null,null,null,null,null,null,null,null,null,null,null,null,null,{"$f":"IFERROR(INDEX($AE$13:$AE$1003, SMALL(IF(ISBLANK($AE$13:$AE$1003)+ISERROR($AE$13:$AE$1003)+LEN($AE$13:$AE$1003)=0, \"\", ROW($AE$13:$AE$1003)-MIN(ROW($AE$13:$AE$1003))+1), ROW(730:730))),\"\")","v":"__TBI_19__GRADALTDPL_N"},"","",null,"__TBI_19__GRADALTDPL_N","","TBI19GRADALTDPLN","__TBI_19__GRADALTDPL_N",1,"______"]
[null,null,null,null,null,null,null,null,null,null,null,null,null,null,null,null,null,null,null,null,null,null,null,null,null,null,{"$f":"IFERROR(INDEX($AE$13:$AE$1003, SMALL(IF(ISBLANK($AE$13:$AE$1003)+ISERROR($AE$13:$AE$1003)+LEN($AE$13:$AE$1003)=0, \"\", ROW($AE$13:$AE$1003)-MIN(ROW($AE$13:$AE$1003))+1), ROW(731:731))),\"\")","v":"__TBI_19__MKC_N"},"","",null,"__TBI_19__MKC_N","","TBI19MKCN","__TBI_19__MKC_N",1,"______"]
[null,null,null,null,null,null,null,null,null,null,null,null,null,null,null,null,null,null,null,null,null,null,null,null,null,null,{"$f":"IFERROR(INDEX($AE$13:$AE$1003, SMALL(IF(ISBLANK($AE$13:$AE$1003)+ISERROR($AE$13:$AE$1003)+LEN($AE$13:$AE$1003)=0, \"\", ROW($AE$13:$AE$1003)-MIN(ROW($AE$13:$AE$1003))+1), ROW(732:732))),\"\")","v":"__TBI_19__RC_N"},"","",null,"__TBI_19__RC_N","","TBI19RCN","__TBI_19__RC_N",1,"______"]
[null,null,null,null,null,null,null,null,null,null,null,null,null,null,null,null,null,null,null,null,null,null,null,null,null,null,{"$f":"IFERROR(INDEX($AE$13:$AE$1003, SMALL(IF(ISBLANK($AE$13:$AE$1003)+ISERROR($AE$13:$AE$1003)+LEN($AE$13:$AE$1003)=0, \"\", ROW($AE$13:$AE$1003)-MIN(ROW($AE$13:$AE$1003))+1), ROW(733:733))),\"\")","v":"__TBI_19__RMA_N"},"","",null,"__TBI_19__RMA_N","","TBI19RMAN","__TBI_19__RMA_N",1,"______"]
[null,null,null,null,null,null,null,null,null,null,null,null,null,null,null,null,null,null,null,null,null,null,null,null,null,null,{"$f":"IFERROR(INDEX($AE$13:$AE$1003, SMALL(IF(ISBLANK($AE$13:$AE$1003)+ISERROR($AE$13:$AE$1003)+LEN($AE$13:$AE$1003)=0, \"\", ROW($AE$13:$AE$1003)-MIN(ROW($AE$13:$AE$1003))+1), ROW(734:734))),\"\")","v":"__TBI_19__TRAN_N"},"","",null,"__TBI_19__TRAN_N","","TBI19TRANN","__TBI_19__TRAN_N",1,"______"]
[null,null,null,null,null,null,null,null,null,null,null,null,null,null,null,null,null,null,null,null,null,null,null,null,null,null,{"$f":"IFERROR(INDEX($AE$13:$AE$1003, SMALL(IF(ISBLANK($AE$13:$AE$1003)+ISERROR($AE$13:$AE$1003)+LEN($AE$13:$AE$1003)=0, \"\", ROW($AE$13:$AE$1003)-MIN(ROW($AE$13:$AE$1003))+1), ROW(735:735))),\"\")","v":"__TBI_20__D_N"},"","",null,"__TBI_20__D_N","","TBI20DN","__TBI_20__D_N",1,"______"]
[null,null,null,null,null,null,null,null,null,null,null,null,null,null,null,null,null,null,null,null,null,null,null,null,null,null,{"$f":"IFERROR(INDEX($AE$13:$AE$1003, SMALL(IF(ISBLANK($AE$13:$AE$1003)+ISERROR($AE$13:$AE$1003)+LEN($AE$13:$AE$1003)=0, \"\", ROW($AE$13:$AE$1003)-MIN(ROW($AE$13:$AE$1003))+1), ROW(736:736))),\"\")","v":"__TBI_20__DROPOUT_N"},"","",null,"__TBI_20__DROPOUT_N","","TBI20DROPOUTN","__TBI_20__DROPOUT_N",1,"______"]
[null,null,null,null,null,null,null,null,null,null,null,null,null,null,null,null,null,null,null,null,null,null,null,null,null,null,{"$f":"IFERROR(INDEX($AE$13:$AE$1003, SMALL(IF(ISBLANK($AE$13:$AE$1003)+ISERROR($AE$13:$AE$1003)+LEN($AE$13:$AE$1003)=0, \"\", ROW($AE$13:$AE$1003)-MIN(ROW($AE$13:$AE$1003))+1), ROW(737:737))),\"\")","v":"__TBI_20__GHS_N"},"","",null,"__TBI_20__GHS_N","","TBI20GHSN","__TBI_20__GHS_N",1,"______"]
[null,null,null,null,null,null,null,null,null,null,null,null,null,null,null,null,null,null,null,null,null,null,null,null,null,null,{"$f":"IFERROR(INDEX($AE$13:$AE$1003, SMALL(IF(ISBLANK($AE$13:$AE$1003)+ISERROR($AE$13:$AE$1003)+LEN($AE$13:$AE$1003)=0, \"\", ROW($AE$13:$AE$1003)-MIN(ROW($AE$13:$AE$1003))+1), ROW(738:738))),\"\")","v":"__TBI_20__GRADALTDPL_N"},"","",null,"__TBI_20__GRADALTDPL_N","","TBI20GRADALTDPLN","__TBI_20__GRADALTDPL_N",1,"______"]
[null,null,null,null,null,null,null,null,null,null,null,null,null,null,null,null,null,null,null,null,null,null,null,null,null,null,{"$f":"IFERROR(INDEX($AE$13:$AE$1003, SMALL(IF(ISBLANK($AE$13:$AE$1003)+ISERROR($AE$13:$AE$1003)+LEN($AE$13:$AE$1003)=0, \"\", ROW($AE$13:$AE$1003)-MIN(ROW($AE$13:$AE$1003))+1), ROW(739:739))),\"\")","v":"__TBI_20__MKC_N"},"","",null,"__TBI_20__MKC_N","","TBI20MKCN","__TBI_20__MKC_N",1,"______"]
[null,null,null,null,null,null,null,null,null,null,null,null,null,null,null,null,null,null,null,null,null,null,null,null,null,null,{"$f":"IFERROR(INDEX($AE$13:$AE$1003, SMALL(IF(ISBLANK($AE$13:$AE$1003)+ISERROR($AE$13:$AE$1003)+LEN($AE$13:$AE$1003)=0, \"\", ROW($AE$13:$AE$1003)-MIN(ROW($AE$13:$AE$1003))+1), ROW(740:740))),\"\")","v":"__TBI_20__RC_N"},"","",null,"__TBI_20__RC_N","","TBI20RCN","__TBI_20__RC_N",1,"______"]
[null,null,null,null,null,null,null,null,null,null,null,null,null,null,null,null,null,null,null,null,null,null,null,null,null,null,{"$f":"IFERROR(INDEX($AE$13:$AE$1003, SMALL(IF(ISBLANK($AE$13:$AE$1003)+ISERROR($AE$13:$AE$1003)+LEN($AE$13:$AE$1003)=0, \"\", ROW($AE$13:$AE$1003)-MIN(ROW($AE$13:$AE$1003))+1), ROW(741:741))),\"\")","v":"__TBI_20__RMA_N"},"","",null,"__TBI_20__RMA_N","","TBI20RMAN","__TBI_20__RMA_N",1,"______"]
[null,null,null,null,null,null,null,null,null,null,null,null,null,null,null,null,null,null,null,null,null,null,null,null,null,null,{"$f":"IFERROR(INDEX($AE$13:$AE$1003, SMALL(IF(ISBLANK($AE$13:$AE$1003)+ISERROR($AE$13:$AE$1003)+LEN($AE$13:$AE$1003)=0, \"\", ROW($AE$13:$AE$1003)-MIN(ROW($AE$13:$AE$1003))+1), ROW(742:742))),\"\")","v":"__TBI_20__TRAN_N"},"","",null,"__TBI_20__TRAN_N","","TBI20TRANN","__TBI_20__TRAN_N",1,"______"]
[null,null,null,null,null,null,null,null,null,null,null,null,null,null,null,null,null,null,null,null,null,null,null,null,null,null,{"$f":"IFERROR(INDEX($AE$13:$AE$1003, SMALL(IF(ISBLANK($AE$13:$AE$1003)+ISERROR($AE$13:$AE$1003)+LEN($AE$13:$AE$1003)=0, \"\", ROW($AE$13:$AE$1003)-MIN(ROW($AE$13:$AE$1003))+1), ROW(743:743))),\"\")","v":"__TBI_21__D_N"},"","",null,"__TBI_21__D_N","","TBI21DN","__TBI_21__D_N",1,"______"]
[null,null,null,null,null,null,null,null,null,null,null,null,null,null,null,null,null,null,null,null,null,null,null,null,null,null,{"$f":"IFERROR(INDEX($AE$13:$AE$1003, SMALL(IF(ISBLANK($AE$13:$AE$1003)+ISERROR($AE$13:$AE$1003)+LEN($AE$13:$AE$1003)=0, \"\", ROW($AE$13:$AE$1003)-MIN(ROW($AE$13:$AE$1003))+1), ROW(744:744))),\"\")","v":"__TBI_21__DROPOUT_N"},"","",null,"__TBI_21__DROPOUT_N","","TBI21DROPOUTN","__TBI_21__DROPOUT_N",1,"______"]
[null,null,null,null,null,null,null,null,null,null,null,null,null,null,null,null,null,null,null,null,null,null,null,null,null,null,{"$f":"IFERROR(INDEX($AE$13:$AE$1003, SMALL(IF(ISBLANK($AE$13:$AE$1003)+ISERROR($AE$13:$AE$1003)+LEN($AE$13:$AE$1003)=0, \"\", ROW($AE$13:$AE$1003)-MIN(ROW($AE$13:$AE$1003))+1), ROW(745:745))),\"\")","v":"__TBI_21__GHS_N"},"","",null,"__TBI_21__GHS_N","","TBI21GHSN","__TBI_21__GHS_N",1,"______"]
[null,null,null,null,null,null,null,null,null,null,null,null,null,null,null,null,null,null,null,null,null,null,null,null,null,null,{"$f":"IFERROR(INDEX($AE$13:$AE$1003, SMALL(IF(ISBLANK($AE$13:$AE$1003)+ISERROR($AE$13:$AE$1003)+LEN($AE$13:$AE$1003)=0, \"\", ROW($AE$13:$AE$1003)-MIN(ROW($AE$13:$AE$1003))+1), ROW(746:746))),\"\")","v":"__TBI_21__GRADALTDPL_N"},"","",null,"__TBI_21__GRADALTDPL_N","","TBI21GRADALTDPLN","__TBI_21__GRADALTDPL_N",1,"______"]
[null,null,null,null,null,null,null,null,null,null,null,null,null,null,null,null,null,null,null,null,null,null,null,null,null,null,{"$f":"IFERROR(INDEX($AE$13:$AE$1003, SMALL(IF(ISBLANK($AE$13:$AE$1003)+ISERROR($AE$13:$AE$1003)+LEN($AE$13:$AE$1003)=0, \"\", ROW($AE$13:$AE$1003)-MIN(ROW($AE$13:$AE$1003))+1), ROW(747:747))),\"\")","v":"__TBI_21__MKC_N"},"","",null,"__TBI_21__MKC_N","","TBI21MKCN","__TBI_21__MKC_N",1,"______"]
[null,null,null,null,null,null,null,null,null,null,null,null,null,null,null,null,null,null,null,null,null,null,null,null,null,null,{"$f":"IFERROR(INDEX($AE$13:$AE$1003, SMALL(IF(ISBLANK($AE$13:$AE$1003)+ISERROR($AE$13:$AE$1003)+LEN($AE$13:$AE$1003)=0, \"\", ROW($AE$13:$AE$1003)-MIN(ROW($AE$13:$AE$1003))+1), ROW(748:748))),\"\")","v":"__TBI_21__RC_N"},"","",null,"__TBI_21__RC_N","","TBI21RCN","__TBI_21__RC_N",1,"______"]
[null,null,null,null,null,null,null,null,null,null,null,null,null,null,null,null,null,null,null,null,null,null,null,null,null,null,{"$f":"IFERROR(INDEX($AE$13:$AE$1003, SMALL(IF(ISBLANK($AE$13:$AE$1003)+ISERROR($AE$13:$AE$1003)+LEN($AE$13:$AE$1003)=0, \"\", ROW($AE$13:$AE$1003)-MIN(ROW($AE$13:$AE$1003))+1), ROW(749:749))),\"\")","v":"__TBI_21__RMA_N"},"","",null,"__TBI_21__RMA_N","","TBI21RMAN","__TBI_21__RMA_N",1,"______"]
[null,null,null,null,null,null,null,null,null,null,null,null,null,null,null,null,null,null,null,null,null,null,null,null,null,null,{"$f":"IFERROR(INDEX($AE$13:$AE$1003, SMALL(IF(ISBLANK($AE$13:$AE$1003)+ISERROR($AE$13:$AE$1003)+LEN($AE$13:$AE$1003)=0, \"\", ROW($AE$13:$AE$1003)-MIN(ROW($AE$13:$AE$1003))+1), ROW(750:750))),\"\")","v":"__TBI_21__TRAN_N"},"","",null,"__TBI_21__TRAN_N","","TBI21TRANN","__TBI_21__TRAN_N",1,"______"]
[null,null,null,null,null,null,null,null,null,null,null,null,null,null,null,null,null,null,null,null,null,null,null,null,null,null,{"$f":"IFERROR(INDEX($AE$13:$AE$1003, SMALL(IF(ISBLANK($AE$13:$AE$1003)+ISERROR($AE$13:$AE$1003)+LEN($AE$13:$AE$1003)=0, \"\", ROW($AE$13:$AE$1003)-MIN(ROW($AE$13:$AE$1003))+1), ROW(751:751))),\"\")","v":"__VI____Y"},"","",null,"__VI____Y","","VIY","__VI____Y",1,"______"]
[null,null,null,null,null,null,null,null,null,null,null,null,null,null,null,null,null,null,null,null,null,null,null,null,null,null,{"$f":"IFERROR(INDEX($AE$13:$AE$1003, SMALL(IF(ISBLANK($AE$13:$AE$1003)+ISERROR($AE$13:$AE$1003)+LEN($AE$13:$AE$1003)=0, \"\", ROW($AE$13:$AE$1003)-MIN(ROW($AE$13:$AE$1003))+1), ROW(752:752))),\"\")","v":"__VI_14__D_N"},"","",null,"__VI_14__D_N","","VI14DN","__VI_14__D_N",1,"______"]
[null,null,null,null,null,null,null,null,null,null,null,null,null,null,null,null,null,null,null,null,null,null,null,null,null,null,{"$f":"IFERROR(INDEX($AE$13:$AE$1003, SMALL(IF(ISBLANK($AE$13:$AE$1003)+ISERROR($AE$13:$AE$1003)+LEN($AE$13:$AE$1003)=0, \"\", ROW($AE$13:$AE$1003)-MIN(ROW($AE$13:$AE$1003))+1), ROW(753:753))),\"\")","v":"__VI_14__DROPOUT_N"},"","",null,"__VI_14__DROPOUT_N","","VI14DROPOUTN","__VI_14__DROPOUT_N",1,"______"]
[null,null,null,null,null,null,null,null,null,null,null,null,null,null,null,null,null,null,null,null,null,null,null,null,null,null,{"$f":"IFERROR(INDEX($AE$13:$AE$1003, SMALL(IF(ISBLANK($AE$13:$AE$1003)+ISERROR($AE$13:$AE$1003)+LEN($AE$13:$AE$1003)=0, \"\", ROW($AE$13:$AE$1003)-MIN(ROW($AE$13:$AE$1003))+1), ROW(754:754))),\"\")","v":"__VI_14__GHS_N"},"","",null,"__VI_14__GHS_N","","VI14GHSN","__VI_14__GHS_N",1,"______"]
[null,null,null,null,null,null,null,null,null,null,null,null,null,null,null,null,null,null,null,null,null,null,null,null,null,null,{"$f":"IFERROR(INDEX($AE$13:$AE$1003, SMALL(IF(ISBLANK($AE$13:$AE$1003)+ISERROR($AE$13:$AE$1003)+LEN($AE$13:$AE$1003)=0, \"\", ROW($AE$13:$AE$1003)-MIN(ROW($AE$13:$AE$1003))+1), ROW(755:755))),\"\")","v":"__VI_14__GRADALTDPL_N"},"","",null,"__VI_14__GRADALTDPL_N","","VI14GRADALTDPLN","__VI_14__GRADALTDPL_N",1,"______"]
[null,null,null,null,null,null,null,null,null,null,null,null,null,null,null,null,null,null,null,null,null,null,null,null,null,null,{"$f":"IFERROR(INDEX($AE$13:$AE$1003, SMALL(IF(ISBLANK($AE$13:$AE$1003)+ISERROR($AE$13:$AE$1003)+LEN($AE$13:$AE$1003)=0, \"\", ROW($AE$13:$AE$1003)-MIN(ROW($AE$13:$AE$1003))+1), ROW(756:756))),\"\")","v":"__VI_14__MKC_N"},"","",null,"__VI_14__MKC_N","","VI14MKCN","__VI_14__MKC_N",1,"______"]
[null,null,null,null,null,null,null,null,null,null,null,null,null,null,null,null,null,null,null,null,null,null,null,null,null,null,{"$f":"IFERROR(INDEX($AE$13:$AE$1003, SMALL(IF(ISBLANK($AE$13:$AE$1003)+ISERROR($AE$13:$AE$1003)+LEN($AE$13:$AE$1003)=0, \"\", ROW($AE$13:$AE$1003)-MIN(ROW($AE$13:$AE$1003))+1), ROW(757:757))),\"\")","v":"__VI_14__RC_N"},"","",null,"__VI_14__RC_N","","VI14RCN","__VI_14__RC_N",1,"______"]
[null,null,null,null,null,null,null,null,null,null,null,null,null,null,null,null,null,null,null,null,null,null,null,null,null,null,{"$f":"IFERROR(INDEX($AE$13:$AE$1003, SMALL(IF(ISBLANK($AE$13:$AE$1003)+ISERROR($AE$13:$AE$1003)+LEN($AE$13:$AE$1003)=0, \"\", ROW($AE$13:$AE$1003)-MIN(ROW($AE$13:$AE$1003))+1), ROW(758:758))),\"\")","v":"__VI_14__RMA_N"},"","",null,"__VI_14__RMA_N","","VI14RMAN","__VI_14__RMA_N",1,"______"]
[null,null,null,null,null,null,null,null,null,null,null,null,null,null,null,null,null,null,null,null,null,null,null,null,null,null,{"$f":"IFERROR(INDEX($AE$13:$AE$1003, SMALL(IF(ISBLANK($AE$13:$AE$1003)+ISERROR($AE$13:$AE$1003)+LEN($AE$13:$AE$1003)=0, \"\", ROW($AE$13:$AE$1003)-MIN(ROW($AE$13:$AE$1003))+1), ROW(759:759))),\"\")","v":"__VI_14__TRAN_N"},"","",null,"__VI_14__TRAN_N","","VI14TRANN","__VI_14__TRAN_N",1,"______"]
[null,null,null,null,null,null,null,null,null,null,null,null,null,null,null,null,null,null,null,null,null,null,null,null,null,null,{"$f":"IFERROR(INDEX($AE$13:$AE$1003, SMALL(IF(ISBLANK($AE$13:$AE$1003)+ISERROR($AE$13:$AE$1003)+LEN($AE$13:$AE$1003)=0, \"\", ROW($AE$13:$AE$1003)-MIN(ROW($AE$13:$AE$1003))+1), ROW(760:760))),\"\")","v":"__VI_15__D_N"},"","",null,"__VI_15__D_N","","VI15DN","__VI_15__D_N",1,"______"]
[null,null,null,null,null,null,null,null,null,null,null,null,null,null,null,null,null,null,null,null,null,null,null,null,null,null,{"$f":"IFERROR(INDEX($AE$13:$AE$1003, SMALL(IF(ISBLANK($AE$13:$AE$1003)+ISERROR($AE$13:$AE$1003)+LEN($AE$13:$AE$1003)=0, \"\", ROW($AE$13:$AE$1003)-MIN(ROW($AE$13:$AE$1003))+1), ROW(761:761))),\"\")","v":"__VI_15__DROPOUT_N"},"","",null,"__VI_15__DROPOUT_N","","VI15DROPOUTN","__VI_15__DROPOUT_N",1,"______"]
[null,null,null,null,null,null,null,null,null,null,null,null,null,null,null,null,null,null,null,null,null,null,null,null,null,null,{"$f":"IFERROR(INDEX($AE$13:$AE$1003, SMALL(IF(ISBLANK($AE$13:$AE$1003)+ISERROR($AE$13:$AE$1003)+LEN($AE$13:$AE$1003)=0, \"\", ROW($AE$13:$AE$1003)-MIN(ROW($AE$13:$AE$1003))+1), ROW(762:762))),\"\")","v":"__VI_15__GHS_N"},"","",null,"__VI_15__GHS_N","","VI15GHSN","__VI_15__GHS_N",1,"______"]
[null,null,null,null,null,null,null,null,null,null,null,null,null,null,null,null,null,null,null,null,null,null,null,null,null,null,{"$f":"IFERROR(INDEX($AE$13:$AE$1003, SMALL(IF(ISBLANK($AE$13:$AE$1003)+ISERROR($AE$13:$AE$1003)+LEN($AE$13:$AE$1003)=0, \"\", ROW($AE$13:$AE$1003)-MIN(ROW($AE$13:$AE$1003))+1), ROW(763:763))),\"\")","v":"__VI_15__GRADALTDPL_N"},"","",null,"__VI_15__GRADALTDPL_N","","VI15GRADALTDPLN","__VI_15__GRADALTDPL_N",1,"______"]
[null,null,null,null,null,null,null,null,null,null,null,null,null,null,null,null,null,null,null,null,null,null,null,null,null,null,{"$f":"IFERROR(INDEX($AE$13:$AE$1003, SMALL(IF(ISBLANK($AE$13:$AE$1003)+ISERROR($AE$13:$AE$1003)+LEN($AE$13:$AE$1003)=0, \"\", ROW($AE$13:$AE$1003)-MIN(ROW($AE$13:$AE$1003))+1), ROW(764:764))),\"\")","v":"__VI_15__MKC_N"},"","",null,"__VI_15__MKC_N","","VI15MKCN","__VI_15__MKC_N",1,"______"]
[null,null,null,null,null,null,null,null,null,null,null,null,null,null,null,null,null,null,null,null,null,null,null,null,null,null,{"$f":"IFERROR(INDEX($AE$13:$AE$1003, SMALL(IF(ISBLANK($AE$13:$AE$1003)+ISERROR($AE$13:$AE$1003)+LEN($AE$13:$AE$1003)=0, \"\", ROW($AE$13:$AE$1003)-MIN(ROW($AE$13:$AE$1003))+1), ROW(765:765))),\"\")","v":"__VI_15__RC_N"},"","",null,"__VI_15__RC_N","","VI15RCN","__VI_15__RC_N",1,"______"]
[null,null,null,null,null,null,null,null,null,null,null,null,null,null,null,null,null,null,null,null,null,null,null,null,null,null,{"$f":"IFERROR(INDEX($AE$13:$AE$1003, SMALL(IF(ISBLANK($AE$13:$AE$1003)+ISERROR($AE$13:$AE$1003)+LEN($AE$13:$AE$1003)=0, \"\", ROW($AE$13:$AE$1003)-MIN(ROW($AE$13:$AE$1003))+1), ROW(766:766))),\"\")","v":"__VI_15__RMA_N"},"","",null,"__VI_15__RMA_N","","VI15RMAN","__VI_15__RMA_N",1,"______"]
[null,null,null,null,null,null,null,null,null,null,null,null,null,null,null,null,null,null,null,null,null,null,null,null,null,null,{"$f":"IFERROR(INDEX($AE$13:$AE$1003, SMALL(IF(ISBLANK($AE$13:$AE$1003)+ISERROR($AE$13:$AE$1003)+LEN($AE$13:$AE$1003)=0, \"\", ROW($AE$13:$AE$1003)-MIN(ROW($AE$13:$AE$1003))+1), ROW(767:767))),\"\")","v":"__VI_15__TRAN_N"},"","",null,"__VI_15__TRAN_N","","VI15TRANN","__VI_15__TRAN_N",1,"______"]
[null,null,null,null,null,null,null,null,null,null,null,null,null,null,null,null,null,null,null,null,null,null,null,null,null,null,{"$f":"IFERROR(INDEX($AE$13:$AE$1003, SMALL(IF(ISBLANK($AE$13:$AE$1003)+ISERROR($AE$13:$AE$1003)+LEN($AE$13:$AE$1003)=0, \"\", ROW($AE$13:$AE$1003)-MIN(ROW($AE$13:$AE$1003))+1), ROW(768:768))),\"\")","v":"__VI_16__D_N"},"","",null,"__VI_16__D_N","","VI16DN","__VI_16__D_N",1,"______"]
[null,null,null,null,null,null,null,null,null,null,null,null,null,null,null,null,null,null,null,null,null,null,null,null,null,null,{"$f":"IFERROR(INDEX($AE$13:$AE$1003, SMALL(IF(ISBLANK($AE$13:$AE$1003)+ISERROR($AE$13:$AE$1003)+LEN($AE$13:$AE$1003)=0, \"\", ROW($AE$13:$AE$1003)-MIN(ROW($AE$13:$AE$1003))+1), ROW(769:769))),\"\")","v":"__VI_16__DROPOUT_N"},{"$f":"IF(AF781=\"\",\"\",IF(COUNTIF(CurrentListing,AF781)>1,AJ781,\"\"))","v":""},{"$f":"IF(LEN(AF781)=0,\"\",IF(ISNA(MATCH(AF781,MasterListing,0)),AJ781,\"\"))","v":""},null,{"$f":"IF(LEN(AG781)=0,\"\",IF(ISNA(MATCH(AG781,CurrentListing,0)),AH781,\"\"))","v":"__VI_16__DROPOUT_N"},{"$f":"H781&I781&P781&Q781&R781&V781&W781","v":""},"VI16DROPOUTN","__VI_16__DROPOUT_N",1,"______"]
[null,null,null,null,null,null,null,null,null,null,null,null,null,null,null,null,null,null,null,null,null,null,null,null,null,null,{"$f":"IFERROR(INDEX($AE$13:$AE$1003, SMALL(IF(ISBLANK($AE$13:$AE$1003)+ISERROR($AE$13:$AE$1003)+LEN($AE$13:$AE$1003)=0, \"\", ROW($AE$13:$AE$1003)-MIN(ROW($AE$13:$AE$1003))+1), ROW(770:770))),\"\")","v":"__VI_16__GHS_N"},"","",null,"__VI_16__GHS_N","","VI16GHSN","__VI_16__GHS_N",{"$f":"IF(LEN(AA782)>0,1,0)","v":1},{"$f":"H782&\"_\"&I782&\"_\"&P782&\"_\"&Q782&\"_\"&R782&\"_\"&V782&\"_\"&W782","v":"______"}]
[null,null,null,null,null,null,null,null,null,null,null,null,null,null,null,null,null,null,null,null,null,null,null,null,null,null,{"$f":"IFERROR(INDEX($AE$13:$AE$1003, SMALL(IF(ISBLANK($AE$13:$AE$1003)+ISERROR($AE$13:$AE$1003)+LEN($AE$13:$AE$1003)=0, \"\", ROW($AE$13:$AE$1003)-MIN(ROW($AE$13:$AE$1003))+1), ROW(771:771))),\"\")","v":"__VI_16__GRADALTDPL_N"},"","",null,"__VI_16__GRADALTDPL_N","","VI16GRADALTDPLN","__VI_16__GRADALTDPL_N",1,"______"]
[null,null,null,null,null,null,null,null,null,null,null,null,null,null,null,null,null,null,null,null,null,null,null,null,null,null,{"$f":"IFERROR(INDEX($AE$13:$AE$1003, SMALL(IF(ISBLANK($AE$13:$AE$1003)+ISERROR($AE$13:$AE$1003)+LEN($AE$13:$AE$1003)=0, \"\", ROW($AE$13:$AE$1003)-MIN(ROW($AE$13:$AE$1003))+1), ROW(772:772))),\"\")","v":"__VI_16__MKC_N"},"","",null,"__VI_16__MKC_N","","VI16MKCN","__VI_16__MKC_N",1,"______"]
[null,null,null,null,null,null,null,null,null,null,null,null,null,null,null,null,null,null,null,null,null,null,null,null,null,null,{"$f":"IFERROR(INDEX($AE$13:$AE$1003, SMALL(IF(ISBLANK($AE$13:$AE$1003)+ISERROR($AE$13:$AE$1003)+LEN($AE$13:$AE$1003)=0, \"\", ROW($AE$13:$AE$1003)-MIN(ROW($AE$13:$AE$1003))+1), ROW(773:773))),\"\")","v":"__VI_16__RC_N"},"","",null,"__VI_16__RC_N","","VI16RCN","__VI_16__RC_N",1,"______"]
[null,null,null,null,null,null,null,null,null,null,null,null,null,null,null,null,null,null,null,null,null,null,null,null,null,null,{"$f":"IFERROR(INDEX($AE$13:$AE$1003, SMALL(IF(ISBLANK($AE$13:$AE$1003)+ISERROR($AE$13:$AE$1003)+LEN($AE$13:$AE$1003)=0, \"\", ROW($AE$13:$AE$1003)-MIN(ROW($AE$13:$AE$1003))+1), ROW(774:774))),\"\")","v":"__VI_16__RMA_N"},"","",null,"__VI_16__RMA_N","","VI16RMAN","__VI_16__RMA_N",1,"______"]
[null,null,null,null,null,null,null,null,null,null,null,null,null,null,null,null,null,null,null,null,null,null,null,null,null,null,{"$f":"IFERROR(INDEX($AE$13:$AE$1003, SMALL(IF(ISBLANK($AE$13:$AE$1003)+ISERROR($AE$13:$AE$1003)+LEN($AE$13:$AE$1003)=0, \"\", ROW($AE$13:$AE$1003)-MIN(ROW($AE$13:$AE$1003))+1), ROW(775:775))),\"\")","v":"__VI_16__TRAN_N"},"","",null,"__VI_16__TRAN_N","","VI16TRANN","__VI_16__TRAN_N",1,"______"]
[null,null,null,null,null,null,null,null,null,null,null,null,null,null,null,null,null,null,null,null,null,null,null,null,null,null,{"$f":"IFERROR(INDEX($AE$13:$AE$1003, SMALL(IF(ISBLANK($AE$13:$AE$1003)+ISERROR($AE$13:$AE$1003)+LEN($AE$13:$AE$1003)=0, \"\", ROW($AE$13:$AE$1003)-MIN(ROW($AE$13:$AE$1003))+1), ROW(776:776))),\"\")","v":"__VI_17__D_N"},"","",null,"__VI_17__D_N","","VI17DN","__VI_17__D_N",1,"______"]
[null,null,null,null,null,null,null,null,null,null,null,null,null,null,null,null,null,null,null,null,null,null,null,null,null,null,{"$f":"IFERROR(INDEX($AE$13:$AE$1003, SMALL(IF(ISBLANK($AE$13:$AE$1003)+ISERROR($AE$13:$AE$1003)+LEN($AE$13:$AE$1003)=0, \"\", ROW($AE$13:$AE$1003)-MIN(ROW($AE$13:$AE$1003))+1), ROW(777:777))),\"\")","v":"__VI_17__DROPOUT_N"},"","",null,"__VI_17__DROPOUT_N","","VI17DROPOUTN","__VI_17__DROPOUT_N",1,"______"]
[null,null,null,null,null,null,null,null,null,null,null,null,null,null,null,null,null,null,null,null,null,null,null,null,null,null,{"$f":"IFERROR(INDEX($AE$13:$AE$1003, SMALL(IF(ISBLANK($AE$13:$AE$1003)+ISERROR($AE$13:$AE$1003)+LEN($AE$13:$AE$1003)=0, \"\", ROW($AE$13:$AE$1003)-MIN(ROW($AE$13:$AE$1003))+1), ROW(778:778))),\"\")","v":"__VI_17__GHS_N"},"","",null,"__VI_17__GHS_N","","VI17GHSN","__VI_17__GHS_N",1,"______"]
[null,null,null,null,null,null,null,null,null,null,null,null,null,null,null,null,null,null,null,null,null,null,null,null,null,null,{"$f":"IFERROR(INDEX($AE$13:$AE$1003, SMALL(IF(ISBLANK($AE$13:$AE$1003)+ISERROR($AE$13:$AE$1003)+LEN($AE$13:$AE$1003)=0, \"\", ROW($AE$13:$AE$1003)-MIN(ROW($AE$13:$AE$1003))+1), ROW(779:779))),\"\")","v":"__VI_17__GRADALTDPL_N"},"","",null,"__VI_17__GRADALTDPL_N","","VI17GRADALTDPLN","__VI_17__GRADALTDPL_N",1,"______"]
[null,null,null,null,null,null,null,null,null,null,null,null,null,null,null,null,null,null,null,null,null,null,null,null,null,null,{"$f":"IFERROR(INDEX($AE$13:$AE$1003, SMALL(IF(ISBLANK($AE$13:$AE$1003)+ISERROR($AE$13:$AE$1003)+LEN($AE$13:$AE$1003)=0, \"\", ROW($AE$13:$AE$1003)-MIN(ROW($AE$13:$AE$1003))+1), ROW(780:780))),\"\")","v":"__VI_17__MKC_N"},"","",null,"__VI_17__MKC_N","","VI17MKCN","__VI_17__MKC_N",1,"______"]
[null,null,null,null,null,null,null,null,null,null,null,null,null,null,null,null,null,null,null,null,null,null,null,null,null,null,{"$f":"IFERROR(INDEX($AE$13:$AE$1003, SMALL(IF(ISBLANK($AE$13:$AE$1003)+ISERROR($AE$13:$AE$1003)+LEN($AE$13:$AE$1003)=0, \"\", ROW($AE$13:$AE$1003)-MIN(ROW($AE$13:$AE$1003))+1), ROW(781:781))),\"\")","v":"__VI_17__RC_N"},"","",null,"__VI_17__RC_N","","VI17RCN","__VI_17__RC_N",1,"______"]
[null,null,null,null,null,null,null,null,null,null,null,null,null,null,null,null,null,null,null,null,null,null,null,null,null,null,{"$f":"IFERROR(INDEX($AE$13:$AE$1003, SMALL(IF(ISBLANK($AE$13:$AE$1003)+ISERROR($AE$13:$AE$1003)+LEN($AE$13:$AE$1003)=0, \"\", ROW($AE$13:$AE$1003)-MIN(ROW($AE$13:$AE$1003))+1), ROW(782:782))),\"\")","v":"__VI_17__RMA_N"},"","",null,"__VI_17__RMA_N","","VI17RMAN","__VI_17__RMA_N",1,"______"]
[null,null,null,null,null,null,null,null,null,null,null,null,null,null,null,null,null,null,null,null,null,null,null,null,null,null,{"$f":"IFERROR(INDEX($AE$13:$AE$1003, SMALL(IF(ISBLANK($AE$13:$AE$1003)+ISERROR($AE$13:$AE$1003)+LEN($AE$13:$AE$1003)=0, \"\", ROW($AE$13:$AE$1003)-MIN(ROW($AE$13:$AE$1003))+1), ROW(783:783))),\"\")","v":"__VI_17__TRAN_N"},"","",null,"__VI_17__TRAN_N","","VI17TRANN","__VI_17__TRAN_N",1,"______"]
[null,null,null,null,null,null,null,null,null,null,null,null,null,null,null,null,null,null,null,null,null,null,null,null,null,null,{"$f":"IFERROR(INDEX($AE$13:$AE$1003, SMALL(IF(ISBLANK($AE$13:$AE$1003)+ISERROR($AE$13:$AE$1003)+LEN($AE$13:$AE$1003)=0, \"\", ROW($AE$13:$AE$1003)-MIN(ROW($AE$13:$AE$1003))+1), ROW(784:784))),\"\")","v":"__VI_18__D_N"},"","",null,"__VI_18__D_N","","VI18DN","__VI_18__D_N",1,"______"]
[null,null,null,null,null,null,null,null,null,null,null,null,null,null,null,null,null,null,null,null,null,null,null,null,null,null,{"$f":"IFERROR(INDEX($AE$13:$AE$1003, SMALL(IF(ISBLANK($AE$13:$AE$1003)+ISERROR($AE$13:$AE$1003)+LEN($AE$13:$AE$1003)=0, \"\", ROW($AE$13:$AE$1003)-MIN(ROW($AE$13:$AE$1003))+1), ROW(785:785))),\"\")","v":"__VI_18__DROPOUT_N"},"","",null,"__VI_18__DROPOUT_N","","VI18DROPOUTN","__VI_18__DROPOUT_N",1,"______"]
[null,null,null,null,null,null,null,null,null,null,null,null,null,null,null,null,null,null,null,null,null,null,null,null,null,null,{"$f":"IFERROR(INDEX($AE$13:$AE$1003, SMALL(IF(ISBLANK($AE$13:$AE$1003)+ISERROR($AE$13:$AE$1003)+LEN($AE$13:$AE$1003)=0, \"\", ROW($AE$13:$AE$1003)-MIN(ROW($AE$13:$AE$1003))+1), ROW(786:786))),\"\")","v":"__VI_18__GHS_N"},"","",null,"__VI_18__GHS_N","","VI18GHSN","__VI_18__GHS_N",1,"______"]
[null,null,null,null,null,null,null,null,null,null,null,null,null,null,null,null,null,null,null,null,null,null,null,null,null,null,{"$f":"IFERROR(INDEX($AE$13:$AE$1003, SMALL(IF(ISBLANK($AE$13:$AE$1003)+ISERROR($AE$13:$AE$1003)+LEN($AE$13:$AE$1003)=0, \"\", ROW($AE$13:$AE$1003)-MIN(ROW($AE$13:$AE$1003))+1), ROW(787:787))),\"\")","v":"__VI_18__GRADALTDPL_N"},"","",null,"__VI_18__GRADALTDPL_N","","VI18GRADALTDPLN","__VI_18__GRADALTDPL_N",1,"______"]
[null,null,null,null,null,null,null,null,null,null,null,null,null,null,null,null,null,null,null,null,null,null,null,null,null,null,{"$f":"IFERROR(INDEX($AE$13:$AE$1003, SMALL(IF(ISBLANK($AE$13:$AE$1003)+ISERROR($AE$13:$AE$1003)+LEN($AE$13:$AE$1003)=0, \"\", ROW($AE$13:$AE$1003)-MIN(ROW($AE$13:$AE$1003))+1), ROW(788:788))),\"\")","v":"__VI_18__MKC_N"},"","",null,"__VI_18__MKC_N","","VI18MKCN","__VI_18__MKC_N",1,"______"]
[null,null,null,null,null,null,null,null,null,null,null,null,null,null,null,null,null,null,null,null,null,null,null,null,null,null,{"$f":"IFERROR(INDEX($AE$13:$AE$1003, SMALL(IF(ISBLANK($AE$13:$AE$1003)+ISERROR($AE$13:$AE$1003)+LEN($AE$13:$AE$1003)=0, \"\", ROW($AE$13:$AE$1003)-MIN(ROW($AE$13:$AE$1003))+1), ROW(789:789))),\"\")","v":"__VI_18__RC_N"},"","",null,"__VI_18__RC_N","","VI18RCN","__VI_18__RC_N",1,"______"]
[null,null,null,null,null,null,null,null,null,null,null,null,null,null,null,null,null,null,null,null,null,null,null,null,null,null,{"$f":"IFERROR(INDEX($AE$13:$AE$1003, SMALL(IF(ISBLANK($AE$13:$AE$1003)+ISERROR($AE$13:$AE$1003)+LEN($AE$13:$AE$1003)=0, \"\", ROW($AE$13:$AE$1003)-MIN(ROW($AE$13:$AE$1003))+1), ROW(790:790))),\"\")","v":"__VI_18__RMA_N"},"","",null,"__VI_18__RMA_N","","VI18RMAN","__VI_18__RMA_N",1,"______"]
[null,null,null,null,null,null,null,null,null,null,null,null,null,null,null,null,null,null,null,null,null,null,null,null,null,null,{"$f":"IFERROR(INDEX($AE$13:$AE$1003, SMALL(IF(ISBLANK($AE$13:$AE$1003)+ISERROR($AE$13:$AE$1003)+LEN($AE$13:$AE$1003)=0, \"\", ROW($AE$13:$AE$1003)-MIN(ROW($AE$13:$AE$1003))+1), ROW(791:791))),\"\")","v":"__VI_18__TRAN_N"},"","",null,"__VI_18__TRAN_N","","VI18TRANN","__VI_18__TRAN_N",1,"______"]
[null,null,null,null,null,null,null,null,null,null,null,null,null,null,null,null,null,null,null,null,null,null,null,null,null,null,{"$f":"IFERROR(INDEX($AE$13:$AE$1003, SMALL(IF(ISBLANK($AE$13:$AE$1003)+ISERROR($AE$13:$AE$1003)+LEN($AE$13:$AE$1003)=0, \"\", ROW($AE$13:$AE$1003)-MIN(ROW($AE$13:$AE$1003))+1), ROW(792:792))),\"\")","v":"__VI_19__D_N"},"","",null,"__VI_19__D_N","","VI19DN","__VI_19__D_N",1,"______"]
[null,null,null,null,null,null,null,null,null,null,null,null,null,null,null,null,null,null,null,null,null,null,null,null,null,null,{"$f":"IFERROR(INDEX($AE$13:$AE$1003, SMALL(IF(ISBLANK($AE$13:$AE$1003)+ISERROR($AE$13:$AE$1003)+LEN($AE$13:$AE$1003)=0, \"\", ROW($AE$13:$AE$1003)-MIN(ROW($AE$13:$AE$1003))+1), ROW(793:793))),\"\")","v":"__VI_19__DROPOUT_N"},"","",null,"__VI_19__DROPOUT_N","","VI19DROPOUTN","__VI_19__DROPOUT_N",1,"______"]
[null,null,null,null,null,null,null,null,null,null,null,null,null,null,null,null,null,null,null,null,null,null,null,null,null,null,{"$f":"IFERROR(INDEX($AE$13:$AE$1003, SMALL(IF(ISBLANK($AE$13:$AE$1003)+ISERROR($AE$13:$AE$1003)+LEN($AE$13:$AE$1003)=0, \"\", ROW($AE$13:$AE$1003)-MIN(ROW($AE$13:$AE$1003))+1), ROW(794:794))),\"\")","v":"__VI_19__GHS_N"},"","",null,"__VI_19__GHS_N","","VI19GHSN","__VI_19__GHS_N",1,"______"]
[null,null,null,null,null,null,null,null,null,null,null,null,null,null,null,null,null,null,null,null,null,null,null,null,null,null,{"$f":"IFERROR(INDEX($AE$13:$AE$1003, SMALL(IF(ISBLANK($AE$13:$AE$1003)+ISERROR($AE$13:$AE$1003)+LEN($AE$13:$AE$1003)=0, \"\", ROW($AE$13:$AE$1003)-MIN(ROW($AE$13:$AE$1003))+1), ROW(795:795))),\"\")","v":"__VI_19__GRADALTDPL_N"},"","",null,"__VI_19__GRADALTDPL_N","","VI19GRADALTDPLN","__VI_19__GRADALTDPL_N",1,"______"]
[null,null,null,null,null,null,null,null,null,null,null,null,null,null,null,null,null,null,null,null,null,null,null,null,null,null,{"$f":"IFERROR(INDEX($AE$13:$AE$1003, SMALL(IF(ISBLANK($AE$13:$AE$1003)+ISERROR($AE$13:$AE$1003)+LEN($AE$13:$AE$1003)=0, \"\", ROW($AE$13:$AE$1003)-MIN(ROW($AE$13:$AE$1003))+1), ROW(796:796))),\"\")","v":"__VI_19__MKC_N"},"","",null,"__VI_19__MKC_N","","VI19MKCN","__VI_19__MKC_N",1,"______"]
[null,null,null,null,null,null,null,null,null,null,null,null,null,null,null,null,null,null,null,null,null,null,null,null,null,null,{"$f":"IFERROR(INDEX($AE$13:$AE$1003, SMALL(IF(ISBLANK($AE$13:$AE$1003)+ISERROR($AE$13:$AE$1003)+LEN($AE$13:$AE$1003)=0, \"\", ROW($AE$13:$AE$1003)-MIN(ROW($AE$13:$AE$1003))+1), ROW(797:797))),\"\")","v":"__VI_19__RC_N"},"","",null,"__VI_19__RC_N","","VI19RCN","__VI_19__RC_N",1,"______"]
[null,null,null,null,null,null,null,null,null,null,null,null,null,null,null,null,null,null,null,null,null,null,null,null,null,null,{"$f":"IFERROR(INDEX($AE$13:$AE$1003, SMALL(IF(ISBLANK($AE$13:$AE$1003)+ISERROR($AE$13:$AE$1003)+LEN($AE$13:$AE$1003)=0, \"\", ROW($AE$13:$AE$1003)-MIN(ROW($AE$13:$AE$1003))+1), ROW(798:798))),\"\")","v":"__VI_19__RMA_N"},"","",null,"__VI_19__RMA_N","","VI19RMAN","__VI_19__RMA_N",1,"______"]
[null,null,null,null,null,null,null,null,null,null,null,null,null,null,null,null,null,null,null,null,null,null,null,null,null,null,{"$f":"IFERROR(INDEX($AE$13:$AE$1003, SMALL(IF(ISBLANK($AE$13:$AE$1003)+ISERROR($AE$13:$AE$1003)+LEN($AE$13:$AE$1003)=0, \"\", ROW($AE$13:$AE$1003)-MIN(ROW($AE$13:$AE$1003))+1), ROW(799:799))),\"\")","v":"__VI_19__TRAN_N"},"","",null,"__VI_19__TRAN_N","","VI19TRANN","__VI_19__TRAN_N",1,"______"]
[null,null,null,null,null,null,null,null,null,null,null,null,null,null,null,null,null,null,null,null,null,null,null,null,null,null,{"$f":"IFERROR(INDEX($AE$13:$AE$1003, SMALL(IF(ISBLANK($AE$13:$AE$1003)+ISERROR($AE$13:$AE$1003)+LEN($AE$13:$AE$1003)=0, \"\", ROW($AE$13:$AE$1003)-MIN(ROW($AE$13:$AE$1003))+1), ROW(800:800))),\"\")","v":"__VI_20__D_N"},"","",null,"__VI_20__D_N","","VI20DN","__VI_20__D_N",1,"______"]
[null,null,null,null,null,null,null,null,null,null,null,null,null,null,null,null,null,null,null,null,null,null,null,null,null,null,{"$f":"IFERROR(INDEX($AE$13:$AE$1003, SMALL(IF(ISBLANK($AE$13:$AE$1003)+ISERROR($AE$13:$AE$1003)+LEN($AE$13:$AE$1003)=0, \"\", ROW($AE$13:$AE$1003)-MIN(ROW($AE$13:$AE$1003))+1), ROW(801:801))),\"\")","v":"__VI_20__DROPOUT_N"},"","",null,"__VI_20__DROPOUT_N","","VI20DROPOUTN","__VI_20__DROPOUT_N",1,"______"]
[null,null,null,null,null,null,null,null,null,null,null,null,null,null,null,null,null,null,null,null,null,null,null,null,null,null,{"$f":"IFERROR(INDEX($AE$13:$AE$1003, SMALL(IF(ISBLANK($AE$13:$AE$1003)+ISERROR($AE$13:$AE$1003)+LEN($AE$13:$AE$1003)=0, \"\", ROW($AE$13:$AE$1003)-MIN(ROW($AE$13:$AE$1003))+1), ROW(802:802))),\"\")","v":"__VI_20__GHS_N"},"","",null,"__VI_20__GHS_N","","VI20GHSN","__VI_20__GHS_N",1,"______"]
[null,null,null,null,null,null,null,null,null,null,null,null,null,null,null,null,null,null,null,null,null,null,null,null,null,null,{"$f":"IFERROR(INDEX($AE$13:$AE$1003, SMALL(IF(ISBLANK($AE$13:$AE$1003)+ISERROR($AE$13:$AE$1003)+LEN($AE$13:$AE$1003)=0, \"\", ROW($AE$13:$AE$1003)-MIN(ROW($AE$13:$AE$1003))+1), ROW(803:803))),\"\")","v":"__VI_20__GRADALTDPL_N"},"","",null,"__VI_20__GRADALTDPL_N","","VI20GRADALTDPLN","__VI_20__GRADALTDPL_N",1,"______"]
[null,null,null,null,null,null,null,null,null,null,null,null,null,null,null,null,null,null,null,null,null,null,null,null,null,null,{"$f":"IFERROR(INDEX($AE$13:$AE$1003, SMALL(IF(ISBLANK($AE$13:$AE$1003)+ISERROR($AE$13:$AE$1003)+LEN($AE$13:$AE$1003)=0, \"\", ROW($AE$13:$AE$1003)-MIN(ROW($AE$13:$AE$1003))+1), ROW(804:804))),\"\")","v":"__VI_20__MKC_N"},"","",null,"__VI_20__MKC_N","","VI20MKCN","__VI_20__MKC_N",1,"______"]
[null,null,null,null,null,null,null,null,null,null,null,null,null,null,null,null,null,null,null,null,null,null,null,null,null,null,{"$f":"IFERROR(INDEX($AE$13:$AE$1003, SMALL(IF(ISBLANK($AE$13:$AE$1003)+ISERROR($AE$13:$AE$1003)+LEN($AE$13:$AE$1003)=0, \"\", ROW($AE$13:$AE$1003)-MIN(ROW($AE$13:$AE$1003))+1), ROW(805:805))),\"\")","v":"__VI_20__RC_N"},"","",null,"__VI_20__RC_N","","VI20RCN","__VI_20__RC_N",1,"______"]
[null,null,null,null,null,null,null,null,null,null,null,null,null,null,null,null,null,null,null,null,null,null,null,null,null,null,{"$f":"IFERROR(INDEX($AE$13:$AE$1003, SMALL(IF(ISBLANK($AE$13:$AE$1003)+ISERROR($AE$13:$AE$1003)+LEN($AE$13:$AE$1003)=0, \"\", ROW($AE$13:$AE$1003)-MIN(ROW($AE$13:$AE$1003))+1), ROW(806:806))),\"\")","v":"__VI_20__RMA_N"},"","",null,"__VI_20__RMA_N","","VI20RMAN","__VI_20__RMA_N",1,"______"]
[null,null,null,null,null,null,null,null,null,null,null,null,null,null,null,null,null,null,null,null,null,null,null,null,null,null,{"$f":"IFERROR(INDEX($AE$13:$AE$1003, SMALL(IF(ISBLANK($AE$13:$AE$1003)+ISERROR($AE$13:$AE$1003)+LEN($AE$13:$AE$1003)=0, \"\", ROW($AE$13:$AE$1003)-MIN(ROW($AE$13:$AE$1003))+1), ROW(807:807))),\"\")","v":"__VI_20__TRAN_N"},"","",null,"__VI_20__TRAN_N","","VI20TRANN","__VI_20__TRAN_N",1,"______"]
[null,null,null,null,null,null,null,null,null,null,null,null,null,null,null,null,null,null,null,null,null,null,null,null,null,null,{"$f":"IFERROR(INDEX($AE$13:$AE$1003, SMALL(IF(ISBLANK($AE$13:$AE$1003)+ISERROR($AE$13:$AE$1003)+LEN($AE$13:$AE$1003)=0, \"\", ROW($AE$13:$AE$1003)-MIN(ROW($AE$13:$AE$1003))+1), ROW(808:808))),\"\")","v":"__VI_21__D_N"},"","",null,"__VI_21__D_N","","VI21DN","__VI_21__D_N",1,"______"]
[null,null,null,null,null,null,null,null,null,null,null,null,null,null,null,null,null,null,null,null,null,null,null,null,null,null,{"$f":"IFERROR(INDEX($AE$13:$AE$1003, SMALL(IF(ISBLANK($AE$13:$AE$1003)+ISERROR($AE$13:$AE$1003)+LEN($AE$13:$AE$1003)=0, \"\", ROW($AE$13:$AE$1003)-MIN(ROW($AE$13:$AE$1003))+1), ROW(809:809))),\"\")","v":"__VI_21__DROPOUT_N"},"","",null,"__VI_21__DROPOUT_N","","VI21DROPOUTN","__VI_21__DROPOUT_N",1,"______"]
[null,null,null,null,null,null,null,null,null,null,null,null,null,null,null,null,null,null,null,null,null,null,null,null,null,null,{"$f":"IFERROR(INDEX($AE$13:$AE$1003, SMALL(IF(ISBLANK($AE$13:$AE$1003)+ISERROR($AE$13:$AE$1003)+LEN($AE$13:$AE$1003)=0, \"\", ROW($AE$13:$AE$1003)-MIN(ROW($AE$13:$AE$1003))+1), ROW(810:810))),\"\")","v":"__VI_21__GHS_N"},"","",null,"__VI_21__GHS_N","","VI21GHSN","__VI_21__GHS_N",1,"______"]
[null,null,null,null,null,null,null,null,null,null,null,null,null,null,null,null,null,null,null,null,null,null,null,null,null,null,{"$f":"IFERROR(INDEX($AE$13:$AE$1003, SMALL(IF(ISBLANK($AE$13:$AE$1003)+ISERROR($AE$13:$AE$1003)+LEN($AE$13:$AE$1003)=0, \"\", ROW($AE$13:$AE$1003)-MIN(ROW($AE$13:$AE$1003))+1), ROW(811:811))),\"\")","v":"__VI_21__GRADALTDPL_N"},"","",null,"__VI_21__GRADALTDPL_N","","VI21GRADALTDPLN","__VI_21__GRADALTDPL_N",1,"______"]
[null,null,null,null,null,null,null,null,null,null,null,null,null,null,null,null,null,null,null,null,null,null,null,null,null,null,{"$f":"IFERROR(INDEX($AE$13:$AE$1003, SMALL(IF(ISBLANK($AE$13:$AE$1003)+ISERROR($AE$13:$AE$1003)+LEN($AE$13:$AE$1003)=0, \"\", ROW($AE$13:$AE$1003)-MIN(ROW($AE$13:$AE$1003))+1), ROW(812:812))),\"\")","v":"__VI_21__MKC_N"},"","",null,"__VI_21__MKC_N","","VI21MKCN","__VI_21__MKC_N",1,"______"]
[null,null,null,null,null,null,null,null,null,null,null,null,null,null,null,null,null,null,null,null,null,null,null,null,null,null,{"$f":"IFERROR(INDEX($AE$13:$AE$1003, SMALL(IF(ISBLANK($AE$13:$AE$1003)+ISERROR($AE$13:$AE$1003)+LEN($AE$13:$AE$1003)=0, \"\", ROW($AE$13:$AE$1003)-MIN(ROW($AE$13:$AE$1003))+1), ROW(813:813))),\"\")","v":"__VI_21__RC_N"},"","",null,"__VI_21__RC_N","","VI21RCN","__VI_21__RC_N",1,"______"]
[null,null,null,null,null,null,null,null,null,null,null,null,null,null,null,null,null,null,null,null,null,null,null,null,null,null,{"$f":"IFERROR(INDEX($AE$13:$AE$1003, SMALL(IF(ISBLANK($AE$13:$AE$1003)+ISERROR($AE$13:$AE$1003)+LEN($AE$13:$AE$1003)=0, \"\", ROW($AE$13:$AE$1003)-MIN(ROW($AE$13:$AE$1003))+1), ROW(814:814))),\"\")","v":"__VI_21__RMA_N"},"","",null,"__VI_21__RMA_N","","VI21RMAN","__VI_21__RMA_N",1,"______"]
[null,null,null,null,null,null,null,null,null,null,null,null,null,null,null,null,null,null,null,null,null,null,null,null,null,null,{"$f":"IFERROR(INDEX($AE$13:$AE$1003, SMALL(IF(ISBLANK($AE$13:$AE$1003)+ISERROR($AE$13:$AE$1003)+LEN($AE$13:$AE$1003)=0, \"\", ROW($AE$13:$AE$1003)-MIN(ROW($AE$13:$AE$1003))+1), ROW(815:815))),\"\")","v":"__VI_21__TRAN_N"},"","",null,"__VI_21__TRAN_N","","VI21TRANN","__VI_21__TRAN_N",1,"______"]
[null,null,null,null,null,null,null,null,null,null,null,null,null,null,null,null,null,null,null,null,null,null,null,null,null,null,{"$f":"IFERROR(INDEX($AE$13:$AE$1003, SMALL(IF(ISBLANK($AE$13:$AE$1003)+ISERROR($AE$13:$AE$1003)+LEN($AE$13:$AE$1003)=0, \"\", ROW($AE$13:$AE$1003)-MIN(ROW($AE$13:$AE$1003))+1), ROW(816:816))),\"\")","v":"_F_____Y"},"","",null,"_F_____Y","","FY","_F_____Y",1,"______"]
[null,null,null,null,null,null,null,null,null,null,null,null,null,null,null,null,null,null,null,null,null,null,null,null,null,null,{"$f":"IFERROR(INDEX($AE$13:$AE$1003, SMALL(IF(ISBLANK($AE$13:$AE$1003)+ISERROR($AE$13:$AE$1003)+LEN($AE$13:$AE$1003)=0, \"\", ROW($AE$13:$AE$1003)-MIN(ROW($AE$13:$AE$1003))+1), ROW(817:817))),\"\")","v":"_F____D_N"},"","",null,"_F____D_N","","FDN","_F____D_N",1,"______"]
[null,null,null,null,null,null,null,null,null,null,null,null,null,null,null,null,null,null,null,null,null,null,null,null,null,null,{"$f":"IFERROR(INDEX($AE$13:$AE$1003, SMALL(IF(ISBLANK($AE$13:$AE$1003)+ISERROR($AE$13:$AE$1003)+LEN($AE$13:$AE$1003)=0, \"\", ROW($AE$13:$AE$1003)-MIN(ROW($AE$13:$AE$1003))+1), ROW(818:818))),\"\")","v":"_F____DROPOUT_N"},"","",null,"_F____DROPOUT_N","","FDROPOUTN","_F____DROPOUT_N",1,"______"]
[null,null,null,null,null,null,null,null,null,null,null,null,null,null,null,null,null,null,null,null,null,null,null,null,null,null,{"$f":"IFERROR(INDEX($AE$13:$AE$1003, SMALL(IF(ISBLANK($AE$13:$AE$1003)+ISERROR($AE$13:$AE$1003)+LEN($AE$13:$AE$1003)=0, \"\", ROW($AE$13:$AE$1003)-MIN(ROW($AE$13:$AE$1003))+1), ROW(819:819))),\"\")","v":"_F____GHS_N"},"","",null,"_F____GHS_N","","FGHSN","_F____GHS_N",1,"______"]
[null,null,null,null,null,null,null,null,null,null,null,null,null,null,null,null,null,null,null,null,null,null,null,null,null,null,{"$f":"IFERROR(INDEX($AE$13:$AE$1003, SMALL(IF(ISBLANK($AE$13:$AE$1003)+ISERROR($AE$13:$AE$1003)+LEN($AE$13:$AE$1003)=0, \"\", ROW($AE$13:$AE$1003)-MIN(ROW($AE$13:$AE$1003))+1), ROW(820:820))),\"\")","v":"_F____GRADALTDPL_N"},"","",null,"_F____GRADALTDPL_N","","FGRADALTDPLN","_F____GRADALTDPL_N",1,"______"]
[null,null,null,null,null,null,null,null,null,null,null,null,null,null,null,null,null,null,null,null,null,null,null,null,null,null,{"$f":"IFERROR(INDEX($AE$13:$AE$1003, SMALL(IF(ISBLANK($AE$13:$AE$1003)+ISERROR($AE$13:$AE$1003)+LEN($AE$13:$AE$1003)=0, \"\", ROW($AE$13:$AE$1003)-MIN(ROW($AE$13:$AE$1003))+1), ROW(821:821))),\"\")","v":"_F____MKC_N"},"","",null,"_F____MKC_N","","FMKCN","_F____MKC_N",1,"______"]
[null,null,null,null,null,null,null,null,null,null,null,null,null,null,null,null,null,null,null,null,null,null,null,null,null,null,{"$f":"IFERROR(INDEX($AE$13:$AE$1003, SMALL(IF(ISBLANK($AE$13:$AE$1003)+ISERROR($AE$13:$AE$1003)+LEN($AE$13:$AE$1003)=0, \"\", ROW($AE$13:$AE$1003)-MIN(ROW($AE$13:$AE$1003))+1), ROW(822:822))),\"\")","v":"_F____RC_N"},"","",null,"_F____RC_N","","FRCN","_F____RC_N",1,"______"]
[null,null,null,null,null,null,null,null,null,null,null,null,null,null,null,null,null,null,null,null,null,null,null,null,null,null,{"$f":"IFERROR(INDEX($AE$13:$AE$1003, SMALL(IF(ISBLANK($AE$13:$AE$1003)+ISERROR($AE$13:$AE$1003)+LEN($AE$13:$AE$1003)=0, \"\", ROW($AE$13:$AE$1003)-MIN(ROW($AE$13:$AE$1003))+1), ROW(823:823))),\"\")","v":"_F____RMA_N"},"","",null,"_F____RMA_N","","FRMAN","_F____RMA_N",1,"______"]
[null,null,null,null,null,null,null,null,null,null,null,null,null,null,null,null,null,null,null,null,null,null,null,null,null,null,{"$f":"IFERROR(INDEX($AE$13:$AE$1003, SMALL(IF(ISBLANK($AE$13:$AE$1003)+ISERROR($AE$13:$AE$1003)+LEN($AE$13:$AE$1003)=0, \"\", ROW($AE$13:$AE$1003)-MIN(ROW($AE$13:$AE$1003))+1), ROW(824:824))),\"\")","v":"_F____TRAN_N"},"","",null,"_F____TRAN_N","","FTRANN","_F____TRAN_N",1,"______"]
[null,null,null,null,null,null,null,null,null,null,null,null,null,null,null,null,null,null,null,null,null,null,null,null,null,null,{"$f":"IFERROR(INDEX($AE$13:$AE$1003, SMALL(IF(ISBLANK($AE$13:$AE$1003)+ISERROR($AE$13:$AE$1003)+LEN($AE$13:$AE$1003)=0, \"\", ROW($AE$13:$AE$1003)-MIN(ROW($AE$13:$AE$1003))+1), ROW(825:825))),\"\")","v":"_M_____Y"},"","",null,"_M_____Y","","MY","_M_____Y",1,"______"]
[null,null,null,null,null,null,null,null,null,null,null,null,null,null,null,null,null,null,null,null,null,null,null,null,null,null,{"$f":"IFERROR(INDEX($AE$13:$AE$1003, SMALL(IF(ISBLANK($AE$13:$AE$1003)+ISERROR($AE$13:$AE$1003)+LEN($AE$13:$AE$1003)=0, \"\", ROW($AE$13:$AE$1003)-MIN(ROW($AE$13:$AE$1003))+1), ROW(826:826))),\"\")","v":"_M____D_N"},"","",null,"_M____D_N","","MDN","_M____D_N",1,"______"]
[null,null,null,null,null,null,null,null,null,null,null,null,null,null,null,null,null,null,null,null,null,null,null,null,null,null,{"$f":"IFERROR(INDEX($AE$13:$AE$1003, SMALL(IF(ISBLANK($AE$13:$AE$1003)+ISERROR($AE$13:$AE$1003)+LEN($AE$13:$AE$1003)=0, \"\", ROW($AE$13:$AE$1003)-MIN(ROW($AE$13:$AE$1003))+1), ROW(827:827))),\"\")","v":"_M____DROPOUT_N"},"","",null,"_M____DROPOUT_N","","MDROPOUTN","_M____DROPOUT_N",1,"______"]
[null,null,null,null,null,null,null,null,null,null,null,null,null,null,null,null,null,null,null,null,null,null,null,null,null,null,{"$f":"IFERROR(INDEX($AE$13:$AE$1003, SMALL(IF(ISBLANK($AE$13:$AE$1003)+ISERROR($AE$13:$AE$1003)+LEN($AE$13:$AE$1003)=0, \"\", ROW($AE$13:$AE$1003)-MIN(ROW($AE$13:$AE$1003))+1), ROW(828:828))),\"\")","v":"_M____GHS_N"},"","",null,"_M____GHS_N","","MGHSN","_M____GHS_N",1,"______"]
[null,null,null,null,null,null,null,null,null,null,null,null,null,null,null,null,null,null,null,null,null,null,null,null,null,null,{"$f":"IFERROR(INDEX($AE$13:$AE$1003, SMALL(IF(ISBLANK($AE$13:$AE$1003)+ISERROR($AE$13:$AE$1003)+LEN($AE$13:$AE$1003)=0, \"\", ROW($AE$13:$AE$1003)-MIN(ROW($AE$13:$AE$1003))+1), ROW(829:829))),\"\")","v":"_M____GRADALTDPL_N"},"","",null,"_M____GRADALTDPL_N","","MGRADALTDPLN","_M____GRADALTDPL_N",1,"______"]
[null,null,null,null,null,null,null,null,null,null,null,null,null,null,null,null,null,null,null,null,null,null,null,null,null,null,{"$f":"IFERROR(INDEX($AE$13:$AE$1003, SMALL(IF(ISBLANK($AE$13:$AE$1003)+ISERROR($AE$13:$AE$1003)+LEN($AE$13:$AE$1003)=0, \"\", ROW($AE$13:$AE$1003)-MIN(ROW($AE$13:$AE$1003))+1), ROW(830:830))),\"\")","v":"_M____MKC_N"},"","",null,"_M____MKC_N","","MMKCN","_M____MKC_N",1,"______"]
[null,null,null,null,null,null,null,null,null,null,null,null,null,null,null,null,null,null,null,null,null,null,null,null,null,null,{"$f":"IFERROR(INDEX($AE$13:$AE$1003, SMALL(IF(ISBLANK($AE$13:$AE$1003)+ISERROR($AE$13:$AE$1003)+LEN($AE$13:$AE$1003)=0, \"\", ROW($AE$13:$AE$1003)-MIN(ROW($AE$13:$AE$1003))+1), ROW(831:831))),\"\")","v":"_M____RC_N"},"","",null,"_M____RC_N","","MRCN","_M____RC_N",1,"______"]
[null,null,null,null,null,null,null,null,null,null,null,null,null,null,null,null,null,null,null,null,null,null,null,null,null,null,{"$f":"IFERROR(INDEX($AE$13:$AE$1003, SMALL(IF(ISBLANK($AE$13:$AE$1003)+ISERROR($AE$13:$AE$1003)+LEN($AE$13:$AE$1003)=0, \"\", ROW($AE$13:$AE$1003)-MIN(ROW($AE$13:$AE$1003))+1), ROW(832:832))),\"\")","v":"_M____RMA_N"},"","",null,"_M____RMA_N","","MRMAN","_M____RMA_N",1,"______"]
[null,null,null,null,null,null,null,null,null,null,null,null,null,null,null,null,null,null,null,null,null,null,null,null,null,null,{"$f":"IFERROR(INDEX($AE$13:$AE$1003, SMALL(IF(ISBLANK($AE$13:$AE$1003)+ISERROR($AE$13:$AE$1003)+LEN($AE$13:$AE$1003)=0, \"\", ROW($AE$13:$AE$1003)-MIN(ROW($AE$13:$AE$1003))+1), ROW(833:833))),\"\")","v":"_M____TRAN_N"},{"$f":"IF(AF845=\"\",\"\",IF(COUNTIF(CurrentListing,AF845)>1,AJ845,\"\"))","v":""},{"$f":"IF(LEN(AF845)=0,\"\",IF(ISNA(MATCH(AF845,MasterListing,0)),AJ845,\"\"))","v":""},null,{"$f":"IF(LEN(AG845)=0,\"\",IF(ISNA(MATCH(AG845,CurrentListing,0)),AH845,\"\"))","v":"_M____TRAN_N"},{"$f":"H845&I845&P845&Q845&R845&V845&W845","v":""},"MTRANN","_M____TRAN_N",1,"______"]
[null,null,null,null,null,null,null,null,null,null,null,null,null,null,null,null,null,null,null,null,null,null,null,null,null,null,{"$f":"IFERROR(INDEX($AE$13:$AE$1003, SMALL(IF(ISBLANK($AE$13:$AE$1003)+ISERROR($AE$13:$AE$1003)+LEN($AE$13:$AE$1003)=0, \"\", ROW($AE$13:$AE$1003)-MIN(ROW($AE$13:$AE$1003))+1), ROW(834:834))),\"\")","v":"AM7______Y"},"","",null,"AM7______Y","","AM7Y","AM7______Y",{"$f":"IF(LEN(AA846)>0,1,0)","v":1},{"$f":"H846&\"_\"&I846&\"_\"&P846&\"_\"&Q846&\"_\"&R846&\"_\"&V846&\"_\"&W846","v":"______"}]
[null,null,null,null,null,null,null,null,null,null,null,null,null,null,null,null,null,null,null,null,null,null,null,null,null,null,{"$f":"IFERROR(INDEX($AE$13:$AE$1003, SMALL(IF(ISBLANK($AE$13:$AE$1003)+ISERROR($AE$13:$AE$1003)+LEN($AE$13:$AE$1003)=0, \"\", ROW($AE$13:$AE$1003)-MIN(ROW($AE$13:$AE$1003))+1), ROW(835:835))),\"\")","v":"AM7_____D_N"},"","",null,"AM7_____D_N","","AM7DN","AM7_____D_N",1,"______"]
[null,null,null,null,null,null,null,null,null,null,null,null,null,null,null,null,null,null,null,null,null,null,null,null,null,null,{"$f":"IFERROR(INDEX($AE$13:$AE$1003, SMALL(IF(ISBLANK($AE$13:$AE$1003)+ISERROR($AE$13:$AE$1003)+LEN($AE$13:$AE$1003)=0, \"\", ROW($AE$13:$AE$1003)-MIN(ROW($AE$13:$AE$1003))+1), ROW(836:836))),\"\")","v":"AM7_____DROPOUT_N"},"","",null,"AM7_____DROPOUT_N","","AM7DROPOUTN","AM7_____DROPOUT_N",1,"______"]
[null,null,null,null,null,null,null,null,null,null,null,null,null,null,null,null,null,null,null,null,null,null,null,null,null,null,{"$f":"IFERROR(INDEX($AE$13:$AE$1003, SMALL(IF(ISBLANK($AE$13:$AE$1003)+ISERROR($AE$13:$AE$1003)+LEN($AE$13:$AE$1003)=0, \"\", ROW($AE$13:$AE$1003)-MIN(ROW($AE$13:$AE$1003))+1), ROW(837:837))),\"\")","v":"AM7_____GHS_N"},"","",null,"AM7_____GHS_N","","AM7GHSN","AM7_____GHS_N",1,"______"]
[null,null,null,null,null,null,null,null,null,null,null,null,null,null,null,null,null,null,null,null,null,null,null,null,null,null,{"$f":"IFERROR(INDEX($AE$13:$AE$1003, SMALL(IF(ISBLANK($AE$13:$AE$1003)+ISERROR($AE$13:$AE$1003)+LEN($AE$13:$AE$1003)=0, \"\", ROW($AE$13:$AE$1003)-MIN(ROW($AE$13:$AE$1003))+1), ROW(838:838))),\"\")","v":"AM7_____GRADALTDPL_N"},"","",null,"AM7_____GRADALTDPL_N","","AM7GRADALTDPLN","AM7_____GRADALTDPL_N",1,"______"]
[null,null,null,null,null,null,null,null,null,null,null,null,null,null,null,null,null,null,null,null,null,null,null,null,null,null,{"$f":"IFERROR(INDEX($AE$13:$AE$1003, SMALL(IF(ISBLANK($AE$13:$AE$1003)+ISERROR($AE$13:$AE$1003)+LEN($AE$13:$AE$1003)=0, \"\", ROW($AE$13:$AE$1003)-MIN(ROW($AE$13:$AE$1003))+1), ROW(839:839))),\"\")","v":"AM7_____MKC_N"},"","",null,"AM7_____MKC_N","","AM7MKCN","AM7_____MKC_N",1,"______"]
[null,null,null,null,null,null,null,null,null,null,null,null,null,null,null,null,null,null,null,null,null,null,null,null,null,null,{"$f":"IFERROR(INDEX($AE$13:$AE$1003, SMALL(IF(ISBLANK($AE$13:$AE$1003)+ISERROR($AE$13:$AE$1003)+LEN($AE$13:$AE$1003)=0, \"\", ROW($AE$13:$AE$1003)-MIN(ROW($AE$13:$AE$1003))+1), ROW(840:840))),\"\")","v":"AM7_____RC_N"},"","",null,"AM7_____RC_N","","AM7RCN","AM7_____RC_N",1,"______"]
[null,null,null,null,null,null,null,null,null,null,null,null,null,null,null,null,null,null,null,null,null,null,null,null,null,null,{"$f":"IFERROR(INDEX($AE$13:$AE$1003, SMALL(IF(ISBLANK($AE$13:$AE$1003)+ISERROR($AE$13:$AE$1003)+LEN($AE$13:$AE$1003)=0, \"\", ROW($AE$13:$AE$1003)-MIN(ROW($AE$13:$AE$1003))+1), ROW(841:841))),\"\")","v":"AM7_____RMA_N"},"","",null,"AM7_____RMA_N","","AM7RMAN","AM7_____RMA_N",1,"______"]
[null,null,null,null,null,null,null,null,null,null,null,null,null,null,null,null,null,null,null,null,null,null,null,null,null,null,{"$f":"IFERROR(INDEX($AE$13:$AE$1003, SMALL(IF(ISBLANK($AE$13:$AE$1003)+ISERROR($AE$13:$AE$1003)+LEN($AE$13:$AE$1003)=0, \"\", ROW($AE$13:$AE$1003)-MIN(ROW($AE$13:$AE$1003))+1), ROW(842:842))),\"\")","v":"AM7_____TRAN_N"},"","",null,"AM7_____TRAN_N","","AM7TRANN","AM7_____TRAN_N",1,"______"]
[null,null,null,null,null,null,null,null,null,null,null,null,null,null,null,null,null,null,null,null,null,null,null,null,null,null,{"$f":"IFERROR(INDEX($AE$13:$AE$1003, SMALL(IF(ISBLANK($AE$13:$AE$1003)+ISERROR($AE$13:$AE$1003)+LEN($AE$13:$AE$1003)=0, \"\", ROW($AE$13:$AE$1003)-MIN(ROW($AE$13:$AE$1003))+1), ROW(843:843))),\"\")","v":"AS7______Y"},"","",null,"AS7______Y","","AS7Y","AS7______Y",1,"______"]
[null,null,null,null,null,null,null,null,null,null,null,null,null,null,null,null,null,null,null,null,null,null,null,null,null,null,{"$f":"IFERROR(INDEX($AE$13:$AE$1003, SMALL(IF(ISBLANK($AE$13:$AE$1003)+ISERROR($AE$13:$AE$1003)+LEN($AE$13:$AE$1003)=0, \"\", ROW($AE$13:$AE$1003)-MIN(ROW($AE$13:$AE$1003))+1), ROW(844:844))),\"\")","v":"AS7_____D_N"},"","",null,"AS7_____D_N","","AS7DN","AS7_____D_N",1,"______"]
[null,null,null,null,null,null,null,null,null,null,null,null,null,null,null,null,null,null,null,null,null,null,null,null,null,null,{"$f":"IFERROR(INDEX($AE$13:$AE$1003, SMALL(IF(ISBLANK($AE$13:$AE$1003)+ISERROR($AE$13:$AE$1003)+LEN($AE$13:$AE$1003)=0, \"\", ROW($AE$13:$AE$1003)-MIN(ROW($AE$13:$AE$1003))+1), ROW(845:845))),\"\")","v":"AS7_____DROPOUT_N"},"","",null,"AS7_____DROPOUT_N","","AS7DROPOUTN","AS7_____DROPOUT_N",1,"______"]
[null,null,null,null,null,null,null,null,null,null,null,null,null,null,null,null,null,null,null,null,null,null,null,null,null,null,{"$f":"IFERROR(INDEX($AE$13:$AE$1003, SMALL(IF(ISBLANK($AE$13:$AE$1003)+ISERROR($AE$13:$AE$1003)+LEN($AE$13:$AE$1003)=0, \"\", ROW($AE$13:$AE$1003)-MIN(ROW($AE$13:$AE$1003))+1), ROW(846:846))),\"\")","v":"AS7_____GHS_N"},"","",null,"AS7_____GHS_N","","AS7GHSN","AS7_____GHS_N",1,"______"]
[null,null,null,null,null,null,null,null,null,null,null,null,null,null,null,null,null,null,null,null,null,null,null,null,null,null,{"$f":"IFERROR(INDEX($AE$13:$AE$1003, SMALL(IF(ISBLANK($AE$13:$AE$1003)+ISERROR($AE$13:$AE$1003)+LEN($AE$13:$AE$1003)=0, \"\", ROW($AE$13:$AE$1003)-MIN(ROW($AE$13:$AE$1003))+1), ROW(847:847))),\"\")","v":"AS7_____GRADALTDPL_N"},"","",null,"AS7_____GRADALTDPL_N","","AS7GRADALTDPLN","AS7_____GRADALTDPL_N",1,"______"]
[null,null,null,null,null,null,null,null,null,null,null,null,null,null,null,null,null,null,null,null,null,null,null,null,null,null,{"$f":"IFERROR(INDEX($AE$13:$AE$1003, SMALL(IF(ISBLANK($AE$13:$AE$1003)+ISERROR($AE$13:$AE$1003)+LEN($AE$13:$AE$1003)=0, \"\", ROW($AE$13:$AE$1003)-MIN(ROW($AE$13:$AE$1003))+1), ROW(848:848))),\"\")","v":"AS7_____MKC_N"},"","",null,"AS7_____MKC_N","","AS7MKCN","AS7_____MKC_N",1,"______"]
[null,null,null,null,null,null,null,null,null,null,null,null,null,null,null,null,null,null,null,null,null,null,null,null,null,null,{"$f":"IFERROR(INDEX($AE$13:$AE$1003, SMALL(IF(ISBLANK($AE$13:$AE$1003)+ISERROR($AE$13:$AE$1003)+LEN($AE$13:$AE$1003)=0, \"\", ROW($AE$13:$AE$1003)-MIN(ROW($AE$13:$AE$1003))+1), ROW(849:849))),\"\")","v":"AS7_____RC_N"},"","",null,"AS7_____RC_N","","AS7RCN","AS7_____RC_N",1,"______"]
[null,null,null,null,null,null,null,null,null,null,null,null,null,null,null,null,null,null,null,null,null,null,null,null,null,null,{"$f":"IFERROR(INDEX($AE$13:$AE$1003, SMALL(IF(ISBLANK($AE$13:$AE$1003)+ISERROR($AE$13:$AE$1003)+LEN($AE$13:$AE$1003)=0, \"\", ROW($AE$13:$AE$1003)-MIN(ROW($AE$13:$AE$1003))+1), ROW(850:850))),\"\")","v":"AS7_____RMA_N"},"","",null,"AS7_____RMA_N","","AS7RMAN","AS7_____RMA_N",1,"______"]
[null,null,null,null,null,null,null,null,null,null,null,null,null,null,null,null,null,null,null,null,null,null,null,null,null,null,{"$f":"IFERROR(INDEX($AE$13:$AE$1003, SMALL(IF(ISBLANK($AE$13:$AE$1003)+ISERROR($AE$13:$AE$1003)+LEN($AE$13:$AE$1003)=0, \"\", ROW($AE$13:$AE$1003)-MIN(ROW($AE$13:$AE$1003))+1), ROW(851:851))),\"\")","v":"AS7_____TRAN_N"},"","",null,"AS7_____TRAN_N","","AS7TRANN","AS7_____TRAN_N",1,"______"]
[null,null,null,null,null,null,null,null,null,null,null,null,null,null,null,null,null,null,null,null,null,null,null,null,null,null,{"$f":"IFERROR(INDEX($AE$13:$AE$1003, SMALL(IF(ISBLANK($AE$13:$AE$1003)+ISERROR($AE$13:$AE$1003)+LEN($AE$13:$AE$1003)=0, \"\", ROW($AE$13:$AE$1003)-MIN(ROW($AE$13:$AE$1003))+1), ROW(852:852))),\"\")","v":"BL7______Y"},"","",null,"BL7______Y","","BL7Y","BL7______Y",1,"______"]
[null,null,null,null,null,null,null,null,null,null,null,null,null,null,null,null,null,null,null,null,null,null,null,null,null,null,{"$f":"IFERROR(INDEX($AE$13:$AE$1003, SMALL(IF(ISBLANK($AE$13:$AE$1003)+ISERROR($AE$13:$AE$1003)+LEN($AE$13:$AE$1003)=0, \"\", ROW($AE$13:$AE$1003)-MIN(ROW($AE$13:$AE$1003))+1), ROW(853:853))),\"\")","v":"BL7_____D_N"},"","",null,"BL7_____D_N","","BL7DN","BL7_____D_N",1,"______"]
[null,null,null,null,null,null,null,null,null,null,null,null,null,null,null,null,null,null,null,null,null,null,null,null,null,null,{"$f":"IFERROR(INDEX($AE$13:$AE$1003, SMALL(IF(ISBLANK($AE$13:$AE$1003)+ISERROR($AE$13:$AE$1003)+LEN($AE$13:$AE$1003)=0, \"\", ROW($AE$13:$AE$1003)-MIN(ROW($AE$13:$AE$1003))+1), ROW(854:854))),\"\")","v":"BL7_____DROPOUT_N"},"","",null,"BL7_____DROPOUT_N","","BL7DROPOUTN","BL7_____DROPOUT_N",1,"______"]
[null,null,null,null,null,null,null,null,null,null,null,null,null,null,null,null,null,null,null,null,null,null,null,null,null,null,{"$f":"IFERROR(INDEX($AE$13:$AE$1003, SMALL(IF(ISBLANK($AE$13:$AE$1003)+ISERROR($AE$13:$AE$1003)+LEN($AE$13:$AE$1003)=0, \"\", ROW($AE$13:$AE$1003)-MIN(ROW($AE$13:$AE$1003))+1), ROW(855:855))),\"\")","v":"BL7_____GHS_N"},"","",null,"BL7_____GHS_N","","BL7GHSN","BL7_____GHS_N",1,"______"]
[null,null,null,null,null,null,null,null,null,null,null,null,null,null,null,null,null,null,null,null,null,null,null,null,null,null,{"$f":"IFERROR(INDEX($AE$13:$AE$1003, SMALL(IF(ISBLANK($AE$13:$AE$1003)+ISERROR($AE$13:$AE$1003)+LEN($AE$13:$AE$1003)=0, \"\", ROW($AE$13:$AE$1003)-MIN(ROW($AE$13:$AE$1003))+1), ROW(856:856))),\"\")","v":"BL7_____GRADALTDPL_N"},"","",null,"BL7_____GRADALTDPL_N","","BL7GRADALTDPLN","BL7_____GRADALTDPL_N",1,"______"]
[null,null,null,null,null,null,null,null,null,null,null,null,null,null,null,null,null,null,null,null,null,null,null,null,null,null,{"$f":"IFERROR(INDEX($AE$13:$AE$1003, SMALL(IF(ISBLANK($AE$13:$AE$1003)+ISERROR($AE$13:$AE$1003)+LEN($AE$13:$AE$1003)=0, \"\", ROW($AE$13:$AE$1003)-MIN(ROW($AE$13:$AE$1003))+1), ROW(857:857))),\"\")","v":"BL7_____MKC_N"},"","",null,"BL7_____MKC_N","","BL7MKCN","BL7_____MKC_N",1,"______"]
[null,null,null,null,null,null,null,null,null,null,null,null,null,null,null,null,null,null,null,null,null,null,null,null,null,null,{"$f":"IFERROR(INDEX($AE$13:$AE$1003, SMALL(IF(ISBLANK($AE$13:$AE$1003)+ISERROR($AE$13:$AE$1003)+LEN($AE$13:$AE$1003)=0, \"\", ROW($AE$13:$AE$1003)-MIN(ROW($AE$13:$AE$1003))+1), ROW(858:858))),\"\")","v":"BL7_____RC_N"},"","",null,"BL7_____RC_N","","BL7RCN","BL7_____RC_N",1,"______"]
[null,null,null,null,null,null,null,null,null,null,null,null,null,null,null,null,null,null,null,null,null,null,null,null,null,null,{"$f":"IFERROR(INDEX($AE$13:$AE$1003, SMALL(IF(ISBLANK($AE$13:$AE$1003)+ISERROR($AE$13:$AE$1003)+LEN($AE$13:$AE$1003)=0, \"\", ROW($AE$13:$AE$1003)-MIN(ROW($AE$13:$AE$1003))+1), ROW(859:859))),\"\")","v":"BL7_____RMA_N"},"","",null,"BL7_____RMA_N","","BL7RMAN","BL7_____RMA_N",1,"______"]
[null,null,null,null,null,null,null,null,null,null,null,null,null,null,null,null,null,null,null,null,null,null,null,null,null,null,{"$f":"IFERROR(INDEX($AE$13:$AE$1003, SMALL(IF(ISBLANK($AE$13:$AE$1003)+ISERROR($AE$13:$AE$1003)+LEN($AE$13:$AE$1003)=0, \"\", ROW($AE$13:$AE$1003)-MIN(ROW($AE$13:$AE$1003))+1), ROW(860:860))),\"\")","v":"BL7_____TRAN_N"},"","",null,"BL7_____TRAN_N","","BL7TRANN","BL7_____TRAN_N",1,"______"]
[null,null,null,null,null,null,null,null,null,null,null,null,null,null,null,null,null,null,null,null,null,null,null,null,null,null,{"$f":"IFERROR(INDEX($AE$13:$AE$1003, SMALL(IF(ISBLANK($AE$13:$AE$1003)+ISERROR($AE$13:$AE$1003)+LEN($AE$13:$AE$1003)=0, \"\", ROW($AE$13:$AE$1003)-MIN(ROW($AE$13:$AE$1003))+1), ROW(861:861))),\"\")","v":"HI7______Y"},"","",null,"HI7______Y","","HI7Y","HI7______Y",1,"______"]
[null,null,null,null,null,null,null,null,null,null,null,null,null,null,null,null,null,null,null,null,null,null,null,null,null,null,{"$f":"IFERROR(INDEX($AE$13:$AE$1003, SMALL(IF(ISBLANK($AE$13:$AE$1003)+ISERROR($AE$13:$AE$1003)+LEN($AE$13:$AE$1003)=0, \"\", ROW($AE$13:$AE$1003)-MIN(ROW($AE$13:$AE$1003))+1), ROW(862:862))),\"\")","v":"HI7_____D_N"},"","",null,"HI7_____D_N","","HI7DN","HI7_____D_N",1,"______"]
[null,null,null,null,null,null,null,null,null,null,null,null,null,null,null,null,null,null,null,null,null,null,null,null,null,null,{"$f":"IFERROR(INDEX($AE$13:$AE$1003, SMALL(IF(ISBLANK($AE$13:$AE$1003)+ISERROR($AE$13:$AE$1003)+LEN($AE$13:$AE$1003)=0, \"\", ROW($AE$13:$AE$1003)-MIN(ROW($AE$13:$AE$1003))+1), ROW(863:863))),\"\")","v":"HI7_____DROPOUT_N"},"","",null,"HI7_____DROPOUT_N","","HI7DROPOUTN","HI7_____DROPOUT_N",1,"______"]
[null,null,null,null,null,null,null,null,null,null,null,null,null,null,null,null,null,null,null,null,null,null,null,null,null,null,{"$f":"IFERROR(INDEX($AE$13:$AE$1003, SMALL(IF(ISBLANK($AE$13:$AE$1003)+ISERROR($AE$13:$AE$1003)+LEN($AE$13:$AE$1003)=0, \"\", ROW($AE$13:$AE$1003)-MIN(ROW($AE$13:$AE$1003))+1), ROW(864:864))),\"\")","v":"HI7_____GHS_N"},"","",null,"HI7_____GHS_N","","HI7GHSN","HI7_____GHS_N",1,"______"]
[null,null,null,null,null,null,null,null,null,null,null,null,null,null,null,null,null,null,null,null,null,null,null,null,null,null,{"$f":"IFERROR(INDEX($AE$13:$AE$1003, SMALL(IF(ISBLANK($AE$13:$AE$1003)+ISERROR($AE$13:$AE$1003)+LEN($AE$13:$AE$1003)=0, \"\", ROW($AE$13:$AE$1003)-MIN(ROW($AE$13:$AE$1003))+1), ROW(865:865))),\"\")","v":"HI7_____GRADALTDPL_N"},"","",null,"HI7_____GRADALTDPL_N","","HI7GRADALTDPLN","HI7_____GRADALTDPL_N",1,"______"]
[null,null,null,null,null,null,null,null,null,null,null,null,null,null,null,null,null,null,null,null,null,null,null,null,null,null,{"$f":"IFERROR(INDEX($AE$13:$AE$1003, SMALL(IF(ISBLANK($AE$13:$AE$1003)+ISERROR($AE$13:$AE$1003)+LEN($AE$13:$AE$1003)=0, \"\", ROW($AE$13:$AE$1003)-MIN(ROW($AE$13:$AE$1003))+1), ROW(866:866))),\"\")","v":"HI7_____MKC_N"},"","",null,"HI7_____MKC_N","","HI7MKCN","HI7_____MKC_N",1,"______"]
[null,null,null,null,null,null,null,null,null,null,null,null,null,null,null,null,null,null,null,null,null,null,null,null,null,null,{"$f":"IFERROR(INDEX($AE$13:$AE$1003, SMALL(IF(ISBLANK($AE$13:$AE$1003)+ISERROR($AE$13:$AE$1003)+LEN($AE$13:$AE$1003)=0, \"\", ROW($AE$13:$AE$1003)-MIN(ROW($AE$13:$AE$1003))+1), ROW(867:867))),\"\")","v":"HI7_____RC_N"},"","",null,"HI7_____RC_N","","HI7RCN","HI7_____RC_N",1,"______"]
[null,null,null,null,null,null,null,null,null,null,null,null,null,null,null,null,null,null,null,null,null,null,null,null,null,null,{"$f":"IFERROR(INDEX($AE$13:$AE$1003, SMALL(IF(ISBLANK($AE$13:$AE$1003)+ISERROR($AE$13:$AE$1003)+LEN($AE$13:$AE$1003)=0, \"\", ROW($AE$13:$AE$1003)-MIN(ROW($AE$13:$AE$1003))+1), ROW(868:868))),\"\")","v":"HI7_____RMA_N"},"","",null,"HI7_____RMA_N","","HI7RMAN","HI7_____RMA_N",1,"______"]
[null,null,null,null,null,null,null,null,null,null,null,null,null,null,null,null,null,null,null,null,null,null,null,null,null,null,{"$f":"IFERROR(INDEX($AE$13:$AE$1003, SMALL(IF(ISBLANK($AE$13:$AE$1003)+ISERROR($AE$13:$AE$1003)+LEN($AE$13:$AE$1003)=0, \"\", ROW($AE$13:$AE$1003)-MIN(ROW($AE$13:$AE$1003))+1), ROW(869:869))),\"\")","v":"HI7_____TRAN_N"},"","",null,"HI7_____TRAN_N","","HI7TRANN","HI7_____TRAN_N",1,"______"]
[null,null,null,null,null,null,null,null,null,null,null,null,null,null,null,null,null,null,null,null,null,null,null,null,null,null,{"$f":"IFERROR(INDEX($AE$13:$AE$1003, SMALL(IF(ISBLANK($AE$13:$AE$1003)+ISERROR($AE$13:$AE$1003)+LEN($AE$13:$AE$1003)=0, \"\", ROW($AE$13:$AE$1003)-MIN(ROW($AE$13:$AE$1003))+1), ROW(870:870))),\"\")","v":"MU7______Y"},"","",null,"MU7______Y","","MU7Y","MU7______Y",1,"______"]
[null,null,null,null,null,null,null,null,null,null,null,null,null,null,null,null,null,null,null,null,null,null,null,null,null,null,{"$f":"IFERROR(INDEX($AE$13:$AE$1003, SMALL(IF(ISBLANK($AE$13:$AE$1003)+ISERROR($AE$13:$AE$1003)+LEN($AE$13:$AE$1003)=0, \"\", ROW($AE$13:$AE$1003)-MIN(ROW($AE$13:$AE$1003))+1), ROW(871:871))),\"\")","v":"MU7_____D_N"},"","",null,"MU7_____D_N","","MU7DN","MU7_____D_N",1,"______"]
[null,null,null,null,null,null,null,null,null,null,null,null,null,null,null,null,null,null,null,null,null,null,null,null,null,null,{"$f":"IFERROR(INDEX($AE$13:$AE$1003, SMALL(IF(ISBLANK($AE$13:$AE$1003)+ISERROR($AE$13:$AE$1003)+LEN($AE$13:$AE$1003)=0, \"\", ROW($AE$13:$AE$1003)-MIN(ROW($AE$13:$AE$1003))+1), ROW(872:872))),\"\")","v":"MU7_____DROPOUT_N"},"","",null,"MU7_____DROPOUT_N","","MU7DROPOUTN","MU7_____DROPOUT_N",1,"______"]
[null,null,null,null,null,null,null,null,null,null,null,null,null,null,null,null,null,null,null,null,null,null,null,null,null,null,{"$f":"IFERROR(INDEX($AE$13:$AE$1003, SMALL(IF(ISBLANK($AE$13:$AE$1003)+ISERROR($AE$13:$AE$1003)+LEN($AE$13:$AE$1003)=0, \"\", ROW($AE$13:$AE$1003)-MIN(ROW($AE$13:$AE$1003))+1), ROW(873:873))),\"\")","v":"MU7_____GHS_N"},"","",null,"MU7_____GHS_N","","MU7GHSN","MU7_____GHS_N",1,"______"]
[null,null,null,null,null,null,null,null,null,null,null,null,null,null,null,null,null,null,null,null,null,null,null,null,null,null,{"$f":"IFERROR(INDEX($AE$13:$AE$1003, SMALL(IF(ISBLANK($AE$13:$AE$1003)+ISERROR($AE$13:$AE$1003)+LEN($AE$13:$AE$1003)=0, \"\", ROW($AE$13:$AE$1003)-MIN(ROW($AE$13:$AE$1003))+1), ROW(874:874))),\"\")","v":"MU7_____GRADALTDPL_N"},"","",null,"MU7_____GRADALTDPL_N","","MU7GRADALTDPLN","MU7_____GRADALTDPL_N",1,"______"]
[null,null,null,null,null,null,null,null,null,null,null,null,null,null,null,null,null,null,null,null,null,null,null,null,null,null,{"$f":"IFERROR(INDEX($AE$13:$AE$1003, SMALL(IF(ISBLANK($AE$13:$AE$1003)+ISERROR($AE$13:$AE$1003)+LEN($AE$13:$AE$1003)=0, \"\", ROW($AE$13:$AE$1003)-MIN(ROW($AE$13:$AE$1003))+1), ROW(875:875))),\"\")","v":"MU7_____MKC_N"},"","",null,"MU7_____MKC_N","","MU7MKCN","MU7_____MKC_N",1,"______"]
[null,null,null,null,null,null,null,null,null,null,null,null,null,null,null,null,null,null,null,null,null,null,null,null,null,null,{"$f":"IFERROR(INDEX($AE$13:$AE$1003, SMALL(IF(ISBLANK($AE$13:$AE$1003)+ISERROR($AE$13:$AE$1003)+LEN($AE$13:$AE$1003)=0, \"\", ROW($AE$13:$AE$1003)-MIN(ROW($AE$13:$AE$1003))+1), ROW(876:876))),\"\")","v":"MU7_____RC_N"},"","",null,"MU7_____RC_N","","MU7RCN","MU7_____RC_N",1,"______"]
[null,null,null,null,null,null,null,null,null,null,null,null,null,null,null,null,null,null,null,null,null,null,null,null,null,null,{"$f":"IFERROR(INDEX($AE$13:$AE$1003, SMALL(IF(ISBLANK($AE$13:$AE$1003)+ISERROR($AE$13:$AE$1003)+LEN($AE$13:$AE$1003)=0, \"\", ROW($AE$13:$AE$1003)-MIN(ROW($AE$13:$AE$1003))+1), ROW(877:877))),\"\")","v":"MU7_____RMA_N"},"","",null,"MU7_____RMA_N","","MU7RMAN","MU7_____RMA_N",1,"______"]
[null,null,null,null,null,null,null,null,null,null,null,null,null,null,null,null,null,null,null,null,null,null,null,null,null,null,{"$f":"IFERROR(INDEX($AE$13:$AE$1003, SMALL(IF(ISBLANK($AE$13:$AE$1003)+ISERROR($AE$13:$AE$1003)+LEN($AE$13:$AE$1003)=0, \"\", ROW($AE$13:$AE$1003)-MIN(ROW($AE$13:$AE$1003))+1), ROW(878:878))),\"\")","v":"MU7_____TRAN_N"},"","",null,"MU7_____TRAN_N","","MU7TRANN","MU7_____TRAN_N",1,"______"]
[null,null,null,null,null,null,null,null,null,null,null,null,null,null,null,null,null,null,null,null,null,null,null,null,null,null,{"$f":"IFERROR(INDEX($AE$13:$AE$1003, SMALL(IF(ISBLANK($AE$13:$AE$1003)+ISERROR($AE$13:$AE$1003)+LEN($AE$13:$AE$1003)=0, \"\", ROW($AE$13:$AE$1003)-MIN(ROW($AE$13:$AE$1003))+1), ROW(879:879))),\"\")","v":"PI7______Y"},"","",null,"PI7______Y","","PI7Y","PI7______Y",1,"______"]
[null,null,null,null,null,null,null,null,null,null,null,null,null,null,null,null,null,null,null,null,null,null,null,null,null,null,{"$f":"IFERROR(INDEX($AE$13:$AE$1003, SMALL(IF(ISBLANK($AE$13:$AE$1003)+ISERROR($AE$13:$AE$1003)+LEN($AE$13:$AE$1003)=0, \"\", ROW($AE$13:$AE$1003)-MIN(ROW($AE$13:$AE$1003))+1), ROW(880:880))),\"\")","v":"PI7_____D_N"},"","",null,"PI7_____D_N","","PI7DN","PI7_____D_N",1,"______"]
[null,null,null,null,null,null,null,null,null,null,null,null,null,null,null,null,null,null,null,null,null,null,null,null,null,null,{"$f":"IFERROR(INDEX($AE$13:$AE$1003, SMALL(IF(ISBLANK($AE$13:$AE$1003)+ISERROR($AE$13:$AE$1003)+LEN($AE$13:$AE$1003)=0, \"\", ROW($AE$13:$AE$1003)-MIN(ROW($AE$13:$AE$1003))+1), ROW(881:881))),\"\")","v":"PI7_____DROPOUT_N"},"","",null,"PI7_____DROPOUT_N","","PI7DROPOUTN","PI7_____DROPOUT_N",1,"______"]
[null,null,null,null,null,null,null,null,null,null,null,null,null,null,null,null,null,null,null,null,null,null,null,null,null,null,{"$f":"IFERROR(INDEX($AE$13:$AE$1003, SMALL(IF(ISBLANK($AE$13:$AE$1003)+ISERROR($AE$13:$AE$1003)+LEN($AE$13:$AE$1003)=0, \"\", ROW($AE$13:$AE$1003)-MIN(ROW($AE$13:$AE$1003))+1), ROW(882:882))),\"\")","v":"PI7_____GHS_N"},"","",null,"PI7_____GHS_N","","PI7GHSN","PI7_____GHS_N",1,"______"]
[null,null,null,null,null,null,null,null,null,null,null,null,null,null,null,null,null,null,null,null,null,null,null,null,null,null,{"$f":"IFERROR(INDEX($AE$13:$AE$1003, SMALL(IF(ISBLANK($AE$13:$AE$1003)+ISERROR($AE$13:$AE$1003)+LEN($AE$13:$AE$1003)=0, \"\", ROW($AE$13:$AE$1003)-MIN(ROW($AE$13:$AE$1003))+1), ROW(883:883))),\"\")","v":"PI7_____GRADALTDPL_N"},"","",null,"PI7_____GRADALTDPL_N","","PI7GRADALTDPLN","PI7_____GRADALTDPL_N",1,"______"]
[null,null,null,null,null,null,null,null,null,null,null,null,null,null,null,null,null,null,null,null,null,null,null,null,null,null,{"$f":"IFERROR(INDEX($AE$13:$AE$1003, SMALL(IF(ISBLANK($AE$13:$AE$1003)+ISERROR($AE$13:$AE$1003)+LEN($AE$13:$AE$1003)=0, \"\", ROW($AE$13:$AE$1003)-MIN(ROW($AE$13:$AE$1003))+1), ROW(884:884))),\"\")","v":"PI7_____MKC_N"},"","",null,"PI7_____MKC_N","","PI7MKCN","PI7_____MKC_N",1,"______"]
[null,null,null,null,null,null,null,null,null,null,null,null,null,null,null,null,null,null,null,null,null,null,null,null,null,null,{"$f":"IFERROR(INDEX($AE$13:$AE$1003, SMALL(IF(ISBLANK($AE$13:$AE$1003)+ISERROR($AE$13:$AE$1003)+LEN($AE$13:$AE$1003)=0, \"\", ROW($AE$13:$AE$1003)-MIN(ROW($AE$13:$AE$1003))+1), ROW(885:885))),\"\")","v":"PI7_____RC_N"},"","",null,"PI7_____RC_N","","PI7RCN","PI7_____RC_N",1,"______"]
[null,null,null,null,null,null,null,null,null,null,null,null,null,null,null,null,null,null,null,null,null,null,null,null,null,null,{"$f":"IFERROR(INDEX($AE$13:$AE$1003, SMALL(IF(ISBLANK($AE$13:$AE$1003)+ISERROR($AE$13:$AE$1003)+LEN($AE$13:$AE$1003)=0, \"\", ROW($AE$13:$AE$1003)-MIN(ROW($AE$13:$AE$1003))+1), ROW(886:886))),\"\")","v":"PI7_____RMA_N"},"","",null,"PI7_____RMA_N","","PI7RMAN","PI7_____RMA_N",1,"______"]
[null,null,null,null,null,null,null,null,null,null,null,null,null,null,null,null,null,null,null,null,null,null,null,null,null,null,{"$f":"IFERROR(INDEX($AE$13:$AE$1003, SMALL(IF(ISBLANK($AE$13:$AE$1003)+ISERROR($AE$13:$AE$1003)+LEN($AE$13:$AE$1003)=0, \"\", ROW($AE$13:$AE$1003)-MIN(ROW($AE$13:$AE$1003))+1), ROW(887:887))),\"\")","v":"PI7_____TRAN_N"},"","",null,"PI7_____TRAN_N","","PI7TRANN","PI7_____TRAN_N",1,"______"]
[null,null,null,null,null,null,null,null,null,null,null,null,null,null,null,null,null,null,null,null,null,null,null,null,null,null,{"$f":"IFERROR(INDEX($AE$13:$AE$1003, SMALL(IF(ISBLANK($AE$13:$AE$1003)+ISERROR($AE$13:$AE$1003)+LEN($AE$13:$AE$1003)=0, \"\", ROW($AE$13:$AE$1003)-MIN(ROW($AE$13:$AE$1003))+1), ROW(888:888))),\"\")","v":"WH7______Y"},"","",null,"WH7______Y","","WH7Y","WH7______Y",1,"______"]
[null,null,null,null,null,null,null,null,null,null,null,null,null,null,null,null,null,null,null,null,null,null,null,null,null,null,{"$f":"IFERROR(INDEX($AE$13:$AE$1003, SMALL(IF(ISBLANK($AE$13:$AE$1003)+ISERROR($AE$13:$AE$1003)+LEN($AE$13:$AE$1003)=0, \"\", ROW($AE$13:$AE$1003)-MIN(ROW($AE$13:$AE$1003))+1), ROW(889:889))),\"\")","v":"WH7_____D_N"},"","",null,"WH7_____D_N","","WH7DN","WH7_____D_N",1,"______"]
[null,null,null,null,null,null,null,null,null,null,null,null,null,null,null,null,null,null,null,null,null,null,null,null,null,null,{"$f":"IFERROR(INDEX($AE$13:$AE$1003, SMALL(IF(ISBLANK($AE$13:$AE$1003)+ISERROR($AE$13:$AE$1003)+LEN($AE$13:$AE$1003)=0, \"\", ROW($AE$13:$AE$1003)-MIN(ROW($AE$13:$AE$1003))+1), ROW(890:890))),\"\")","v":"WH7_____DROPOUT_N"},"","",null,"WH7_____DROPOUT_N","","WH7DROPOUTN","WH7_____DROPOUT_N",1,"______"]
[null,null,null,null,null,null,null,null,null,null,null,null,null,null,null,null,null,null,null,null,null,null,null,null,null,null,{"$f":"IFERROR(INDEX($AE$13:$AE$1003, SMALL(IF(ISBLANK($AE$13:$AE$1003)+ISERROR($AE$13:$AE$1003)+LEN($AE$13:$AE$1003)=0, \"\", ROW($AE$13:$AE$1003)-MIN(ROW($AE$13:$AE$1003))+1), ROW(891:891))),\"\")","v":"WH7_____GHS_N"},"","",null,"WH7_____GHS_N","","WH7GHSN","WH7_____GHS_N",1,"______"]
[null,null,null,null,null,null,null,null,null,null,null,null,null,null,null,null,null,null,null,null,null,null,null,null,null,null,{"$f":"IFERROR(INDEX($AE$13:$AE$1003, SMALL(IF(ISBLANK($AE$13:$AE$1003)+ISERROR($AE$13:$AE$1003)+LEN($AE$13:$AE$1003)=0, \"\", ROW($AE$13:$AE$1003)-MIN(ROW($AE$13:$AE$1003))+1), ROW(892:892))),\"\")","v":"WH7_____GRADALTDPL_N"},"","",null,"WH7_____GRADALTDPL_N","","WH7GRADALTDPLN","WH7_____GRADALTDPL_N",1,"______"]
[null,null,null,null,null,null,null,null,null,null,null,null,null,null,null,null,null,null,null,null,null,null,null,null,null,null,{"$f":"IFERROR(INDEX($AE$13:$AE$1003, SMALL(IF(ISBLANK($AE$13:$AE$1003)+ISERROR($AE$13:$AE$1003)+LEN($AE$13:$AE$1003)=0, \"\", ROW($AE$13:$AE$1003)-MIN(ROW($AE$13:$AE$1003))+1), ROW(893:893))),\"\")","v":"WH7_____MKC_N"},"","",null,"WH7_____MKC_N","","WH7MKCN","WH7_____MKC_N",1,"______"]
[null,null,null,null,null,null,null,null,null,null,null,null,null,null,null,null,null,null,null,null,null,null,null,null,null,null,{"$f":"IFERROR(INDEX($AE$13:$AE$1003, SMALL(IF(ISBLANK($AE$13:$AE$1003)+ISERROR($AE$13:$AE$1003)+LEN($AE$13:$AE$1003)=0, \"\", ROW($AE$13:$AE$1003)-MIN(ROW($AE$13:$AE$1003))+1), ROW(894:894))),\"\")","v":"WH7_____RC_N"},"","",null,"WH7_____RC_N","","WH7RCN","WH7_____RC_N",1,"______"]
[null,null,null,null,null,null,null,null,null,null,null,null,null,null,null,null,null,null,null,null,null,null,null,null,null,null,{"$f":"IFERROR(INDEX($AE$13:$AE$1003, SMALL(IF(ISBLANK($AE$13:$AE$1003)+ISERROR($AE$13:$AE$1003)+LEN($AE$13:$AE$1003)=0, \"\", ROW($AE$13:$AE$1003)-MIN(ROW($AE$13:$AE$1003))+1), ROW(895:895))),\"\")","v":"WH7_____RMA_N"},"","",null,"WH7_____RMA_N","","WH7RMAN","WH7_____RMA_N",1,"______"]
[null,null,null,null,null,null,null,null,null,null,null,null,null,null,null,null,null,null,null,null,null,null,null,null,null,null,{"$f":"IFERROR(INDEX($AE$13:$AE$1003, SMALL(IF(ISBLANK($AE$13:$AE$1003)+ISERROR($AE$13:$AE$1003)+LEN($AE$13:$AE$1003)=0, \"\", ROW($AE$13:$AE$1003)-MIN(ROW($AE$13:$AE$1003))+1), ROW(896:896))),\"\")","v":"WH7_____TRAN_N"},"","",null,"WH7_____TRAN_N","","WH7TRANN","WH7_____TRAN_N",1,"______"]
[null,null,null,null,null,null,null,null,null,null,null,null,null,null,null,null,null,null,null,null,null,null,null,null,null,null,{"$f":"IFERROR(INDEX($AE$13:$AE$1003, SMALL(IF(ISBLANK($AE$13:$AE$1003)+ISERROR($AE$13:$AE$1003)+LEN($AE$13:$AE$1003)=0, \"\", ROW($AE$13:$AE$1003)-MIN(ROW($AE$13:$AE$1003))+1), ROW(897:897))),\"\")","v":""},{"$f":"IF(AF909=\"\",\"\",IF(COUNTIF(CurrentListing,AF909)>1,AJ909,\"\"))","v":""},{"$f":"IF(LEN(AF909)=0,\"\",IF(ISNA(MATCH(AF909,MasterListing,0)),AJ909,\"\"))","v":""},null,{"$f":"IF(LEN(AG909)=0,\"\",IF(ISNA(MATCH(AG909,CurrentListing,0)),AH909,\"\"))","v":""},{"$f":"H909&I909&P909&Q909&R909&V909&W909","v":""},null,"______",0,"______"]
[null,null,null,null,null,null,null,null,null,null,null,null,null,null,null,null,null,null,null,null,null,null,null,null,null,null,{"$f":"IFERROR(INDEX($AE$13:$AE$1003, SMALL(IF(ISBLANK($AE$13:$AE$1003)+ISERROR($AE$13:$AE$1003)+LEN($AE$13:$AE$1003)=0, \"\", ROW($AE$13:$AE$1003)-MIN(ROW($AE$13:$AE$1003))+1), ROW(898:898))),\"\")","v":""},"","",null,"","",null,"______",{"$f":"IF(LEN(AA910)>0,1,0)","v":0},{"$f":"H910&\"_\"&I910&\"_\"&P910&\"_\"&Q910&\"_\"&R910&\"_\"&V910&\"_\"&W910","v":"______"}]
[null,null,null,null,null,null,null,null,null,null,null,null,null,null,null,null,null,null,null,null,null,null,null,null,null,null,{"$f":"IFERROR(INDEX($AE$13:$AE$1003, SMALL(IF(ISBLANK($AE$13:$AE$1003)+ISERROR($AE$13:$AE$1003)+LEN($AE$13:$AE$1003)=0, \"\", ROW($AE$13:$AE$1003)-MIN(ROW($AE$13:$AE$1003))+1), ROW(899:899))),\"\")","v":""},"","",null,"","",null,"______",0,"______"]
[null,null,null,null,null,null,null,null,null,null,null,null,null,null,null,null,null,null,null,null,null,null,null,null,null,null,{"$f":"IFERROR(INDEX($AE$13:$AE$1003, SMALL(IF(ISBLANK($AE$13:$AE$1003)+ISERROR($AE$13:$AE$1003)+LEN($AE$13:$AE$1003)=0, \"\", ROW($AE$13:$AE$1003)-MIN(ROW($AE$13:$AE$1003))+1), ROW(900:900))),\"\")","v":""},"","",null,"","",null,"______",0,"______"]
[null,null,null,null,null,null,null,null,null,null,null,null,null,null,null,null,null,null,null,null,null,null,null,null,null,null,{"$f":"IFERROR(INDEX($AE$13:$AE$1003, SMALL(IF(ISBLANK($AE$13:$AE$1003)+ISERROR($AE$13:$AE$1003)+LEN($AE$13:$AE$1003)=0, \"\", ROW($AE$13:$AE$1003)-MIN(ROW($AE$13:$AE$1003))+1), ROW(901:901))),\"\")","v":""},"","",null,"","",null,"______",0,"______"]
[null,null,null,null,null,null,null,null,null,null,null,null,null,null,null,null,null,null,null,null,null,null,null,null,null,null,{"$f":"IFERROR(INDEX($AE$13:$AE$1003, SMALL(IF(ISBLANK($AE$13:$AE$1003)+ISERROR($AE$13:$AE$1003)+LEN($AE$13:$AE$1003)=0, \"\", ROW($AE$13:$AE$1003)-MIN(ROW($AE$13:$AE$1003))+1), ROW(902:902))),\"\")","v":""},"","",null,"","",null,"______",0,"______"]
[null,null,null,null,null,null,null,null,null,null,null,null,null,null,null,null,null,null,null,null,null,null,null,null,null,null,{"$f":"IFERROR(INDEX($AE$13:$AE$1003, SMALL(IF(ISBLANK($AE$13:$AE$1003)+ISERROR($AE$13:$AE$1003)+LEN($AE$13:$AE$1003)=0, \"\", ROW($AE$13:$AE$1003)-MIN(ROW($AE$13:$AE$1003))+1), ROW(903:903))),\"\")","v":""},"","",null,"","",null,"______",0,"______"]
[null,null,null,null,null,null,null,null,null,null,null,null,null,null,null,null,null,null,null,null,null,null,null,null,null,null,{"$f":"IFERROR(INDEX($AE$13:$AE$1003, SMALL(IF(ISBLANK($AE$13:$AE$1003)+ISERROR($AE$13:$AE$1003)+LEN($AE$13:$AE$1003)=0, \"\", ROW($AE$13:$AE$1003)-MIN(ROW($AE$13:$AE$1003))+1), ROW(904:904))),\"\")","v":""},"","",null,"","",null,"______",0,"______"]
[null,null,null,null,null,null,null,null,null,null,null,null,null,null,null,null,null,null,null,null,null,null,null,null,null,null,{"$f":"IFERROR(INDEX($AE$13:$AE$1003, SMALL(IF(ISBLANK($AE$13:$AE$1003)+ISERROR($AE$13:$AE$1003)+LEN($AE$13:$AE$1003)=0, \"\", ROW($AE$13:$AE$1003)-MIN(ROW($AE$13:$AE$1003))+1), ROW(905:905))),\"\")","v":""},"","",null,"","",null,"______",0,"______"]
[null,null,null,null,null,null,null,null,null,null,null,null,null,null,null,null,null,null,null,null,null,null,null,null,null,null,{"$f":"IFERROR(INDEX($AE$13:$AE$1003, SMALL(IF(ISBLANK($AE$13:$AE$1003)+ISERROR($AE$13:$AE$1003)+LEN($AE$13:$AE$1003)=0, \"\", ROW($AE$13:$AE$1003)-MIN(ROW($AE$13:$AE$1003))+1), ROW(906:906))),\"\")","v":""},"","",null,"","",null,"______",0,"______"]
[null,null,null,null,null,null,null,null,null,null,null,null,null,null,null,null,null,null,null,null,null,null,null,null,null,null,{"$f":"IFERROR(INDEX($AE$13:$AE$1003, SMALL(IF(ISBLANK($AE$13:$AE$1003)+ISERROR($AE$13:$AE$1003)+LEN($AE$13:$AE$1003)=0, \"\", ROW($AE$13:$AE$1003)-MIN(ROW($AE$13:$AE$1003))+1), ROW(907:907))),\"\")","v":""},"","",null,"","",null,"______",0,"______"]
[null,null,null,null,null,null,null,null,null,null,null,null,null,null,null,null,null,null,null,null,null,null,null,null,null,null,{"$f":"IFERROR(INDEX($AE$13:$AE$1003, SMALL(IF(ISBLANK($AE$13:$AE$1003)+ISERROR($AE$13:$AE$1003)+LEN($AE$13:$AE$1003)=0, \"\", ROW($AE$13:$AE$1003)-MIN(ROW($AE$13:$AE$1003))+1), ROW(908:908))),\"\")","v":""},"","",null,"","",null,"______",0,"______"]
[null,null,null,null,null,null,null,null,null,null,null,null,null,null,null,null,null,null,null,null,null,null,null,null,null,null,{"$f":"IFERROR(INDEX($AE$13:$AE$1003, SMALL(IF(ISBLANK($AE$13:$AE$1003)+ISERROR($AE$13:$AE$1003)+LEN($AE$13:$AE$1003)=0, \"\", ROW($AE$13:$AE$1003)-MIN(ROW($AE$13:$AE$1003))+1), ROW(909:909))),\"\")","v":""},"","",null,"","",null,"______",0,"______"]
[null,null,null,null,null,null,null,null,null,null,null,null,null,null,null,null,null,null,null,null,null,null,null,null,null,null,{"$f":"IFERROR(INDEX($AE$13:$AE$1003, SMALL(IF(ISBLANK($AE$13:$AE$1003)+ISERROR($AE$13:$AE$1003)+LEN($AE$13:$AE$1003)=0, \"\", ROW($AE$13:$AE$1003)-MIN(ROW($AE$13:$AE$1003))+1), ROW(910:910))),\"\")","v":""},"","",null,"","",null,"______",0,"______"]
[null,null,null,null,null,null,null,null,null,null,null,null,null,null,null,null,null,null,null,null,null,null,null,null,null,null,{"$f":"IFERROR(INDEX($AE$13:$AE$1003, SMALL(IF(ISBLANK($AE$13:$AE$1003)+ISERROR($AE$13:$AE$1003)+LEN($AE$13:$AE$1003)=0, \"\", ROW($AE$13:$AE$1003)-MIN(ROW($AE$13:$AE$1003))+1), ROW(911:911))),\"\")","v":""},"","",null,"","",null,"______",0,"______"]
[null,null,null,null,null,null,null,null,null,null,null,null,null,null,null,null,null,null,null,null,null,null,null,null,null,null,{"$f":"IFERROR(INDEX($AE$13:$AE$1003, SMALL(IF(ISBLANK($AE$13:$AE$1003)+ISERROR($AE$13:$AE$1003)+LEN($AE$13:$AE$1003)=0, \"\", ROW($AE$13:$AE$1003)-MIN(ROW($AE$13:$AE$1003))+1), ROW(912:912))),\"\")","v":""},"","",null,"","",null,"______",0,"______"]
[null,null,null,null,null,null,null,null,null,null,null,null,null,null,null,null,null,null,null,null,null,null,null,null,null,null,{"$f":"IFERROR(INDEX($AE$13:$AE$1003, SMALL(IF(ISBLANK($AE$13:$AE$1003)+ISERROR($AE$13:$AE$1003)+LEN($AE$13:$AE$1003)=0, \"\", ROW($AE$13:$AE$1003)-MIN(ROW($AE$13:$AE$1003))+1), ROW(913:913))),\"\")","v":""},"","",null,"","",null,"______",0,"______"]
[null,null,null,null,null,null,null,null,null,null,null,null,null,null,null,null,null,null,null,null,null,null,null,null,null,null,{"$f":"IFERROR(INDEX($AE$13:$AE$1003, SMALL(IF(ISBLANK($AE$13:$AE$1003)+ISERROR($AE$13:$AE$1003)+LEN($AE$13:$AE$1003)=0, \"\", ROW($AE$13:$AE$1003)-MIN(ROW($AE$13:$AE$1003))+1), ROW(914:914))),\"\")","v":""},"","",null,"","",null,"______",0,"______"]
[null,null,null,null,null,null,null,null,null,null,null,null,null,null,null,null,null,null,null,null,null,null,null,null,null,null,{"$f":"IFERROR(INDEX($AE$13:$AE$1003, SMALL(IF(ISBLANK($AE$13:$AE$1003)+ISERROR($AE$13:$AE$1003)+LEN($AE$13:$AE$1003)=0, \"\", ROW($AE$13:$AE$1003)-MIN(ROW($AE$13:$AE$1003))+1), ROW(915:915))),\"\")","v":""},"","",null,"","",null,"______",0,"______"]
[null,null,null,null,null,null,null,null,null,null,null,null,null,null,null,null,null,null,null,null,null,null,null,null,null,null,{"$f":"IFERROR(INDEX($AE$13:$AE$1003, SMALL(IF(ISBLANK($AE$13:$AE$1003)+ISERROR($AE$13:$AE$1003)+LEN($AE$13:$AE$1003)=0, \"\", ROW($AE$13:$AE$1003)-MIN(ROW($AE$13:$AE$1003))+1), ROW(916:916))),\"\")","v":""},"","",null,"","",null,"______",0,"______"]
[null,null,null,null,null,null,null,null,null,null,null,null,null,null,null,null,null,null,null,null,null,null,null,null,null,null,{"$f":"IFERROR(INDEX($AE$13:$AE$1003, SMALL(IF(ISBLANK($AE$13:$AE$1003)+ISERROR($AE$13:$AE$1003)+LEN($AE$13:$AE$1003)=0, \"\", ROW($AE$13:$AE$1003)-MIN(ROW($AE$13:$AE$1003))+1), ROW(917:917))),\"\")","v":""},"","",null,"","",null,"______",0,"______"]
[null,null,null,null,null,null,null,null,null,null,null,null,null,null,null,null,null,null,null,null,null,null,null,null,null,null,{"$f":"IFERROR(INDEX($AE$13:$AE$1003, SMALL(IF(ISBLANK($AE$13:$AE$1003)+ISERROR($AE$13:$AE$1003)+LEN($AE$13:$AE$1003)=0, \"\", ROW($AE$13:$AE$1003)-MIN(ROW($AE$13:$AE$1003))+1), ROW(918:918))),\"\")","v":""},"","",null,"","",null,"______",0,"______"]
[null,null,null,null,null,null,null,null,null,null,null,null,null,null,null,null,null,null,null,null,null,null,null,null,null,null,{"$f":"IFERROR(INDEX($AE$13:$AE$1003, SMALL(IF(ISBLANK($AE$13:$AE$1003)+ISERROR($AE$13:$AE$1003)+LEN($AE$13:$AE$1003)=0, \"\", ROW($AE$13:$AE$1003)-MIN(ROW($AE$13:$AE$1003))+1), ROW(919:919))),\"\")","v":""},"","",null,"","",null,"______",0,"______"]
[null,null,null,null,null,null,null,null,null,null,null,null,null,null,null,null,null,null,null,null,null,null,null,null,null,null,{"$f":"IFERROR(INDEX($AE$13:$AE$1003, SMALL(IF(ISBLANK($AE$13:$AE$1003)+ISERROR($AE$13:$AE$1003)+LEN($AE$13:$AE$1003)=0, \"\", ROW($AE$13:$AE$1003)-MIN(ROW($AE$13:$AE$1003))+1), ROW(920:920))),\"\")","v":""},"","",null,"","",null,"______",0,"______"]
[null,null,null,null,null,null,null,null,null,null,null,null,null,null,null,null,null,null,null,null,null,null,null,null,null,null,{"$f":"IFERROR(INDEX($AE$13:$AE$1003, SMALL(IF(ISBLANK($AE$13:$AE$1003)+ISERROR($AE$13:$AE$1003)+LEN($AE$13:$AE$1003)=0, \"\", ROW($AE$13:$AE$1003)-MIN(ROW($AE$13:$AE$1003))+1), ROW(921:921))),\"\")","v":""},"","",null,"","",null,"______",0,"______"]
[null,null,null,null,null,null,null,null,null,null,null,null,null,null,null,null,null,null,null,null,null,null,null,null,null,null,{"$f":"IFERROR(INDEX($AE$13:$AE$1003, SMALL(IF(ISBLANK($AE$13:$AE$1003)+ISERROR($AE$13:$AE$1003)+LEN($AE$13:$AE$1003)=0, \"\", ROW($AE$13:$AE$1003)-MIN(ROW($AE$13:$AE$1003))+1), ROW(922:922))),\"\")","v":""},"","",null,"","",null,"______",0,"______"]
[null,null,null,null,null,null,null,null,null,null,null,null,null,null,null,null,null,null,null,null,null,null,null,null,null,null,{"$f":"IFERROR(INDEX($AE$13:$AE$1003, SMALL(IF(ISBLANK($AE$13:$AE$1003)+ISERROR($AE$13:$AE$1003)+LEN($AE$13:$AE$1003)=0, \"\", ROW($AE$13:$AE$1003)-MIN(ROW($AE$13:$AE$1003))+1), ROW(923:923))),\"\")","v":""},"","",null,"","",null,"______",0,"______"]
[null,null,null,null,null,null,null,null,null,null,null,null,null,null,null,null,null,null,null,null,null,null,null,null,null,null,{"$f":"IFERROR(INDEX($AE$13:$AE$1003, SMALL(IF(ISBLANK($AE$13:$AE$1003)+ISERROR($AE$13:$AE$1003)+LEN($AE$13:$AE$1003)=0, \"\", ROW($AE$13:$AE$1003)-MIN(ROW($AE$13:$AE$1003))+1), ROW(924:924))),\"\")","v":""},"","",null,"","",null,"______",0,"______"]
[null,null,null,null,null,null,null,null,null,null,null,null,null,null,null,null,null,null,null,null,null,null,null,null,null,null,{"$f":"IFERROR(INDEX($AE$13:$AE$1003, SMALL(IF(ISBLANK($AE$13:$AE$1003)+ISERROR($AE$13:$AE$1003)+LEN($AE$13:$AE$1003)=0, \"\", ROW($AE$13:$AE$1003)-MIN(ROW($AE$13:$AE$1003))+1), ROW(925:925))),\"\")","v":""},"","",null,"","",null,"______",0,"______"]
[null,null,null,null,null,null,null,null,null,null,null,null,null,null,null,null,null,null,null,null,null,null,null,null,null,null,{"$f":"IFERROR(INDEX($AE$13:$AE$1003, SMALL(IF(ISBLANK($AE$13:$AE$1003)+ISERROR($AE$13:$AE$1003)+LEN($AE$13:$AE$1003)=0, \"\", ROW($AE$13:$AE$1003)-MIN(ROW($AE$13:$AE$1003))+1), ROW(926:926))),\"\")","v":""},"","",null,"","",null,"______",0,"______"]
[null,null,null,null,null,null,null,null,null,null,null,null,null,null,null,null,null,null,null,null,null,null,null,null,null,null,{"$f":"IFERROR(INDEX($AE$13:$AE$1003, SMALL(IF(ISBLANK($AE$13:$AE$1003)+ISERROR($AE$13:$AE$1003)+LEN($AE$13:$AE$1003)=0, \"\", ROW($AE$13:$AE$1003)-MIN(ROW($AE$13:$AE$1003))+1), ROW(927:927))),\"\")","v":""},"","",null,"","",null,"______",0,"______"]
[null,null,null,null,null,null,null,null,null,null,null,null,null,null,null,null,null,null,null,null,null,null,null,null,null,null,{"$f":"IFERROR(INDEX($AE$13:$AE$1003, SMALL(IF(ISBLANK($AE$13:$AE$1003)+ISERROR($AE$13:$AE$1003)+LEN($AE$13:$AE$1003)=0, \"\", ROW($AE$13:$AE$1003)-MIN(ROW($AE$13:$AE$1003))+1), ROW(928:928))),\"\")","v":""},"","",null,"","",null,"______",0,"______"]
[null,null,null,null,null,null,null,null,null,null,null,null,null,null,null,null,null,null,null,null,null,null,null,null,null,null,{"$f":"IFERROR(INDEX($AE$13:$AE$1003, SMALL(IF(ISBLANK($AE$13:$AE$1003)+ISERROR($AE$13:$AE$1003)+LEN($AE$13:$AE$1003)=0, \"\", ROW($AE$13:$AE$1003)-MIN(ROW($AE$13:$AE$1003))+1), ROW(929:929))),\"\")","v":""},"","",null,"","",null,"______",0,"______"]
[null,null,null,null,null,null,null,null,null,null,null,null,null,null,null,null,null,null,null,null,null,null,null,null,null,null,{"$f":"IFERROR(INDEX($AE$13:$AE$1003, SMALL(IF(ISBLANK($AE$13:$AE$1003)+ISERROR($AE$13:$AE$1003)+LEN($AE$13:$AE$1003)=0, \"\", ROW($AE$13:$AE$1003)-MIN(ROW($AE$13:$AE$1003))+1), ROW(930:930))),\"\")","v":""},"","",null,"","",null,"______",0,"______"]
[null,null,null,null,null,null,null,null,null,null,null,null,null,null,null,null,null,null,null,null,null,null,null,null,null,null,{"$f":"IFERROR(INDEX($AE$13:$AE$1003, SMALL(IF(ISBLANK($AE$13:$AE$1003)+ISERROR($AE$13:$AE$1003)+LEN($AE$13:$AE$1003)=0, \"\", ROW($AE$13:$AE$1003)-MIN(ROW($AE$13:$AE$1003))+1), ROW(931:931))),\"\")","v":""},"","",null,"","",null,"______",0,"______"]
[null,null,null,null,null,null,null,null,null,null,null,null,null,null,null,null,null,null,null,null,null,null,null,null,null,null,{"$f":"IFERROR(INDEX($AE$13:$AE$1003, SMALL(IF(ISBLANK($AE$13:$AE$1003)+ISERROR($AE$13:$AE$1003)+LEN($AE$13:$AE$1003)=0, \"\", ROW($AE$13:$AE$1003)-MIN(ROW($AE$13:$AE$1003))+1), ROW(932:932))),\"\")","v":""},"","",null,"","",null,"______",0,"______"]
[null,null,null,null,null,null,null,null,null,null,null,null,null,null,null,null,null,null,null,null,null,null,null,null,null,null,{"$f":"IFERROR(INDEX($AE$13:$AE$1003, SMALL(IF(ISBLANK($AE$13:$AE$1003)+ISERROR($AE$13:$AE$1003)+LEN($AE$13:$AE$1003)=0, \"\", ROW($AE$13:$AE$1003)-MIN(ROW($AE$13:$AE$1003))+1), ROW(933:933))),\"\")","v":""},"","",null,"","",null,"______",0,"______"]
[null,null,null,null,null,null,null,null,null,null,null,null,null,null,null,null,null,null,null,null,null,null,null,null,null,null,{"$f":"IFERROR(INDEX($AE$13:$AE$1003, SMALL(IF(ISBLANK($AE$13:$AE$1003)+ISERROR($AE$13:$AE$1003)+LEN($AE$13:$AE$1003)=0, \"\", ROW($AE$13:$AE$1003)-MIN(ROW($AE$13:$AE$1003))+1), ROW(934:934))),\"\")","v":""},"","",null,"","",null,"______",0,"______"]
[null,null,null,null,null,null,null,null,null,null,null,null,null,null,null,null,null,null,null,null,null,null,null,null,null,null,{"$f":"IFERROR(INDEX($AE$13:$AE$1003, SMALL(IF(ISBLANK($AE$13:$AE$1003)+ISERROR($AE$13:$AE$1003)+LEN($AE$13:$AE$1003)=0, \"\", ROW($AE$13:$AE$1003)-MIN(ROW($AE$13:$AE$1003))+1), ROW(935:935))),\"\")","v":""},"","",null,"","",null,"______",0,"______"]
[null,null,null,null,null,null,null,null,null,null,null,null,null,null,null,null,null,null,null,null,null,null,null,null,null,null,{"$f":"IFERROR(INDEX($AE$13:$AE$1003, SMALL(IF(ISBLANK($AE$13:$AE$1003)+ISERROR($AE$13:$AE$1003)+LEN($AE$13:$AE$1003)=0, \"\", ROW($AE$13:$AE$1003)-MIN(ROW($AE$13:$AE$1003))+1), ROW(936:936))),\"\")","v":""},"","",null,"","",null,"______",0,"______"]
[null,null,null,null,null,null,null,null,null,null,null,null,null,null,null,null,null,null,null,null,null,null,null,null,null,null,{"$f":"IFERROR(INDEX($AE$13:$AE$1003, SMALL(IF(ISBLANK($AE$13:$AE$1003)+ISERROR($AE$13:$AE$1003)+LEN($AE$13:$AE$1003)=0, \"\", ROW($AE$13:$AE$1003)-MIN(ROW($AE$13:$AE$1003))+1), ROW(937:937))),\"\")","v":""},"","",null,"","",null,"______",0,"______"]
[null,null,null,null,null,null,null,null,null,null,null,null,null,null,null,null,null,null,null,null,null,null,null,null,null,null,{"$f":"IFERROR(INDEX($AE$13:$AE$1003, SMALL(IF(ISBLANK($AE$13:$AE$1003)+ISERROR($AE$13:$AE$1003)+LEN($AE$13:$AE$1003)=0, \"\", ROW($AE$13:$AE$1003)-MIN(ROW($AE$13:$AE$1003))+1), ROW(938:938))),\"\")","v":""},"","",null,"","",null,"______",0,"______"]
[null,null,null,null,null,null,null,null,null,null,null,null,null,null,null,null,null,null,null,null,null,null,null,null,null,null,{"$f":"IFERROR(INDEX($AE$13:$AE$1003, SMALL(IF(ISBLANK($AE$13:$AE$1003)+ISERROR($AE$13:$AE$1003)+LEN($AE$13:$AE$1003)=0, \"\", ROW($AE$13:$AE$1003)-MIN(ROW($AE$13:$AE$1003))+1), ROW(939:939))),\"\")","v":""},"","",null,"","",null,"______",0,"______"]
[null,null,null,null,null,null,null,null,null,null,null,null,null,null,null,null,null,null,null,null,null,null,null,null,null,null,{"$f":"IFERROR(INDEX($AE$13:$AE$1003, SMALL(IF(ISBLANK($AE$13:$AE$1003)+ISERROR($AE$13:$AE$1003)+LEN($AE$13:$AE$1003)=0, \"\", ROW($AE$13:$AE$1003)-MIN(ROW($AE$13:$AE$1003))+1), ROW(940:940))),\"\")","v":""},"","",null,"","",null,"______",0,"______"]
[null,null,null,null,null,null,null,null,null,null,null,null,null,null,null,null,null,null,null,null,null,null,null,null,null,null,{"$f":"IFERROR(INDEX($AE$13:$AE$1003, SMALL(IF(ISBLANK($AE$13:$AE$1003)+ISERROR($AE$13:$AE$1003)+LEN($AE$13:$AE$1003)=0, \"\", ROW($AE$13:$AE$1003)-MIN(ROW($AE$13:$AE$1003))+1), ROW(941:941))),\"\")","v":""},"","",null,"","",null,"______",0,"______"]
[null,null,null,null,null,null,null,null,null,null,null,null,null,null,null,null,null,null,null,null,null,null,null,null,null,null,{"$f":"IFERROR(INDEX($AE$13:$AE$1003, SMALL(IF(ISBLANK($AE$13:$AE$1003)+ISERROR($AE$13:$AE$1003)+LEN($AE$13:$AE$1003)=0, \"\", ROW($AE$13:$AE$1003)-MIN(ROW($AE$13:$AE$1003))+1), ROW(942:942))),\"\")","v":""},"","",null,"","",null,"______",0,"______"]
[null,null,null,null,null,null,null,null,null,null,null,null,null,null,null,null,null,null,null,null,null,null,null,null,null,null,{"$f":"IFERROR(INDEX($AE$13:$AE$1003, SMALL(IF(ISBLANK($AE$13:$AE$1003)+ISERROR($AE$13:$AE$1003)+LEN($AE$13:$AE$1003)=0, \"\", ROW($AE$13:$AE$1003)-MIN(ROW($AE$13:$AE$1003))+1), ROW(943:943))),\"\")","v":""},"","",null,"","",null,"______",0,"______"]
[null,null,null,null,null,null,null,null,null,null,null,null,null,null,null,null,null,null,null,null,null,null,null,null,null,null,{"$f":"IFERROR(INDEX($AE$13:$AE$1003, SMALL(IF(ISBLANK($AE$13:$AE$1003)+ISERROR($AE$13:$AE$1003)+LEN($AE$13:$AE$1003)=0, \"\", ROW($AE$13:$AE$1003)-MIN(ROW($AE$13:$AE$1003))+1), ROW(944:944))),\"\")","v":""},"","",null,"","",null,"______",0,"______"]
[null,null,null,null,null,null,null,null,null,null,null,null,null,null,null,null,null,null,null,null,null,null,null,null,null,null,{"$f":"IFERROR(INDEX($AE$13:$AE$1003, SMALL(IF(ISBLANK($AE$13:$AE$1003)+ISERROR($AE$13:$AE$1003)+LEN($AE$13:$AE$1003)=0, \"\", ROW($AE$13:$AE$1003)-MIN(ROW($AE$13:$AE$1003))+1), ROW(945:945))),\"\")","v":""},"","",null,"","",null,"______",0,"______"]
[null,null,null,null,null,null,null,null,null,null,null,null,null,null,null,null,null,null,null,null,null,null,null,null,null,null,{"$f":"IFERROR(INDEX($AE$13:$AE$1003, SMALL(IF(ISBLANK($AE$13:$AE$1003)+ISERROR($AE$13:$AE$1003)+LEN($AE$13:$AE$1003)=0, \"\", ROW($AE$13:$AE$1003)-MIN(ROW($AE$13:$AE$1003))+1), ROW(946:946))),\"\")","v":""},"","",null,"","",null,"______",0,"______"]
[null,null,null,null,null,null,null,null,null,null,null,null,null,null,null,null,null,null,null,null,null,null,null,null,null,null,{"$f":"IFERROR(INDEX($AE$13:$AE$1003, SMALL(IF(ISBLANK($AE$13:$AE$1003)+ISERROR($AE$13:$AE$1003)+LEN($AE$13:$AE$1003)=0, \"\", ROW($AE$13:$AE$1003)-MIN(ROW($AE$13:$AE$1003))+1), ROW(947:947))),\"\")","v":""},"","",null,"","",null,"______",0,"______"]
[null,null,null,null,null,null,null,null,null,null,null,null,null,null,null,null,null,null,null,null,null,null,null,null,null,null,{"$f":"IFERROR(INDEX($AE$13:$AE$1003, SMALL(IF(ISBLANK($AE$13:$AE$1003)+ISERROR($AE$13:$AE$1003)+LEN($AE$13:$AE$1003)=0, \"\", ROW($AE$13:$AE$1003)-MIN(ROW($AE$13:$AE$1003))+1), ROW(948:948))),\"\")","v":""},"","",null,"","",null,"______",0,"______"]
[null,null,null,null,null,null,null,null,null,null,null,null,null,null,null,null,null,null,null,null,null,null,null,null,null,null,{"$f":"IFERROR(INDEX($AE$13:$AE$1003, SMALL(IF(ISBLANK($AE$13:$AE$1003)+ISERROR($AE$13:$AE$1003)+LEN($AE$13:$AE$1003)=0, \"\", ROW($AE$13:$AE$1003)-MIN(ROW($AE$13:$AE$1003))+1), ROW(949:949))),\"\")","v":""},"","",null,"","",null,"______",0,"______"]
[null,null,null,null,null,null,null,null,null,null,null,null,null,null,null,null,null,null,null,null,null,null,null,null,null,null,{"$f":"IFERROR(INDEX($AE$13:$AE$1003, SMALL(IF(ISBLANK($AE$13:$AE$1003)+ISERROR($AE$13:$AE$1003)+LEN($AE$13:$AE$1003)=0, \"\", ROW($AE$13:$AE$1003)-MIN(ROW($AE$13:$AE$1003))+1), ROW(950:950))),\"\")","v":""},"","",null,"","",null,"______",0,"______"]
[null,null,null,null,null,null,null,null,null,null,null,null,null,null,null,null,null,null,null,null,null,null,null,null,null,null,{"$f":"IFERROR(INDEX($AE$13:$AE$1003, SMALL(IF(ISBLANK($AE$13:$AE$1003)+ISERROR($AE$13:$AE$1003)+LEN($AE$13:$AE$1003)=0, \"\", ROW($AE$13:$AE$1003)-MIN(ROW($AE$13:$AE$1003))+1), ROW(951:951))),\"\")","v":""},"","",null,"","",null,"______",0,"______"]
[null,null,null,null,null,null,null,null,null,null,null,null,null,null,null,null,null,null,null,null,null,null,null,null,null,null,{"$f":"IFERROR(INDEX($AE$13:$AE$1003, SMALL(IF(ISBLANK($AE$13:$AE$1003)+ISERROR($AE$13:$AE$1003)+LEN($AE$13:$AE$1003)=0, \"\", ROW($AE$13:$AE$1003)-MIN(ROW($AE$13:$AE$1003))+1), ROW(952:952))),\"\")","v":""},"","",null,"","",null,"______",0,"______"]
[null,null,null,null,null,null,null,null,null,null,null,null,null,null,null,null,null,null,null,null,null,null,null,null,null,null,{"$f":"IFERROR(INDEX($AE$13:$AE$1003, SMALL(IF(ISBLANK($AE$13:$AE$1003)+ISERROR($AE$13:$AE$1003)+LEN($AE$13:$AE$1003)=0, \"\", ROW($AE$13:$AE$1003)-MIN(ROW($AE$13:$AE$1003))+1), ROW(953:953))),\"\")","v":""},"","",null,"","",null,"______",0,"______"]
[null,null,null,null,null,null,null,null,null,null,null,null,null,null,null,null,null,null,null,null,null,null,null,null,null,null,{"$f":"IFERROR(INDEX($AE$13:$AE$1003, SMALL(IF(ISBLANK($AE$13:$AE$1003)+ISERROR($AE$13:$AE$1003)+LEN($AE$13:$AE$1003)=0, \"\", ROW($AE$13:$AE$1003)-MIN(ROW($AE$13:$AE$1003))+1), ROW(954:954))),\"\")","v":""},"","",null,"","",null,"______",0,"______"]
[null,null,null,null,null,null,null,null,null,null,null,null,null,null,null,null,null,null,null,null,null,null,null,null,null,null,{"$f":"IFERROR(INDEX($AE$13:$AE$1003, SMALL(IF(ISBLANK($AE$13:$AE$1003)+ISERROR($AE$13:$AE$1003)+LEN($AE$13:$AE$1003)=0, \"\", ROW($AE$13:$AE$1003)-MIN(ROW($AE$13:$AE$1003))+1), ROW(955:955))),\"\")","v":""},"","",null,"","",null,"______",0,"______"]
[null,null,null,null,null,null,null,null,null,null,null,null,null,null,null,null,null,null,null,null,null,null,null,null,null,null,{"$f":"IFERROR(INDEX($AE$13:$AE$1003, SMALL(IF(ISBLANK($AE$13:$AE$1003)+ISERROR($AE$13:$AE$1003)+LEN($AE$13:$AE$1003)=0, \"\", ROW($AE$13:$AE$1003)-MIN(ROW($AE$13:$AE$1003))+1), ROW(956:956))),\"\")","v":""},"","",null,"","",null,"______",0,"______"]
[null,null,null,null,null,null,null,null,null,null,null,null,null,null,null,null,null,null,null,null,null,null,null,null,null,null,{"$f":"IFERROR(INDEX($AE$13:$AE$1003, SMALL(IF(ISBLANK($AE$13:$AE$1003)+ISERROR($AE$13:$AE$1003)+LEN($AE$13:$AE$1003)=0, \"\", ROW($AE$13:$AE$1003)-MIN(ROW($AE$13:$AE$1003))+1), ROW(957:957))),\"\")","v":""},"","",null,"","",null,"______",0,"______"]
[null,null,null,null,null,null,null,null,null,null,null,null,null,null,null,null,null,null,null,null,null,null,null,null,null,null,{"$f":"IFERROR(INDEX($AE$13:$AE$1003, SMALL(IF(ISBLANK($AE$13:$AE$1003)+ISERROR($AE$13:$AE$1003)+LEN($AE$13:$AE$1003)=0, \"\", ROW($AE$13:$AE$1003)-MIN(ROW($AE$13:$AE$1003))+1), ROW(958:958))),\"\")","v":""},"","",null,"","",null,"______",0,"______"]
[null,null,null,null,null,null,null,null,null,null,null,null,null,null,null,null,null,null,null,null,null,null,null,null,null,null,{"$f":"IFERROR(INDEX($AE$13:$AE$1003, SMALL(IF(ISBLANK($AE$13:$AE$1003)+ISERROR($AE$13:$AE$1003)+LEN($AE$13:$AE$1003)=0, \"\", ROW($AE$13:$AE$1003)-MIN(ROW($AE$13:$AE$1003))+1), ROW(959:959))),\"\")","v":""},"","",null,"","",null,"______",0,"______"]
[null,null,null,null,null,null,null,null,null,null,null,null,null,null,null,null,null,null,null,null,null,null,null,null,null,null,{"$f":"IFERROR(INDEX($AE$13:$AE$1003, SMALL(IF(ISBLANK($AE$13:$AE$1003)+ISERROR($AE$13:$AE$1003)+LEN($AE$13:$AE$1003)=0, \"\", ROW($AE$13:$AE$1003)-MIN(ROW($AE$13:$AE$1003))+1), ROW(960:960))),\"\")","v":""},"","",null,"","",null,"______",0,"______"]
[null,null,null,null,null,null,null,null,null,null,null,null,null,null,null,null,null,null,null,null,null,null,null,null,null,null,{"$f":"IFERROR(INDEX($AE$13:$AE$1003, SMALL(IF(ISBLANK($AE$13:$AE$1003)+ISERROR($AE$13:$AE$1003)+LEN($AE$13:$AE$1003)=0, \"\", ROW($AE$13:$AE$1003)-MIN(ROW($AE$13:$AE$1003))+1), ROW(961:961))),\"\")","v":""},{"$f":"IF(AF973=\"\",\"\",IF(COUNTIF(CurrentListing,AF973)>1,AJ973,\"\"))","v":""},{"$f":"IF(LEN(AF973)=0,\"\",IF(ISNA(MATCH(AF973,MasterListing,0)),AJ973,\"\"))","v":""},null,{"$f":"IF(LEN(AG973)=0,\"\",IF(ISNA(MATCH(AG973,CurrentListing,0)),AH973,\"\"))","v":""},{"$f":"H973&I973&P973&Q973&R973&V973&W973","v":""},null,"______",0,"______"]
[null,null,null,null,null,null,null,null,null,null,null,null,null,null,null,null,null,null,null,null,null,null,null,null,null,null,{"$f":"IFERROR(INDEX($AE$13:$AE$1003, SMALL(IF(ISBLANK($AE$13:$AE$1003)+ISERROR($AE$13:$AE$1003)+LEN($AE$13:$AE$1003)=0, \"\", ROW($AE$13:$AE$1003)-MIN(ROW($AE$13:$AE$1003))+1), ROW(962:962))),\"\")","v":""},"","",null,"","",null,"______",{"$f":"IF(LEN(AA974)>0,1,0)","v":0},{"$f":"H974&\"_\"&I974&\"_\"&P974&\"_\"&Q974&\"_\"&R974&\"_\"&V974&\"_\"&W974","v":"______"}]
[null,null,null,null,null,null,null,null,null,null,null,null,null,null,null,null,null,null,null,null,null,null,null,null,null,null,{"$f":"IFERROR(INDEX($AE$13:$AE$1003, SMALL(IF(ISBLANK($AE$13:$AE$1003)+ISERROR($AE$13:$AE$1003)+LEN($AE$13:$AE$1003)=0, \"\", ROW($AE$13:$AE$1003)-MIN(ROW($AE$13:$AE$1003))+1), ROW(963:963))),\"\")","v":""},"","",null,"","",null,"______",0,"______"]
[null,null,null,null,null,null,null,null,null,null,null,null,null,null,null,null,null,null,null,null,null,null,null,null,null,null,{"$f":"IFERROR(INDEX($AE$13:$AE$1003, SMALL(IF(ISBLANK($AE$13:$AE$1003)+ISERROR($AE$13:$AE$1003)+LEN($AE$13:$AE$1003)=0, \"\", ROW($AE$13:$AE$1003)-MIN(ROW($AE$13:$AE$1003))+1), ROW(964:964))),\"\")","v":""},"","",null,"","",null,"______",0,"______"]
[null,null,null,null,null,null,null,null,null,null,null,null,null,null,null,null,null,null,null,null,null,null,null,null,null,null,{"$f":"IFERROR(INDEX($AE$13:$AE$1003, SMALL(IF(ISBLANK($AE$13:$AE$1003)+ISERROR($AE$13:$AE$1003)+LEN($AE$13:$AE$1003)=0, \"\", ROW($AE$13:$AE$1003)-MIN(ROW($AE$13:$AE$1003))+1), ROW(965:965))),\"\")","v":""},"","",null,"","",null,"______",0,"______"]
[null,null,null,null,null,null,null,null,null,null,null,null,null,null,null,null,null,null,null,null,null,null,null,null,null,null,{"$f":"IFERROR(INDEX($AE$13:$AE$1003, SMALL(IF(ISBLANK($AE$13:$AE$1003)+ISERROR($AE$13:$AE$1003)+LEN($AE$13:$AE$1003)=0, \"\", ROW($AE$13:$AE$1003)-MIN(ROW($AE$13:$AE$1003))+1), ROW(966:966))),\"\")","v":""},"","",null,"","",null,"______",0,"______"]
[null,null,null,null,null,null,null,null,null,null,null,null,null,null,null,null,null,null,null,null,null,null,null,null,null,null,{"$f":"IFERROR(INDEX($AE$13:$AE$1003, SMALL(IF(ISBLANK($AE$13:$AE$1003)+ISERROR($AE$13:$AE$1003)+LEN($AE$13:$AE$1003)=0, \"\", ROW($AE$13:$AE$1003)-MIN(ROW($AE$13:$AE$1003))+1), ROW(967:967))),\"\")","v":""},"","",null,"","",null,"______",0,"______"]
[null,null,null,null,null,null,null,null,null,null,null,null,null,null,null,null,null,null,null,null,null,null,null,null,null,null,{"$f":"IFERROR(INDEX($AE$13:$AE$1003, SMALL(IF(ISBLANK($AE$13:$AE$1003)+ISERROR($AE$13:$AE$1003)+LEN($AE$13:$AE$1003)=0, \"\", ROW($AE$13:$AE$1003)-MIN(ROW($AE$13:$AE$1003))+1), ROW(968:968))),\"\")","v":""},"","",null,"","",null,"______",0,"______"]
[null,null,null,null,null,null,null,null,null,null,null,null,null,null,null,null,null,null,null,null,null,null,null,null,null,null,{"$f":"IFERROR(INDEX($AE$13:$AE$1003, SMALL(IF(ISBLANK($AE$13:$AE$1003)+ISERROR($AE$13:$AE$1003)+LEN($AE$13:$AE$1003)=0, \"\", ROW($AE$13:$AE$1003)-MIN(ROW($AE$13:$AE$1003))+1), ROW(969:969))),\"\")","v":""},"","",null,"","",null,"______",0,"______"]
[null,null,null,null,null,null,null,null,null,null,null,null,null,null,null,null,null,null,null,null,null,null,null,null,null,null,{"$f":"IFERROR(INDEX($AE$13:$AE$1003, SMALL(IF(ISBLANK($AE$13:$AE$1003)+ISERROR($AE$13:$AE$1003)+LEN($AE$13:$AE$1003)=0, \"\", ROW($AE$13:$AE$1003)-MIN(ROW($AE$13:$AE$1003))+1), ROW(970:970))),\"\")","v":""},"","",null,"","",null,"______",0,"______"]
[null,null,null,null,null,null,null,null,null,null,null,null,null,null,null,null,null,null,null,null,null,null,null,null,null,null,{"$f":"IFERROR(INDEX($AE$13:$AE$1003, SMALL(IF(ISBLANK($AE$13:$AE$1003)+ISERROR($AE$13:$AE$1003)+LEN($AE$13:$AE$1003)=0, \"\", ROW($AE$13:$AE$1003)-MIN(ROW($AE$13:$AE$1003))+1), ROW(971:971))),\"\")","v":""},"","",null,"","",null,"______",0,"______"]
[null,null,null,null,null,null,null,null,null,null,null,null,null,null,null,null,null,null,null,null,null,null,null,null,null,null,{"$f":"IFERROR(INDEX($AE$13:$AE$1003, SMALL(IF(ISBLANK($AE$13:$AE$1003)+ISERROR($AE$13:$AE$1003)+LEN($AE$13:$AE$1003)=0, \"\", ROW($AE$13:$AE$1003)-MIN(ROW($AE$13:$AE$1003))+1), ROW(972:972))),\"\")","v":""},"","",null,"","",null,"______",0,"______"]
[null,null,null,null,null,null,null,null,null,null,null,null,null,null,null,null,null,null,null,null,null,null,null,null,null,null,{"$f":"IFERROR(INDEX($AE$13:$AE$1003, SMALL(IF(ISBLANK($AE$13:$AE$1003)+ISERROR($AE$13:$AE$1003)+LEN($AE$13:$AE$1003)=0, \"\", ROW($AE$13:$AE$1003)-MIN(ROW($AE$13:$AE$1003))+1), ROW(973:973))),\"\")","v":""},"","",null,"","",null,"______",0,"______"]
[null,null,null,null,null,null,null,null,null,null,null,null,null,null,null,null,null,null,null,null,null,null,null,null,null,null,{"$f":"IFERROR(INDEX($AE$13:$AE$1003, SMALL(IF(ISBLANK($AE$13:$AE$1003)+ISERROR($AE$13:$AE$1003)+LEN($AE$13:$AE$1003)=0, \"\", ROW($AE$13:$AE$1003)-MIN(ROW($AE$13:$AE$1003))+1), ROW(974:974))),\"\")","v":""},"","",null,"","",null,"______",0,"______"]
[null,null,null,null,null,null,null,null,null,null,null,null,null,null,null,null,null,null,null,null,null,null,null,null,null,null,{"$f":"IFERROR(INDEX($AE$13:$AE$1003, SMALL(IF(ISBLANK($AE$13:$AE$1003)+ISERROR($AE$13:$AE$1003)+LEN($AE$13:$AE$1003)=0, \"\", ROW($AE$13:$AE$1003)-MIN(ROW($AE$13:$AE$1003))+1), ROW(975:975))),\"\")","v":""},"","",null,"","",null,"______",0,"______"]
[null,null,null,null,null,null,null,null,null,null,null,null,null,null,null,null,null,null,null,null,null,null,null,null,null,null,{"$f":"IFERROR(INDEX($AE$13:$AE$1003, SMALL(IF(ISBLANK($AE$13:$AE$1003)+ISERROR($AE$13:$AE$1003)+LEN($AE$13:$AE$1003)=0, \"\", ROW($AE$13:$AE$1003)-MIN(ROW($AE$13:$AE$1003))+1), ROW(976:976))),\"\")","v":""},"","",null,"","",null,"______",0,"______"]
[null,null,null,null,null,null,null,null,null,null,null,null,null,null,null,null,null,null,null,null,null,null,null,null,null,null,{"$f":"IFERROR(INDEX($AE$13:$AE$1003, SMALL(IF(ISBLANK($AE$13:$AE$1003)+ISERROR($AE$13:$AE$1003)+LEN($AE$13:$AE$1003)=0, \"\", ROW($AE$13:$AE$1003)-MIN(ROW($AE$13:$AE$1003))+1), ROW(977:977))),\"\")","v":""},"","",null,"","",null,"______",0,"______"]
[null,null,null,null,null,null,null,null,null,null,null,null,null,null,null,null,null,null,null,null,null,null,null,null,null,null,{"$f":"IFERROR(INDEX($AE$13:$AE$1003, SMALL(IF(ISBLANK($AE$13:$AE$1003)+ISERROR($AE$13:$AE$1003)+LEN($AE$13:$AE$1003)=0, \"\", ROW($AE$13:$AE$1003)-MIN(ROW($AE$13:$AE$1003))+1), ROW(978:978))),\"\")","v":""},"","",null,"","",null,"______",0,"______"]
[null,null,null,null,null,null,null,null,null,null,null,null,null,null,null,null,null,null,null,null,null,null,null,null,null,null,{"$f":"IFERROR(INDEX($AE$13:$AE$1003, SMALL(IF(ISBLANK($AE$13:$AE$1003)+ISERROR($AE$13:$AE$1003)+LEN($AE$13:$AE$1003)=0, \"\", ROW($AE$13:$AE$1003)-MIN(ROW($AE$13:$AE$1003))+1), ROW(979:979))),\"\")","v":""},"","",null,"","",null,"______",0,"______"]
[null,null,null,null,null,null,null,null,null,null,null,null,null,null,null,null,null,null,null,null,null,null,null,null,null,null,{"$f":"IFERROR(INDEX($AE$13:$AE$1003, SMALL(IF(ISBLANK($AE$13:$AE$1003)+ISERROR($AE$13:$AE$1003)+LEN($AE$13:$AE$1003)=0, \"\", ROW($AE$13:$AE$1003)-MIN(ROW($AE$13:$AE$1003))+1), ROW(980:980))),\"\")","v":""},"","",null,"","",null,"______",0,"______"]
[null,null,null,null,null,null,null,null,null,null,null,null,null,null,null,null,null,null,null,null,null,null,null,null,null,null,{"$f":"IFERROR(INDEX($AE$13:$AE$1003, SMALL(IF(ISBLANK($AE$13:$AE$1003)+ISERROR($AE$13:$AE$1003)+LEN($AE$13:$AE$1003)=0, \"\", ROW($AE$13:$AE$1003)-MIN(ROW($AE$13:$AE$1003))+1), ROW(981:981))),\"\")","v":""},"","",null,"","",null,"______",0,"______"]
[null,null,null,null,null,null,null,null,null,null,null,null,null,null,null,null,null,null,null,null,null,null,null,null,null,null,{"$f":"IFERROR(INDEX($AE$13:$AE$1003, SMALL(IF(ISBLANK($AE$13:$AE$1003)+ISERROR($AE$13:$AE$1003)+LEN($AE$13:$AE$1003)=0, \"\", ROW($AE$13:$AE$1003)-MIN(ROW($AE$13:$AE$1003))+1), ROW(982:982))),\"\")","v":""},"","",null,"","",null,"______",0,"______"]
[null,null,null,null,null,null,null,null,null,null,null,null,null,null,null,null,null,null,null,null,null,null,null,null,null,null,{"$f":"IFERROR(INDEX($AE$13:$AE$1003, SMALL(IF(ISBLANK($AE$13:$AE$1003)+ISERROR($AE$13:$AE$1003)+LEN($AE$13:$AE$1003)=0, \"\", ROW($AE$13:$AE$1003)-MIN(ROW($AE$13:$AE$1003))+1), ROW(983:983))),\"\")","v":""},"","",null,"","",null,"______",0,"______"]
[null,null,null,null,null,null,null,null,null,null,null,null,null,null,null,null,null,null,null,null,null,null,null,null,null,null,{"$f":"IFERROR(INDEX($AE$13:$AE$1003, SMALL(IF(ISBLANK($AE$13:$AE$1003)+ISERROR($AE$13:$AE$1003)+LEN($AE$13:$AE$1003)=0, \"\", ROW($AE$13:$AE$1003)-MIN(ROW($AE$13:$AE$1003))+1), ROW(984:984))),\"\")","v":""},"","",null,"","",null,"______",0,"______"]
[null,null,null,null,null,null,null,null,null,null,null,null,null,null,null,null,null,null,null,null,null,null,null,null,null,null,{"$f":"IFERROR(INDEX($AE$13:$AE$1003, SMALL(IF(ISBLANK($AE$13:$AE$1003)+ISERROR($AE$13:$AE$1003)+LEN($AE$13:$AE$1003)=0, \"\", ROW($AE$13:$AE$1003)-MIN(ROW($AE$13:$AE$1003))+1), ROW(985:985))),\"\")","v":""},"","",null,"","",null,"______",0,"______"]
[null,null,null,null,null,null,null,null,null,null,null,null,null,null,null,null,null,null,null,null,null,null,null,null,null,null,{"$f":"IFERROR(INDEX($AE$13:$AE$1003, SMALL(IF(ISBLANK($AE$13:$AE$1003)+ISERROR($AE$13:$AE$1003)+LEN($AE$13:$AE$1003)=0, \"\", ROW($AE$13:$AE$1003)-MIN(ROW($AE$13:$AE$1003))+1), ROW(986:986))),\"\")","v":""},"","",null,"","",null,"______",0,"______"]
[null,null,null,null,null,null,null,null,null,null,null,null,null,null,null,null,null,null,null,null,null,null,null,null,null,null,{"$f":"IFERROR(INDEX($AE$13:$AE$1003, SMALL(IF(ISBLANK($AE$13:$AE$1003)+ISERROR($AE$13:$AE$1003)+LEN($AE$13:$AE$1003)=0, \"\", ROW($AE$13:$AE$1003)-MIN(ROW($AE$13:$AE$1003))+1), ROW(987:987))),\"\")","v":""},"","",null,"","",null,"______",0,"______"]
[null,null,null,null,null,null,null,null,null,null,null,null,null,null,null,null,null,null,null,null,null,null,null,null,null,null,{"$f":"IFERROR(INDEX($AE$13:$AE$1003, SMALL(IF(ISBLANK($AE$13:$AE$1003)+ISERROR($AE$13:$AE$1003)+LEN($AE$13:$AE$1003)=0, \"\", ROW($AE$13:$AE$1003)-MIN(ROW($AE$13:$AE$1003))+1), ROW(988:988))),\"\")","v":""},"","",null,"","",null,"______",0,"______"]
["End of worksheet",null,null,null,null,null,null,null,null,null,null,null,null,null,null,null,null,null,null,null,null,null,null,null,null,null,null,null,null,null,"",null,null,"______",0,"______"]
[null,null,null,null,null,null,null,null,null,null,null,null,null,null,null,null,null,null,null,null,null,null,null,null,null,null,null,null,null,null,"",null,null,"______",0,"______"]
[null,null,null,null,null,null,null,null,null,null,null,null,null,null,null,null,null,null,null,null,null,null,null,null,null,null,null,null,null,null,"",null,null,"______",0,"______"]

{"sheet":"Error Messages","index":2,"n_rows":109,"n_cols":23,"rows_kept":109,"cut":false,"hidden":false,"merged":[[2,9,2,12],[2,4,2,7],[92,1,92,11],[0,13,104,13],[102,1,102,11],[103,1,103,11],[104,1,104,11],[96,1,96,11],[97,1,97,11],[98,1,98,11],[99,1,99,11],[100,1,100,11],[101,1,101,11],[95,1,95,11],[84,1,84,11],[93,1,93,11],[94,1,94,11],[85,1,85,11],[86,1,86,11],[87,1,87,11],[90,1,90,11],[91,1,91,11],[88,1,88,11],[89,1,89,11],[83,1,83,11],[81,1,81,11],[82,1,82,11],[71,1,71,11],[60,1,60,11],[61,1,61,11],[62,1,62,11],[63,1,63,11],[64,1,64,11],[65,1,65,11],[66,1,66,11],[67,1,67,11],[68,1,68,11],[69,1,69,11],[70,1,70,11],[72,1,72,11],[73,1,73,11],[74,1,74,11],[75,1,75,11],[76,1,76,11],[77,1,77,11],[78,1,78,11],[79,1,79,11],[80,1,80,11],[59,1,59,11],[48,1,48,11],[49,1,49,11],[50,1,50,11],[51,1,51,11],[52,1,52,11],[53,1,53,11],[54,1,54,11],[55,1,55,11],[56,1,56,11],[57,1,57,11],[58,1,58,11],[22,1,22,11],[30,1,30,11],[31,1,31,11],[32,1,32,11],[33,1,33,11],[34,1,34,11],[47,1,47,11],[36,1,36,11],[37,1,37,11],[38,1,38,11],[39,1,39,11],[40,1,40,11],[41,1,41,11],[42,1,42,11],[43,1,43,11],[44,1,44,11],[45,1,45,11],[46,1,46,11],[8,9,8,11],[0,0,0,12],[3,9,3,11],[108,0,108,13],[16,1,16,11],[3,4,3,6],[4,9,4,11],[4,4,4,6],[5,9,5,11],[5,4,5,6],[6,9,6,11],[6,4,6,6],[7,9,7,11],[7,4,7,6],[8,4,8,6],[9,4,9,6],[10,4,10,6],[15,1,15,11],[35,1,35,11],[17,1,17,11],[18,1,18,11],[19,1,19,11],[20,1,20,11],[21,1,21,11]]}
[{"$f":"\"IDEA Exiting Data for School Year \"&'Exiting (FS009)'!E12","v":"IDEA Exiting Data for School Year "},null,null,null,null,null,null,null,null,null,null,null,null,"End of worksheet"]
[]
[null,null,null,null,"Triggered edit checks",null,null,null,null,"Triggered edit checks"]
[null,null,null,null,"Subtotals",null,null,"Count",null,"Category set",null,null,"Count",null,null,null,"Only use these on the edit checks",null,null,null,null,{"$f":"IFERROR(INDEX(#REF!, SMALL(IF($C$2=#REF!, ROW(#REF!)-MIN(ROW(#REF!))+1, \"\"), ROW(A1))),\"\")","v":""}]
[null,null,null,null,"1 - Basis of exit",null,null,{"$f":"Subtotals!R15","v":0},null,"A - Basis of exit, disability category, and age",null,null,{"$f":"SUM('Category Sets A-D'!M14:M32)","v":16},null,null,null,"Have a 1-line note if there are any errors on the raw data page."]
[null,null,null,null,"2 - Age ",null,null,{"$f":"Subtotals!R16","v":0},null,"B - Basis of exit and racial ethnic",null,null,{"$f":"SUM('Category Sets A-D'!M39:M58)","v":15}]
[null,null,null,null,"3 - Racial ethnic",null,null,{"$f":"Subtotals!R17","v":0},null,"C - Basis of exit and sex",null,null,{"$f":"SUM('Category Sets A-D'!M64:M77)","v":10}]
[null,null,null,null,"4 - Sex",null,null,{"$f":"Subtotals!R18","v":0},null,"D - Basis of exit and English learner status",null,null,{"$f":"SUM('Category Sets A-D'!M89:M102)","v":10}]
[null,null,null,null,"5 - English learner status",null,null,{"$f":"Subtotals!R19","v":0},null,"Total",null,null,{"$f":"SUM(M5:M8)","v":51}]
[null,null,null,null,"6 - Disability category (IDEA) exiting",null,null,{"$f":"Subtotals!R20","v":0}]
[null,null,null,null,"Total",null,null,{"$f":"SUM(H5:H10)","v":0}]
[]
[]
[null,null,null,null,null,null,null,null,null,null,null,null,null,null,null,null,null,null,null,null,1]
[null,null,null,null,null,null,null,null,null,null,null,null,null,null,null,null,null,null,{"$f":"IFERROR(INDEX(Subtotals!$Q$15:$Q$20, SMALL(IF($U$14=Subtotals!$R$15:$R$20, ROW(Subtotals!$R$15:$R$20)-MIN(ROW(Subtotals!$R$15:$R$20))+1, \"\"), ROW(A1))),\"\")","v":""},{"$f":"IFERROR(INDEX(Subtotals!$U$15:$U$20, SMALL(IF($U$14=Subtotals!$R$15:$R$20, ROW(Subtotals!$R$15:$R$20)-MIN(ROW(Subtotals!$R$15:$R$20))+1, \"\"), ROW(A1))),\"\")","v":""},{"$f":"IFERROR(INDEX(Subtotals!$S$15:$S$20, SMALL(IF($U$14=Subtotals!$R$15:$R$20, ROW(Subtotals!$R$15:$R$20)-MIN(ROW(Subtotals!$R$15:$R$20))+1, \"\"), ROW(A1))),\"\")","v":""},{"$f":"IFERROR(INDEX(Subtotals!$T$15:$T$20, SMALL(IF($U$14=Subtotals!$R$15:$R$20, ROW(Subtotals!$R$15:$R$20)-MIN(ROW(Subtotals!$R$15:$R$20))+1, \"\"), ROW(A1))),\"\")","v":""}]
["Subtotals","Triggered edit checks",null,null,null,null,null,null,null,null,null,null,"Student\ncount",null,null,null,null,null,{"$f":"IFERROR(INDEX(Subtotals!$Q$15:$Q$20, SMALL(IF($U$14=Subtotals!$R$15:$R$20, ROW(Subtotals!$R$15:$R$20)-MIN(ROW(Subtotals!$R$15:$R$20))+1, \"\"), ROW(A2))),\"\")","v":""},{"$f":"IFERROR(INDEX(Subtotals!$U$15:$U$20, SMALL(IF($U$14=Subtotals!$R$15:$R$20, ROW(Subtotals!$R$15:$R$20)-MIN(ROW(Subtotals!$R$15:$R$20))+1, \"\"), ROW(A2))),\"\")","v":""},{"$f":"IFERROR(INDEX(Subtotals!$S$15:$S$20, SMALL(IF($U$14=Subtotals!$R$15:$R$20, ROW(Subtotals!$R$15:$R$20)-MIN(ROW(Subtotals!$R$15:$R$20))+1, \"\"), ROW(A2))),\"\")","v":""},{"$f":"IFERROR(INDEX(Subtotals!$T$15:$T$20, SMALL(IF($U$14=Subtotals!$R$15:$R$20, ROW(Subtotals!$R$15:$R$20)-MIN(ROW(Subtotals!$R$15:$R$20))+1, \"\"), ROW(A2))),\"\")","v":""}]
[{"$f":"V15","v":""},{"$f":"T15","v":""},null,null,null,null,null,null,null,null,null,null,{"$f":"IF(S15=\"\",\"\",HYPERLINK(CONCATENATE(\"#\",\"'Subtotals'!\",S15),U15))","v":""},null,null,null,null,null,{"$f":"IFERROR(INDEX(Subtotals!$Q$15:$Q$20, SMALL(IF($U$14=Subtotals!$R$15:$R$20, ROW(Subtotals!$R$15:$R$20)-MIN(ROW(Subtotals!$R$15:$R$20))+1, \"\"), ROW(A3))),\"\")","v":""},{"$f":"IFERROR(INDEX(Subtotals!$U$15:$U$20, SMALL(IF($U$14=Subtotals!$R$15:$R$20, ROW(Subtotals!$R$15:$R$20)-MIN(ROW(Subtotals!$R$15:$R$20))+1, \"\"), ROW(A3))),\"\")","v":""},{"$f":"IFERROR(INDEX(Subtotals!$S$15:$S$20, SMALL(IF($U$14=Subtotals!$R$15:$R$20, ROW(Subtotals!$R$15:$R$20)-MIN(ROW(Subtotals!$R$15:$R$20))+1, \"\"), ROW(A3))),\"\")","v":""},{"$f":"IFERROR(INDEX(Subtotals!$T$15:$T$20, SMALL(IF($U$14=Subtotals!$R$15:$R$20, ROW(Subtotals!$R$15:$R$20)-MIN(ROW(Subtotals!$R$15:$R$20))+1, \"\"), ROW(A3))),\"\")","v":""}]
[{"$f":"V16","v":""},"",null,null,null,null,null,null,null,null,null,null,{"$f":"IF(S16=\"\",\"\",HYPERLINK(CONCATENATE(\"#\",\"'Subtotals'!\",S16),U16))","v":""},null,null,null,null,null,{"$f":"IFERROR(INDEX(Subtotals!$Q$15:$Q$20, SMALL(IF($U$14=Subtotals!$R$15:$R$20, ROW(Subtotals!$R$15:$R$20)-MIN(ROW(Subtotals!$R$15:$R$20))+1, \"\"), ROW(A4))),\"\")","v":""},{"$f":"IFERROR(INDEX(Subtotals!$U$15:$U$20, SMALL(IF($U$14=Subtotals!$R$15:$R$20, ROW(Subtotals!$R$15:$R$20)-MIN(ROW(Subtotals!$R$15:$R$20))+1, \"\"), ROW(A4))),\"\")","v":""},{"$f":"IFERROR(INDEX(Subtotals!$S$15:$S$20, SMALL(IF($U$14=Subtotals!$R$15:$R$20, ROW(Subtotals!$R$15:$R$20)-MIN(ROW(Subtotals!$R$15:$R$20))+1, \"\"), ROW(A4))),\"\")","v":""},{"$f":"IFERROR(INDEX(Subtotals!$T$15:$T$20, SMALL(IF($U$14=Subtotals!$R$15:$R$20, ROW(Subtotals!$R$15:$R$20)-MIN(ROW(Subtotals!$R$15:$R$20))+1, \"\"), ROW(A4))),\"\")","v":""}]
[{"$f":"V17","v":""},"",null,null,null,null,null,null,null,null,null,null,"",null,null,null,null,null,{"$f":"IFERROR(INDEX(Subtotals!$Q$15:$Q$20, SMALL(IF($U$14=Subtotals!$R$15:$R$20, ROW(Subtotals!$R$15:$R$20)-MIN(ROW(Subtotals!$R$15:$R$20))+1, \"\"), ROW(A5))),\"\")","v":""},{"$f":"IFERROR(INDEX(Subtotals!$U$15:$U$20, SMALL(IF($U$14=Subtotals!$R$15:$R$20, ROW(Subtotals!$R$15:$R$20)-MIN(ROW(Subtotals!$R$15:$R$20))+1, \"\"), ROW(A5))),\"\")","v":""},{"$f":"IFERROR(INDEX(Subtotals!$S$15:$S$20, SMALL(IF($U$14=Subtotals!$R$15:$R$20, ROW(Subtotals!$R$15:$R$20)-MIN(ROW(Subtotals!$R$15:$R$20))+1, \"\"), ROW(A5))),\"\")","v":""},{"$f":"IFERROR(INDEX(Subtotals!$T$15:$T$20, SMALL(IF($U$14=Subtotals!$R$15:$R$20, ROW(Subtotals!$R$15:$R$20)-MIN(ROW(Subtotals!$R$15:$R$20))+1, \"\"), ROW(A5))),\"\")","v":""}]
["","",null,null,null,null,null,null,null,null,null,null,"",null,null,null,null,null,{"$f":"IFERROR(INDEX(Subtotals!$Q$15:$Q$20, SMALL(IF($U$14=Subtotals!$R$15:$R$20, ROW(Subtotals!$R$15:$R$20)-MIN(ROW(Subtotals!$R$15:$R$20))+1, \"\"), ROW(A6))),\"\")","v":""},{"$f":"IFERROR(INDEX(Subtotals!$U$15:$U$20, SMALL(IF($U$14=Subtotals!$R$15:$R$20, ROW(Subtotals!$R$15:$R$20)-MIN(ROW(Subtotals!$R$15:$R$20))+1, \"\"), ROW(A6))),\"\")","v":""},{"$f":"IFERROR(INDEX(Subtotals!$S$15:$S$20, SMALL(IF($U$14=Subtotals!$R$15:$R$20, ROW(Subtotals!$R$15:$R$20)-MIN(ROW(Subtotals!$R$15:$R$20))+1, \"\"), ROW(A6))),\"\")","v":""},{"$f":"IFERROR(INDEX(Subtotals!$T$15:$T$20, SMALL(IF($U$14=Subtotals!$R$15:$R$20, ROW(Subtotals!$R$15:$R$20)-MIN(ROW(Subtotals!$R$15:$R$20))+1, \"\"), ROW(A6))),\"\")","v":""}]
["","",null,null,null,null,null,null,null,null,null,null,"",null,null,null,null,null,null,"","",""]
["","",null,null,null,null,null,null,null,null,null,null,"",null,null,null,null,null,null,"","",""]
["","",null,null,null,null,null,null,null,null,null,null,""]
["",null,null,null,null,null,null,null,null,null,null,null,""]
[null,null,null,null,null,null,null,null,null,null,null,null,""]
[null,null,null,null,null,null,null,null,null,null,null,null,""]
[null,null,null,null,null,null,null,null,null,null,null,null,""]
[null,null,null,null,null,null,null,null,null,null,null,null,""]
[null,null,null,null,null,null,null,null,null,null,null,null,""]
[]
["Category sets","Triggered edit checks",null,null,null,null,null,null,null,null,null,null,"Student\ncount"]
[{"$f":"V32","v":"A"},{"$f":"IF(W32=1,\"No Data\",T32)","v":"Sum of transferred to regular education for ages 14 through 21 (B14:I14) ≠ Subtotal (J14)"},null,null,null,null,null,null,null,null,null,null,{"$f":"IF(S32=\"\",\"\",HYPERLINK(CONCATENATE(\"#\",\"'Category Sets A - D'!\",S32),U32))","v":"MC"},null,null,null,null,null,{"$f":"IFERROR(INDEX('Category Sets A-D'!$L$14:$L$102, SMALL(IF($U$14='Category Sets A-D'!$M$14:$M$102, ROW('Category Sets A-D'!$M$14:$M$102)-MIN(ROW('Category Sets A-D'!$M$14:$M$102))+1, \"\"), ROW(A1))),\"\")","v":"J14"},{"$f":"IFERROR(INDEX('Category Sets A-D'!$P$14:$P$102, SMALL(IF($U$14='Category Sets A-D'!$M$14:$M$102, ROW('Category Sets A-D'!$M$14:$M$102)-MIN(ROW('Category Sets A-D'!$M$14:$M$102))+1, \"\"), ROW(A1))),\"\")","v":"Sum of transferred to regular education for ages 14 through 21 (B14:I14) ≠ Subtotal (J14)"},{"$f":"IFERROR(INDEX('Category Sets A-D'!$N$14:$N$102, SMALL(IF($U$14='Category Sets A-D'!$M$14:$M$102, ROW('Category Sets A-D'!$M$14:$M$102)-MIN(ROW('Category Sets A-D'!$M$14:$M$102))+1, \"\"), ROW(A1))),\"\")","v":"MC"},{"$f":"IFERROR(INDEX('Category Sets A-D'!$O$14:$O$102, SMALL(IF($U$14='Category Sets A-D'!$M$14:$M$102, ROW('Category Sets A-D'!$M$14:$M$102)-MIN(ROW('Category Sets A-D'!$M$14:$M$102))+1, \"\"), ROW(A1))),\"\")","v":"A"},{"$f":"IF(U32=\"No Data\",1,0)","v":0}]
[{"$f":"V33","v":"A"},{"$f":"IF(W33=1,\"No Data\",T33)","v":"Sum of graduated with regular high school diploma for ages 14 through 21 (B15:I15) ≠ Subtotal (J15)"},null,null,null,null,null,null,null,null,null,null,{"$f":"IF(S33=\"\",\"\",HYPERLINK(CONCATENATE(\"#\",\"'Category Sets A - D'!\",S33),U33))","v":"MC"},null,null,null,null,null,{"$f":"IFERROR(INDEX('Category Sets A-D'!$L$14:$L$102, SMALL(IF($U$14='Category Sets A-D'!$M$14:$M$102, ROW('Category Sets A-D'!$M$14:$M$102)-MIN(ROW('Category Sets A-D'!$M$14:$M$102))+1, \"\"), ROW(A2))),\"\")","v":"J15"},{"$f":"IFERROR(INDEX('Category Sets A-D'!$P$14:$P$102, SMALL(IF($U$14='Category Sets A-D'!$M$14:$M$102, ROW('Category Sets A-D'!$M$14:$M$102)-MIN(ROW('Category Sets A-D'!$M$14:$M$102))+1, \"\"), ROW(A2))),\"\")","v":"Sum of graduated with regular high school diploma for ages 14 through 21 (B15:I15) ≠ Subtotal (J15)"},{"$f":"IFERROR(INDEX('Category Sets A-D'!$N$14:$N$102, SMALL(IF($U$14='Category Sets A-D'!$M$14:$M$102, ROW('Category Sets A-D'!$M$14:$M$102)-MIN(ROW('Category Sets A-D'!$M$14:$M$102))+1, \"\"), ROW(A2))),\"\")","v":"MC"},{"$f":"IFERROR(INDEX('Category Sets A-D'!$O$14:$O$102, SMALL(IF($U$14='Category Sets A-D'!$M$14:$M$102, ROW('Category Sets A-D'!$M$14:$M$102)-MIN(ROW('Category Sets A-D'!$M$14:$M$102))+1, \"\"), ROW(A2))),\"\")","v":"A"},{"$f":"IF(U33=\"No Data\",1,0)","v":0}]
["A","Sum of graduated with an alternate diploma for ages 14 through 21 (B16:I16 ) ≠ Subtotal (J16)",null,null,null,null,null,null,null,null,null,null,"MC",null,null,null,null,null,{"$f":"IFERROR(INDEX('Category Sets A-D'!$L$14:$L$102, SMALL(IF($U$14='Category Sets A-D'!$M$14:$M$102, ROW('Category Sets A-D'!$M$14:$M$102)-MIN(ROW('Category Sets A-D'!$M$14:$M$102))+1, \"\"), ROW(A3))),\"\")","v":"J16"},{"$f":"IFERROR(INDEX('Category Sets A-D'!$P$14:$P$102, SMALL(IF($U$14='Category Sets A-D'!$M$14:$M$102, ROW('Category Sets A-D'!$M$14:$M$102)-MIN(ROW('Category Sets A-D'!$M$14:$M$102))+1, \"\"), ROW(A3))),\"\")","v":"Sum of graduated with an alternate diploma for ages 14 through 21 (B16:I16 ) ≠ Subtotal (J16)"},{"$f":"IFERROR(INDEX('Category Sets A-D'!$N$14:$N$102, SMALL(IF($U$14='Category Sets A-D'!$M$14:$M$102, ROW('Category Sets A-D'!$M$14:$M$102)-MIN(ROW('Category Sets A-D'!$M$14:$M$102))+1, \"\"), ROW(A3))),\"\")","v":"MC"},{"$f":"IFERROR(INDEX('Category Sets A-D'!$O$14:$O$102, SMALL(IF($U$14='Category Sets A-D'!$M$14:$M$102, ROW('Category Sets A-D'!$M$14:$M$102)-MIN(ROW('Category Sets A-D'!$M$14:$M$102))+1, \"\"), ROW(A3))),\"\")","v":"A"},0]
["A","Sum of received a certificate for ages 14 through 21 (B17:I17) ≠ Subtotal (J17)",null,null,null,null,null,null,null,null,null,null,"MC",null,null,null,null,null,{"$f":"IFERROR(INDEX('Category Sets A-D'!$L$14:$L$102, SMALL(IF($U$14='Category Sets A-D'!$M$14:$M$102, ROW('Category Sets A-D'!$M$14:$M$102)-MIN(ROW('Category Sets A-D'!$M$14:$M$102))+1, \"\"), ROW(A4))),\"\")","v":"J17"},{"$f":"IFERROR(INDEX('Category Sets A-D'!$P$14:$P$102, SMALL(IF($U$14='Category Sets A-D'!$M$14:$M$102, ROW('Category Sets A-D'!$M$14:$M$102)-MIN(ROW('Category Sets A-D'!$M$14:$M$102))+1, \"\"), ROW(A4))),\"\")","v":"Sum of received a certificate for ages 14 through 21 (B17:I17) ≠ Subtotal (J17)"},{"$f":"IFERROR(INDEX('Category Sets A-D'!$N$14:$N$102, SMALL(IF($U$14='Category Sets A-D'!$M$14:$M$102, ROW('Category Sets A-D'!$M$14:$M$102)-MIN(ROW('Category Sets A-D'!$M$14:$M$102))+1, \"\"), ROW(A4))),\"\")","v":"MC"},{"$f":"IFERROR(INDEX('Category Sets A-D'!$O$14:$O$102, SMALL(IF($U$14='Category Sets A-D'!$M$14:$M$102, ROW('Category Sets A-D'!$M$14:$M$102)-MIN(ROW('Category Sets A-D'!$M$14:$M$102))+1, \"\"), ROW(A4))),\"\")","v":"A"},0]
["A","Sum of reached maximum age for ages 18 through 21 (B18:I18) ≠ Subtotal (J18)",null,null,null,null,null,null,null,null,null,null,"MC",null,null,null,null,null,{"$f":"IFERROR(INDEX('Category Sets A-D'!$L$14:$L$102, SMALL(IF($U$14='Category Sets A-D'!$M$14:$M$102, ROW('Category Sets A-D'!$M$14:$M$102)-MIN(ROW('Category Sets A-D'!$M$14:$M$102))+1, \"\"), ROW(A5))),\"\")","v":"J18"},{"$f":"IFERROR(INDEX('Category Sets A-D'!$P$14:$P$102, SMALL(IF($U$14='Category Sets A-D'!$M$14:$M$102, ROW('Category Sets A-D'!$M$14:$M$102)-MIN(ROW('Category Sets A-D'!$M$14:$M$102))+1, \"\"), ROW(A5))),\"\")","v":"Sum of reached maximum age for ages 18 through 21 (B18:I18) ≠ Subtotal (J18)"},{"$f":"IFERROR(INDEX('Category Sets A-D'!$N$14:$N$102, SMALL(IF($U$14='Category Sets A-D'!$M$14:$M$102, ROW('Category Sets A-D'!$M$14:$M$102)-MIN(ROW('Category Sets A-D'!$M$14:$M$102))+1, \"\"), ROW(A5))),\"\")","v":"MC"},{"$f":"IFERROR(INDEX('Category Sets A-D'!$O$14:$O$102, SMALL(IF($U$14='Category Sets A-D'!$M$14:$M$102, ROW('Category Sets A-D'!$M$14:$M$102)-MIN(ROW('Category Sets A-D'!$M$14:$M$102))+1, \"\"), ROW(A5))),\"\")","v":"A"},0]
["A","Sum of died for ages 14 through 21 (B19:I19) ≠ Subtotal (J19)",null,null,null,null,null,null,null,null,null,null,"MC",null,null,null,null,null,{"$f":"IFERROR(INDEX('Category Sets A-D'!$L$14:$L$102, SMALL(IF($U$14='Category Sets A-D'!$M$14:$M$102, ROW('Category Sets A-D'!$M$14:$M$102)-MIN(ROW('Category Sets A-D'!$M$14:$M$102))+1, \"\"), ROW(A6))),\"\")","v":"J19"},{"$f":"IFERROR(INDEX('Category Sets A-D'!$P$14:$P$102, SMALL(IF($U$14='Category Sets A-D'!$M$14:$M$102, ROW('Category Sets A-D'!$M$14:$M$102)-MIN(ROW('Category Sets A-D'!$M$14:$M$102))+1, \"\"), ROW(A6))),\"\")","v":"Sum of died for ages 14 through 21 (B19:I19) ≠ Subtotal (J19)"},{"$f":"IFERROR(INDEX('Category Sets A-D'!$N$14:$N$102, SMALL(IF($U$14='Category Sets A-D'!$M$14:$M$102, ROW('Category Sets A-D'!$M$14:$M$102)-MIN(ROW('Category Sets A-D'!$M$14:$M$102))+1, \"\"), ROW(A6))),\"\")","v":"MC"},{"$f":"IFERROR(INDEX('Category Sets A-D'!$O$14:$O$102, SMALL(IF($U$14='Category Sets A-D'!$M$14:$M$102, ROW('Category Sets A-D'!$M$14:$M$102)-MIN(ROW('Category Sets A-D'!$M$14:$M$102))+1, \"\"), ROW(A6))),\"\")","v":"A"},0]
["A","Sum of moved, known to be continuing for ages 14 through 21 (B20:I20) ≠ Subtotal (J20)",null,null,null,null,null,null,null,null,null,null,"MC",null,null,null,null,null,{"$f":"IFERROR(INDEX('Category Sets A-D'!$L$14:$L$102, SMALL(IF($U$14='Category Sets A-D'!$M$14:$M$102, ROW('Category Sets A-D'!$M$14:$M$102)-MIN(ROW('Category Sets A-D'!$M$14:$M$102))+1, \"\"), ROW(A7))),\"\")","v":"J20"},{"$f":"IFERROR(INDEX('Category Sets A-D'!$P$14:$P$102, SMALL(IF($U$14='Category Sets A-D'!$M$14:$M$102, ROW('Category Sets A-D'!$M$14:$M$102)-MIN(ROW('Category Sets A-D'!$M$14:$M$102))+1, \"\"), ROW(A7))),\"\")","v":"Sum of moved, known to be continuing for ages 14 through 21 (B20:I20) ≠ Subtotal (J20)"},{"$f":"IFERROR(INDEX('Category Sets A-D'!$N$14:$N$102, SMALL(IF($U$14='Category Sets A-D'!$M$14:$M$102, ROW('Category Sets A-D'!$M$14:$M$102)-MIN(ROW('Category Sets A-D'!$M$14:$M$102))+1, \"\"), ROW(A7))),\"\")","v":"MC"},{"$f":"IFERROR(INDEX('Category Sets A-D'!$O$14:$O$102, SMALL(IF($U$14='Category Sets A-D'!$M$14:$M$102, ROW('Category Sets A-D'!$M$14:$M$102)-MIN(ROW('Category Sets A-D'!$M$14:$M$102))+1, \"\"), ROW(A7))),\"\")","v":"A"},0]
["A","Sum of dropped out for ages 14 through 21 (B21:I21) ≠ Subtotal (J21)",null,null,null,null,null,null,null,null,null,null,"MC",null,null,null,null,null,{"$f":"IFERROR(INDEX('Category Sets A-D'!$L$14:$L$102, SMALL(IF($U$14='Category Sets A-D'!$M$14:$M$102, ROW('Category Sets A-D'!$M$14:$M$102)-MIN(ROW('Category Sets A-D'!$M$14:$M$102))+1, \"\"), ROW(A8))),\"\")","v":"J21"},{"$f":"IFERROR(INDEX('Category Sets A-D'!$P$14:$P$102, SMALL(IF($U$14='Category Sets A-D'!$M$14:$M$102, ROW('Category Sets A-D'!$M$14:$M$102)-MIN(ROW('Category Sets A-D'!$M$14:$M$102))+1, \"\"), ROW(A8))),\"\")","v":"Sum of dropped out for ages 14 through 21 (B21:I21) ≠ Subtotal (J21)"},{"$f":"IFERROR(INDEX('Category Sets A-D'!$N$14:$N$102, SMALL(IF($U$14='Category Sets A-D'!$M$14:$M$102, ROW('Category Sets A-D'!$M$14:$M$102)-MIN(ROW('Category Sets A-D'!$M$14:$M$102))+1, \"\"), ROW(A8))),\"\")","v":"MC"},{"$f":"IFERROR(INDEX('Category Sets A-D'!$O$14:$O$102, SMALL(IF($U$14='Category Sets A-D'!$M$14:$M$102, ROW('Category Sets A-D'!$M$14:$M$102)-MIN(ROW('Category Sets A-D'!$M$14:$M$102))+1, \"\"), ROW(A8))),\"\")","v":"A"},0]
["A","Sum of exit categories for age 14 (B14:B21) ≠ Subtotal (B22)",null,null,null,null,null,null,null,null,null,null,"MC",null,null,null,null,null,{"$f":"IFERROR(INDEX('Category Sets A-D'!$L$14:$L$102, SMALL(IF($U$14='Category Sets A-D'!$M$14:$M$102, ROW('Category Sets A-D'!$M$14:$M$102)-MIN(ROW('Category Sets A-D'!$M$14:$M$102))+1, \"\"), ROW(A9))),\"\")","v":"B22"},{"$f":"IFERROR(INDEX('Category Sets A-D'!$P$14:$P$102, SMALL(IF($U$14='Category Sets A-D'!$M$14:$M$102, ROW('Category Sets A-D'!$M$14:$M$102)-MIN(ROW('Category Sets A-D'!$M$14:$M$102))+1, \"\"), ROW(A9))),\"\")","v":"Sum of exit categories for age 14 (B14:B21) ≠ Subtotal (B22)"},{"$f":"IFERROR(INDEX('Category Sets A-D'!$N$14:$N$102, SMALL(IF($U$14='Category Sets A-D'!$M$14:$M$102, ROW('Category Sets A-D'!$M$14:$M$102)-MIN(ROW('Category Sets A-D'!$M$14:$M$102))+1, \"\"), ROW(A9))),\"\")","v":"MC"},{"$f":"IFERROR(INDEX('Category Sets A-D'!$O$14:$O$102, SMALL(IF($U$14='Category Sets A-D'!$M$14:$M$102, ROW('Category Sets A-D'!$M$14:$M$102)-MIN(ROW('Category Sets A-D'!$M$14:$M$102))+1, \"\"), ROW(A9))),\"\")","v":"A"},0]
["A","Sum of exit categories for age 15 (C14:C21) ≠ Subtotal (C22)",null,null,null,null,null,null,null,null,null,null,"MC",null,null,null,null,null,{"$f":"IFERROR(INDEX('Category Sets A-D'!$L$14:$L$102, SMALL(IF($U$14='Category Sets A-D'!$M$14:$M$102, ROW('Category Sets A-D'!$M$14:$M$102)-MIN(ROW('Category Sets A-D'!$M$14:$M$102))+1, \"\"), ROW(A10))),\"\")","v":"C22"},{"$f":"IFERROR(INDEX('Category Sets A-D'!$P$14:$P$102, SMALL(IF($U$14='Category Sets A-D'!$M$14:$M$102, ROW('Category Sets A-D'!$M$14:$M$102)-MIN(ROW('Category Sets A-D'!$M$14:$M$102))+1, \"\"), ROW(A10))),\"\")","v":"Sum of exit categories for age 15 (C14:C21) ≠ Subtotal (C22)"},{"$f":"IFERROR(INDEX('Category Sets A-D'!$N$14:$N$102, SMALL(IF($U$14='Category Sets A-D'!$M$14:$M$102, ROW('Category Sets A-D'!$M$14:$M$102)-MIN(ROW('Category Sets A-D'!$M$14:$M$102))+1, \"\"), ROW(A10))),\"\")","v":"MC"},{"$f":"IFERROR(INDEX('Category Sets A-D'!$O$14:$O$102, SMALL(IF($U$14='Category Sets A-D'!$M$14:$M$102, ROW('Category Sets A-D'!$M$14:$M$102)-MIN(ROW('Category Sets A-D'!$M$14:$M$102))+1, \"\"), ROW(A10))),\"\")","v":"A"},0]
["A","Sum of exit categories for age 16 (D14:D21) ≠ Subtotal (D22)",null,null,null,null,null,null,null,null,null,null,"MC",null,null,null,null,null,{"$f":"IFERROR(INDEX('Category Sets A-D'!$L$14:$L$102, SMALL(IF($U$14='Category Sets A-D'!$M$14:$M$102, ROW('Category Sets A-D'!$M$14:$M$102)-MIN(ROW('Category Sets A-D'!$M$14:$M$102))+1, \"\"), ROW(A11))),\"\")","v":"D22"},{"$f":"IFERROR(INDEX('Category Sets A-D'!$P$14:$P$102, SMALL(IF($U$14='Category Sets A-D'!$M$14:$M$102, ROW('Category Sets A-D'!$M$14:$M$102)-MIN(ROW('Category Sets A-D'!$M$14:$M$102))+1, \"\"), ROW(A11))),\"\")","v":"Sum of exit categories for age 16 (D14:D21) ≠ Subtotal (D22)"},{"$f":"IFERROR(INDEX('Category Sets A-D'!$N$14:$N$102, SMALL(IF($U$14='Category Sets A-D'!$M$14:$M$102, ROW('Category Sets A-D'!$M$14:$M$102)-MIN(ROW('Category Sets A-D'!$M$14:$M$102))+1, \"\"), ROW(A11))),\"\")","v":"MC"},{"$f":"IFERROR(INDEX('Category Sets A-D'!$O$14:$O$102, SMALL(IF($U$14='Category Sets A-D'!$M$14:$M$102, ROW('Category Sets A-D'!$M$14:$M$102)-MIN(ROW('Category Sets A-D'!$M$14:$M$102))+1, \"\"), ROW(A11))),\"\")","v":"A"},0]
["A","Sum of exit categories for age 17 (E14:E21) ≠ Subtotal (E22)",null,null,null,null,null,null,null,null,null,null,"MC",null,null,null,null,null,{"$f":"IFERROR(INDEX('Category Sets A-D'!$L$14:$L$102, SMALL(IF($U$14='Category Sets A-D'!$M$14:$M$102, ROW('Category Sets A-D'!$M$14:$M$102)-MIN(ROW('Category Sets A-D'!$M$14:$M$102))+1, \"\"), ROW(A12))),\"\")","v":"E22"},{"$f":"IFERROR(INDEX('Category Sets A-D'!$P$14:$P$102, SMALL(IF($U$14='Category Sets A-D'!$M$14:$M$102, ROW('Category Sets A-D'!$M$14:$M$102)-MIN(ROW('Category Sets A-D'!$M$14:$M$102))+1, \"\"), ROW(A12))),\"\")","v":"Sum of exit categories for age 17 (E14:E21) ≠ Subtotal (E22)"},{"$f":"IFERROR(INDEX('Category Sets A-D'!$N$14:$N$102, SMALL(IF($U$14='Category Sets A-D'!$M$14:$M$102, ROW('Category Sets A-D'!$M$14:$M$102)-MIN(ROW('Category Sets A-D'!$M$14:$M$102))+1, \"\"), ROW(A12))),\"\")","v":"MC"},{"$f":"IFERROR(INDEX('Category Sets A-D'!$O$14:$O$102, SMALL(IF($U$14='Category Sets A-D'!$M$14:$M$102, ROW('Category Sets A-D'!$M$14:$M$102)-MIN(ROW('Category Sets A-D'!$M$14:$M$102))+1, \"\"), ROW(A12))),\"\")","v":"A"},0]
["A",{"$f":"IF(W44=1,\"No Data\",T44)","v":"Sum of exit categories for age 18 (F14:F21) ≠ Subtotal (F22)"},null,null,null,null,null,null,null,null,null,null,"MC",null,null,null,null,null,{"$f":"IFERROR(INDEX('Category Sets A-D'!$L$14:$L$102, SMALL(IF($U$14='Category Sets A-D'!$M$14:$M$102, ROW('Category Sets A-D'!$M$14:$M$102)-MIN(ROW('Category Sets A-D'!$M$14:$M$102))+1, \"\"), ROW(A13))),\"\")","v":"F22"},{"$f":"IFERROR(INDEX('Category Sets A-D'!$P$14:$P$102, SMALL(IF($U$14='Category Sets A-D'!$M$14:$M$102, ROW('Category Sets A-D'!$M$14:$M$102)-MIN(ROW('Category Sets A-D'!$M$14:$M$102))+1, \"\"), ROW(A13))),\"\")","v":"Sum of exit categories for age 18 (F14:F21) ≠ Subtotal (F22)"},{"$f":"IFERROR(INDEX('Category Sets A-D'!$N$14:$N$102, SMALL(IF($U$14='Category Sets A-D'!$M$14:$M$102, ROW('Category Sets A-D'!$M$14:$M$102)-MIN(ROW('Category Sets A-D'!$M$14:$M$102))+1, \"\"), ROW(A13))),\"\")","v":"MC"},{"$f":"IFERROR(INDEX('Category Sets A-D'!$O$14:$O$102, SMALL(IF($U$14='Category Sets A-D'!$M$14:$M$102, ROW('Category Sets A-D'!$M$14:$M$102)-MIN(ROW('Category Sets A-D'!$M$14:$M$102))+1, \"\"), ROW(A13))),\"\")","v":"A"},0]
["A","Sum of exit categories for age 19 (G14:G21) ≠ Subtotal (G22)",null,null,null,null,null,null,null,null,null,null,"MC",null,null,null,null,null,{"$f":"IFERROR(INDEX('Category Sets A-D'!$L$14:$L$102, SMALL(IF($U$14='Category Sets A-D'!$M$14:$M$102, ROW('Category Sets A-D'!$M$14:$M$102)-MIN(ROW('Category Sets A-D'!$M$14:$M$102))+1, \"\"), ROW(A14))),\"\")","v":"G22"},{"$f":"IFERROR(INDEX('Category Sets A-D'!$P$14:$P$102, SMALL(IF($U$14='Category Sets A-D'!$M$14:$M$102, ROW('Category Sets A-D'!$M$14:$M$102)-MIN(ROW('Category Sets A-D'!$M$14:$M$102))+1, \"\"), ROW(A14))),\"\")","v":"Sum of exit categories for age 19 (G14:G21) ≠ Subtotal (G22)"},{"$f":"IFERROR(INDEX('Category Sets A-D'!$N$14:$N$102, SMALL(IF($U$14='Category Sets A-D'!$M$14:$M$102, ROW('Category Sets A-D'!$M$14:$M$102)-MIN(ROW('Category Sets A-D'!$M$14:$M$102))+1, \"\"), ROW(A14))),\"\")","v":"MC"},{"$f":"IFERROR(INDEX('Category Sets A-D'!$O$14:$O$102, SMALL(IF($U$14='Category Sets A-D'!$M$14:$M$102, ROW('Category Sets A-D'!$M$14:$M$102)-MIN(ROW('Category Sets A-D'!$M$14:$M$102))+1, \"\"), ROW(A14))),\"\")","v":"A"},0]
["A","Sum of exit categories for age 20 (H14:H21) ≠ Subtotal (H22)",null,null,null,null,null,null,null,null,null,null,"MC",null,null,null,null,null,{"$f":"IFERROR(INDEX('Category Sets A-D'!$L$14:$L$102, SMALL(IF($U$14='Category Sets A-D'!$M$14:$M$102, ROW('Category Sets A-D'!$M$14:$M$102)-MIN(ROW('Category Sets A-D'!$M$14:$M$102))+1, \"\"), ROW(A15))),\"\")","v":"H22"},{"$f":"IFERROR(INDEX('Category Sets A-D'!$P$14:$P$102, SMALL(IF($U$14='Category Sets A-D'!$M$14:$M$102, ROW('Category Sets A-D'!$M$14:$M$102)-MIN(ROW('Category Sets A-D'!$M$14:$M$102))+1, \"\"), ROW(A15))),\"\")","v":"Sum of exit categories for age 20 (H14:H21) ≠ Subtotal (H22)"},{"$f":"IFERROR(INDEX('Category Sets A-D'!$N$14:$N$102, SMALL(IF($U$14='Category Sets A-D'!$M$14:$M$102, ROW('Category Sets A-D'!$M$14:$M$102)-MIN(ROW('Category Sets A-D'!$M$14:$M$102))+1, \"\"), ROW(A15))),\"\")","v":"MC"},{"$f":"IFERROR(INDEX('Category Sets A-D'!$O$14:$O$102, SMALL(IF($U$14='Category Sets A-D'!$M$14:$M$102, ROW('Category Sets A-D'!$M$14:$M$102)-MIN(ROW('Category Sets A-D'!$M$14:$M$102))+1, \"\"), ROW(A15))),\"\")","v":"A"},0]
["A","Sum of exit categories for age 21 (I14:I21) ≠ Subtotal (I22)",null,null,null,null,null,null,null,null,null,null,"MC",null,null,null,null,null,{"$f":"IFERROR(INDEX('Category Sets A-D'!$L$14:$L$102, SMALL(IF($U$14='Category Sets A-D'!$M$14:$M$102, ROW('Category Sets A-D'!$M$14:$M$102)-MIN(ROW('Category Sets A-D'!$M$14:$M$102))+1, \"\"), ROW(A16))),\"\")","v":"I22"},{"$f":"IFERROR(INDEX('Category Sets A-D'!$P$14:$P$102, SMALL(IF($U$14='Category Sets A-D'!$M$14:$M$102, ROW('Category Sets A-D'!$M$14:$M$102)-MIN(ROW('Category Sets A-D'!$M$14:$M$102))+1, \"\"), ROW(A16))),\"\")","v":"Sum of exit categories for age 21 (I14:I21) ≠ Subtotal (I22)"},{"$f":"IFERROR(INDEX('Category Sets A-D'!$N$14:$N$102, SMALL(IF($U$14='Category Sets A-D'!$M$14:$M$102, ROW('Category Sets A-D'!$M$14:$M$102)-MIN(ROW('Category Sets A-D'!$M$14:$M$102))+1, \"\"), ROW(A16))),\"\")","v":"MC"},{"$f":"IFERROR(INDEX('Category Sets A-D'!$O$14:$O$102, SMALL(IF($U$14='Category Sets A-D'!$M$14:$M$102, ROW('Category Sets A-D'!$M$14:$M$102)-MIN(ROW('Category Sets A-D'!$M$14:$M$102))+1, \"\"), ROW(A16))),\"\")","v":"A"},0]
["B","Sum of transferred to regular education for all racial ethnic categories (B39:H39) ≠ Subtotal (I39)",null,null,null,null,null,null,null,null,null,null,"MC",null,null,null,null,null,{"$f":"IFERROR(INDEX('Category Sets A-D'!$L$14:$L$102, SMALL(IF($U$14='Category Sets A-D'!$M$14:$M$102, ROW('Category Sets A-D'!$M$14:$M$102)-MIN(ROW('Category Sets A-D'!$M$14:$M$102))+1, \"\"), ROW(A17))),\"\")","v":"I39"},{"$f":"IFERROR(INDEX('Category Sets A-D'!$P$14:$P$102, SMALL(IF($U$14='Category Sets A-D'!$M$14:$M$102, ROW('Category Sets A-D'!$M$14:$M$102)-MIN(ROW('Category Sets A-D'!$M$14:$M$102))+1, \"\"), ROW(A17))),\"\")","v":"Sum of transferred to regular education for all racial ethnic categories (B39:H39) ≠ Subtotal (I39)"},{"$f":"IFERROR(INDEX('Category Sets A-D'!$N$14:$N$102, SMALL(IF($U$14='Category Sets A-D'!$M$14:$M$102, ROW('Category Sets A-D'!$M$14:$M$102)-MIN(ROW('Category Sets A-D'!$M$14:$M$102))+1, \"\"), ROW(A17))),\"\")","v":"MC"},{"$f":"IFERROR(INDEX('Category Sets A-D'!$O$14:$O$102, SMALL(IF($U$14='Category Sets A-D'!$M$14:$M$102, ROW('Category Sets A-D'!$M$14:$M$102)-MIN(ROW('Category Sets A-D'!$M$14:$M$102))+1, \"\"), ROW(A17))),\"\")","v":"B"},0]
["B","Sum of graduated with regular high school diploma for all racial ethnic categories (B40:H40) ≠ Subtotal (I40)",null,null,null,null,null,null,null,null,null,null,"MC",null,null,null,null,null,{"$f":"IFERROR(INDEX('Category Sets A-D'!$L$14:$L$102, SMALL(IF($U$14='Category Sets A-D'!$M$14:$M$102, ROW('Category Sets A-D'!$M$14:$M$102)-MIN(ROW('Category Sets A-D'!$M$14:$M$102))+1, \"\"), ROW(A18))),\"\")","v":"I40"},{"$f":"IFERROR(INDEX('Category Sets A-D'!$P$14:$P$102, SMALL(IF($U$14='Category Sets A-D'!$M$14:$M$102, ROW('Category Sets A-D'!$M$14:$M$102)-MIN(ROW('Category Sets A-D'!$M$14:$M$102))+1, \"\"), ROW(A18))),\"\")","v":"Sum of graduated with regular high school diploma for all racial ethnic categories (B40:H40) ≠ Subtotal (I40)"},{"$f":"IFERROR(INDEX('Category Sets A-D'!$N$14:$N$102, SMALL(IF($U$14='Category Sets A-D'!$M$14:$M$102, ROW('Category Sets A-D'!$M$14:$M$102)-MIN(ROW('Category Sets A-D'!$M$14:$M$102))+1, \"\"), ROW(A18))),\"\")","v":"MC"},{"$f":"IFERROR(INDEX('Category Sets A-D'!$O$14:$O$102, SMALL(IF($U$14='Category Sets A-D'!$M$14:$M$102, ROW('Category Sets A-D'!$M$14:$M$102)-MIN(ROW('Category Sets A-D'!$M$14:$M$102))+1, \"\"), ROW(A18))),\"\")","v":"B"},0]
["B","Sum of graduated with an alternate diploma for all racial ethnic categories (B41:H41) ≠ Subtotal (I41)",null,null,null,null,null,null,null,null,null,null,"MC",null,null,null,null,null,{"$f":"IFERROR(INDEX('Category Sets A-D'!$L$14:$L$102, SMALL(IF($U$14='Category Sets A-D'!$M$14:$M$102, ROW('Category Sets A-D'!$M$14:$M$102)-MIN(ROW('Category Sets A-D'!$M$14:$M$102))+1, \"\"), ROW(A19))),\"\")","v":"I41"},{"$f":"IFERROR(INDEX('Category Sets A-D'!$P$14:$P$102, SMALL(IF($U$14='Category Sets A-D'!$M$14:$M$102, ROW('Category Sets A-D'!$M$14:$M$102)-MIN(ROW('Category Sets A-D'!$M$14:$M$102))+1, \"\"), ROW(A19))),\"\")","v":"Sum of graduated with an alternate diploma for all racial ethnic categories (B41:H41) ≠ Subtotal (I41)"},{"$f":"IFERROR(INDEX('Category Sets A-D'!$N$14:$N$102, SMALL(IF($U$14='Category Sets A-D'!$M$14:$M$102, ROW('Category Sets A-D'!$M$14:$M$102)-MIN(ROW('Category Sets A-D'!$M$14:$M$102))+1, \"\"), ROW(A19))),\"\")","v":"MC"},{"$f":"IFERROR(INDEX('Category Sets A-D'!$O$14:$O$102, SMALL(IF($U$14='Category Sets A-D'!$M$14:$M$102, ROW('Category Sets A-D'!$M$14:$M$102)-MIN(ROW('Category Sets A-D'!$M$14:$M$102))+1, \"\"), ROW(A19))),\"\")","v":"B"},0]
["B",{"$f":"IF(W51=1,\"No Data\",T51)","v":"Sum of received a certificate for all racial ethnic categories (B42:H42) ≠ Subtotal (I42)"},null,null,null,null,null,null,null,null,null,null,"MC",null,null,null,null,null,{"$f":"IFERROR(INDEX('Category Sets A-D'!$L$14:$L$102, SMALL(IF($U$14='Category Sets A-D'!$M$14:$M$102, ROW('Category Sets A-D'!$M$14:$M$102)-MIN(ROW('Category Sets A-D'!$M$14:$M$102))+1, \"\"), ROW(A20))),\"\")","v":"I42"},{"$f":"IFERROR(INDEX('Category Sets A-D'!$P$14:$P$102, SMALL(IF($U$14='Category Sets A-D'!$M$14:$M$102, ROW('Category Sets A-D'!$M$14:$M$102)-MIN(ROW('Category Sets A-D'!$M$14:$M$102))+1, \"\"), ROW(A20))),\"\")","v":"Sum of received a certificate for all racial ethnic categories (B42:H42) ≠ Subtotal (I42)"},{"$f":"IFERROR(INDEX('Category Sets A-D'!$N$14:$N$102, SMALL(IF($U$14='Category Sets A-D'!$M$14:$M$102, ROW('Category Sets A-D'!$M$14:$M$102)-MIN(ROW('Category Sets A-D'!$M$14:$M$102))+1, \"\"), ROW(A20))),\"\")","v":"MC"},{"$f":"IFERROR(INDEX('Category Sets A-D'!$O$14:$O$102, SMALL(IF($U$14='Category Sets A-D'!$M$14:$M$102, ROW('Category Sets A-D'!$M$14:$M$102)-MIN(ROW('Category Sets A-D'!$M$14:$M$102))+1, \"\"), ROW(A20))),\"\")","v":"B"},0]
["B","Sum of reached maximum age for all racial ethnic categories (B43:H43) ≠ Subtotal (I43)",null,null,null,null,null,null,null,null,null,null,"MC",null,null,null,null,null,{"$f":"IFERROR(INDEX('Category Sets A-D'!$L$14:$L$102, SMALL(IF($U$14='Category Sets A-D'!$M$14:$M$102, ROW('Category Sets A-D'!$M$14:$M$102)-MIN(ROW('Category Sets A-D'!$M$14:$M$102))+1, \"\"), ROW(A21))),\"\")","v":"I43"},{"$f":"IFERROR(INDEX('Category Sets A-D'!$P$14:$P$102, SMALL(IF($U$14='Category Sets A-D'!$M$14:$M$102, ROW('Category Sets A-D'!$M$14:$M$102)-MIN(ROW('Category Sets A-D'!$M$14:$M$102))+1, \"\"), ROW(A21))),\"\")","v":"Sum of reached maximum age for all racial ethnic categories (B43:H43) ≠ Subtotal (I43)"},{"$f":"IFERROR(INDEX('Category Sets A-D'!$N$14:$N$102, SMALL(IF($U$14='Category Sets A-D'!$M$14:$M$102, ROW('Category Sets A-D'!$M$14:$M$102)-MIN(ROW('Category Sets A-D'!$M$14:$M$102))+1, \"\"), ROW(A21))),\"\")","v":"MC"},{"$f":"IFERROR(INDEX('Category Sets A-D'!$O$14:$O$102, SMALL(IF($U$14='Category Sets A-D'!$M$14:$M$102, ROW('Category Sets A-D'!$M$14:$M$102)-MIN(ROW('Category Sets A-D'!$M$14:$M$102))+1, \"\"), ROW(A21))),\"\")","v":"B"},0]
["B","Sum of died for all racial ethnic categories (B44:H44) ≠ Subtotal (I44)",null,null,null,null,null,null,null,null,null,null,"MC",null,null,null,null,null,{"$f":"IFERROR(INDEX('Category Sets A-D'!$L$14:$L$102, SMALL(IF($U$14='Category Sets A-D'!$M$14:$M$102, ROW('Category Sets A-D'!$M$14:$M$102)-MIN(ROW('Category Sets A-D'!$M$14:$M$102))+1, \"\"), ROW(A22))),\"\")","v":"I44"},{"$f":"IFERROR(INDEX('Category Sets A-D'!$P$14:$P$102, SMALL(IF($U$14='Category Sets A-D'!$M$14:$M$102, ROW('Category Sets A-D'!$M$14:$M$102)-MIN(ROW('Category Sets A-D'!$M$14:$M$102))+1, \"\"), ROW(A22))),\"\")","v":"Sum of died for all racial ethnic categories (B44:H44) ≠ Subtotal (I44)"},{"$f":"IFERROR(INDEX('Category Sets A-D'!$N$14:$N$102, SMALL(IF($U$14='Category Sets A-D'!$M$14:$M$102, ROW('Category Sets A-D'!$M$14:$M$102)-MIN(ROW('Category Sets A-D'!$M$14:$M$102))+1, \"\"), ROW(A22))),\"\")","v":"MC"},{"$f":"IFERROR(INDEX('Category Sets A-D'!$O$14:$O$102, SMALL(IF($U$14='Category Sets A-D'!$M$14:$M$102, ROW('Category Sets A-D'!$M$14:$M$102)-MIN(ROW('Category Sets A-D'!$M$14:$M$102))+1, \"\"), ROW(A22))),\"\")","v":"B"},0]
["B",{"$f":"IF(W54=1,\"No Data\",T54)","v":"Sum of moved, known to be continuing for all racial ethnic categories (B45:H45) ≠ Subtotal (I45)"},null,null,null,null,null,null,null,null,null,null,"MC",null,null,null,null,null,{"$f":"IFERROR(INDEX('Category Sets A-D'!$L$14:$L$102, SMALL(IF($U$14='Category Sets A-D'!$M$14:$M$102, ROW('Category Sets A-D'!$M$14:$M$102)-MIN(ROW('Category Sets A-D'!$M$14:$M$102))+1, \"\"), ROW(A23))),\"\")","v":"I45"},{"$f":"IFERROR(INDEX('Category Sets A-D'!$P$14:$P$102, SMALL(IF($U$14='Category Sets A-D'!$M$14:$M$102, ROW('Category Sets A-D'!$M$14:$M$102)-MIN(ROW('Category Sets A-D'!$M$14:$M$102))+1, \"\"), ROW(A23))),\"\")","v":"Sum of moved, known to be continuing for all racial ethnic categories (B45:H45) ≠ Subtotal (I45)"},{"$f":"IFERROR(INDEX('Category Sets A-D'!$N$14:$N$102, SMALL(IF($U$14='Category Sets A-D'!$M$14:$M$102, ROW('Category Sets A-D'!$M$14:$M$102)-MIN(ROW('Category Sets A-D'!$M$14:$M$102))+1, \"\"), ROW(A23))),\"\")","v":"MC"},{"$f":"IFERROR(INDEX('Category Sets A-D'!$O$14:$O$102, SMALL(IF($U$14='Category Sets A-D'!$M$14:$M$102, ROW('Category Sets A-D'!$M$14:$M$102)-MIN(ROW('Category Sets A-D'!$M$14:$M$102))+1, \"\"), ROW(A23))),\"\")","v":"B"},0]
["B","Sum of dropped out for all racial ethnic categories (B46:H46) ≠ Subtotal (I46)",null,null,null,null,null,null,null,null,null,null,"MC",null,null,null,null,null,{"$f":"IFERROR(INDEX('Category Sets A-D'!$L$14:$L$102, SMALL(IF($U$14='Category Sets A-D'!$M$14:$M$102, ROW('Category Sets A-D'!$M$14:$M$102)-MIN(ROW('Category Sets A-D'!$M$14:$M$102))+1, \"\"), ROW(A24))),\"\")","v":"I46"},{"$f":"IFERROR(INDEX('Category Sets A-D'!$P$14:$P$102, SMALL(IF($U$14='Category Sets A-D'!$M$14:$M$102, ROW('Category Sets A-D'!$M$14:$M$102)-MIN(ROW('Category Sets A-D'!$M$14:$M$102))+1, \"\"), ROW(A24))),\"\")","v":"Sum of dropped out for all racial ethnic categories (B46:H46) ≠ Subtotal (I46)"},{"$f":"IFERROR(INDEX('Category Sets A-D'!$N$14:$N$102, SMALL(IF($U$14='Category Sets A-D'!$M$14:$M$102, ROW('Category Sets A-D'!$M$14:$M$102)-MIN(ROW('Category Sets A-D'!$M$14:$M$102))+1, \"\"), ROW(A24))),\"\")","v":"MC"},{"$f":"IFERROR(INDEX('Category Sets A-D'!$O$14:$O$102, SMALL(IF($U$14='Category Sets A-D'!$M$14:$M$102, ROW('Category Sets A-D'!$M$14:$M$102)-MIN(ROW('Category Sets A-D'!$M$14:$M$102))+1, \"\"), ROW(A24))),\"\")","v":"B"},0]
["B","Sum of exit categories for Hispanic/Latino (B39:B46) ≠ Subtotal (B47)",null,null,null,null,null,null,null,null,null,null,"MC",null,null,null,null,null,{"$f":"IFERROR(INDEX('Category Sets A-D'!$L$14:$L$102, SMALL(IF($U$14='Category Sets A-D'!$M$14:$M$102, ROW('Category Sets A-D'!$M$14:$M$102)-MIN(ROW('Category Sets A-D'!$M$14:$M$102))+1, \"\"), ROW(A25))),\"\")","v":"B47"},{"$f":"IFERROR(INDEX('Category Sets A-D'!$P$14:$P$102, SMALL(IF($U$14='Category Sets A-D'!$M$14:$M$102, ROW('Category Sets A-D'!$M$14:$M$102)-MIN(ROW('Category Sets A-D'!$M$14:$M$102))+1, \"\"), ROW(A25))),\"\")","v":"Sum of exit categories for Hispanic/Latino (B39:B46) ≠ Subtotal (B47)"},{"$f":"IFERROR(INDEX('Category Sets A-D'!$N$14:$N$102, SMALL(IF($U$14='Category Sets A-D'!$M$14:$M$102, ROW('Category Sets A-D'!$M$14:$M$102)-MIN(ROW('Category Sets A-D'!$M$14:$M$102))+1, \"\"), ROW(A25))),\"\")","v":"MC"},{"$f":"IFERROR(INDEX('Category Sets A-D'!$O$14:$O$102, SMALL(IF($U$14='Category Sets A-D'!$M$14:$M$102, ROW('Category Sets A-D'!$M$14:$M$102)-MIN(ROW('Category Sets A-D'!$M$14:$M$102))+1, \"\"), ROW(A25))),\"\")","v":"B"},0]
["B","Sum of exit categories for American Indian or Alaska Native (C39:C46) ≠ Subtotal (C47)",null,null,null,null,null,null,null,null,null,null,"MC",null,null,null,null,null,{"$f":"IFERROR(INDEX('Category Sets A-D'!$L$14:$L$102, SMALL(IF($U$14='Category Sets A-D'!$M$14:$M$102, ROW('Category Sets A-D'!$M$14:$M$102)-MIN(ROW('Category Sets A-D'!$M$14:$M$102))+1, \"\"), ROW(A26))),\"\")","v":"C47"},{"$f":"IFERROR(INDEX('Category Sets A-D'!$P$14:$P$102, SMALL(IF($U$14='Category Sets A-D'!$M$14:$M$102, ROW('Category Sets A-D'!$M$14:$M$102)-MIN(ROW('Category Sets A-D'!$M$14:$M$102))+1, \"\"), ROW(A26))),\"\")","v":"Sum of exit categories for American Indian or Alaska Native (C39:C46) ≠ Subtotal (C47)"},{"$f":"IFERROR(INDEX('Category Sets A-D'!$N$14:$N$102, SMALL(IF($U$14='Category Sets A-D'!$M$14:$M$102, ROW('Category Sets A-D'!$M$14:$M$102)-MIN(ROW('Category Sets A-D'!$M$14:$M$102))+1, \"\"), ROW(A26))),\"\")","v":"MC"},{"$f":"IFERROR(INDEX('Category Sets A-D'!$O$14:$O$102, SMALL(IF($U$14='Category Sets A-D'!$M$14:$M$102, ROW('Category Sets A-D'!$M$14:$M$102)-MIN(ROW('Category Sets A-D'!$M$14:$M$102))+1, \"\"), ROW(A26))),\"\")","v":"B"},0]
["B","Sum of exit categories for Asian (D39:D46) ≠ Subtotal (D47)",null,null,null,null,null,null,null,null,null,null,"MC",null,null,null,null,null,{"$f":"IFERROR(INDEX('Category Sets A-D'!$L$14:$L$102, SMALL(IF($U$14='Category Sets A-D'!$M$14:$M$102, ROW('Category Sets A-D'!$M$14:$M$102)-MIN(ROW('Category Sets A-D'!$M$14:$M$102))+1, \"\"), ROW(A27))),\"\")","v":"D47"},{"$f":"IFERROR(INDEX('Category Sets A-D'!$P$14:$P$102, SMALL(IF($U$14='Category Sets A-D'!$M$14:$M$102, ROW('Category Sets A-D'!$M$14:$M$102)-MIN(ROW('Category Sets A-D'!$M$14:$M$102))+1, \"\"), ROW(A27))),\"\")","v":"Sum of exit categories for Asian (D39:D46) ≠ Subtotal (D47)"},{"$f":"IFERROR(INDEX('Category Sets A-D'!$N$14:$N$102, SMALL(IF($U$14='Category Sets A-D'!$M$14:$M$102, ROW('Category Sets A-D'!$M$14:$M$102)-MIN(ROW('Category Sets A-D'!$M$14:$M$102))+1, \"\"), ROW(A27))),\"\")","v":"MC"},{"$f":"IFERROR(INDEX('Category Sets A-D'!$O$14:$O$102, SMALL(IF($U$14='Category Sets A-D'!$M$14:$M$102, ROW('Category Sets A-D'!$M$14:$M$102)-MIN(ROW('Category Sets A-D'!$M$14:$M$102))+1, \"\"), ROW(A27))),\"\")","v":"B"},0]
["B","Sum of exit categories for Black or African American (E39:E46) ≠ Subtotal (E47)",null,null,null,null,null,null,null,null,null,null,"MC",null,null,null,null,null,{"$f":"IFERROR(INDEX('Category Sets A-D'!$L$14:$L$102, SMALL(IF($U$14='Category Sets A-D'!$M$14:$M$102, ROW('Category Sets A-D'!$M$14:$M$102)-MIN(ROW('Category Sets A-D'!$M$14:$M$102))+1, \"\"), ROW(A28))),\"\")","v":"E47"},{"$f":"IFERROR(INDEX('Category Sets A-D'!$P$14:$P$102, SMALL(IF($U$14='Category Sets A-D'!$M$14:$M$102, ROW('Category Sets A-D'!$M$14:$M$102)-MIN(ROW('Category Sets A-D'!$M$14:$M$102))+1, \"\"), ROW(A28))),\"\")","v":"Sum of exit categories for Black or African American (E39:E46) ≠ Subtotal (E47)"},{"$f":"IFERROR(INDEX('Category Sets A-D'!$N$14:$N$102, SMALL(IF($U$14='Category Sets A-D'!$M$14:$M$102, ROW('Category Sets A-D'!$M$14:$M$102)-MIN(ROW('Category Sets A-D'!$M$14:$M$102))+1, \"\"), ROW(A28))),\"\")","v":"MC"},{"$f":"IFERROR(INDEX('Category Sets A-D'!$O$14:$O$102, SMALL(IF($U$14='Category Sets A-D'!$M$14:$M$102, ROW('Category Sets A-D'!$M$14:$M$102)-MIN(ROW('Category Sets A-D'!$M$14:$M$102))+1, \"\"), ROW(A28))),\"\")","v":"B"},0]
["B","Sum of exit categories for Native Hawaiian or Other Pacific Islander (F39:F46) ≠ Subtotal (F47)",null,null,null,null,null,null,null,null,null,null,"MC",null,null,null,null,null,{"$f":"IFERROR(INDEX('Category Sets A-D'!$L$14:$L$102, SMALL(IF($U$14='Category Sets A-D'!$M$14:$M$102, ROW('Category Sets A-D'!$M$14:$M$102)-MIN(ROW('Category Sets A-D'!$M$14:$M$102))+1, \"\"), ROW(A29))),\"\")","v":"F47"},{"$f":"IFERROR(INDEX('Category Sets A-D'!$P$14:$P$102, SMALL(IF($U$14='Category Sets A-D'!$M$14:$M$102, ROW('Category Sets A-D'!$M$14:$M$102)-MIN(ROW('Category Sets A-D'!$M$14:$M$102))+1, \"\"), ROW(A29))),\"\")","v":"Sum of exit categories for Native Hawaiian or Other Pacific Islander (F39:F46) ≠ Subtotal (F47)"},{"$f":"IFERROR(INDEX('Category Sets A-D'!$N$14:$N$102, SMALL(IF($U$14='Category Sets A-D'!$M$14:$M$102, ROW('Category Sets A-D'!$M$14:$M$102)-MIN(ROW('Category Sets A-D'!$M$14:$M$102))+1, \"\"), ROW(A29))),\"\")","v":"MC"},{"$f":"IFERROR(INDEX('Category Sets A-D'!$O$14:$O$102, SMALL(IF($U$14='Category Sets A-D'!$M$14:$M$102, ROW('Category Sets A-D'!$M$14:$M$102)-MIN(ROW('Category Sets A-D'!$M$14:$M$102))+1, \"\"), ROW(A29))),\"\")","v":"B"},0]
["B","Sum of exit categories for White (G39:G46) ≠ Subtotal (G47)",null,null,null,null,null,null,null,null,null,null,"MC",null,null,null,null,null,{"$f":"IFERROR(INDEX('Category Sets A-D'!$L$14:$L$102, SMALL(IF($U$14='Category Sets A-D'!$M$14:$M$102, ROW('Category Sets A-D'!$M$14:$M$102)-MIN(ROW('Category Sets A-D'!$M$14:$M$102))+1, \"\"), ROW(A30))),\"\")","v":"G47"},{"$f":"IFERROR(INDEX('Category Sets A-D'!$P$14:$P$102, SMALL(IF($U$14='Category Sets A-D'!$M$14:$M$102, ROW('Category Sets A-D'!$M$14:$M$102)-MIN(ROW('Category Sets A-D'!$M$14:$M$102))+1, \"\"), ROW(A30))),\"\")","v":"Sum of exit categories for White (G39:G46) ≠ Subtotal (G47)"},{"$f":"IFERROR(INDEX('Category Sets A-D'!$N$14:$N$102, SMALL(IF($U$14='Category Sets A-D'!$M$14:$M$102, ROW('Category Sets A-D'!$M$14:$M$102)-MIN(ROW('Category Sets A-D'!$M$14:$M$102))+1, \"\"), ROW(A30))),\"\")","v":"MC"},{"$f":"IFERROR(INDEX('Category Sets A-D'!$O$14:$O$102, SMALL(IF($U$14='Category Sets A-D'!$M$14:$M$102, ROW('Category Sets A-D'!$M$14:$M$102)-MIN(ROW('Category Sets A-D'!$M$14:$M$102))+1, \"\"), ROW(A30))),\"\")","v":"B"},0]
["B",{"$f":"IF(W62=1,\"No Data\",T62)","v":"Sum of exit categories for Two or more races (H39:H46) ≠ Subtotal (H47)"},null,null,null,null,null,null,null,null,null,null,{"$f":"IF(S62=\"\",\"\",HYPERLINK(CONCATENATE(\"#\",\"'Category Sets A - D'!\",S62),U62))","v":"MC"},null,null,null,null,null,{"$f":"IFERROR(INDEX('Category Sets A-D'!$L$14:$L$102, SMALL(IF($U$14='Category Sets A-D'!$M$14:$M$102, ROW('Category Sets A-D'!$M$14:$M$102)-MIN(ROW('Category Sets A-D'!$M$14:$M$102))+1, \"\"), ROW(A31))),\"\")","v":"H47"},{"$f":"IFERROR(INDEX('Category Sets A-D'!$P$14:$P$102, SMALL(IF($U$14='Category Sets A-D'!$M$14:$M$102, ROW('Category Sets A-D'!$M$14:$M$102)-MIN(ROW('Category Sets A-D'!$M$14:$M$102))+1, \"\"), ROW(A31))),\"\")","v":"Sum of exit categories for Two or more races (H39:H46) ≠ Subtotal (H47)"},{"$f":"IFERROR(INDEX('Category Sets A-D'!$N$14:$N$102, SMALL(IF($U$14='Category Sets A-D'!$M$14:$M$102, ROW('Category Sets A-D'!$M$14:$M$102)-MIN(ROW('Category Sets A-D'!$M$14:$M$102))+1, \"\"), ROW(A31))),\"\")","v":"MC"},{"$f":"IFERROR(INDEX('Category Sets A-D'!$O$14:$O$102, SMALL(IF($U$14='Category Sets A-D'!$M$14:$M$102, ROW('Category Sets A-D'!$M$14:$M$102)-MIN(ROW('Category Sets A-D'!$M$14:$M$102))+1, \"\"), ROW(A31))),\"\")","v":"B"},0]
["C","Sum of transferred to regular education for all sex categories (B64:C64) ≠ Subtotal (D64)",null,null,null,null,null,null,null,null,null,null,"MC",null,null,null,null,null,{"$f":"IFERROR(INDEX('Category Sets A-D'!$L$14:$L$102, SMALL(IF($U$14='Category Sets A-D'!$M$14:$M$102, ROW('Category Sets A-D'!$M$14:$M$102)-MIN(ROW('Category Sets A-D'!$M$14:$M$102))+1, \"\"), ROW(A32))),\"\")","v":"D64"},{"$f":"IFERROR(INDEX('Category Sets A-D'!$P$14:$P$102, SMALL(IF($U$14='Category Sets A-D'!$M$14:$M$102, ROW('Category Sets A-D'!$M$14:$M$102)-MIN(ROW('Category Sets A-D'!$M$14:$M$102))+1, \"\"), ROW(A32))),\"\")","v":"Sum of transferred to regular education for all sex categories (B64:C64) ≠ Subtotal (D64)"},{"$f":"IFERROR(INDEX('Category Sets A-D'!$N$14:$N$102, SMALL(IF($U$14='Category Sets A-D'!$M$14:$M$102, ROW('Category Sets A-D'!$M$14:$M$102)-MIN(ROW('Category Sets A-D'!$M$14:$M$102))+1, \"\"), ROW(A32))),\"\")","v":"MC"},{"$f":"IFERROR(INDEX('Category Sets A-D'!$O$14:$O$102, SMALL(IF($U$14='Category Sets A-D'!$M$14:$M$102, ROW('Category Sets A-D'!$M$14:$M$102)-MIN(ROW('Category Sets A-D'!$M$14:$M$102))+1, \"\"), ROW(A32))),\"\")","v":"C"},0]
["C","Sum of graduated with regular high school diploma for all sex categories (B65:C65) ≠ Subtotal (D65)",null,null,null,null,null,null,null,null,null,null,"MC",null,null,null,null,null,{"$f":"IFERROR(INDEX('Category Sets A-D'!$L$14:$L$102, SMALL(IF($U$14='Category Sets A-D'!$M$14:$M$102, ROW('Category Sets A-D'!$M$14:$M$102)-MIN(ROW('Category Sets A-D'!$M$14:$M$102))+1, \"\"), ROW(A33))),\"\")","v":"D65"},{"$f":"IFERROR(INDEX('Category Sets A-D'!$P$14:$P$102, SMALL(IF($U$14='Category Sets A-D'!$M$14:$M$102, ROW('Category Sets A-D'!$M$14:$M$102)-MIN(ROW('Category Sets A-D'!$M$14:$M$102))+1, \"\"), ROW(A33))),\"\")","v":"Sum of graduated with regular high school diploma for all sex categories (B65:C65) ≠ Subtotal (D65)"},{"$f":"IFERROR(INDEX('Category Sets A-D'!$N$14:$N$102, SMALL(IF($U$14='Category Sets A-D'!$M$14:$M$102, ROW('Category Sets A-D'!$M$14:$M$102)-MIN(ROW('Category Sets A-D'!$M$14:$M$102))+1, \"\"), ROW(A33))),\"\")","v":"MC"},{"$f":"IFERROR(INDEX('Category Sets A-D'!$O$14:$O$102, SMALL(IF($U$14='Category Sets A-D'!$M$14:$M$102, ROW('Category Sets A-D'!$M$14:$M$102)-MIN(ROW('Category Sets A-D'!$M$14:$M$102))+1, \"\"), ROW(A33))),\"\")","v":"C"},0]
["C","Sum of graduated with an alternate diploma for all sex categories (B66:C66) ≠ Subtotal (D66)",null,null,null,null,null,null,null,null,null,null,"MC",null,null,null,null,null,{"$f":"IFERROR(INDEX('Category Sets A-D'!$L$14:$L$102, SMALL(IF($U$14='Category Sets A-D'!$M$14:$M$102, ROW('Category Sets A-D'!$M$14:$M$102)-MIN(ROW('Category Sets A-D'!$M$14:$M$102))+1, \"\"), ROW(A34))),\"\")","v":"D66"},{"$f":"IFERROR(INDEX('Category Sets A-D'!$P$14:$P$102, SMALL(IF($U$14='Category Sets A-D'!$M$14:$M$102, ROW('Category Sets A-D'!$M$14:$M$102)-MIN(ROW('Category Sets A-D'!$M$14:$M$102))+1, \"\"), ROW(A34))),\"\")","v":"Sum of graduated with an alternate diploma for all sex categories (B66:C66) ≠ Subtotal (D66)"},{"$f":"IFERROR(INDEX('Category Sets A-D'!$N$14:$N$102, SMALL(IF($U$14='Category Sets A-D'!$M$14:$M$102, ROW('Category Sets A-D'!$M$14:$M$102)-MIN(ROW('Category Sets A-D'!$M$14:$M$102))+1, \"\"), ROW(A34))),\"\")","v":"MC"},{"$f":"IFERROR(INDEX('Category Sets A-D'!$O$14:$O$102, SMALL(IF($U$14='Category Sets A-D'!$M$14:$M$102, ROW('Category Sets A-D'!$M$14:$M$102)-MIN(ROW('Category Sets A-D'!$M$14:$M$102))+1, \"\"), ROW(A34))),\"\")","v":"C"},0]
["C","Sum of received a certificate for all sex categories (B67:C67) ≠ Subtotal (D67)",null,null,null,null,null,null,null,null,null,null,"MC",null,null,null,null,null,{"$f":"IFERROR(INDEX('Category Sets A-D'!$L$14:$L$102, SMALL(IF($U$14='Category Sets A-D'!$M$14:$M$102, ROW('Category Sets A-D'!$M$14:$M$102)-MIN(ROW('Category Sets A-D'!$M$14:$M$102))+1, \"\"), ROW(A35))),\"\")","v":"D67"},{"$f":"IFERROR(INDEX('Category Sets A-D'!$P$14:$P$102, SMALL(IF($U$14='Category Sets A-D'!$M$14:$M$102, ROW('Category Sets A-D'!$M$14:$M$102)-MIN(ROW('Category Sets A-D'!$M$14:$M$102))+1, \"\"), ROW(A35))),\"\")","v":"Sum of received a certificate for all sex categories (B67:C67) ≠ Subtotal (D67)"},{"$f":"IFERROR(INDEX('Category Sets A-D'!$N$14:$N$102, SMALL(IF($U$14='Category Sets A-D'!$M$14:$M$102, ROW('Category Sets A-D'!$M$14:$M$102)-MIN(ROW('Category Sets A-D'!$M$14:$M$102))+1, \"\"), ROW(A35))),\"\")","v":"MC"},{"$f":"IFERROR(INDEX('Category Sets A-D'!$O$14:$O$102, SMALL(IF($U$14='Category Sets A-D'!$M$14:$M$102, ROW('Category Sets A-D'!$M$14:$M$102)-MIN(ROW('Category Sets A-D'!$M$14:$M$102))+1, \"\"), ROW(A35))),\"\")","v":"C"},0]
["C","Sum of reached maximum age for all sex categories (B68:C68) ≠ Subtotal (D68)",null,null,null,null,null,null,null,null,null,null,"MC",null,null,null,null,null,{"$f":"IFERROR(INDEX('Category Sets A-D'!$L$14:$L$102, SMALL(IF($U$14='Category Sets A-D'!$M$14:$M$102, ROW('Category Sets A-D'!$M$14:$M$102)-MIN(ROW('Category Sets A-D'!$M$14:$M$102))+1, \"\"), ROW(A36))),\"\")","v":"D68"},{"$f":"IFERROR(INDEX('Category Sets A-D'!$P$14:$P$102, SMALL(IF($U$14='Category Sets A-D'!$M$14:$M$102, ROW('Category Sets A-D'!$M$14:$M$102)-MIN(ROW('Category Sets A-D'!$M$14:$M$102))+1, \"\"), ROW(A36))),\"\")","v":"Sum of reached maximum age for all sex categories (B68:C68) ≠ Subtotal (D68)"},{"$f":"IFERROR(INDEX('Category Sets A-D'!$N$14:$N$102, SMALL(IF($U$14='Category Sets A-D'!$M$14:$M$102, ROW('Category Sets A-D'!$M$14:$M$102)-MIN(ROW('Category Sets A-D'!$M$14:$M$102))+1, \"\"), ROW(A36))),\"\")","v":"MC"},{"$f":"IFERROR(INDEX('Category Sets A-D'!$O$14:$O$102, SMALL(IF($U$14='Category Sets A-D'!$M$14:$M$102, ROW('Category Sets A-D'!$M$14:$M$102)-MIN(ROW('Category Sets A-D'!$M$14:$M$102))+1, \"\"), ROW(A36))),\"\")","v":"C"},0]
["C","Sum of died for all sex categories (B69:C69) ≠ Subtotal (D69)",null,null,null,null,null,null,null,null,null,null,"MC",null,null,null,null,null,{"$f":"IFERROR(INDEX('Category Sets A-D'!$L$14:$L$102, SMALL(IF($U$14='Category Sets A-D'!$M$14:$M$102, ROW('Category Sets A-D'!$M$14:$M$102)-MIN(ROW('Category Sets A-D'!$M$14:$M$102))+1, \"\"), ROW(A37))),\"\")","v":"D69"},{"$f":"IFERROR(INDEX('Category Sets A-D'!$P$14:$P$102, SMALL(IF($U$14='Category Sets A-D'!$M$14:$M$102, ROW('Category Sets A-D'!$M$14:$M$102)-MIN(ROW('Category Sets A-D'!$M$14:$M$102))+1, \"\"), ROW(A37))),\"\")","v":"Sum of died for all sex categories (B69:C69) ≠ Subtotal (D69)"},{"$f":"IFERROR(INDEX('Category Sets A-D'!$N$14:$N$102, SMALL(IF($U$14='Category Sets A-D'!$M$14:$M$102, ROW('Category Sets A-D'!$M$14:$M$102)-MIN(ROW('Category Sets A-D'!$M$14:$M$102))+1, \"\"), ROW(A37))),\"\")","v":"MC"},{"$f":"IFERROR(INDEX('Category Sets A-D'!$O$14:$O$102, SMALL(IF($U$14='Category Sets A-D'!$M$14:$M$102, ROW('Category Sets A-D'!$M$14:$M$102)-MIN(ROW('Category Sets A-D'!$M$14:$M$102))+1, \"\"), ROW(A37))),\"\")","v":"C"},0]
["C","Sum of moved, known to be continuing for all sex categories (B70:C70) ≠ Subtotal (D70)",null,null,null,null,null,null,null,null,null,null,"MC",null,null,null,null,null,{"$f":"IFERROR(INDEX('Category Sets A-D'!$L$14:$L$102, SMALL(IF($U$14='Category Sets A-D'!$M$14:$M$102, ROW('Category Sets A-D'!$M$14:$M$102)-MIN(ROW('Category Sets A-D'!$M$14:$M$102))+1, \"\"), ROW(A38))),\"\")","v":"D70"},{"$f":"IFERROR(INDEX('Category Sets A-D'!$P$14:$P$102, SMALL(IF($U$14='Category Sets A-D'!$M$14:$M$102, ROW('Category Sets A-D'!$M$14:$M$102)-MIN(ROW('Category Sets A-D'!$M$14:$M$102))+1, \"\"), ROW(A38))),\"\")","v":"Sum of moved, known to be continuing for all sex categories (B70:C70) ≠ Subtotal (D70)"},{"$f":"IFERROR(INDEX('Category Sets A-D'!$N$14:$N$102, SMALL(IF($U$14='Category Sets A-D'!$M$14:$M$102, ROW('Category Sets A-D'!$M$14:$M$102)-MIN(ROW('Category Sets A-D'!$M$14:$M$102))+1, \"\"), ROW(A38))),\"\")","v":"MC"},{"$f":"IFERROR(INDEX('Category Sets A-D'!$O$14:$O$102, SMALL(IF($U$14='Category Sets A-D'!$M$14:$M$102, ROW('Category Sets A-D'!$M$14:$M$102)-MIN(ROW('Category Sets A-D'!$M$14:$M$102))+1, \"\"), ROW(A38))),\"\")","v":"C"},0]
["C","Sum of dropped out for all sex categories (B71:C71) ≠ Subtotal (D71)",null,null,null,null,null,null,null,null,null,null,"MC",null,null,null,null,null,{"$f":"IFERROR(INDEX('Category Sets A-D'!$L$14:$L$102, SMALL(IF($U$14='Category Sets A-D'!$M$14:$M$102, ROW('Category Sets A-D'!$M$14:$M$102)-MIN(ROW('Category Sets A-D'!$M$14:$M$102))+1, \"\"), ROW(A39))),\"\")","v":"D71"},{"$f":"IFERROR(INDEX('Category Sets A-D'!$P$14:$P$102, SMALL(IF($U$14='Category Sets A-D'!$M$14:$M$102, ROW('Category Sets A-D'!$M$14:$M$102)-MIN(ROW('Category Sets A-D'!$M$14:$M$102))+1, \"\"), ROW(A39))),\"\")","v":"Sum of dropped out for all sex categories (B71:C71) ≠ Subtotal (D71)"},{"$f":"IFERROR(INDEX('Category Sets A-D'!$N$14:$N$102, SMALL(IF($U$14='Category Sets A-D'!$M$14:$M$102, ROW('Category Sets A-D'!$M$14:$M$102)-MIN(ROW('Category Sets A-D'!$M$14:$M$102))+1, \"\"), ROW(A39))),\"\")","v":"MC"},{"$f":"IFERROR(INDEX('Category Sets A-D'!$O$14:$O$102, SMALL(IF($U$14='Category Sets A-D'!$M$14:$M$102, ROW('Category Sets A-D'!$M$14:$M$102)-MIN(ROW('Category Sets A-D'!$M$14:$M$102))+1, \"\"), ROW(A39))),\"\")","v":"C"},0]
["C","Sum of exit categories for males (B64:B71) ≠ Subtotal (B72)",null,null,null,null,null,null,null,null,null,null,{"$f":"IF(S71=\"\",\"\",HYPERLINK(CONCATENATE(\"#\",\"'Category Sets A - D'!\",S71),U71))","v":"MC"},null,null,null,null,null,{"$f":"IFERROR(INDEX('Category Sets A-D'!$L$14:$L$102, SMALL(IF($U$14='Category Sets A-D'!$M$14:$M$102, ROW('Category Sets A-D'!$M$14:$M$102)-MIN(ROW('Category Sets A-D'!$M$14:$M$102))+1, \"\"), ROW(A40))),\"\")","v":"B72"},{"$f":"IFERROR(INDEX('Category Sets A-D'!$P$14:$P$102, SMALL(IF($U$14='Category Sets A-D'!$M$14:$M$102, ROW('Category Sets A-D'!$M$14:$M$102)-MIN(ROW('Category Sets A-D'!$M$14:$M$102))+1, \"\"), ROW(A40))),\"\")","v":"Sum of exit categories for males (B64:B71) ≠ Subtotal (B72)"},{"$f":"IFERROR(INDEX('Category Sets A-D'!$N$14:$N$102, SMALL(IF($U$14='Category Sets A-D'!$M$14:$M$102, ROW('Category Sets A-D'!$M$14:$M$102)-MIN(ROW('Category Sets A-D'!$M$14:$M$102))+1, \"\"), ROW(A40))),\"\")","v":"MC"},{"$f":"IFERROR(INDEX('Category Sets A-D'!$O$14:$O$102, SMALL(IF($U$14='Category Sets A-D'!$M$14:$M$102, ROW('Category Sets A-D'!$M$14:$M$102)-MIN(ROW('Category Sets A-D'!$M$14:$M$102))+1, \"\"), ROW(A40))),\"\")","v":"C"},0]
["C","Sum of exit categories for females (C64:C71) ≠ Subtotal (C72)",null,null,null,null,null,null,null,null,null,null,"MC",null,null,null,null,null,{"$f":"IFERROR(INDEX('Category Sets A-D'!$L$14:$L$102, SMALL(IF($U$14='Category Sets A-D'!$M$14:$M$102, ROW('Category Sets A-D'!$M$14:$M$102)-MIN(ROW('Category Sets A-D'!$M$14:$M$102))+1, \"\"), ROW(A41))),\"\")","v":"C72"},{"$f":"IFERROR(INDEX('Category Sets A-D'!$P$14:$P$102, SMALL(IF($U$14='Category Sets A-D'!$M$14:$M$102, ROW('Category Sets A-D'!$M$14:$M$102)-MIN(ROW('Category Sets A-D'!$M$14:$M$102))+1, \"\"), ROW(A41))),\"\")","v":"Sum of exit categories for females (C64:C71) ≠ Subtotal (C72)"},{"$f":"IFERROR(INDEX('Category Sets A-D'!$N$14:$N$102, SMALL(IF($U$14='Category Sets A-D'!$M$14:$M$102, ROW('Category Sets A-D'!$M$14:$M$102)-MIN(ROW('Category Sets A-D'!$M$14:$M$102))+1, \"\"), ROW(A41))),\"\")","v":"MC"},{"$f":"IFERROR(INDEX('Category Sets A-D'!$O$14:$O$102, SMALL(IF($U$14='Category Sets A-D'!$M$14:$M$102, ROW('Category Sets A-D'!$M$14:$M$102)-MIN(ROW('Category Sets A-D'!$M$14:$M$102))+1, \"\"), ROW(A41))),\"\")","v":"C"},0]
["D","Sum of transferred to regular education for all LEP categories (B89:C89) ≠ Subtotal (D89)",null,null,null,null,null,null,null,null,null,null,"MC",null,null,null,null,null,{"$f":"IFERROR(INDEX('Category Sets A-D'!$L$14:$L$102, SMALL(IF($U$14='Category Sets A-D'!$M$14:$M$102, ROW('Category Sets A-D'!$M$14:$M$102)-MIN(ROW('Category Sets A-D'!$M$14:$M$102))+1, \"\"), ROW(A42))),\"\")","v":"D89"},{"$f":"IFERROR(INDEX('Category Sets A-D'!$P$14:$P$102, SMALL(IF($U$14='Category Sets A-D'!$M$14:$M$102, ROW('Category Sets A-D'!$M$14:$M$102)-MIN(ROW('Category Sets A-D'!$M$14:$M$102))+1, \"\"), ROW(A42))),\"\")","v":"Sum of transferred to regular education for all LEP categories (B89:C89) ≠ Subtotal (D89)"},{"$f":"IFERROR(INDEX('Category Sets A-D'!$N$14:$N$102, SMALL(IF($U$14='Category Sets A-D'!$M$14:$M$102, ROW('Category Sets A-D'!$M$14:$M$102)-MIN(ROW('Category Sets A-D'!$M$14:$M$102))+1, \"\"), ROW(A42))),\"\")","v":"MC"},{"$f":"IFERROR(INDEX('Category Sets A-D'!$O$14:$O$102, SMALL(IF($U$14='Category Sets A-D'!$M$14:$M$102, ROW('Category Sets A-D'!$M$14:$M$102)-MIN(ROW('Category Sets A-D'!$M$14:$M$102))+1, \"\"), ROW(A42))),\"\")","v":"D"},0]
["D","Sum of graduated with regular high school diploma for all LEP categories (B90:C90) ≠ Subtotal (D90)",null,null,null,null,null,null,null,null,null,null,"MC",null,null,null,null,null,{"$f":"IFERROR(INDEX('Category Sets A-D'!$L$14:$L$102, SMALL(IF($U$14='Category Sets A-D'!$M$14:$M$102, ROW('Category Sets A-D'!$M$14:$M$102)-MIN(ROW('Category Sets A-D'!$M$14:$M$102))+1, \"\"), ROW(A43))),\"\")","v":"D90"},{"$f":"IFERROR(INDEX('Category Sets A-D'!$P$14:$P$102, SMALL(IF($U$14='Category Sets A-D'!$M$14:$M$102, ROW('Category Sets A-D'!$M$14:$M$102)-MIN(ROW('Category Sets A-D'!$M$14:$M$102))+1, \"\"), ROW(A43))),\"\")","v":"Sum of graduated with regular high school diploma for all LEP categories (B90:C90) ≠ Subtotal (D90)"},{"$f":"IFERROR(INDEX('Category Sets A-D'!$N$14:$N$102, SMALL(IF($U$14='Category Sets A-D'!$M$14:$M$102, ROW('Category Sets A-D'!$M$14:$M$102)-MIN(ROW('Category Sets A-D'!$M$14:$M$102))+1, \"\"), ROW(A43))),\"\")","v":"MC"},{"$f":"IFERROR(INDEX('Category Sets A-D'!$O$14:$O$102, SMALL(IF($U$14='Category Sets A-D'!$M$14:$M$102, ROW('Category Sets A-D'!$M$14:$M$102)-MIN(ROW('Category Sets A-D'!$M$14:$M$102))+1, \"\"), ROW(A43))),\"\")","v":"D"},0]
["D","Sum of graduated with an alternate diploma for all LEP categories (B91:C91) ≠ Subtotal (D91)",null,null,null,null,null,null,null,null,null,null,"MC",null,null,null,null,null,{"$f":"IFERROR(INDEX('Category Sets A-D'!$L$14:$L$102, SMALL(IF($U$14='Category Sets A-D'!$M$14:$M$102, ROW('Category Sets A-D'!$M$14:$M$102)-MIN(ROW('Category Sets A-D'!$M$14:$M$102))+1, \"\"), ROW(A44))),\"\")","v":"D91"},{"$f":"IFERROR(INDEX('Category Sets A-D'!$P$14:$P$102, SMALL(IF($U$14='Category Sets A-D'!$M$14:$M$102, ROW('Category Sets A-D'!$M$14:$M$102)-MIN(ROW('Category Sets A-D'!$M$14:$M$102))+1, \"\"), ROW(A44))),\"\")","v":"Sum of graduated with an alternate diploma for all LEP categories (B91:C91) ≠ Subtotal (D91)"},{"$f":"IFERROR(INDEX('Category Sets A-D'!$N$14:$N$102, SMALL(IF($U$14='Category Sets A-D'!$M$14:$M$102, ROW('Category Sets A-D'!$M$14:$M$102)-MIN(ROW('Category Sets A-D'!$M$14:$M$102))+1, \"\"), ROW(A44))),\"\")","v":"MC"},{"$f":"IFERROR(INDEX('Category Sets A-D'!$O$14:$O$102, SMALL(IF($U$14='Category Sets A-D'!$M$14:$M$102, ROW('Category Sets A-D'!$M$14:$M$102)-MIN(ROW('Category Sets A-D'!$M$14:$M$102))+1, \"\"), ROW(A44))),\"\")","v":"D"},0]
["D","Sum of received a certificate for all LEP categories (B92:C92) ≠ Subtotal (D92)",null,null,null,null,null,null,null,null,null,null,"MC",null,null,null,null,null,{"$f":"IFERROR(INDEX('Category Sets A-D'!$L$14:$L$102, SMALL(IF($U$14='Category Sets A-D'!$M$14:$M$102, ROW('Category Sets A-D'!$M$14:$M$102)-MIN(ROW('Category Sets A-D'!$M$14:$M$102))+1, \"\"), ROW(A45))),\"\")","v":"D92"},{"$f":"IFERROR(INDEX('Category Sets A-D'!$P$14:$P$102, SMALL(IF($U$14='Category Sets A-D'!$M$14:$M$102, ROW('Category Sets A-D'!$M$14:$M$102)-MIN(ROW('Category Sets A-D'!$M$14:$M$102))+1, \"\"), ROW(A45))),\"\")","v":"Sum of received a certificate for all LEP categories (B92:C92) ≠ Subtotal (D92)"},{"$f":"IFERROR(INDEX('Category Sets A-D'!$N$14:$N$102, SMALL(IF($U$14='Category Sets A-D'!$M$14:$M$102, ROW('Category Sets A-D'!$M$14:$M$102)-MIN(ROW('Category Sets A-D'!$M$14:$M$102))+1, \"\"), ROW(A45))),\"\")","v":"MC"},{"$f":"IFERROR(INDEX('Category Sets A-D'!$O$14:$O$102, SMALL(IF($U$14='Category Sets A-D'!$M$14:$M$102, ROW('Category Sets A-D'!$M$14:$M$102)-MIN(ROW('Category Sets A-D'!$M$14:$M$102))+1, \"\"), ROW(A45))),\"\")","v":"D"},0]
["D","Sum of reached maximum age for all LEP categories (B93:C93) ≠ Subtotal (D93)",null,null,null,null,null,null,null,null,null,null,"MC",null,null,null,null,null,{"$f":"IFERROR(INDEX('Category Sets A-D'!$L$14:$L$102, SMALL(IF($U$14='Category Sets A-D'!$M$14:$M$102, ROW('Category Sets A-D'!$M$14:$M$102)-MIN(ROW('Category Sets A-D'!$M$14:$M$102))+1, \"\"), ROW(A46))),\"\")","v":"D93"},{"$f":"IFERROR(INDEX('Category Sets A-D'!$P$14:$P$102, SMALL(IF($U$14='Category Sets A-D'!$M$14:$M$102, ROW('Category Sets A-D'!$M$14:$M$102)-MIN(ROW('Category Sets A-D'!$M$14:$M$102))+1, \"\"), ROW(A46))),\"\")","v":"Sum of reached maximum age for all LEP categories (B93:C93) ≠ Subtotal (D93)"},{"$f":"IFERROR(INDEX('Category Sets A-D'!$N$14:$N$102, SMALL(IF($U$14='Category Sets A-D'!$M$14:$M$102, ROW('Category Sets A-D'!$M$14:$M$102)-MIN(ROW('Category Sets A-D'!$M$14:$M$102))+1, \"\"), ROW(A46))),\"\")","v":"MC"},{"$f":"IFERROR(INDEX('Category Sets A-D'!$O$14:$O$102, SMALL(IF($U$14='Category Sets A-D'!$M$14:$M$102, ROW('Category Sets A-D'!$M$14:$M$102)-MIN(ROW('Category Sets A-D'!$M$14:$M$102))+1, \"\"), ROW(A46))),\"\")","v":"D"},0]
["D","Sum of died for all LEP categories (B94:C94) ≠ Subtotal (D94)",null,null,null,null,null,null,null,null,null,null,"MC",null,null,null,null,null,{"$f":"IFERROR(INDEX('Category Sets A-D'!$L$14:$L$102, SMALL(IF($U$14='Category Sets A-D'!$M$14:$M$102, ROW('Category Sets A-D'!$M$14:$M$102)-MIN(ROW('Category Sets A-D'!$M$14:$M$102))+1, \"\"), ROW(A47))),\"\")","v":"D94"},{"$f":"IFERROR(INDEX('Category Sets A-D'!$P$14:$P$102, SMALL(IF($U$14='Category Sets A-D'!$M$14:$M$102, ROW('Category Sets A-D'!$M$14:$M$102)-MIN(ROW('Category Sets A-D'!$M$14:$M$102))+1, \"\"), ROW(A47))),\"\")","v":"Sum of died for all LEP categories (B94:C94) ≠ Subtotal (D94)"},{"$f":"IFERROR(INDEX('Category Sets A-D'!$N$14:$N$102, SMALL(IF($U$14='Category Sets A-D'!$M$14:$M$102, ROW('Category Sets A-D'!$M$14:$M$102)-MIN(ROW('Category Sets A-D'!$M$14:$M$102))+1, \"\"), ROW(A47))),\"\")","v":"MC"},{"$f":"IFERROR(INDEX('Category Sets A-D'!$O$14:$O$102, SMALL(IF($U$14='Category Sets A-D'!$M$14:$M$102, ROW('Category Sets A-D'!$M$14:$M$102)-MIN(ROW('Category Sets A-D'!$M$14:$M$102))+1, \"\"), ROW(A47))),\"\")","v":"D"},0]
["D","Sum of moved, known to be continuing for all LEP categories (B95:C95) ≠ Subtotal (D95)",null,null,null,null,null,null,null,null,null,null,"MC",null,null,null,null,null,{"$f":"IFERROR(INDEX('Category Sets A-D'!$L$14:$L$102, SMALL(IF($U$14='Category Sets A-D'!$M$14:$M$102, ROW('Category Sets A-D'!$M$14:$M$102)-MIN(ROW('Category Sets A-D'!$M$14:$M$102))+1, \"\"), ROW(A48))),\"\")","v":"D95"},{"$f":"IFERROR(INDEX('Category Sets A-D'!$P$14:$P$102, SMALL(IF($U$14='Category Sets A-D'!$M$14:$M$102, ROW('Category Sets A-D'!$M$14:$M$102)-MIN(ROW('Category Sets A-D'!$M$14:$M$102))+1, \"\"), ROW(A48))),\"\")","v":"Sum of moved, known to be continuing for all LEP categories (B95:C95) ≠ Subtotal (D95)"},{"$f":"IFERROR(INDEX('Category Sets A-D'!$N$14:$N$102, SMALL(IF($U$14='Category Sets A-D'!$M$14:$M$102, ROW('Category Sets A-D'!$M$14:$M$102)-MIN(ROW('Category Sets A-D'!$M$14:$M$102))+1, \"\"), ROW(A48))),\"\")","v":"MC"},{"$f":"IFERROR(INDEX('Category Sets A-D'!$O$14:$O$102, SMALL(IF($U$14='Category Sets A-D'!$M$14:$M$102, ROW('Category Sets A-D'!$M$14:$M$102)-MIN(ROW('Category Sets A-D'!$M$14:$M$102))+1, \"\"), ROW(A48))),\"\")","v":"D"},0]
["D","Sum of dropped out for all LEP categories (B96:C96) ≠ Subtotal (D96)",null,null,null,null,null,null,null,null,null,null,"MC",null,null,null,null,null,{"$f":"IFERROR(INDEX('Category Sets A-D'!$L$14:$L$102, SMALL(IF($U$14='Category Sets A-D'!$M$14:$M$102, ROW('Category Sets A-D'!$M$14:$M$102)-MIN(ROW('Category Sets A-D'!$M$14:$M$102))+1, \"\"), ROW(A49))),\"\")","v":"D96"},{"$f":"IFERROR(INDEX('Category Sets A-D'!$P$14:$P$102, SMALL(IF($U$14='Category Sets A-D'!$M$14:$M$102, ROW('Category Sets A-D'!$M$14:$M$102)-MIN(ROW('Category Sets A-D'!$M$14:$M$102))+1, \"\"), ROW(A49))),\"\")","v":"Sum of dropped out for all LEP categories (B96:C96) ≠ Subtotal (D96)"},{"$f":"IFERROR(INDEX('Category Sets A-D'!$N$14:$N$102, SMALL(IF($U$14='Category Sets A-D'!$M$14:$M$102, ROW('Category Sets A-D'!$M$14:$M$102)-MIN(ROW('Category Sets A-D'!$M$14:$M$102))+1, \"\"), ROW(A49))),\"\")","v":"MC"},{"$f":"IFERROR(INDEX('Category Sets A-D'!$O$14:$O$102, SMALL(IF($U$14='Category Sets A-D'!$M$14:$M$102, ROW('Category Sets A-D'!$M$14:$M$102)-MIN(ROW('Category Sets A-D'!$M$14:$M$102))+1, \"\"), ROW(A49))),\"\")","v":"D"},0]
["D","Sum of exit categories for LEP (B89:B96) ≠ Subtotal (B97)",null,null,null,null,null,null,null,null,null,null,"MC",null,null,null,null,null,{"$f":"IFERROR(INDEX('Category Sets A-D'!$L$14:$L$102, SMALL(IF($U$14='Category Sets A-D'!$M$14:$M$102, ROW('Category Sets A-D'!$M$14:$M$102)-MIN(ROW('Category Sets A-D'!$M$14:$M$102))+1, \"\"), ROW(A50))),\"\")","v":"B97"},{"$f":"IFERROR(INDEX('Category Sets A-D'!$P$14:$P$102, SMALL(IF($U$14='Category Sets A-D'!$M$14:$M$102, ROW('Category Sets A-D'!$M$14:$M$102)-MIN(ROW('Category Sets A-D'!$M$14:$M$102))+1, \"\"), ROW(A50))),\"\")","v":"Sum of exit categories for LEP (B89:B96) ≠ Subtotal (B97)"},{"$f":"IFERROR(INDEX('Category Sets A-D'!$N$14:$N$102, SMALL(IF($U$14='Category Sets A-D'!$M$14:$M$102, ROW('Category Sets A-D'!$M$14:$M$102)-MIN(ROW('Category Sets A-D'!$M$14:$M$102))+1, \"\"), ROW(A50))),\"\")","v":"MC"},{"$f":"IFERROR(INDEX('Category Sets A-D'!$O$14:$O$102, SMALL(IF($U$14='Category Sets A-D'!$M$14:$M$102, ROW('Category Sets A-D'!$M$14:$M$102)-MIN(ROW('Category Sets A-D'!$M$14:$M$102))+1, \"\"), ROW(A50))),\"\")","v":"D"},0]
["D","Sum of exit categories for NLEP (C89:C96) ≠ Subtotal (C97)",null,null,null,null,null,null,null,null,null,null,"MC",null,null,null,null,null,{"$f":"IFERROR(INDEX('Category Sets A-D'!$L$14:$L$102, SMALL(IF($U$14='Category Sets A-D'!$M$14:$M$102, ROW('Category Sets A-D'!$M$14:$M$102)-MIN(ROW('Category Sets A-D'!$M$14:$M$102))+1, \"\"), ROW(A51))),\"\")","v":"C97"},{"$f":"IFERROR(INDEX('Category Sets A-D'!$P$14:$P$102, SMALL(IF($U$14='Category Sets A-D'!$M$14:$M$102, ROW('Category Sets A-D'!$M$14:$M$102)-MIN(ROW('Category Sets A-D'!$M$14:$M$102))+1, \"\"), ROW(A51))),\"\")","v":"Sum of exit categories for NLEP (C89:C96) ≠ Subtotal (C97)"},{"$f":"IFERROR(INDEX('Category Sets A-D'!$N$14:$N$102, SMALL(IF($U$14='Category Sets A-D'!$M$14:$M$102, ROW('Category Sets A-D'!$M$14:$M$102)-MIN(ROW('Category Sets A-D'!$M$14:$M$102))+1, \"\"), ROW(A51))),\"\")","v":"MC"},{"$f":"IFERROR(INDEX('Category Sets A-D'!$O$14:$O$102, SMALL(IF($U$14='Category Sets A-D'!$M$14:$M$102, ROW('Category Sets A-D'!$M$14:$M$102)-MIN(ROW('Category Sets A-D'!$M$14:$M$102))+1, \"\"), ROW(A51))),\"\")","v":"D"},0]
["","",null,null,null,null,null,null,null,null,null,null,"",null,null,null,null,null,{"$f":"IFERROR(INDEX('Category Sets A-D'!$L$14:$L$102, SMALL(IF($U$14='Category Sets A-D'!$M$14:$M$102, ROW('Category Sets A-D'!$M$14:$M$102)-MIN(ROW('Category Sets A-D'!$M$14:$M$102))+1, \"\"), ROW(A52))),\"\")","v":""},{"$f":"IFERROR(INDEX('Category Sets A-D'!$P$14:$P$102, SMALL(IF($U$14='Category Sets A-D'!$M$14:$M$102, ROW('Category Sets A-D'!$M$14:$M$102)-MIN(ROW('Category Sets A-D'!$M$14:$M$102))+1, \"\"), ROW(A52))),\"\")","v":""},{"$f":"IFERROR(INDEX('Category Sets A-D'!$N$14:$N$102, SMALL(IF($U$14='Category Sets A-D'!$M$14:$M$102, ROW('Category Sets A-D'!$M$14:$M$102)-MIN(ROW('Category Sets A-D'!$M$14:$M$102))+1, \"\"), ROW(A52))),\"\")","v":""},{"$f":"IFERROR(INDEX('Category Sets A-D'!$O$14:$O$102, SMALL(IF($U$14='Category Sets A-D'!$M$14:$M$102, ROW('Category Sets A-D'!$M$14:$M$102)-MIN(ROW('Category Sets A-D'!$M$14:$M$102))+1, \"\"), ROW(A52))),\"\")","v":""},0]
["","",null,null,null,null,null,null,null,null,null,null,"",null,null,null,null,null,{"$f":"IFERROR(INDEX('Category Sets A-D'!$L$14:$L$102, SMALL(IF($U$14='Category Sets A-D'!$M$14:$M$102, ROW('Category Sets A-D'!$M$14:$M$102)-MIN(ROW('Category Sets A-D'!$M$14:$M$102))+1, \"\"), ROW(A53))),\"\")","v":""},{"$f":"IFERROR(INDEX('Category Sets A-D'!$P$14:$P$102, SMALL(IF($U$14='Category Sets A-D'!$M$14:$M$102, ROW('Category Sets A-D'!$M$14:$M$102)-MIN(ROW('Category Sets A-D'!$M$14:$M$102))+1, \"\"), ROW(A53))),\"\")","v":""},{"$f":"IFERROR(INDEX('Category Sets A-D'!$N$14:$N$102, SMALL(IF($U$14='Category Sets A-D'!$M$14:$M$102, ROW('Category Sets A-D'!$M$14:$M$102)-MIN(ROW('Category Sets A-D'!$M$14:$M$102))+1, \"\"), ROW(A53))),\"\")","v":""},{"$f":"IFERROR(INDEX('Category Sets A-D'!$O$14:$O$102, SMALL(IF($U$14='Category Sets A-D'!$M$14:$M$102, ROW('Category Sets A-D'!$M$14:$M$102)-MIN(ROW('Category Sets A-D'!$M$14:$M$102))+1, \"\"), ROW(A53))),\"\")","v":""},0]
["","",null,null,null,null,null,null,null,null,null,null,"",null,null,null,null,null,{"$f":"IFERROR(INDEX('Category Sets A-D'!$L$14:$L$102, SMALL(IF($U$14='Category Sets A-D'!$M$14:$M$102, ROW('Category Sets A-D'!$M$14:$M$102)-MIN(ROW('Category Sets A-D'!$M$14:$M$102))+1, \"\"), ROW(A54))),\"\")","v":""},{"$f":"IFERROR(INDEX('Category Sets A-D'!$P$14:$P$102, SMALL(IF($U$14='Category Sets A-D'!$M$14:$M$102, ROW('Category Sets A-D'!$M$14:$M$102)-MIN(ROW('Category Sets A-D'!$M$14:$M$102))+1, \"\"), ROW(A54))),\"\")","v":""},{"$f":"IFERROR(INDEX('Category Sets A-D'!$N$14:$N$102, SMALL(IF($U$14='Category Sets A-D'!$M$14:$M$102, ROW('Category Sets A-D'!$M$14:$M$102)-MIN(ROW('Category Sets A-D'!$M$14:$M$102))+1, \"\"), ROW(A54))),\"\")","v":""},{"$f":"IFERROR(INDEX('Category Sets A-D'!$O$14:$O$102, SMALL(IF($U$14='Category Sets A-D'!$M$14:$M$102, ROW('Category Sets A-D'!$M$14:$M$102)-MIN(ROW('Category Sets A-D'!$M$14:$M$102))+1, \"\"), ROW(A54))),\"\")","v":""},0]
["","",null,null,null,null,null,null,null,null,null,null,"",null,null,null,null,null,{"$f":"IFERROR(INDEX('Category Sets A-D'!$L$14:$L$102, SMALL(IF($U$14='Category Sets A-D'!$M$14:$M$102, ROW('Category Sets A-D'!$M$14:$M$102)-MIN(ROW('Category Sets A-D'!$M$14:$M$102))+1, \"\"), ROW(A55))),\"\")","v":""},{"$f":"IFERROR(INDEX('Category Sets A-D'!$P$14:$P$102, SMALL(IF($U$14='Category Sets A-D'!$M$14:$M$102, ROW('Category Sets A-D'!$M$14:$M$102)-MIN(ROW('Category Sets A-D'!$M$14:$M$102))+1, \"\"), ROW(A55))),\"\")","v":""},{"$f":"IFERROR(INDEX('Category Sets A-D'!$N$14:$N$102, SMALL(IF($U$14='Category Sets A-D'!$M$14:$M$102, ROW('Category Sets A-D'!$M$14:$M$102)-MIN(ROW('Category Sets A-D'!$M$14:$M$102))+1, \"\"), ROW(A55))),\"\")","v":""},{"$f":"IFERROR(INDEX('Category Sets A-D'!$O$14:$O$102, SMALL(IF($U$14='Category Sets A-D'!$M$14:$M$102, ROW('Category Sets A-D'!$M$14:$M$102)-MIN(ROW('Category Sets A-D'!$M$14:$M$102))+1, \"\"), ROW(A55))),\"\")","v":""},0]
["","",null,null,null,null,null,null,null,null,null,null,"",null,null,null,null,null,{"$f":"IFERROR(INDEX('Category Sets A-D'!$L$14:$L$102, SMALL(IF($U$14='Category Sets A-D'!$M$14:$M$102, ROW('Category Sets A-D'!$M$14:$M$102)-MIN(ROW('Category Sets A-D'!$M$14:$M$102))+1, \"\"), ROW(A56))),\"\")","v":""},{"$f":"IFERROR(INDEX('Category Sets A-D'!$P$14:$P$102, SMALL(IF($U$14='Category Sets A-D'!$M$14:$M$102, ROW('Category Sets A-D'!$M$14:$M$102)-MIN(ROW('Category Sets A-D'!$M$14:$M$102))+1, \"\"), ROW(A56))),\"\")","v":""},{"$f":"IFERROR(INDEX('Category Sets A-D'!$N$14:$N$102, SMALL(IF($U$14='Category Sets A-D'!$M$14:$M$102, ROW('Category Sets A-D'!$M$14:$M$102)-MIN(ROW('Category Sets A-D'!$M$14:$M$102))+1, \"\"), ROW(A56))),\"\")","v":""},{"$f":"IFERROR(INDEX('Category Sets A-D'!$O$14:$O$102, SMALL(IF($U$14='Category Sets A-D'!$M$14:$M$102, ROW('Category Sets A-D'!$M$14:$M$102)-MIN(ROW('Category Sets A-D'!$M$14:$M$102))+1, \"\"), ROW(A56))),\"\")","v":""},0]
["","",null,null,null,null,null,null,null,null,null,null,"",null,null,null,null,null,{"$f":"IFERROR(INDEX('Category Sets A-D'!$L$14:$L$102, SMALL(IF($U$14='Category Sets A-D'!$M$14:$M$102, ROW('Category Sets A-D'!$M$14:$M$102)-MIN(ROW('Category Sets A-D'!$M$14:$M$102))+1, \"\"), ROW(A57))),\"\")","v":""},{"$f":"IFERROR(INDEX('Category Sets A-D'!$P$14:$P$102, SMALL(IF($U$14='Category Sets A-D'!$M$14:$M$102, ROW('Category Sets A-D'!$M$14:$M$102)-MIN(ROW('Category Sets A-D'!$M$14:$M$102))+1, \"\"), ROW(A57))),\"\")","v":""},{"$f":"IFERROR(INDEX('Category Sets A-D'!$N$14:$N$102, SMALL(IF($U$14='Category Sets A-D'!$M$14:$M$102, ROW('Category Sets A-D'!$M$14:$M$102)-MIN(ROW('Category Sets A-D'!$M$14:$M$102))+1, \"\"), ROW(A57))),\"\")","v":""},{"$f":"IFERROR(INDEX('Category Sets A-D'!$O$14:$O$102, SMALL(IF($U$14='Category Sets A-D'!$M$14:$M$102, ROW('Category Sets A-D'!$M$14:$M$102)-MIN(ROW('Category Sets A-D'!$M$14:$M$102))+1, \"\"), ROW(A57))),\"\")","v":""},0]
["","",null,null,null,null,null,null,null,null,null,null,"",null,null,null,null,null,{"$f":"IFERROR(INDEX('Category Sets A-D'!$L$14:$L$102, SMALL(IF($U$14='Category Sets A-D'!$M$14:$M$102, ROW('Category Sets A-D'!$M$14:$M$102)-MIN(ROW('Category Sets A-D'!$M$14:$M$102))+1, \"\"), ROW(A58))),\"\")","v":""},{"$f":"IFERROR(INDEX('Category Sets A-D'!$P$14:$P$102, SMALL(IF($U$14='Category Sets A-D'!$M$14:$M$102, ROW('Category Sets A-D'!$M$14:$M$102)-MIN(ROW('Category Sets A-D'!$M$14:$M$102))+1, \"\"), ROW(A58))),\"\")","v":""},{"$f":"IFERROR(INDEX('Category Sets A-D'!$N$14:$N$102, SMALL(IF($U$14='Category Sets A-D'!$M$14:$M$102, ROW('Category Sets A-D'!$M$14:$M$102)-MIN(ROW('Category Sets A-D'!$M$14:$M$102))+1, \"\"), ROW(A58))),\"\")","v":""},{"$f":"IFERROR(INDEX('Category Sets A-D'!$O$14:$O$102, SMALL(IF($U$14='Category Sets A-D'!$M$14:$M$102, ROW('Category Sets A-D'!$M$14:$M$102)-MIN(ROW('Category Sets A-D'!$M$14:$M$102))+1, \"\"), ROW(A58))),\"\")","v":""},0]
["","",null,null,null,null,null,null,null,null,null,null,"",null,null,null,null,null,{"$f":"IFERROR(INDEX('Category Sets A-D'!$L$14:$L$102, SMALL(IF($U$14='Category Sets A-D'!$M$14:$M$102, ROW('Category Sets A-D'!$M$14:$M$102)-MIN(ROW('Category Sets A-D'!$M$14:$M$102))+1, \"\"), ROW(A59))),\"\")","v":""},{"$f":"IFERROR(INDEX('Category Sets A-D'!$P$14:$P$102, SMALL(IF($U$14='Category Sets A-D'!$M$14:$M$102, ROW('Category Sets A-D'!$M$14:$M$102)-MIN(ROW('Category Sets A-D'!$M$14:$M$102))+1, \"\"), ROW(A59))),\"\")","v":""},{"$f":"IFERROR(INDEX('Category Sets A-D'!$N$14:$N$102, SMALL(IF($U$14='Category Sets A-D'!$M$14:$M$102, ROW('Category Sets A-D'!$M$14:$M$102)-MIN(ROW('Category Sets A-D'!$M$14:$M$102))+1, \"\"), ROW(A59))),\"\")","v":""},{"$f":"IFERROR(INDEX('Category Sets A-D'!$O$14:$O$102, SMALL(IF($U$14='Category Sets A-D'!$M$14:$M$102, ROW('Category Sets A-D'!$M$14:$M$102)-MIN(ROW('Category Sets A-D'!$M$14:$M$102))+1, \"\"), ROW(A59))),\"\")","v":""},0]
["","",null,null,null,null,null,null,null,null,null,null,"",null,null,null,null,null,{"$f":"IFERROR(INDEX('Category Sets A-D'!$L$14:$L$102, SMALL(IF($U$14='Category Sets A-D'!$M$14:$M$102, ROW('Category Sets A-D'!$M$14:$M$102)-MIN(ROW('Category Sets A-D'!$M$14:$M$102))+1, \"\"), ROW(A60))),\"\")","v":""},{"$f":"IFERROR(INDEX('Category Sets A-D'!$P$14:$P$102, SMALL(IF($U$14='Category Sets A-D'!$M$14:$M$102, ROW('Category Sets A-D'!$M$14:$M$102)-MIN(ROW('Category Sets A-D'!$M$14:$M$102))+1, \"\"), ROW(A60))),\"\")","v":""},{"$f":"IFERROR(INDEX('Category Sets A-D'!$N$14:$N$102, SMALL(IF($U$14='Category Sets A-D'!$M$14:$M$102, ROW('Category Sets A-D'!$M$14:$M$102)-MIN(ROW('Category Sets A-D'!$M$14:$M$102))+1, \"\"), ROW(A60))),\"\")","v":""},{"$f":"IFERROR(INDEX('Category Sets A-D'!$O$14:$O$102, SMALL(IF($U$14='Category Sets A-D'!$M$14:$M$102, ROW('Category Sets A-D'!$M$14:$M$102)-MIN(ROW('Category Sets A-D'!$M$14:$M$102))+1, \"\"), ROW(A60))),\"\")","v":""},0]
["","",null,null,null,null,null,null,null,null,null,null,"",null,null,null,null,null,{"$f":"IFERROR(INDEX('Category Sets A-D'!$L$14:$L$102, SMALL(IF($U$14='Category Sets A-D'!$M$14:$M$102, ROW('Category Sets A-D'!$M$14:$M$102)-MIN(ROW('Category Sets A-D'!$M$14:$M$102))+1, \"\"), ROW(A61))),\"\")","v":""},{"$f":"IFERROR(INDEX('Category Sets A-D'!$P$14:$P$102, SMALL(IF($U$14='Category Sets A-D'!$M$14:$M$102, ROW('Category Sets A-D'!$M$14:$M$102)-MIN(ROW('Category Sets A-D'!$M$14:$M$102))+1, \"\"), ROW(A61))),\"\")","v":""},{"$f":"IFERROR(INDEX('Category Sets A-D'!$N$14:$N$102, SMALL(IF($U$14='Category Sets A-D'!$M$14:$M$102, ROW('Category Sets A-D'!$M$14:$M$102)-MIN(ROW('Category Sets A-D'!$M$14:$M$102))+1, \"\"), ROW(A61))),\"\")","v":""},{"$f":"IFERROR(INDEX('Category Sets A-D'!$O$14:$O$102, SMALL(IF($U$14='Category Sets A-D'!$M$14:$M$102, ROW('Category Sets A-D'!$M$14:$M$102)-MIN(ROW('Category Sets A-D'!$M$14:$M$102))+1, \"\"), ROW(A61))),\"\")","v":""},0]
["","",null,null,null,null,null,null,null,null,null,null,"",null,null,null,null,null,{"$f":"IFERROR(INDEX('Category Sets A-D'!$L$14:$L$102, SMALL(IF($U$14='Category Sets A-D'!$M$14:$M$102, ROW('Category Sets A-D'!$M$14:$M$102)-MIN(ROW('Category Sets A-D'!$M$14:$M$102))+1, \"\"), ROW(A62))),\"\")","v":""},{"$f":"IFERROR(INDEX('Category Sets A-D'!$P$14:$P$102, SMALL(IF($U$14='Category Sets A-D'!$M$14:$M$102, ROW('Category Sets A-D'!$M$14:$M$102)-MIN(ROW('Category Sets A-D'!$M$14:$M$102))+1, \"\"), ROW(A62))),\"\")","v":""},{"$f":"IFERROR(INDEX('Category Sets A-D'!$N$14:$N$102, SMALL(IF($U$14='Category Sets A-D'!$M$14:$M$102, ROW('Category Sets A-D'!$M$14:$M$102)-MIN(ROW('Category Sets A-D'!$M$14:$M$102))+1, \"\"), ROW(A62))),\"\")","v":""},{"$f":"IFERROR(INDEX('Category Sets A-D'!$O$14:$O$102, SMALL(IF($U$14='Category Sets A-D'!$M$14:$M$102, ROW('Category Sets A-D'!$M$14:$M$102)-MIN(ROW('Category Sets A-D'!$M$14:$M$102))+1, \"\"), ROW(A62))),\"\")","v":""},0]
["","",null,null,null,null,null,null,null,null,null,null,"",null,null,null,null,null,{"$f":"IFERROR(INDEX('Category Sets A-D'!$L$14:$L$102, SMALL(IF($U$14='Category Sets A-D'!$M$14:$M$102, ROW('Category Sets A-D'!$M$14:$M$102)-MIN(ROW('Category Sets A-D'!$M$14:$M$102))+1, \"\"), ROW(A63))),\"\")","v":""},{"$f":"IFERROR(INDEX('Category Sets A-D'!$P$14:$P$102, SMALL(IF($U$14='Category Sets A-D'!$M$14:$M$102, ROW('Category Sets A-D'!$M$14:$M$102)-MIN(ROW('Category Sets A-D'!$M$14:$M$102))+1, \"\"), ROW(A63))),\"\")","v":""},{"$f":"IFERROR(INDEX('Category Sets A-D'!$N$14:$N$102, SMALL(IF($U$14='Category Sets A-D'!$M$14:$M$102, ROW('Category Sets A-D'!$M$14:$M$102)-MIN(ROW('Category Sets A-D'!$M$14:$M$102))+1, \"\"), ROW(A63))),\"\")","v":""},{"$f":"IFERROR(INDEX('Category Sets A-D'!$O$14:$O$102, SMALL(IF($U$14='Category Sets A-D'!$M$14:$M$102, ROW('Category Sets A-D'!$M$14:$M$102)-MIN(ROW('Category Sets A-D'!$M$14:$M$102))+1, \"\"), ROW(A63))),\"\")","v":""},0]
["","",null,null,null,null,null,null,null,null,null,null,"",null,null,null,null,null,{"$f":"IFERROR(INDEX('Category Sets A-D'!$L$14:$L$102, SMALL(IF($U$14='Category Sets A-D'!$M$14:$M$102, ROW('Category Sets A-D'!$M$14:$M$102)-MIN(ROW('Category Sets A-D'!$M$14:$M$102))+1, \"\"), ROW(A64))),\"\")","v":""},{"$f":"IFERROR(INDEX('Category Sets A-D'!$P$14:$P$102, SMALL(IF($U$14='Category Sets A-D'!$M$14:$M$102, ROW('Category Sets A-D'!$M$14:$M$102)-MIN(ROW('Category Sets A-D'!$M$14:$M$102))+1, \"\"), ROW(A64))),\"\")","v":""},{"$f":"IFERROR(INDEX('Category Sets A-D'!$N$14:$N$102, SMALL(IF($U$14='Category Sets A-D'!$M$14:$M$102, ROW('Category Sets A-D'!$M$14:$M$102)-MIN(ROW('Category Sets A-D'!$M$14:$M$102))+1, \"\"), ROW(A64))),\"\")","v":""},{"$f":"IFERROR(INDEX('Category Sets A-D'!$O$14:$O$102, SMALL(IF($U$14='Category Sets A-D'!$M$14:$M$102, ROW('Category Sets A-D'!$M$14:$M$102)-MIN(ROW('Category Sets A-D'!$M$14:$M$102))+1, \"\"), ROW(A64))),\"\")","v":""},0]
["","",null,null,null,null,null,null,null,null,null,null,"",null,null,null,null,null,{"$f":"IFERROR(INDEX('Category Sets A-D'!$L$14:$L$102, SMALL(IF($U$14='Category Sets A-D'!$M$14:$M$102, ROW('Category Sets A-D'!$M$14:$M$102)-MIN(ROW('Category Sets A-D'!$M$14:$M$102))+1, \"\"), ROW(A65))),\"\")","v":""},{"$f":"IFERROR(INDEX('Category Sets A-D'!$P$14:$P$102, SMALL(IF($U$14='Category Sets A-D'!$M$14:$M$102, ROW('Category Sets A-D'!$M$14:$M$102)-MIN(ROW('Category Sets A-D'!$M$14:$M$102))+1, \"\"), ROW(A65))),\"\")","v":""},{"$f":"IFERROR(INDEX('Category Sets A-D'!$N$14:$N$102, SMALL(IF($U$14='Category Sets A-D'!$M$14:$M$102, ROW('Category Sets A-D'!$M$14:$M$102)-MIN(ROW('Category Sets A-D'!$M$14:$M$102))+1, \"\"), ROW(A65))),\"\")","v":""},{"$f":"IFERROR(INDEX('Category Sets A-D'!$O$14:$O$102, SMALL(IF($U$14='Category Sets A-D'!$M$14:$M$102, ROW('Category Sets A-D'!$M$14:$M$102)-MIN(ROW('Category Sets A-D'!$M$14:$M$102))+1, \"\"), ROW(A65))),\"\")","v":""},0]
[{"$f":"V97","v":""},{"$f":"IF(W97=1,\"No Data\",T97)","v":""},null,null,null,null,null,null,null,null,null,null,"",null,null,null,null,null,{"$f":"IFERROR(INDEX('Category Sets A-D'!$L$14:$L$102, SMALL(IF($U$14='Category Sets A-D'!$M$14:$M$102, ROW('Category Sets A-D'!$M$14:$M$102)-MIN(ROW('Category Sets A-D'!$M$14:$M$102))+1, \"\"), ROW(A66))),\"\")","v":""},{"$f":"IFERROR(INDEX('Category Sets A-D'!$P$14:$P$102, SMALL(IF($U$14='Category Sets A-D'!$M$14:$M$102, ROW('Category Sets A-D'!$M$14:$M$102)-MIN(ROW('Category Sets A-D'!$M$14:$M$102))+1, \"\"), ROW(A66))),\"\")","v":""},{"$f":"IFERROR(INDEX('Category Sets A-D'!$N$14:$N$102, SMALL(IF($U$14='Category Sets A-D'!$M$14:$M$102, ROW('Category Sets A-D'!$M$14:$M$102)-MIN(ROW('Category Sets A-D'!$M$14:$M$102))+1, \"\"), ROW(A66))),\"\")","v":""},{"$f":"IFERROR(INDEX('Category Sets A-D'!$O$14:$O$102, SMALL(IF($U$14='Category Sets A-D'!$M$14:$M$102, ROW('Category Sets A-D'!$M$14:$M$102)-MIN(ROW('Category Sets A-D'!$M$14:$M$102))+1, \"\"), ROW(A66))),\"\")","v":""},{"$f":"IF(U97=\"No Data\",1,0)","v":0}]
["","",null,null,null,null,null,null,null,null,null,null,"",null,null,null,null,null,{"$f":"IFERROR(INDEX('Category Sets A-D'!$L$14:$L$102, SMALL(IF($U$14='Category Sets A-D'!$M$14:$M$102, ROW('Category Sets A-D'!$M$14:$M$102)-MIN(ROW('Category Sets A-D'!$M$14:$M$102))+1, \"\"), ROW(A67))),\"\")","v":""},{"$f":"IFERROR(INDEX('Category Sets A-D'!$P$14:$P$102, SMALL(IF($U$14='Category Sets A-D'!$M$14:$M$102, ROW('Category Sets A-D'!$M$14:$M$102)-MIN(ROW('Category Sets A-D'!$M$14:$M$102))+1, \"\"), ROW(A67))),\"\")","v":""},{"$f":"IFERROR(INDEX('Category Sets A-D'!$N$14:$N$102, SMALL(IF($U$14='Category Sets A-D'!$M$14:$M$102, ROW('Category Sets A-D'!$M$14:$M$102)-MIN(ROW('Category Sets A-D'!$M$14:$M$102))+1, \"\"), ROW(A67))),\"\")","v":""},{"$f":"IFERROR(INDEX('Category Sets A-D'!$O$14:$O$102, SMALL(IF($U$14='Category Sets A-D'!$M$14:$M$102, ROW('Category Sets A-D'!$M$14:$M$102)-MIN(ROW('Category Sets A-D'!$M$14:$M$102))+1, \"\"), ROW(A67))),\"\")","v":""},0]
["","",null,null,null,null,null,null,null,null,null,null,"",null,null,null,null,null,{"$f":"IFERROR(INDEX('Category Sets A-D'!$L$14:$L$102, SMALL(IF($U$14='Category Sets A-D'!$M$14:$M$102, ROW('Category Sets A-D'!$M$14:$M$102)-MIN(ROW('Category Sets A-D'!$M$14:$M$102))+1, \"\"), ROW(A68))),\"\")","v":""},{"$f":"IFERROR(INDEX('Category Sets A-D'!$P$14:$P$102, SMALL(IF($U$14='Category Sets A-D'!$M$14:$M$102, ROW('Category Sets A-D'!$M$14:$M$102)-MIN(ROW('Category Sets A-D'!$M$14:$M$102))+1, \"\"), ROW(A68))),\"\")","v":""},{"$f":"IFERROR(INDEX('Category Sets A-D'!$N$14:$N$102, SMALL(IF($U$14='Category Sets A-D'!$M$14:$M$102, ROW('Category Sets A-D'!$M$14:$M$102)-MIN(ROW('Category Sets A-D'!$M$14:$M$102))+1, \"\"), ROW(A68))),\"\")","v":""},{"$f":"IFERROR(INDEX('Category Sets A-D'!$O$14:$O$102, SMALL(IF($U$14='Category Sets A-D'!$M$14:$M$102, ROW('Category Sets A-D'!$M$14:$M$102)-MIN(ROW('Category Sets A-D'!$M$14:$M$102))+1, \"\"), ROW(A68))),\"\")","v":""},0]
["","",null,null,null,null,null,null,null,null,null,null,"",null,null,null,null,null,{"$f":"IFERROR(INDEX('Category Sets A-D'!$L$14:$L$102, SMALL(IF($U$14='Category Sets A-D'!$M$14:$M$102, ROW('Category Sets A-D'!$M$14:$M$102)-MIN(ROW('Category Sets A-D'!$M$14:$M$102))+1, \"\"), ROW(A69))),\"\")","v":""},{"$f":"IFERROR(INDEX('Category Sets A-D'!$P$14:$P$102, SMALL(IF($U$14='Category Sets A-D'!$M$14:$M$102, ROW('Category Sets A-D'!$M$14:$M$102)-MIN(ROW('Category Sets A-D'!$M$14:$M$102))+1, \"\"), ROW(A69))),\"\")","v":""},{"$f":"IFERROR(INDEX('Category Sets A-D'!$N$14:$N$102, SMALL(IF($U$14='Category Sets A-D'!$M$14:$M$102, ROW('Category Sets A-D'!$M$14:$M$102)-MIN(ROW('Category Sets A-D'!$M$14:$M$102))+1, \"\"), ROW(A69))),\"\")","v":""},{"$f":"IFERROR(INDEX('Category Sets A-D'!$O$14:$O$102, SMALL(IF($U$14='Category Sets A-D'!$M$14:$M$102, ROW('Category Sets A-D'!$M$14:$M$102)-MIN(ROW('Category Sets A-D'!$M$14:$M$102))+1, \"\"), ROW(A69))),\"\")","v":""},0]
["","",null,null,null,null,null,null,null,null,null,null,"",null,null,null,null,null,{"$f":"IFERROR(INDEX('Category Sets A-D'!$L$14:$L$102, SMALL(IF($U$14='Category Sets A-D'!$M$14:$M$102, ROW('Category Sets A-D'!$M$14:$M$102)-MIN(ROW('Category Sets A-D'!$M$14:$M$102))+1, \"\"), ROW(A70))),\"\")","v":""},{"$f":"IFERROR(INDEX('Category Sets A-D'!$P$14:$P$102, SMALL(IF($U$14='Category Sets A-D'!$M$14:$M$102, ROW('Category Sets A-D'!$M$14:$M$102)-MIN(ROW('Category Sets A-D'!$M$14:$M$102))+1, \"\"), ROW(A70))),\"\")","v":""},{"$f":"IFERROR(INDEX('Category Sets A-D'!$N$14:$N$102, SMALL(IF($U$14='Category Sets A-D'!$M$14:$M$102, ROW('Category Sets A-D'!$M$14:$M$102)-MIN(ROW('Category Sets A-D'!$M$14:$M$102))+1, \"\"), ROW(A70))),\"\")","v":""},{"$f":"IFERROR(INDEX('Category Sets A-D'!$O$14:$O$102, SMALL(IF($U$14='Category Sets A-D'!$M$14:$M$102, ROW('Category Sets A-D'!$M$14:$M$102)-MIN(ROW('Category Sets A-D'!$M$14:$M$102))+1, \"\"), ROW(A70))),\"\")","v":""},0]
["","",null,null,null,null,null,null,null,null,null,null,"",null,null,null,null,null,{"$f":"IFERROR(INDEX('Category Sets A-D'!$L$14:$L$102, SMALL(IF($U$14='Category Sets A-D'!$M$14:$M$102, ROW('Category Sets A-D'!$M$14:$M$102)-MIN(ROW('Category Sets A-D'!$M$14:$M$102))+1, \"\"), ROW(A71))),\"\")","v":""},{"$f":"IFERROR(INDEX('Category Sets A-D'!$P$14:$P$102, SMALL(IF($U$14='Category Sets A-D'!$M$14:$M$102, ROW('Category Sets A-D'!$M$14:$M$102)-MIN(ROW('Category Sets A-D'!$M$14:$M$102))+1, \"\"), ROW(A71))),\"\")","v":""},{"$f":"IFERROR(INDEX('Category Sets A-D'!$N$14:$N$102, SMALL(IF($U$14='Category Sets A-D'!$M$14:$M$102, ROW('Category Sets A-D'!$M$14:$M$102)-MIN(ROW('Category Sets A-D'!$M$14:$M$102))+1, \"\"), ROW(A71))),\"\")","v":""},{"$f":"IFERROR(INDEX('Category Sets A-D'!$O$14:$O$102, SMALL(IF($U$14='Category Sets A-D'!$M$14:$M$102, ROW('Category Sets A-D'!$M$14:$M$102)-MIN(ROW('Category Sets A-D'!$M$14:$M$102))+1, \"\"), ROW(A71))),\"\")","v":""},0]
["","",null,null,null,null,null,null,null,null,null,null,"",null,null,null,null,null,{"$f":"IFERROR(INDEX('Category Sets A-D'!$L$14:$L$102, SMALL(IF($U$14='Category Sets A-D'!$M$14:$M$102, ROW('Category Sets A-D'!$M$14:$M$102)-MIN(ROW('Category Sets A-D'!$M$14:$M$102))+1, \"\"), ROW(A72))),\"\")","v":""},{"$f":"IFERROR(INDEX('Category Sets A-D'!$P$14:$P$102, SMALL(IF($U$14='Category Sets A-D'!$M$14:$M$102, ROW('Category Sets A-D'!$M$14:$M$102)-MIN(ROW('Category Sets A-D'!$M$14:$M$102))+1, \"\"), ROW(A72))),\"\")","v":""},{"$f":"IFERROR(INDEX('Category Sets A-D'!$N$14:$N$102, SMALL(IF($U$14='Category Sets A-D'!$M$14:$M$102, ROW('Category Sets A-D'!$M$14:$M$102)-MIN(ROW('Category Sets A-D'!$M$14:$M$102))+1, \"\"), ROW(A72))),\"\")","v":""},{"$f":"IFERROR(INDEX('Category Sets A-D'!$O$14:$O$102, SMALL(IF($U$14='Category Sets A-D'!$M$14:$M$102, ROW('Category Sets A-D'!$M$14:$M$102)-MIN(ROW('Category Sets A-D'!$M$14:$M$102))+1, \"\"), ROW(A72))),\"\")","v":""},0]
["","",null,null,null,null,null,null,null,null,null,null,"",null,null,null,null,null,{"$f":"IFERROR(INDEX('Category Sets A-D'!$L$14:$L$102, SMALL(IF($U$14='Category Sets A-D'!$M$14:$M$102, ROW('Category Sets A-D'!$M$14:$M$102)-MIN(ROW('Category Sets A-D'!$M$14:$M$102))+1, \"\"), ROW(A73))),\"\")","v":""},{"$f":"IFERROR(INDEX('Category Sets A-D'!$P$14:$P$102, SMALL(IF($U$14='Category Sets A-D'!$M$14:$M$102, ROW('Category Sets A-D'!$M$14:$M$102)-MIN(ROW('Category Sets A-D'!$M$14:$M$102))+1, \"\"), ROW(A73))),\"\")","v":""},{"$f":"IFERROR(INDEX('Category Sets A-D'!$N$14:$N$102, SMALL(IF($U$14='Category Sets A-D'!$M$14:$M$102, ROW('Category Sets A-D'!$M$14:$M$102)-MIN(ROW('Category Sets A-D'!$M$14:$M$102))+1, \"\"), ROW(A73))),\"\")","v":""},{"$f":"IFERROR(INDEX('Category Sets A-D'!$O$14:$O$102, SMALL(IF($U$14='Category Sets A-D'!$M$14:$M$102, ROW('Category Sets A-D'!$M$14:$M$102)-MIN(ROW('Category Sets A-D'!$M$14:$M$102))+1, \"\"), ROW(A73))),\"\")","v":""},0]
["","",null,null,null,null,null,null,null,null,null,null,"",null,null,null,null,null,{"$f":"IFERROR(INDEX('Category Sets A-D'!$L$14:$L$102, SMALL(IF($U$14='Category Sets A-D'!$M$14:$M$102, ROW('Category Sets A-D'!$M$14:$M$102)-MIN(ROW('Category Sets A-D'!$M$14:$M$102))+1, \"\"), ROW(A74))),\"\")","v":""},{"$f":"IFERROR(INDEX('Category Sets A-D'!$P$14:$P$102, SMALL(IF($U$14='Category Sets A-D'!$M$14:$M$102, ROW('Category Sets A-D'!$M$14:$M$102)-MIN(ROW('Category Sets A-D'!$M$14:$M$102))+1, \"\"), ROW(A74))),\"\")","v":""},{"$f":"IFERROR(INDEX('Category Sets A-D'!$N$14:$N$102, SMALL(IF($U$14='Category Sets A-D'!$M$14:$M$102, ROW('Category Sets A-D'!$M$14:$M$102)-MIN(ROW('Category Sets A-D'!$M$14:$M$102))+1, \"\"), ROW(A74))),\"\")","v":""},{"$f":"IFERROR(INDEX('Category Sets A-D'!$O$14:$O$102, SMALL(IF($U$14='Category Sets A-D'!$M$14:$M$102, ROW('Category Sets A-D'!$M$14:$M$102)-MIN(ROW('Category Sets A-D'!$M$14:$M$102))+1, \"\"), ROW(A74))),\"\")","v":""},0]
[null,null,null,null,null,null,null,null,null,null,null,null,"",null,null,null,null,null,{"$f":"IFERROR(INDEX('Category Sets A-D'!$L$14:$L$102, SMALL(IF($U$14='Category Sets A-D'!$M$14:$M$102, ROW('Category Sets A-D'!$M$14:$M$102)-MIN(ROW('Category Sets A-D'!$M$14:$M$102))+1, \"\"), ROW(A75))),\"\")","v":""},{"$f":"IFERROR(INDEX('Category Sets A-D'!$P$14:$P$102, SMALL(IF($U$14='Category Sets A-D'!$M$14:$M$102, ROW('Category Sets A-D'!$M$14:$M$102)-MIN(ROW('Category Sets A-D'!$M$14:$M$102))+1, \"\"), ROW(A75))),\"\")","v":""},{"$f":"IFERROR(INDEX('Category Sets A-D'!$N$14:$N$102, SMALL(IF($U$14='Category Sets A-D'!$M$14:$M$102, ROW('Category Sets A-D'!$M$14:$M$102)-MIN(ROW('Category Sets A-D'!$M$14:$M$102))+1, \"\"), ROW(A75))),\"\")","v":""},{"$f":"IFERROR(INDEX('Category Sets A-D'!$O$14:$O$102, SMALL(IF($U$14='Category Sets A-D'!$M$14:$M$102, ROW('Category Sets A-D'!$M$14:$M$102)-MIN(ROW('Category Sets A-D'!$M$14:$M$102))+1, \"\"), ROW(A75))),\"\")","v":""},0]
["NOTE: MC = missing category.",null,null,null,null,null,null,null,null,null,null,null,null,null,null,null,null,null,{"$f":"IFERROR(INDEX('Category Sets A-D'!$L$14:$L$102, SMALL(IF($U$14='Category Sets A-D'!$M$14:$M$102, ROW('Category Sets A-D'!$M$14:$M$102)-MIN(ROW('Category Sets A-D'!$M$14:$M$102))+1, \"\"), ROW(A76))),\"\")","v":""},{"$f":"IFERROR(INDEX('Category Sets A-D'!$P$14:$P$102, SMALL(IF($U$14='Category Sets A-D'!$M$14:$M$102, ROW('Category Sets A-D'!$M$14:$M$102)-MIN(ROW('Category Sets A-D'!$M$14:$M$102))+1, \"\"), ROW(A76))),\"\")","v":""},{"$f":"IFERROR(INDEX('Category Sets A-D'!$N$14:$N$102, SMALL(IF($U$14='Category Sets A-D'!$M$14:$M$102, ROW('Category Sets A-D'!$M$14:$M$102)-MIN(ROW('Category Sets A-D'!$M$14:$M$102))+1, \"\"), ROW(A76))),\"\")","v":""},{"$f":"IFERROR(INDEX('Category Sets A-D'!$O$14:$O$102, SMALL(IF($U$14='Category Sets A-D'!$M$14:$M$102, ROW('Category Sets A-D'!$M$14:$M$102)-MIN(ROW('Category Sets A-D'!$M$14:$M$102))+1, \"\"), ROW(A76))),\"\")","v":""},{"$f":"IF(U107=\"No Data\",1,0)","v":0}]
[]
["End of worksheet"]

{"sheet":"Subtotals","index":3,"n_rows":50,"n_cols":44,"rows_kept":50,"cut":false,"hidden":false,"merged":[[0,0,0,13],[0,14,49,14],[44,29,44,33],[43,37,43,40],[45,29,45,33],[44,37,44,40],[29,8,29,11],[30,8,30,11],[31,8,31,11],[32,8,32,11],[33,8,33,11],[34,8,34,11],[35,8,35,11],[36,8,36,11],[37,8,37,11],[38,8,38,11],[41,8,41,11],[42,8,42,11],[41,29,41,35],[40,37,40,42],[42,29,42,33],[41,37,41,40],[43,29,43,33],[33,29,33,33],[42,37,42,40],[37,29,37,33],[36,37,36,40],[38,29,38,33],[37,37,37,40],[38,37,38,40],[34,29,34,33],[33,37,33,40],[35,29,35,33],[34,37,34,40],[36,29,36,33],[35,37,35,40],[31,29,31,33],[30,37,30,40],[32,29,32,33],[31,37,31,40],[26,37,26,40],[25,37,25,40],[24,37,24,40],[23,37,23,40],[32,37,32,40],[29,29,29,35],[28,37,28,42],[30,29,30,33],[29,37,29,40],[17,37,17,40],[12,29,12,35],[12,37,12,42],[13,29,13,33],[13,37,13,40],[14,29,14,33],[14,37,14,40],[22,29,22,33],[21,37,21,40],[15,29,15,33],[19,29,19,33],[15,37,15,40],[17,29,17,33],[16,37,16,40],[18,29,18,33],[16,29,16,33],[22,37,22,40],[18,37,18,40],[20,29,20,33],[19,37,19,40],[21,29,21,33],[20,37,20,40],[33,0,33,4],[32,0,32,4],[13,8,13,11],[44,8,44,11],[25,8,25,11],[24,8,24,11],[23,8,23,11],[22,8,22,11],[26,8,26,11],[29,0,29,4],[41,0,41,4],[28,0,28,6],[40,0,40,6],[19,20,19,27],[18,20,18,27],[17,20,17,27],[16,20,16,27],[15,20,15,27],[14,20,14,27],[13,20,13,27],[5,10,5,12],[31,0,31,4],[30,0,30,4],[12,0,12,6],[22,0,22,4],[21,0,21,4],[20,0,20,4],[19,0,19,4],[18,0,18,4],[17,0,17,4],[15,0,15,4],[12,8,12,13],[21,8,21,11],[20,8,20,11],[19,8,19,11],[18,8,18,11],[17,8,17,11],[46,0,46,4],[2,10,2,13],[8,10,8,12],[7,10,7,12],[3,10,3,12],[6,10,6,12],[10,10,10,12],[4,10,4,12],[42,0,42,4],[43,0,43,4],[44,0,44,4],[43,8,43,11],[16,8,16,11],[15,8,15,11],[14,8,14,11],[14,0,14,4],[13,0,13,4],[28,8,28,13],[40,8,40,13],[37,0,37,4],[16,0,16,4],[36,0,36,4],[35,0,35,4],[34,0,34,4]]}
[{"$f":"\"IDEA Exiting Data for School Year \"&'Exiting (FS009)'!E12","v":"IDEA Exiting Data for School Year "},null,null,null,null,null,null,null,null,null,null,null,null,null,"End of worksheet",null,{"$f":"IFERROR(IF(INDEX(StudCntC009,MATCH(R1,CurrentListing,0))=\"\",\"No Data\",INDEX(StudCntC009,MATCH(R1,CurrentListing,0))),\"MC\")","v":"MC"},"Y"]
[]
[null,null,null,null,null,null,null,null,null,null,"Calculated subtotals"]
[null,null,null,null,null,null,null,null,null,null,"1 - Basis of exit",null,null,{"$f":"F23","v":""}]
[null,null,null,null,null,null,null,null,null,null,"2 - Age ",null,null,{"$f":"M39","v":""}]
[null,null,null,null,null,null,null,null,null,null,"3 - Racial ethnic",null,null,{"$f":"F38","v":""}]
[null,null,null,null,null,null,null,null,null,null,"4 - Sex",null,null,{"$f":"F45","v":""}]
[null,null,null,null,null,null,null,null,null,null,"5 - English learner status",null,null,{"$f":"M45","v":""}]
[null,null,null,null,null,null,null,null,null,null,"6 - Disability category (IDEA) exiting",null,null,{"$f":"M27","v":""}]
[]
[null,null,null,null,null,null,null,null,null,null,"Total of the education unit",null,null,{"$f":"IFERROR(HYPERLINK(\"#'Exiting (FS009)'!\"&ADDRESS(ROW(INDEX(CurrentListing,MATCH(R1,CurrentListing,0),1)),25),Q1),HYPERLINK(\"#'Exiting (FS009)'!\"&\"$AA11\",Q1))","v":"MC"}]
[]
["Children with disabilities (IDEA) exiting special education for all disabilities, by basis of exit",null,null,null,null,null,null,null,"Children with disabilities (IDEA) exiting special education, \nby disability category (IDEA)",null,null,null,null,null,null,null,null,null,{"$f":"IF(OR(F23<>M27,F23<>F38,F23<>M39,F23<>F45,F23<>M45),1,0)","v":0},null,null,null,null,null,null,null,null,null,null,"Student counts for Children with Disabilities (IDEA) exiting special education for all disabilities, by basis of exit",null,null,null,null,null,null,null,"Student counts for Children with Disabilities (IDEA) exiting special education for all disabilities, by disability category"]
["Basis of exit",null,null,null,null,"Student\ncount","Percentage",null,"Disability category (IDEA) ",null,null,null,"Student\ncount","Percentage",null,null,"Link","Triggered?","Count","Category","Error Messages",null,null,null,null,null,null,null,null,"Basis of exit",null,null,null,null,"Student\ncount","Percentage",null,"Disability",null,null,null,"Student\ncount","Percentage"]
["Transferred to regular education",null,null,null,null,{"$f":"IFERROR(HYPERLINK(\"#'Exiting (FS009)'!\"&ADDRESS(ROW(INDEX(CurrentListing,MATCH(AK15,CurrentListing,0),1)),25),AI15),HYPERLINK(\"#'Exiting (FS009)'!\"&\"$AA11\",AI15))","v":"MC"},{"$f":"IFERROR(IF($F$23<>0,F15/$F$23,0),\"\")","v":""},null,"Intellectual disability",null,null,null,{"$f":"IFERROR(HYPERLINK(\"#'Exiting (FS009)'!\"&ADDRESS(ROW(INDEX(CurrentListing,MATCH(AR15,CurrentListing,0),1)),25),AP15),HYPERLINK(\"#'Exiting (FS009)'!\"&\"$AA$11\",AP15))","v":"MC"},{"$f":"IFERROR(IF($M$27<>0,M15/$M$27,0),\"\")","v":""},null,null,"F23",{"$f":"IF($F$23=\"\",0,IF(F23<>$Q$1,1,0))","v":0},{"$f":"F23","v":""},"Basis of Exit",{"$f":"IF($F$23=\"\",\"\",IF(F23<>$Q$1,\"Calculated total of Basis of Exit (F15:F22) ≠ Total of the education units from FS009 (N11)\",\"\"))","v":""},null,null,null,null,null,null,null,null,"Transferred to regular education",null,null,null,null,{"$f":"IFERROR(IF(INDEX(StudCntC009,MATCH(AK15,CurrentListing,0))=\"\",\"No Data\",INDEX(StudCntC009,MATCH(AK15,CurrentListing,0))),\"MC\")","v":"MC"},{"$f":"IFERROR(IF($AI$23<>0,AI15/$AI$23,0),\"NA\")","v":"NA"},"TRANY","Intellectual disability",null,null,null,{"$f":"IFERROR(IF(INDEX(StudCntC009,MATCH(AR15,CurrentListing,0))=\"\",\"No Data\",INDEX(StudCntC009,MATCH(AR15,CurrentListing,0))),\"MC\")","v":"MC"},{"$f":"IFERROR(IF($AP$27<>0,AP15/$AP$27,0),\"NA\")","v":"NA"},"IDY"]
["Graduated with regular high school diploma ",null,null,null,null,{"$f":"IFERROR(HYPERLINK(\"#'Exiting (FS009)'!\"&ADDRESS(ROW(INDEX(CurrentListing,MATCH(AK16,CurrentListing,0),1)),25),AI16),HYPERLINK(\"#'Exiting (FS009)'!\"&\"$AA11\",AI16))","v":"MC"},"",null,"Hearing impairment",null,null,null,{"$f":"IFERROR(HYPERLINK(\"#'Exiting (FS009)'!\"&ADDRESS(ROW(INDEX(CurrentListing,MATCH(AR16,CurrentListing,0),1)),25),AP16),HYPERLINK(\"#'Exiting (FS009)'!\"&\"$AA$11\",AP16))","v":"MC"},"",null,null,"M39",{"$f":"IF(M39=\"\",0,IF(M39<>$Q$1,1,0))","v":0},{"$f":"M39","v":""},"Age",{"$f":"IF($M$39=\"\",\"\",IF(M39<>$Q$1,\"Calculated total of Age (M31:M38) ≠ Total of the education units from FS009 (N11)\",\"\"))","v":""},null,null,null,null,null,null,null,null,"Graduated with regular high school diploma ",null,null,null,null,{"$f":"IFERROR(IF(INDEX(StudCntC009,MATCH(AK16,CurrentListing,0))=\"\",\"No Data\",INDEX(StudCntC009,MATCH(AK16,CurrentListing,0))),\"MC\")","v":"MC"},{"$f":"IFERROR(IF($AI$23<>0,AI16/$AI$23,0),\"NA\")","v":"NA"},"GHSY","Hearing impairment",null,null,null,"MC","NA","HIY"]
["Graduated with an alternate diploma",null,null,null,null,{"$f":"IFERROR(HYPERLINK(\"#'Exiting (FS009)'!\"&ADDRESS(ROW(INDEX(CurrentListing,MATCH(AK17,CurrentListing,0),1)),25),AI17),HYPERLINK(\"#'Exiting (FS009)'!\"&\"$AA11\",AI17))","v":"MC"},"",null,"Speech or language impairment",null,null,null,{"$f":"IFERROR(HYPERLINK(\"#'Exiting (FS009)'!\"&ADDRESS(ROW(INDEX(CurrentListing,MATCH(AR17,CurrentListing,0),1)),25),AP17),HYPERLINK(\"#'Exiting (FS009)'!\"&\"$AA$11\",AP17))","v":"MC"},"",null,null,"F38",{"$f":"IF(F38=\"\",0,IF(F38<>$Q$1,1,0))","v":0},{"$f":"F38","v":""},"Racial Ethnic",{"$f":"IF($F$38=\"\",\"\",IF(F38<>$Q$1,\"Calculated total of Racial Ethnic (F31:F37) ≠ Total of the education units from FS009 (N11)\",\"\"))","v":""},null,null,null,null,null,null,null,null,"Graduated with an alternate diploma",null,null,null,null,{"$f":"IFERROR(IF(INDEX(StudCntC009,MATCH(AK17,CurrentListing,0))=\"\",\"No Data\",INDEX(StudCntC009,MATCH(AK17,CurrentListing,0))),\"MC\")","v":"MC"},"NA","GRADALTDPLY","Speech or language impairment",null,null,null,"MC","NA","SLIY"]
["Received a certificate",null,null,null,null,{"$f":"IFERROR(HYPERLINK(\"#'Exiting (FS009)'!\"&ADDRESS(ROW(INDEX(CurrentListing,MATCH(AK18,CurrentListing,0),1)),25),AI18),HYPERLINK(\"#'Exiting (FS009)'!\"&\"$AA11\",AI18))","v":"MC"},"",null,"Visual impairment",null,null,null,{"$f":"IFERROR(HYPERLINK(\"#'Exiting (FS009)'!\"&ADDRESS(ROW(INDEX(CurrentListing,MATCH(AR18,CurrentListing,0),1)),25),AP18),HYPERLINK(\"#'Exiting (FS009)'!\"&\"$AA$11\",AP18))","v":"MC"},"",null,null,"F45",{"$f":"IF(F45=\"\",0,IF(F45<>$Q$1,1,0))","v":0},{"$f":"F45","v":""},"Sex",{"$f":"IF($F$45=\"\",\"\",IF(F45<>$Q$1,\"Calculated total of Sex (F43:F44) ≠ Total of the education units from FS009 (N11)\",\"\"))","v":""},null,null,null,null,null,null,null,null,"Received a certificate",null,null,null,null,"MC","NA","RCY","Visual impairment",null,null,null,"MC","NA","VIY"]
["Reached maximum age",null,null,null,null,{"$f":"IFERROR(HYPERLINK(\"#'Exiting (FS009)'!\"&ADDRESS(ROW(INDEX(CurrentListing,MATCH(AK19,CurrentListing,0),1)),25),AI19),HYPERLINK(\"#'Exiting (FS009)'!\"&\"$AA11\",AI19))","v":"MC"},"",null,"Emotional disturbance",null,null,null,{"$f":"IFERROR(HYPERLINK(\"#'Exiting (FS009)'!\"&ADDRESS(ROW(INDEX(CurrentListing,MATCH(AR19,CurrentListing,0),1)),25),AP19),HYPERLINK(\"#'Exiting (FS009)'!\"&\"$AA$11\",AP19))","v":"MC"},"",null,null,"M45",{"$f":"IF(M45=\"\",0,IF(M45<>$Q$1,1,0))","v":0},{"$f":"M45","v":""},"LEP Status",{"$f":"IF($M$45=\"\",\"\",IF(M45<>$Q$1,\"Calculated total of LEP status (M43:M44) ≠ Total of the education units from FS009 (N11)\",\"\"))","v":""},null,null,null,null,null,null,null,null,"Reached maximum age",null,null,null,null,"MC","NA","RMAY","Emotional disturbance",null,null,null,"MC","NA","EMNY"]
["Died",null,null,null,null,{"$f":"IFERROR(HYPERLINK(\"#'Exiting (FS009)'!\"&ADDRESS(ROW(INDEX(CurrentListing,MATCH(AK20,CurrentListing,0),1)),25),AI20),HYPERLINK(\"#'Exiting (FS009)'!\"&\"$AA11\",AI20))","v":"MC"},"",null,"Orthopedic impairment",null,null,null,{"$f":"IFERROR(HYPERLINK(\"#'Exiting (FS009)'!\"&ADDRESS(ROW(INDEX(CurrentListing,MATCH(AR20,CurrentListing,0),1)),25),AP20),HYPERLINK(\"#'Exiting (FS009)'!\"&\"$AA$11\",AP20))","v":"MC"},"",null,null,"M27",{"$f":"IF(M27=\"\",0,IF(M27<>$Q$1,1,0))","v":0},{"$f":"M27","v":""},"Disability",{"$f":"IF($M$27=\"\",\"\",IF(M27<>$Q$1,\"Calculated total of Disabilities (M15:M26) ≠ Total of the education units from FS009 (N11)\",\"\"))","v":""},null,null,null,null,null,null,null,null,"Died",null,null,null,null,"MC","NA","DY","Orthopedic impairment",null,null,null,"MC","NA","OIY"]
["Moved, known to be continuing",null,null,null,null,{"$f":"IFERROR(HYPERLINK(\"#'Exiting (FS009)'!\"&ADDRESS(ROW(INDEX(CurrentListing,MATCH(AK21,CurrentListing,0),1)),25),AI21),HYPERLINK(\"#'Exiting (FS009)'!\"&\"$AA11\",AI21))","v":"MC"},"",null,"Other health impairment ",null,null,null,{"$f":"IFERROR(HYPERLINK(\"#'Exiting (FS009)'!\"&ADDRESS(ROW(INDEX(CurrentListing,MATCH(AR21,CurrentListing,0),1)),25),AP21),HYPERLINK(\"#'Exiting (FS009)'!\"&\"$AA$11\",AP21))","v":"MC"},"",null,null,null,null,null,null,null,null,null,null,null,null,null,null,null,"Moved, known to be continuing",null,null,null,null,"MC","NA","MKCY","Other health impairment ",null,null,null,"MC","NA","OHIY"]
["Dropped out",null,null,null,null,{"$f":"IFERROR(HYPERLINK(\"#'Exiting (FS009)'!\"&ADDRESS(ROW(INDEX(CurrentListing,MATCH(AK22,CurrentListing,0),1)),25),AI22),HYPERLINK(\"#'Exiting (FS009)'!\"&\"$AA11\",AI22))","v":"MC"},"",null,"Specific learning disability",null,null,null,{"$f":"IFERROR(HYPERLINK(\"#'Exiting (FS009)'!\"&ADDRESS(ROW(INDEX(CurrentListing,MATCH(AR22,CurrentListing,0),1)),25),AP22),HYPERLINK(\"#'Exiting (FS009)'!\"&\"$AA$11\",AP22))","v":"MC"},"",null,null,null,null,null,null,null,null,null,null,null,null,null,null,null,"Dropped out",null,null,null,null,"MC","NA","DROPOUTY","Specific learning disability",null,null,null,"MC","NA","SLDY"]
["Calculated subtotal",null,null,null,null,{"$f":"IF(AND(F15=\"MC\",F16=\"MC\",F18=\"MC\",F19=\"MC\",F20=\"MC\",F21=\"MC\",F22=\"MC\"),\"\",SUM(F15:F22))","v":""},"",null,"Deaf-blindness",null,null,null,{"$f":"IFERROR(HYPERLINK(\"#'Exiting (FS009)'!\"&ADDRESS(ROW(INDEX(CurrentListing,MATCH(AR23,CurrentListing,0),1)),25),AP23),HYPERLINK(\"#'Exiting (FS009)'!\"&\"$AA$11\",AP23))","v":"MC"},"",null,null,null,null,null,null,null,null,null,null,null,null,null,null,null,"Calculated Subtotal",null,null,null,null,"MC","NA","Y","Deaf–blindness",null,null,null,"MC","NA","DBY"]
[null,null,null,null,null,null,null,null,"Multiple disabilities",null,null,null,{"$f":"IFERROR(HYPERLINK(\"#'Exiting (FS009)'!\"&ADDRESS(ROW(INDEX(CurrentListing,MATCH(AR24,CurrentListing,0),1)),25),AP24),HYPERLINK(\"#'Exiting (FS009)'!\"&\"$AA$11\",AP24))","v":"MC"},"",null,null,null,null,null,null,null,null,"=IFERROR(IF(INDEX(FTE_C070,MATCH(F15,CurrentListing,0))=\"\",\"No Data\",INDEX(FTE_C070,MATCH(F15,CurrentListing,0))),\"MC\")",null,null,null,null,null,null,null,null,null,null,null,null,null,null,"Multiple disabilities",null,null,null,"MC",{"$f":"IFERROR(IF($AP$27<>0,AP24/$AP$27,0),\"NA\")","v":"NA"},"MDY"]
[null,null,null,null,null,null,null,null,"Autism",null,null,null,{"$f":"IFERROR(HYPERLINK(\"#'Exiting (FS009)'!\"&ADDRESS(ROW(INDEX(CurrentListing,MATCH(AR25,CurrentListing,0),1)),25),AP25),HYPERLINK(\"#'Exiting (FS009)'!\"&\"$AA$11\",AP25))","v":"MC"},"",null,null,null,null,null,null,null,null,null,null,null,null,null,null,null,null,null,null,null,null,null,null,null,"Autism",null,null,null,"MC",{"$f":"IFERROR(IF($AP$27<>0,AP25/$AP$27,0),\"NA\")","v":"NA"},"AUTY"]
[null,null,null,null,null,null,null,null,"Traumatic brain injury",null,null,null,{"$f":"IFERROR(HYPERLINK(\"#'Exiting (FS009)'!\"&ADDRESS(ROW(INDEX(CurrentListing,MATCH(AR26,CurrentListing,0),1)),25),AP26),HYPERLINK(\"#'Exiting (FS009)'!\"&\"$AA$11\",AP26))","v":"MC"},"",null,null,null,null,null,null,null,null,"=IFERROR(VLOOKUP(AK15,CHOOSE({1,2},RaceEthnicity&Gender&Disability&Age&LEPStatus&ExitReason&Total,StCount),2,0), \"No Data\")",null,null,null,null,null,null,null,null,null,null,null,null,null,null,"Traumatic brain injury",null,null,null,"MC",{"$f":"IFERROR(IF($AP$27<>0,AP26/$AP$27,0),\"NA\")","v":"NA"},"TBIY"]
[null,null,null,null,null,null,null,null,"Calculated subtotal",null,null,null,{"$f":"IF(AND(M15=\"MC\",M16=\"MC\",M17=\"MC\",M18=\"MC\",M19=\"MC\",M20=\"MC\",M21=\"MC\",M22=\"MC\",M23=\"MC\",M24=\"MC\",M25=\"MC\",M26=\"MC\"),\"\",SUM(M15:M26))","v":""},"",null,null,null,null,null,null,null,null,null,null,null,null,null,null,null,null,null,null,null,null,null,null,null,"Calculated Subtotal",null,null,null,"MC",{"$f":"IFERROR(IF($AP$27<>0,AP27/$AP$27,0),\"NA\")","v":"NA"},"Y"]
[]
["Children with disabilities (IDEA) exiting special education for all disabilities, by racial ethnic",null,null,null,null,null,null,null,"Children with disabilities (IDEA) exiting special education for all disabilities, by age",null,null,null,null,null,null,null,null,null,null,null,null,null,null,null,null,null,null,null,null,null,null,null,null,null,null,null,null,"Student counts for Children with Disabilities (IDEA) exiting special education for all disabilities, by disability category"]
["Racial ethnic",null,null,null,null,"Student\ncount","Percentage",null,"Age",null,null,null,"Student\ncount","Percentage",null,null,null,null,null,null,null,null,null,null,null,null,null,null,null,"Student counts for Children with Disabilities (IDEA) exiting special education for all disabilities, by disability category",null,null,null,null,null,null,null,"Age",null,null,null,"Student\ncount","Percentage"]
["Hispanic/Latino ",null,null,null,null,{"$f":"IFERROR(HYPERLINK(\"#'Exiting (FS009)'!\"&ADDRESS(ROW(INDEX(CurrentListing,MATCH(AK32,CurrentListing,0),1)),25),AI32),HYPERLINK(\"#'Exiting (FS009)'!\"&\"$AA$11\",AI32))","v":"MC"},{"$f":"IFERROR(IF($F$38<>0,F31/$F$38,0),\"\")","v":""},null,"14 years old",null,null,null,{"$f":"IFERROR(HYPERLINK(\"#'Exiting (FS009)'!\"&ADDRESS(ROW(INDEX(CurrentListing,MATCH(AR31,CurrentListing,0),1)),25),AP31),HYPERLINK(\"#'Exiting (FS009)'!\"&\"$AA$11\",AP31))","v":"MC"},{"$f":"IFERROR(IF($M$39<>0,M31/$M$39,0),\"\")","v":""},null,null,null,null,null,null,null,null,null,null,null,null,null,null,null,"Race/Ethnicity",null,null,null,null,"Student\ncount","Percentage",null,"14 years old",null,null,null,{"$f":"IFERROR(IF(INDEX(StudCntC009,MATCH(AR31,CurrentListing,0))=\"\",\"No Data\",INDEX(StudCntC009,MATCH(AR31,CurrentListing,0))),\"MC\")","v":"MC"},{"$f":"IFERROR(IF($AP$39<>0,AP31/$AP$39,0),\"NA\")","v":"NA"},"14Y"]
["American Indian or Alaska Native ",null,null,null,null,{"$f":"IFERROR(HYPERLINK(\"#'Exiting (FS009)'!\"&ADDRESS(ROW(INDEX(CurrentListing,MATCH(AK33,CurrentListing,0),1)),25),AI33),HYPERLINK(\"#'Exiting (FS009)'!\"&\"$AA$11\",AI33))","v":"MC"},"",null,"15 years old",null,null,null,{"$f":"IFERROR(HYPERLINK(\"#'Exiting (FS009)'!\"&ADDRESS(ROW(INDEX(CurrentListing,MATCH(AR32,CurrentListing,0),1)),25),AP32),HYPERLINK(\"#'Exiting (FS009)'!\"&\"$AA$11\",AP32))","v":"MC"},"",null,null,null,null,null,null,null,null,null,null,null,null,null,null,null,"Hispanic/Latino ",null,null,null,null,{"$f":"IFERROR(IF(INDEX(StudCntC009,MATCH(AK32,CurrentListing,0))=\"\",\"No Data\",INDEX(StudCntC009,MATCH(AK32,CurrentListing,0))),\"MC\")","v":"MC"},{"$f":"IFERROR(IF($AI$39<>0,AI32/$AI$39,0),\"NA\")","v":"NA"},"HI7Y","15 years old",null,null,null,"MC",{"$f":"IFERROR(IF($AP$39<>0,AP32/$AP$39,0),\"NA\")","v":"NA"},"15Y"]
["Asian ",null,null,null,null,{"$f":"IFERROR(HYPERLINK(\"#'Exiting (FS009)'!\"&ADDRESS(ROW(INDEX(CurrentListing,MATCH(AK34,CurrentListing,0),1)),25),AI34),HYPERLINK(\"#'Exiting (FS009)'!\"&\"$AA$11\",AI34))","v":"MC"},"",null,"16 years old",null,null,null,{"$f":"IFERROR(HYPERLINK(\"#'Exiting (FS009)'!\"&ADDRESS(ROW(INDEX(CurrentListing,MATCH(AR33,CurrentListing,0),1)),25),AP33),HYPERLINK(\"#'Exiting (FS009)'!\"&\"$AA$11\",AP33))","v":"MC"},"",null,null,null,null,null,null,null,null,null,null,null,null,null,null,null,"American Indian or Alaska Native ",null,null,null,null,"MC","NA","AM7Y","16 years old",null,null,null,"MC","NA","16Y"]
["Black or African American ",null,null,null,null,{"$f":"IFERROR(HYPERLINK(\"#'Exiting (FS009)'!\"&ADDRESS(ROW(INDEX(CurrentListing,MATCH(AK35,CurrentListing,0),1)),25),AI35),HYPERLINK(\"#'Exiting (FS009)'!\"&\"$AA$11\",AI35))","v":"MC"},"",null,"17 years old",null,null,null,{"$f":"IFERROR(HYPERLINK(\"#'Exiting (FS009)'!\"&ADDRESS(ROW(INDEX(CurrentListing,MATCH(AR34,CurrentListing,0),1)),25),AP34),HYPERLINK(\"#'Exiting (FS009)'!\"&\"$AA$11\",AP34))","v":"MC"},"",null,null,null,null,null,null,null,null,null,null,null,null,null,null,null,"Asian ",null,null,null,null,"MC","NA","AS7Y","17 years old",null,null,null,"MC","NA","17Y"]
["Native Hawaiian or Other Pacific Islander ",null,null,null,null,{"$f":"IFERROR(HYPERLINK(\"#'Exiting (FS009)'!\"&ADDRESS(ROW(INDEX(CurrentListing,MATCH(AK36,CurrentListing,0),1)),25),AI36),HYPERLINK(\"#'Exiting (FS009)'!\"&\"$AA$11\",AI36))","v":"MC"},"",null,"18 years old",null,null,null,{"$f":"IFERROR(HYPERLINK(\"#'Exiting (FS009)'!\"&ADDRESS(ROW(INDEX(CurrentListing,MATCH(AR35,CurrentListing,0),1)),25),AP35),HYPERLINK(\"#'Exiting (FS009)'!\"&\"$AA$11\",AP35))","v":"MC"},"",null,null,null,null,null,null,null,null,null,null,null,null,null,null,null,"Black or African American ",null,null,null,null,"MC","NA","BL7Y","18 years old",null,null,null,"MC","NA","18Y"]
["White ",null,null,null,null,{"$f":"IFERROR(HYPERLINK(\"#'Exiting (FS009)'!\"&ADDRESS(ROW(INDEX(CurrentListing,MATCH(AK37,CurrentListing,0),1)),25),AI37),HYPERLINK(\"#'Exiting (FS009)'!\"&\"$AA$11\",AI37))","v":"MC"},"",null,"19 years old",null,null,null,{"$f":"IFERROR(HYPERLINK(\"#'Exiting (FS009)'!\"&ADDRESS(ROW(INDEX(CurrentListing,MATCH(AR36,CurrentListing,0),1)),25),AP36),HYPERLINK(\"#'Exiting (FS009)'!\"&\"$AA$11\",AP36))","v":"MC"},"",null,null,null,null,null,null,null,null,null,null,null,null,null,null,null,"Native Hawaiian or Other Pacific Islander ",null,null,null,null,"MC","NA","PI7Y","19 years old",null,null,null,"MC","NA","19Y"]
["Two or more races",null,null,null,null,{"$f":"IFERROR(HYPERLINK(\"#'Exiting (FS009)'!\"&ADDRESS(ROW(INDEX(CurrentListing,MATCH(AK38,CurrentListing,0),1)),25),AI38),HYPERLINK(\"#'Exiting (FS009)'!\"&\"$AA$11\",AI38))","v":"MC"},"",null,"20 years old",null,null,null,{"$f":"IFERROR(HYPERLINK(\"#'Exiting (FS009)'!\"&ADDRESS(ROW(INDEX(CurrentListing,MATCH(AR37,CurrentListing,0),1)),25),AP37),HYPERLINK(\"#'Exiting (FS009)'!\"&\"$AA$11\",AP37))","v":"MC"},"",null,null,null,null,null,null,null,null,null,null,null,null,null,null,null,"White ",null,null,null,null,"MC","NA","WH7Y","20 years old",null,null,null,"MC","NA","20Y"]
["Calculated subtotal",null,null,null,null,{"$f":"IF(AND(F31=\"MC\",F32=\"MC\",F33=\"MC\",F34=\"MC\",F35=\"MC\",F36=\"MC\",F37=\"MC\"),\"\",SUM(F31:F37))","v":""},"",null,"21 years old",null,null,null,{"$f":"IFERROR(HYPERLINK(\"#'Exiting (FS009)'!\"&ADDRESS(ROW(INDEX(CurrentListing,MATCH(AR38,CurrentListing,0),1)),25),AP38),HYPERLINK(\"#'Exiting (FS009)'!\"&\"$AA$11\",AP38))","v":"MC"},"",null,null,null,null,null,null,null,null,null,null,null,null,null,null,null,"Two or more races",null,null,null,null,"MC","NA","MU7Y","21 years old",null,null,null,"MC","NA","21Y"]
[null,null,null,null,null,null,null,null,"Calculated subtotal",null,null,null,{"$f":"IF(AND(F31=\"MC\",F32=\"MC\",F33=\"MC\",F34=\"MC\",F35=\"MC\",F36=\"MC\",F37=\"MC\"),\"\",SUM(M31:M38))","v":""},"",null,null,null,null,null,null,null,null,null,null,null,null,null,null,null,"Calculated Subtotal",null,null,null,null,"MC","NA","Y","Calculated Subtotal",null,null,null,"MC","NA","Y"]
[]
["Children with disabilities (IDEA) exiting special education for all disabilities, by sex",null,null,null,null,null,null,null,"Children with disabilities (IDEA) exiting special education for all disabilities, by English learner status",null,null,null,null,null,null,null,null,null,null,null,null,null,null,null,null,null,null,null,null,null,null,null,null,null,null,null,null,"Student counts for Children with Disabilities (IDEA) exiting special education for all disabilities, by disability category"]
["Sex",null,null,null,null,"Student\ncount","Percentage",null,"English learner status",null,null,null,"Student\ncount","Percentage",null,null,null,null,null,null,null,null,null,null,null,null,null,null,null,"Student counts for Children with Disabilities (IDEA) exiting special education for all disabilities, by disability category",null,null,null,null,null,null,null,"LEP Status",null,null,null,"Student\ncount","Percentage"]
["Male",null,null,null,null,{"$f":"IFERROR(HYPERLINK(\"#'Exiting (FS009)'!\"&ADDRESS(ROW(INDEX(CurrentListing,MATCH(AK44,CurrentListing,0),1)),25),AI44),HYPERLINK(\"#'Exiting (FS009)'!\"&\"$AA$11\",AI44))","v":"MC"},{"$f":"IFERROR(IF($F$45<>0,F43/$F$45,0),\"\")","v":""},null,"English learner (LEP) ",null,null,null,{"$f":"IFERROR(HYPERLINK(\"#'Exiting (FS009)'!\"&ADDRESS(ROW(INDEX(CurrentListing,MATCH(AR43,CurrentListing,0),1)),25),AP43),HYPERLINK(\"#'Exiting (FS009)'!\"&\"$AA$11\",AP43))","v":"MC"},{"$f":"IFERROR(IF($M$45<>0,M43/$M$45,0),\"\")","v":""},null,null,null,null,null,null,null,null,null,null,null,null,null,null,null,"Gender",null,null,null,null,"Student\ncount","Percentage",null,"LEP – Limited English proficient (LEP) Student",null,null,null,{"$f":"IFERROR(IF(INDEX(StudCntC009,MATCH(AR43,CurrentListing,0))=\"\",\"No Data\",INDEX(StudCntC009,MATCH(AR43,CurrentListing,0))),\"MC\")","v":"MC"},{"$f":"IFERROR(IF($AP$45<>0,AP43/$AP$45,0),\"NA\")","v":"NA"},"LEPY"]
["Female",null,null,null,null,{"$f":"IFERROR(HYPERLINK(\"#'Exiting (FS009)'!\"&ADDRESS(ROW(INDEX(CurrentListing,MATCH(AK45,CurrentListing,0),1)),25),AI45),HYPERLINK(\"#'Exiting (FS009)'!\"&\"$AA$11\",AI45))","v":"MC"},{"$f":"IFERROR(IF($F$45<>0,F44/$F$45,0),\"\")","v":""},null,"Non-English learner (NLEP) ",null,null,null,{"$f":"IFERROR(HYPERLINK(\"#'Exiting (FS009)'!\"&ADDRESS(ROW(INDEX(CurrentListing,MATCH(AR44,CurrentListing,0),1)),25),AP44),HYPERLINK(\"#'Exiting (FS009)'!\"&\"$AA$11\",AP44))","v":"MC"},{"$f":"IFERROR(IF($M$45<>0,M44/$M$45,0),\"\")","v":""},null,null,null,null,null,null,null,null,null,null,null,null,null,null,null,"Male",null,null,null,null,{"$f":"IFERROR(IF(INDEX(StudCntC009,MATCH(AK44,CurrentListing,0))=\"\",\"No Data\",INDEX(StudCntC009,MATCH(AK44,CurrentListing,0))),\"MC\")","v":"MC"},{"$f":"IFERROR(IF($AI$46<>0,AI44/$AI$46,0),\"NA\")","v":"NA"},"MY","NLEP – Non–Limited English proficient (Non–LEP) Student ",null,null,null,{"$f":"IFERROR(IF(INDEX(StudCntC009,MATCH(AR44,CurrentListing,0))=\"\",\"No Data\",INDEX(StudCntC009,MATCH(AR44,CurrentListing,0))),\"MC\")","v":"MC"},{"$f":"IFERROR(IF($AP$45<>0,AP44/$AP$45,0),\"NA\")","v":"NA"},"NLEPY"]
["Calculated subtotal",null,null,null,null,{"$f":"IF(AND(F43=\"MC\",F44=\"MC\"),\"\",SUM(F43:F44))","v":""},{"$f":"IFERROR(IF($F$45<>0,F45/$F$45,0),\"\")","v":""},null,"Calculated subtotal",null,null,null,{"$f":"IF(AND(F43=\"MC\",F44=\"MC\"),\"\",SUM(M43:M44))","v":""},{"$f":"IFERROR(IF($M$45<>0,M45/$M$45,0),\"\")","v":""},null,null,null,null,null,null,null,null,null,null,null,null,null,null,null,"Female",null,null,null,null,{"$f":"IFERROR(IF(INDEX(StudCntC009,MATCH(AK45,CurrentListing,0))=\"\",\"No Data\",INDEX(StudCntC009,MATCH(AK45,CurrentListing,0))),\"MC\")","v":"MC"},{"$f":"IFERROR(IF($AI$46<>0,AI45/$AI$46,0),\"NA\")","v":"NA"},"FY","Calculated Subtotal",null,null,null,{"$f":"IFERROR(IF(INDEX(StudCntC009,MATCH(AR45,CurrentListing,0))=\"\",\"No Data\",INDEX(StudCntC009,MATCH(AR45,CurrentListing,0))),\"MC\")","v":"MC"},{"$f":"IFERROR(IF($AP$45<>0,AP45/$AP$45,0),\"NA\")","v":"NA"},"Y"]
[null,null,null,null,null,null,null,null,null,null,null,null,null,null,null,null,null,null,null,null,null,null,null,null,null,null,null,null,null,"Calculated Subtotal",null,null,null,null,{"$f":"IFERROR(IF(INDEX(StudCntC009,MATCH(AK46,CurrentListing,0))=\"\",\"No Data\",INDEX(StudCntC009,MATCH(AK46,CurrentListing,0))),\"MC\")","v":"MC"},{"$f":"IFERROR(IF($AI$46<>0,AI46/$AI$46,0),\"NA\")","v":"NA"},"Y"]
["NOTE: MC = missing category."]
[]
[]
["End of worksheet"]

{"sheet":"Category Sets A-D","index":4,"n_rows":113,"n_cols":46,"rows_kept":113,"cut":false,"hidden":false,"merged":[[73,0,74,0],[86,1,86,3],[86,0,87,0],[85,0,85,3],[48,1,48,8],[48,0,49,0],[61,1,61,3],[61,0,62,0],[60,0,60,3],[60,27,60,30],[85,27,85,30],[94,15,94,24],[91,15,91,24],[92,15,92,24],[93,15,93,24],[76,15,76,24],[88,15,88,24],[89,15,89,24],[69,15,69,24],[87,15,87,24],[63,15,63,24],[64,15,64,24],[70,15,70,24],[71,15,71,24],[74,15,74,24],[75,15,75,24],[112,0,112,10],[0,10,108,10],[8,3,8,8],[6,3,6,8],[5,3,5,8],[4,3,4,8],[3,3,3,8],[0,0,0,9],[2,3,2,8],[98,1,98,3],[98,0,99,0],[73,1,73,3],[101,15,101,24],[95,15,95,24],[96,15,96,24],[100,15,100,24],[99,15,99,24],[37,15,37,24],[31,15,31,24],[66,15,66,24],[67,15,67,24],[68,15,68,24],[38,15,38,24],[39,15,39,24],[41,15,41,24],[42,15,42,24],[43,15,43,24],[40,15,40,24],[56,15,56,24],[57,15,57,24],[62,15,62,24],[45,15,45,24],[46,15,46,24],[44,15,44,24],[14,15,14,24],[16,15,16,24],[17,15,17,24],[23,15,23,24],[24,15,24,24],[35,27,35,35],[20,15,20,24],[21,15,21,24],[18,15,18,24],[19,15,19,24],[27,15,27,24],[29,15,29,24],[30,15,30,24],[25,15,25,24],[26,15,26,24],[28,15,28,24],[10,0,10,9],[23,0,24,0],[23,1,23,9],[22,0,22,9],[35,0,35,8],[65,15,65,24],[90,15,90,24],[47,0,47,8],[11,0,12,0],[11,1,11,9],[36,1,36,8],[36,0,37,0],[15,15,15,24],[51,15,51,24],[53,15,53,24],[54,15,54,24],[55,15,55,24],[52,15,52,24],[50,15,50,24],[12,15,12,24],[13,15,13,24]]}
[{"$f":"\"IDEA Exiting Data for School Year \"&'Exiting (FS009)'!E12","v":"IDEA Exiting Data for School Year "},null,null,null,null,null,null,null,null,null,"End of worsheet",null,null,null,null,null,{"$f":"Subtotals!Q1","v":"MC"},{"$f":"Subtotals!R1","v":"Y"},null,null,null,null,null,null,null,null,null,"=IFERROR(VLOOKUP(AA14,CHOOSE({1,2},RaceEthnicity&Gender&Disability&Age&LEPStatus&ExitReason&Total,StCount),2,0), \"No Data\")"]
[]
[null,null,null,"Category set",null,null,null,null,null,"Category\ntotals",null,null,null,null,null,null,null,null,null,null,null,null,null,null,null,null,null,"=IFERROR(IF(INDEX(StudCntC009,MATCH(AC21,CurrentListing,0))=\"\",\"No Data\",INDEX(StudCntC009,MATCH(AC21,CurrentListing,0))),\"MC\")"]
[null,null,null,"A - Basis of exit and age",null,null,null,null,null,{"$f":"IF(AND($B$22=\"MC\",$C$22=\"MC\",$D$22=\"MC\",$E$22=\"MC\",$F$22=\"MC\",$G$22=\"MC\",$H$22=\"MC\",$I$22=\"MC\"),\"\",J22)","v":""}]
[null,null,null,"B - Basis of exit and racial ethnic",null,null,null,null,null,{"$f":"IF(AND($B$47=\"MC\",$C$47=\"MC\",$D$47=\"MC\",$E$47=\"MC\",$F$47=\"MC\",$G$47=\"MC\",$H$47=\"MC\"),\"\",I47)","v":""}]
[null,null,null,"C - Basis of exit and sex",null,null,null,null,null,{"$f":"IF(AND($B$72=\"MC\",$C$72=\"MC\"),\"\",D72)","v":""}]
[null,null,null,"D - Basis of exit and English learner status ",null,null,null,null,null,{"$f":"IF(AND($B$97=\"MC\",$C$97=\"MC\"),\"\",D97)","v":""}]
[]
[null,null,null,"Total of the education unit",null,null,null,null,null,{"$f":"IFERROR(HYPERLINK(\"#'Exiting (FS009)'!\"&ADDRESS(ROW(INDEX(CurrentListing,MATCH(R1,CurrentListing,0),1)),25),Q1),HYPERLINK(\"#'Exiting (FS009)'!\"&\"$AA$10\",Q1))","v":"MC"}]
[]
["Category Set A – Children with disabilities (IDEA) exiting special education, by age and basis of exit",null,null,null,null,null,null,null,null,null,null,"Notes: In September 2018, formulas and cell references below were adjusted to include the new basis of exit permitted value \"Graduated with an alternate diploma\" for school year 2017-2018 IDEA exit data. In October 2021, formulas were updated to replace the \"MR\" permitted value with the \"ID\" permitted value.",null,null,null,null,null,null,null,null,null,null,null,null,null,null,null,"Category Set A - Student counts for Children with Disabilities (IDEA) exiting special education for all disabilities, by basis of exit and age"]
["Student count by basis of exit","Age",null,null,null,null,null,null,null,null,null,null,null,null,null,null,null,null,null,null,null,null,null,null,null,null,null,"Student counts by basis of exit","All Disabilities"]
[null,14,15,16,17,18,19,20,21,"Total",null,"Link","Triggered?","Count","Category","Error Messages",null,null,null,null,null,null,null,null,null,null,null,null,14,15,16,17,18,19,20,21,"Total"]
["Transferred to regular education",{"$f":"IF(AND($B$22=\"MC\",$C$22=\"MC\",$D$22=\"MC\",$E$22=\"MC\",$F$22=\"MC\",$G$22=\"MC\",$H$22=\"MC\",$I$22=\"MC\"),\"\",HYPERLINK(\"#'Category Set A By Age'!\"&CELL(\"Address\",N19),'Category Set A by Age'!N19))","v":""},{"$f":"IF(AND($B$22=\"MC\",$C$22=\"MC\",$D$22=\"MC\",$E$22=\"MC\",$F$22=\"MC\",$G$22=\"MC\",$H$22=\"MC\",$I$22=\"MC\"),\"\",HYPERLINK(\"#'Category Set A By Age'!\"&CELL(\"Address\",N44),'Category Set A by Age'!N44))","v":""},{"$f":"IF(AND($B$22=\"MC\",$C$22=\"MC\",$D$22=\"MC\",$E$22=\"MC\",$F$22=\"MC\",$G$22=\"MC\",$H$22=\"MC\",$I$22=\"MC\"),\"\",HYPERLINK(\"#'Category Set A By Age'!\"&CELL(\"Address\",N69),'Category Set A by Age'!N69))","v":""},{"$f":"IF(AND($B$22=\"MC\",$C$22=\"MC\",$D$22=\"MC\",$E$22=\"MC\",$F$22=\"MC\",$G$22=\"MC\",$H$22=\"MC\",$I$22=\"MC\"),\"\",HYPERLINK(\"#'Category Set A By Age'!\"&CELL(\"Address\",N94),'Category Set A by Age'!N94))","v":""},{"$f":"IF(AND($B$22=\"MC\",$C$22=\"MC\",$D$22=\"MC\",$E$22=\"MC\",$F$22=\"MC\",$G$22=\"MC\",$H$22=\"MC\",$I$22=\"MC\"),\"\",HYPERLINK(\"#'Category Set A By Age'!\"&CELL(\"Address\",N119),'Category Set A by Age'!N119))","v":""},{"$f":"IF(AND($B$22=\"MC\",$C$22=\"MC\",$D$22=\"MC\",$E$22=\"MC\",$F$22=\"MC\",$G$22=\"MC\",$H$22=\"MC\",$I$22=\"MC\"),\"\",HYPERLINK(\"#'Category Set A By Age'!\"&CELL(\"Address\",N144),'Category Set A by Age'!N144))","v":""},{"$f":"IF(AND($B$22=\"MC\",$C$22=\"MC\",$D$22=\"MC\",$E$22=\"MC\",$F$22=\"MC\",$G$22=\"MC\",$H$22=\"MC\",$I$22=\"MC\"),\"\",HYPERLINK(\"#'Category Set A By Age'!\"&CELL(\"Address\",N169),'Category Set A by Age'!N169))","v":""},{"$f":"IF(AND($B$22=\"MC\",$C$22=\"MC\",$D$22=\"MC\",$E$22=\"MC\",$F$22=\"MC\",$G$22=\"MC\",$H$22=\"MC\",$I$22=\"MC\"),\"\",HYPERLINK(\"#'Category Set A By Age'!\"&CELL(\"Address\",N194),'Category Set A by Age'!N194))","v":""},{"$f":"IFERROR(HYPERLINK(\"#'Exiting (FS009)'!\"&ADDRESS(ROW(INDEX(CurrentListing,MATCH(AA14,CurrentListing,0),1)),25),AK14),HYPERLINK(\"#'Exiting (FS009)'!\"&\"$AA$10\",AK14))","v":"MC"},null,"J14",{"$f":"IF(OR($J$14=\"\",$J$14=\"-9\"),0,IF(SUM(B14:I14)<>$J$14,1,0))","v":1},{"$f":"J14","v":"MC"},"A",{"$f":"IF(OR($J$14=\"\",$J$14=\"No Data\"),\"\",IF(SUM(B14:I14)<>$J$14,\"Sum of transferred to regular education for ages 14 through 21 (B14:I14) ≠ Subtotal (J14)\",\"\"))","v":"Sum of transferred to regular education for ages 14 through 21 (B14:I14) ≠ Subtotal (J14)"},null,null,null,null,null,null,null,null,null,null,"TRANY","Transferred to regular education",null,null,null,null,null,null,null,null,{"$f":"IFERROR(IF(INDEX(StudCntC009,MATCH(AA14,CurrentListing,0))=\"\",\"No Data\",INDEX(StudCntC009,MATCH(AA14,CurrentListing,0))),\"MC\")","v":"MC"}]
["Graduated with regular high school diploma",{"$f":"IF(AND($B$22=\"MC\",$C$22=\"MC\",$D$22=\"MC\",$E$22=\"MC\",$F$22=\"MC\",$G$22=\"MC\",$H$22=\"MC\",$I$22=\"MC\"),\"\",HYPERLINK(\"#'Category Set A By Age'!\"&CELL(\"Address\",N20),'Category Set A by Age'!N20))","v":""},{"$f":"IF(AND($B$22=\"MC\",$C$22=\"MC\",$D$22=\"MC\",$E$22=\"MC\",$F$22=\"MC\",$G$22=\"MC\",$H$22=\"MC\",$I$22=\"MC\"),\"\",HYPERLINK(\"#'Category Set A By Age'!\"&CELL(\"Address\",N45),'Category Set A by Age'!N45))","v":""},{"$f":"IF(AND($B$22=\"MC\",$C$22=\"MC\",$D$22=\"MC\",$E$22=\"MC\",$F$22=\"MC\",$G$22=\"MC\",$H$22=\"MC\",$I$22=\"MC\"),\"\",HYPERLINK(\"#'Category Set A By Age'!\"&CELL(\"Address\",N70),'Category Set A by Age'!N70))","v":""},{"$f":"IF(AND($B$22=\"MC\",$C$22=\"MC\",$D$22=\"MC\",$E$22=\"MC\",$F$22=\"MC\",$G$22=\"MC\",$H$22=\"MC\",$I$22=\"MC\"),\"\",HYPERLINK(\"#'Category Set A By Age'!\"&CELL(\"Address\",N95),'Category Set A by Age'!N95))","v":""},{"$f":"IF(AND($B$22=\"MC\",$C$22=\"MC\",$D$22=\"MC\",$E$22=\"MC\",$F$22=\"MC\",$G$22=\"MC\",$H$22=\"MC\",$I$22=\"MC\"),\"\",HYPERLINK(\"#'Category Set A By Age'!\"&CELL(\"Address\",N120),'Category Set A by Age'!N120))","v":""},{"$f":"IF(AND($B$22=\"MC\",$C$22=\"MC\",$D$22=\"MC\",$E$22=\"MC\",$F$22=\"MC\",$G$22=\"MC\",$H$22=\"MC\",$I$22=\"MC\"),\"\",HYPERLINK(\"#'Category Set A By Age'!\"&CELL(\"Address\",N145),'Category Set A by Age'!N145))","v":""},{"$f":"IF(AND($B$22=\"MC\",$C$22=\"MC\",$D$22=\"MC\",$E$22=\"MC\",$F$22=\"MC\",$G$22=\"MC\",$H$22=\"MC\",$I$22=\"MC\"),\"\",HYPERLINK(\"#'Category Set A By Age'!\"&CELL(\"Address\",N170),'Category Set A by Age'!N170))","v":""},{"$f":"IF(AND($B$22=\"MC\",$C$22=\"MC\",$D$22=\"MC\",$E$22=\"MC\",$F$22=\"MC\",$G$22=\"MC\",$H$22=\"MC\",$I$22=\"MC\"),\"\",HYPERLINK(\"#'Category Set A By Age'!\"&CELL(\"Address\",N195),'Category Set A by Age'!N195))","v":""},{"$f":"IFERROR(HYPERLINK(\"#'Exiting (FS009)'!\"&ADDRESS(ROW(INDEX(CurrentListing,MATCH(AA15,CurrentListing,0),1)),25),AK15),HYPERLINK(\"#'Exiting (FS009)'!\"&\"$AA$10\",AK15))","v":"MC"},null,"J15",{"$f":"IF(OR($J$15=\"\",$J$15=\"-9\"),0,IF(SUM(B15:I15)<>$J$15,1,0))","v":1},{"$f":"J15","v":"MC"},"A",{"$f":"IF(OR($J$15=\"\",$J$15=\"No Data\"),\"\",IF(SUM(B15:I15)<>$J$15,\"Sum of graduated with regular high school diploma for ages 14 through 21 (B15:I15) ≠ Subtotal (J15)\",\"\"))","v":"Sum of graduated with regular high school diploma for ages 14 through 21 (B15:I15) ≠ Subtotal (J15)"},null,null,null,null,null,null,null,null,null,null,"GHSY","Graduated with regular high school diploma",null,null,null,null,null,null,null,null,"MC"]
["Graduated with an alternate diploma",{"$f":"IF(AND($B$22=\"MC\",$C$22=\"MC\",$D$22=\"MC\",$E$22=\"MC\",$F$22=\"MC\",$G$22=\"MC\",$H$22=\"MC\",$I$22=\"MC\"),\"\",HYPERLINK(\"#'Category Set A By Age'!\"&CELL(\"Address\",N21),'Category Set A by Age'!N21))","v":""},{"$f":"IF(AND($B$22=\"MC\",$C$22=\"MC\",$D$22=\"MC\",$E$22=\"MC\",$F$22=\"MC\",$G$22=\"MC\",$H$22=\"MC\",$I$22=\"MC\"),\"\",HYPERLINK(\"#'Category Set A By Age'!\"&CELL(\"Address\",N46),'Category Set A by Age'!N46))","v":""},{"$f":"IF(AND($B$22=\"MC\",$C$22=\"MC\",$D$22=\"MC\",$E$22=\"MC\",$F$22=\"MC\",$G$22=\"MC\",$H$22=\"MC\",$I$22=\"MC\"),\"\",HYPERLINK(\"#'Category Set A By Age'!\"&CELL(\"Address\",N71),'Category Set A by Age'!N71))","v":""},{"$f":"IF(AND($B$22=\"MC\",$C$22=\"MC\",$D$22=\"MC\",$E$22=\"MC\",$F$22=\"MC\",$G$22=\"MC\",$H$22=\"MC\",$I$22=\"MC\"),\"\",HYPERLINK(\"#'Category Set A By Age'!\"&CELL(\"Address\",N96),'Category Set A by Age'!N96))","v":""},{"$f":"IF(AND($B$22=\"MC\",$C$22=\"MC\",$D$22=\"MC\",$E$22=\"MC\",$F$22=\"MC\",$G$22=\"MC\",$H$22=\"MC\",$I$22=\"MC\"),\"\",HYPERLINK(\"#'Category Set A By Age'!\"&CELL(\"Address\",N121),'Category Set A by Age'!N121))","v":""},{"$f":"IF(AND($B$22=\"MC\",$C$22=\"MC\",$D$22=\"MC\",$E$22=\"MC\",$F$22=\"MC\",$G$22=\"MC\",$H$22=\"MC\",$I$22=\"MC\"),\"\",HYPERLINK(\"#'Category Set A By Age'!\"&CELL(\"Address\",N146),'Category Set A by Age'!N146))","v":""},{"$f":"IF(AND($B$22=\"MC\",$C$22=\"MC\",$D$22=\"MC\",$E$22=\"MC\",$F$22=\"MC\",$G$22=\"MC\",$H$22=\"MC\",$I$22=\"MC\"),\"\",HYPERLINK(\"#'Category Set A By Age'!\"&CELL(\"Address\",N171),'Category Set A by Age'!N171))","v":""},{"$f":"IF(AND($B$22=\"MC\",$C$22=\"MC\",$D$22=\"MC\",$E$22=\"MC\",$F$22=\"MC\",$G$22=\"MC\",$H$22=\"MC\",$I$22=\"MC\"),\"\",HYPERLINK(\"#'Category Set A By Age'!\"&CELL(\"Address\",N196),'Category Set A by Age'!N196))","v":""},{"$f":"IFERROR(HYPERLINK(\"#'Exiting (FS009)'!\"&ADDRESS(ROW(INDEX(CurrentListing,MATCH(AA16,CurrentListing,0),1)),25),AK16),HYPERLINK(\"#'Exiting (FS009)'!\"&\"$AA$10\",AK16))","v":"MC"},null,"J16",{"$f":"IF(OR($J$16=\"\",$J$16=\"-9\"),0,IF(SUM(B16:I16)<>$J$16,1,0))","v":1},{"$f":"J16","v":"MC"},"A",{"$f":"IF(OR($J$16=\"\",$J$16=\"No Data\"),\"\",IF(SUM(B16:I16)<>$J$16,\"Sum of graduated with an alternate diploma for ages 14 through 21 (B16:I16 ) ≠ Subtotal (J16)\",\"\"))","v":"Sum of graduated with an alternate diploma for ages 14 through 21 (B16:I16 ) ≠ Subtotal (J16)"},null,null,null,null,null,null,null,null,null,null,"GRADALTDPLY","Graduated with an alternate diploma",null,null,null,null,null,null,null,null,"MC"]
["Received a certificate",{"$f":"IF(AND($B$22=\"MC\",$C$22=\"MC\",$D$22=\"MC\",$E$22=\"MC\",$F$22=\"MC\",$G$22=\"MC\",$H$22=\"MC\",$I$22=\"MC\"),\"\",HYPERLINK(\"#'Category Set A By Age'!\"&CELL(\"Address\",N22),'Category Set A by Age'!N22))","v":""},{"$f":"IF(AND($B$22=\"MC\",$C$22=\"MC\",$D$22=\"MC\",$E$22=\"MC\",$F$22=\"MC\",$G$22=\"MC\",$H$22=\"MC\",$I$22=\"MC\"),\"\",HYPERLINK(\"#'Category Set A By Age'!\"&CELL(\"Address\",N47),'Category Set A by Age'!N47))","v":""},{"$f":"IF(AND($B$22=\"MC\",$C$22=\"MC\",$D$22=\"MC\",$E$22=\"MC\",$F$22=\"MC\",$G$22=\"MC\",$H$22=\"MC\",$I$22=\"MC\"),\"\",HYPERLINK(\"#'Category Set A By Age'!\"&CELL(\"Address\",N72),'Category Set A by Age'!N72))","v":""},{"$f":"IF(AND($B$22=\"MC\",$C$22=\"MC\",$D$22=\"MC\",$E$22=\"MC\",$F$22=\"MC\",$G$22=\"MC\",$H$22=\"MC\",$I$22=\"MC\"),\"\",HYPERLINK(\"#'Category Set A By Age'!\"&CELL(\"Address\",N97),'Category Set A by Age'!N97))","v":""},{"$f":"IF(AND($B$22=\"MC\",$C$22=\"MC\",$D$22=\"MC\",$E$22=\"MC\",$F$22=\"MC\",$G$22=\"MC\",$H$22=\"MC\",$I$22=\"MC\"),\"\",HYPERLINK(\"#'Category Set A By Age'!\"&CELL(\"Address\",N122),'Category Set A by Age'!N122))","v":""},{"$f":"IF(AND($B$22=\"MC\",$C$22=\"MC\",$D$22=\"MC\",$E$22=\"MC\",$F$22=\"MC\",$G$22=\"MC\",$H$22=\"MC\",$I$22=\"MC\"),\"\",HYPERLINK(\"#'Category Set A By Age'!\"&CELL(\"Address\",N147),'Category Set A by Age'!N147))","v":""},{"$f":"IF(AND($B$22=\"MC\",$C$22=\"MC\",$D$22=\"MC\",$E$22=\"MC\",$F$22=\"MC\",$G$22=\"MC\",$H$22=\"MC\",$I$22=\"MC\"),\"\",HYPERLINK(\"#'Category Set A By Age'!\"&CELL(\"Address\",N172),'Category Set A by Age'!N172))","v":""},{"$f":"IF(AND($B$22=\"MC\",$C$22=\"MC\",$D$22=\"MC\",$E$22=\"MC\",$F$22=\"MC\",$G$22=\"MC\",$H$22=\"MC\",$I$22=\"MC\"),\"\",HYPERLINK(\"#'Category Set A By Age'!\"&CELL(\"Address\",N197),'Category Set A by Age'!N197))","v":""},{"$f":"IFERROR(HYPERLINK(\"#'Exiting (FS009)'!\"&ADDRESS(ROW(INDEX(CurrentListing,MATCH(AA17,CurrentListing,0),1)),25),AK17),HYPERLINK(\"#'Exiting (FS009)'!\"&\"$AA$10\",AK17))","v":"MC"},null,"J17",{"$f":"IF(OR($J$17=\"\",$J$17=\"-9\"),0,IF(SUM(B17:I17)<>$J$17,1,0))","v":1},"MC","A",{"$f":"IF(OR($J$17=\"\",$J$17=\"No Data\"),\"\",IF(SUM(B17:I17)<>$J$17,\"Sum of received a certificate for ages 14 through 21 (B17:I17) ≠ Subtotal (J17)\",\"\"))","v":"Sum of received a certificate for ages 14 through 21 (B17:I17) ≠ Subtotal (J17)"},null,null,null,null,null,null,null,null,null,null,"RCY","Received a certificate",null,null,null,null,null,null,null,null,"MC"]
["Reached maximum age",null,null,null,null,{"$f":"IF(AND($B$22=\"MC\",$C$22=\"MC\",$D$22=\"MC\",$E$22=\"MC\",$F$22=\"MC\",$G$22=\"MC\",$H$22=\"MC\",$I$22=\"MC\"),\"\",HYPERLINK(\"#'Category Set A By Age'!\"&CELL(\"Address\",N123),'Category Set A by Age'!N123))","v":""},{"$f":"IF(AND($B$22=\"MC\",$C$22=\"MC\",$D$22=\"MC\",$E$22=\"MC\",$F$22=\"MC\",$G$22=\"MC\",$H$22=\"MC\",$I$22=\"MC\"),\"\",HYPERLINK(\"#'Category Set A By Age'!\"&CELL(\"Address\",N148),'Category Set A by Age'!N148))","v":""},{"$f":"IF(AND($B$22=\"MC\",$C$22=\"MC\",$D$22=\"MC\",$E$22=\"MC\",$F$22=\"MC\",$G$22=\"MC\",$H$22=\"MC\",$I$22=\"MC\"),\"\",HYPERLINK(\"#'Category Set A By Age'!\"&CELL(\"Address\",N173),'Category Set A by Age'!N173))","v":""},{"$f":"IF(AND($B$22=\"MC\",$C$22=\"MC\",$D$22=\"MC\",$E$22=\"MC\",$F$22=\"MC\",$G$22=\"MC\",$H$22=\"MC\",$I$22=\"MC\"),\"\",HYPERLINK(\"#'Category Set A By Age'!\"&CELL(\"Address\",N198),'Category Set A by Age'!N198))","v":""},{"$f":"IFERROR(HYPERLINK(\"#'Exiting (FS009)'!\"&ADDRESS(ROW(INDEX(CurrentListing,MATCH(AA18,CurrentListing,0),1)),25),AK18),HYPERLINK(\"#'Exiting (FS009)'!\"&\"$AA$10\",AK18))","v":"MC"},null,"J18",{"$f":"IF(OR($J$18=\"\",$J$18=\"-9\"),0,IF(SUM(B18:I18)<>$J$18,1,0))","v":1},"MC","A",{"$f":"IF(OR($J$18=\"\",$J$18=\"No Data\"),\"\",IF(SUM(B18:I18)<>$J$18,\"Sum of reached maximum age for ages 18 through 21 (B18:I18) ≠ Subtotal (J18)\",\"\"))","v":"Sum of reached maximum age for ages 18 through 21 (B18:I18) ≠ Subtotal (J18)"},null,null,null,null,null,null,null,null,null,null,"RMAY","Reached maximum age",null,null,null,null,null,null,null,null,"MC"]
["Died",{"$f":"IF(AND($B$22=\"MC\",$C$22=\"MC\",$D$22=\"MC\",$E$22=\"MC\",$F$22=\"MC\",$G$22=\"MC\",$H$22=\"MC\",$I$22=\"MC\"),\"\",HYPERLINK(\"#'Category Set A By Age'!\"&CELL(\"Address\",N24),'Category Set A by Age'!N24))","v":""},{"$f":"IF(AND($B$22=\"MC\",$C$22=\"MC\",$D$22=\"MC\",$E$22=\"MC\",$F$22=\"MC\",$G$22=\"MC\",$H$22=\"MC\",$I$22=\"MC\"),\"\",HYPERLINK(\"#'Category Set A By Age'!\"&CELL(\"Address\",N49),'Category Set A by Age'!N49))","v":""},{"$f":"IF(AND($B$22=\"MC\",$C$22=\"MC\",$D$22=\"MC\",$E$22=\"MC\",$F$22=\"MC\",$G$22=\"MC\",$H$22=\"MC\",$I$22=\"MC\"),\"\",HYPERLINK(\"#'Category Set A By Age'!\"&CELL(\"Address\",N74),'Category Set A by Age'!N74))","v":""},{"$f":"IF(AND($B$22=\"MC\",$C$22=\"MC\",$D$22=\"MC\",$E$22=\"MC\",$F$22=\"MC\",$G$22=\"MC\",$H$22=\"MC\",$I$22=\"MC\"),\"\",HYPERLINK(\"#'Category Set A By Age'!\"&CELL(\"Address\",N99),'Category Set A by Age'!N99))","v":""},{"$f":"IF(AND($B$22=\"MC\",$C$22=\"MC\",$D$22=\"MC\",$E$22=\"MC\",$F$22=\"MC\",$G$22=\"MC\",$H$22=\"MC\",$I$22=\"MC\"),\"\",HYPERLINK(\"#'Category Set A By Age'!\"&CELL(\"Address\",N124),'Category Set A by Age'!N124))","v":""},{"$f":"IF(AND($B$22=\"MC\",$C$22=\"MC\",$D$22=\"MC\",$E$22=\"MC\",$F$22=\"MC\",$G$22=\"MC\",$H$22=\"MC\",$I$22=\"MC\"),\"\",HYPERLINK(\"#'Category Set A By Age'!\"&CELL(\"Address\",N149),'Category Set A by Age'!N149))","v":""},{"$f":"IF(AND($B$22=\"MC\",$C$22=\"MC\",$D$22=\"MC\",$E$22=\"MC\",$F$22=\"MC\",$G$22=\"MC\",$H$22=\"MC\",$I$22=\"MC\"),\"\",HYPERLINK(\"#'Category Set A By Age'!\"&CELL(\"Address\",N174),'Category Set A by Age'!N174))","v":""},{"$f":"IF(AND($B$22=\"MC\",$C$22=\"MC\",$D$22=\"MC\",$E$22=\"MC\",$F$22=\"MC\",$G$22=\"MC\",$H$22=\"MC\",$I$22=\"MC\"),\"\",HYPERLINK(\"#'Category Set A By Age'!\"&CELL(\"Address\",N199),'Category Set A by Age'!N199))","v":""},{"$f":"IFERROR(HYPERLINK(\"#'Exiting (FS009)'!\"&ADDRESS(ROW(INDEX(CurrentListing,MATCH(AA19,CurrentListing,0),1)),25),AK19),HYPERLINK(\"#'Exiting (FS009)'!\"&\"$AA$10\",AK19))","v":"MC"},null,"J19",{"$f":"IF(OR($J$19=\"\",$J$19=\"-9\"),0,IF(SUM(B19:I19)<>$J$19,1,0))","v":1},"MC","A",{"$f":"IF(OR($J$19=\"\",$J$19=\"No Data\"),\"\",IF(SUM(B19:I19)<>$J$19,\"Sum of died for ages 14 through 21 (B19:I19) ≠ Subtotal (J19)\",\"\"))","v":"Sum of died for ages 14 through 21 (B19:I19) ≠ Subtotal (J19)"},null,null,null,null,null,null,null,null,null,null,"DY","Died",null,null,null,null,null,null,null,null,"MC"]
["Moved, known to be continuing",{"$f":"IF(AND($B$22=\"MC\",$C$22=\"MC\",$D$22=\"MC\",$E$22=\"MC\",$F$22=\"MC\",$G$22=\"MC\",$H$22=\"MC\",$I$22=\"MC\"),\"\",HYPERLINK(\"#'Category Set A By Age'!\"&CELL(\"Address\",N25),'Category Set A by Age'!N25))","v":""},{"$f":"IF(AND($B$22=\"MC\",$C$22=\"MC\",$D$22=\"MC\",$E$22=\"MC\",$F$22=\"MC\",$G$22=\"MC\",$H$22=\"MC\",$I$22=\"MC\"),\"\",HYPERLINK(\"#'Category Set A By Age'!\"&CELL(\"Address\",N51),'Category Set A by Age'!N50))","v":""},{"$f":"IF(AND($B$22=\"MC\",$C$22=\"MC\",$D$22=\"MC\",$E$22=\"MC\",$F$22=\"MC\",$G$22=\"MC\",$H$22=\"MC\",$I$22=\"MC\"),\"\",HYPERLINK(\"#'Category Set A By Age'!\"&CELL(\"Address\",N75),'Category Set A by Age'!N75))","v":""},{"$f":"IF(AND($B$22=\"MC\",$C$22=\"MC\",$D$22=\"MC\",$E$22=\"MC\",$F$22=\"MC\",$G$22=\"MC\",$H$22=\"MC\",$I$22=\"MC\"),\"\",HYPERLINK(\"#'Category Set A By Age'!\"&CELL(\"Address\",N100),'Category Set A by Age'!N100))","v":""},{"$f":"IF(AND($B$22=\"MC\",$C$22=\"MC\",$D$22=\"MC\",$E$22=\"MC\",$F$22=\"MC\",$G$22=\"MC\",$H$22=\"MC\",$I$22=\"MC\"),\"\",HYPERLINK(\"#'Category Set A By Age'!\"&CELL(\"Address\",N125),'Category Set A by Age'!N125))","v":""},{"$f":"IF(AND($B$22=\"MC\",$C$22=\"MC\",$D$22=\"MC\",$E$22=\"MC\",$F$22=\"MC\",$G$22=\"MC\",$H$22=\"MC\",$I$22=\"MC\"),\"\",HYPERLINK(\"#'Category Set A By Age'!\"&CELL(\"Address\",N150),'Category Set A by Age'!N150))","v":""},{"$f":"IF(AND($B$22=\"MC\",$C$22=\"MC\",$D$22=\"MC\",$E$22=\"MC\",$F$22=\"MC\",$G$22=\"MC\",$H$22=\"MC\",$I$22=\"MC\"),\"\",HYPERLINK(\"#'Category Set A By Age'!\"&CELL(\"Address\",N175),'Category Set A by Age'!N175))","v":""},{"$f":"IF(AND($B$22=\"MC\",$C$22=\"MC\",$D$22=\"MC\",$E$22=\"MC\",$F$22=\"MC\",$G$22=\"MC\",$H$22=\"MC\",$I$22=\"MC\"),\"\",HYPERLINK(\"#'Category Set A By Age'!\"&CELL(\"Address\",N200),'Category Set A by Age'!N200))","v":""},{"$f":"IFERROR(HYPERLINK(\"#'Exiting (FS009)'!\"&ADDRESS(ROW(INDEX(CurrentListing,MATCH(AA20,CurrentListing,0),1)),25),AK20),HYPERLINK(\"#'Exiting (FS009)'!\"&\"$AA$10\",AK20))","v":"MC"},null,"J20",{"$f":"IF(OR($J$20=\"\",$J$20=\"-9\"),0,IF(SUM(B20:I20)<>$J$20,1,0))","v":1},"MC","A",{"$f":"IF(OR($J$20=\"\",$J$20=\"No Data\"),\"\",IF(SUM(B20:I20)<>$J$20,\"Sum of moved, known to be continuing for ages 14 through 21 (B20:I20) ≠ Subtotal (J20)\",\"\"))","v":"Sum of moved, known to be continuing for ages 14 through 21 (B20:I20) ≠ Subtotal (J20)"},null,null,null,null,null,null,null,null,null,null,"MKCY","Moved, know to be continuing",null,null,null,null,null,null,null,null,"MC"]
["Dropped out",{"$f":"IF(AND($B$22=\"MC\",$C$22=\"MC\",$D$22=\"MC\",$E$22=\"MC\",$F$22=\"MC\",$G$22=\"MC\",$H$22=\"MC\",$I$22=\"MC\"),\"\",HYPERLINK(\"#'Category Set A By Age'!\"&CELL(\"Address\",N26),'Category Set A by Age'!N26))","v":""},{"$f":"IF(AND($B$22=\"MC\",$C$22=\"MC\",$D$22=\"MC\",$E$22=\"MC\",$F$22=\"MC\",$G$22=\"MC\",$H$22=\"MC\",$I$22=\"MC\"),\"\",HYPERLINK(\"#'Category Set A By Age'!\"&CELL(\"Address\",N52),'Category Set A by Age'!N51))","v":""},{"$f":"IF(AND($B$22=\"MC\",$C$22=\"MC\",$D$22=\"MC\",$E$22=\"MC\",$F$22=\"MC\",$G$22=\"MC\",$H$22=\"MC\",$I$22=\"MC\"),\"\",HYPERLINK(\"#'Category Set A By Age'!\"&CELL(\"Address\",N76),'Category Set A by Age'!N76))","v":""},{"$f":"IF(AND($B$22=\"MC\",$C$22=\"MC\",$D$22=\"MC\",$E$22=\"MC\",$F$22=\"MC\",$G$22=\"MC\",$H$22=\"MC\",$I$22=\"MC\"),\"\",HYPERLINK(\"#'Category Set A By Age'!\"&CELL(\"Address\",N101),'Category Set A by Age'!N101))","v":""},{"$f":"IF(AND($B$22=\"MC\",$C$22=\"MC\",$D$22=\"MC\",$E$22=\"MC\",$F$22=\"MC\",$G$22=\"MC\",$H$22=\"MC\",$I$22=\"MC\"),\"\",HYPERLINK(\"#'Category Set A By Age'!\"&CELL(\"Address\",N126),'Category Set A by Age'!N126))","v":""},{"$f":"IF(AND($B$22=\"MC\",$C$22=\"MC\",$D$22=\"MC\",$E$22=\"MC\",$F$22=\"MC\",$G$22=\"MC\",$H$22=\"MC\",$I$22=\"MC\"),\"\",HYPERLINK(\"#'Category Set A By Age'!\"&CELL(\"Address\",N151),'Category Set A by Age'!N151))","v":""},{"$f":"IF(AND($B$22=\"MC\",$C$22=\"MC\",$D$22=\"MC\",$E$22=\"MC\",$F$22=\"MC\",$G$22=\"MC\",$H$22=\"MC\",$I$22=\"MC\"),\"\",HYPERLINK(\"#'Category Set A By Age'!\"&CELL(\"Address\",N176),'Category Set A by Age'!N176))","v":""},{"$f":"IF(AND($B$22=\"MC\",$C$22=\"MC\",$D$22=\"MC\",$E$22=\"MC\",$F$22=\"MC\",$G$22=\"MC\",$H$22=\"MC\",$I$22=\"MC\"),\"\",HYPERLINK(\"#'Category Set A By Age'!\"&CELL(\"Address\",N201),'Category Set A by Age'!N201))","v":""},{"$f":"IFERROR(HYPERLINK(\"#'Exiting (FS009)'!\"&ADDRESS(ROW(INDEX(CurrentListing,MATCH(AA21,CurrentListing,0),1)),25),AK21),HYPERLINK(\"#'Exiting (FS009)'!\"&\"$AA$10\",AK21))","v":"MC"},null,"J21",{"$f":"IF(OR($J$21=\"\",$J$21=\"-9\"),0,IF(SUM(B21:I21)<>$J$21,1,0))","v":1},"MC","A",{"$f":"IF(OR($J$21=\"\",$J$21=\"No Data\"),\"\",IF(SUM(B21:I21)<>$J$21,\"Sum of dropped out for ages 14 through 21 (B21:I21) ≠ Subtotal (J21)\",\"\"))","v":"Sum of dropped out for ages 14 through 21 (B21:I21) ≠ Subtotal (J21)"},null,null,null,null,null,null,null,null,null,null,"DROPOUTY","Dropped out",null,null,null,null,null,null,null,null,"MC"]
["Total",{"$f":"IFERROR(HYPERLINK(\"#'Exiting (FS009)'!\"&ADDRESS(ROW(INDEX(CurrentListing,MATCH(AC23,CurrentListing,0),1)),25),AC22),HYPERLINK(\"#'Exiting (FS009)'!\"&\"$AA$10\",AC22))","v":"MC"},"MC","MC","MC","MC","MC","MC","MC",{"$f":"IF(AND($B$22=\"MC\",$C$22=\"MC\",$D$22=\"MC\",$E$22=\"MC\",$F$22=\"MC\",$G$22=\"MC\",$H$22=\"MC\",$I$22=\"MC\"),\"\",SUM(B14:I21))","v":""},null,"J22",{"$f":"IF(OR($J$22=\"\",$J$22=\"-9\"),0,IF(OR(SUM(J14:J21)<>$J$22,SUM(B22:I22)<>$J$22),1,0))","v":0},"","A",{"$f":"IF(OR($J$22=\"\",$J$22=\"No Data\"),\"\",IF(AND(SUM(J14:J21)<>$J$22,SUM(B22:I22)<>$J$22), \"Sum of subtotals for exit categories (J14:J21) or ages 14 through 21 (B22:I22) ≠ Calculated total (J22)\", IF(OR($J$22=\"\",$J$22=\"No Data\"),\"\",IF(SUM(J14:J21)<>$J$22, \"Sum of subtotals for exit categories (J14:J21) ≠ Calculated total (J22)\", IF(OR($J$22=\"\",$J$22=\"No Data\"),\"\",IF(SUM(B22:I22)<>$J$22, \"Sum of subtotals for ages 14 through 21 (B22:I22) ≠ Calculated total (J22)\", \"\"))))))","v":""},null,null,null,null,null,null,null,null,null,null,"Y","Total",{"$f":"IFERROR(IF(INDEX(StudCntC009,MATCH(AC23,CurrentListing,0))=\"\",\"No Data\",INDEX(StudCntC009,MATCH(AC23,CurrentListing,0))),\"MC\")","v":"MC"},"MC","MC","MC","MC","MC","MC","MC","MC"]
[null,null,null,null,null,null,null,null,null,null,null," ",null,null,null,null,null,null,null,null,null,null,null,null,null,null,null,null,"14Y","15Y","16Y","17Y","18Y","19Y","20Y","21Y","Y"]
["Percent by basis of exit","Age",null,null,null,null,null,null,null,null,null,"B22",{"$f":"IF(OR($B$22=\"\",$B$22=\"-9\"),0,IF(SUM($B$14:$B$21)<>$B$22,1,0))","v":1},{"$f":"B$22","v":"MC"},"A",{"$f":"IF(OR($B$22=\"\",$B$22=\"No Data\"),\"\",IF(SUM($B$14:$B$21)<>$B$22,\"Sum of exit categories for age 14 (B14:B21) ≠ Subtotal (B22)\",\"\"))","v":"Sum of exit categories for age 14 (B14:B21) ≠ Subtotal (B22)"}]
[null,"14\n(percent)","15\n(percent)","16\n(percent)","17\n(percent)","18\n(percent)","19\n(percent)","20\n(percent)","21\n(percent)","Total\n(percent)",null,"C22",{"$f":"IF(OR($C$22=\"\",$C$22=\"-9\"),0,IF(SUM($C$14:$C$21)<>$C$22,1,0))","v":1},{"$f":"C$22","v":"MC"},"A",{"$f":"IF(OR($C$22=\"\",$C$22=\"No Data\"),\"\",IF(SUM($C$14:$C$21)<>$C$22,\"Sum of exit categories for age 15 (C14:C21) ≠ Subtotal (C22)\",\"\"))","v":"Sum of exit categories for age 15 (C14:C21) ≠ Subtotal (C22)"}]
["Transferred to regular education",{"$f":"IFERROR(IF($J14<>0,B14/$J14,0),\"\")","v":""},"","","","","","","",{"$f":"IF(SUM(B26,C26,D26,E26,F26,G26,H26,I26),SUM(B26,C26,D26,E26,F26,G26,H26,I26),\"\")","v":""},null,"D22",{"$f":"IF(OR($D$22=\"\",$D$22=\"-9\"),0,IF(SUM($D$14:$D$21)<>$D$22,1,0))","v":1},{"$f":"D$22","v":"MC"},"A",{"$f":"IF(OR($D$22=\"\",$D$22=\"No Data\"),\"\",IF(SUM($D$14:$D$21)<>$D$22,\"Sum of exit categories for age 16 (D14:D21) ≠ Subtotal (D22)\",\"\"))","v":"Sum of exit categories for age 16 (D14:D21) ≠ Subtotal (D22)"}]
["Graduated with regular high school diploma","","","","","","","","",{"$f":"IF(SUM(B27,C27,D27,E27,F27,G27,H27,I27), SUM(B27,C27,D27,E27,F27,G27,H27,I27), \"\")","v":""},null,"E22",{"$f":"IF(OR($E$22=\"\",$E$22=\"-9\"),0,IF(SUM($E$14:$E$21)<>$E$22,1,0))","v":1},{"$f":"E$22","v":"MC"},"A",{"$f":"IF(OR($E$22=\"\",$E$22=\"No Data\"),\"\",IF(SUM($E$14:$E$21)<>$E$22,\"Sum of exit categories for age 17 (E14:E21) ≠ Subtotal (E22)\",\"\"))","v":"Sum of exit categories for age 17 (E14:E21) ≠ Subtotal (E22)"}]
["Graduated with an alternate diploma","","","","","","","","",{"$f":"IF(SUM(B28,C28,D28,E28,F28,G28,H28,I28), SUM(B28,C28,D28,E28,F28,G28,H28,I28), \"\")","v":""},null,"F22",{"$f":"IF(OR($F$22=\"\",$F$22=\"-9\"),0,IF(SUM($F$14:$F$21)<>$F$22,1,0))","v":1},{"$f":"F$22","v":"MC"},"A",{"$f":"IF(OR($F$22=\"\",$F$22=\"No Data\"),\"\",IF(SUM($F$14:$F$21)<>$F$22,\"Sum of exit categories for age 18 (F14:F21) ≠ Subtotal (F22)\",\"\"))","v":"Sum of exit categories for age 18 (F14:F21) ≠ Subtotal (F22)"}]
["Received a certificate",{"$f":"IFERROR(IF($J17<>0,B17/$J17,0),\"\")","v":""},"","","","","","","","",null,"G22",{"$f":"IF(OR($G$22=\"\",$G$22=\"-9\"),0,IF(SUM($G$14:$G$21)<>$G$22,1,0))","v":1},{"$f":"G$22","v":"MC"},"A",{"$f":"IF(OR($G$22=\"\",$G$22=\"No Data\"),\"\",IF(SUM($G$14:$G$21)<>$G$22,\"Sum of exit categories for age 19 (G14:G21) ≠ Subtotal (G22)\",\"\"))","v":"Sum of exit categories for age 19 (G14:G21) ≠ Subtotal (G22)"}]
["Reached maximum age",null,null,null,null,{"$f":"IFERROR(IF($J18<>0,F18/$J18,0),\"\")","v":""},"","","","",null,"H22",{"$f":"IF(OR($H$22=\"\",$H$22=\"-9\"),0,IF(SUM($H$14:$H$21)<>$H$22,1,0))","v":1},{"$f":"H$22","v":"MC"},"A",{"$f":"IF(OR($H$22=\"\",$H$22=\"No Data\"),\"\",IF(SUM($H$14:$H$21)<>$H$22,\"Sum of exit categories for age 20 (H14:H21) ≠ Subtotal (H22)\",\"\"))","v":"Sum of exit categories for age 20 (H14:H21) ≠ Subtotal (H22)"}]
["Died",{"$f":"IFERROR(IF($J19<>0,B19/$J19,0),\"\")","v":""},"","","","","","","","",null,"I22",{"$f":"IF(OR($I$22=\"\",$I$22=\"-9\"),0,IF(SUM($I$14:$I$21)<>$I$22,1,0))","v":1},{"$f":"I$22","v":"MC"},"A",{"$f":"IF(OR($I$22=\"\",$I$22=\"No Data\"),\"\",IF(SUM($I$14:$I$21)<>$I$22,\"Sum of exit categories for age 21 (I14:I21) ≠ Subtotal (I22)\",\"\"))","v":"Sum of exit categories for age 21 (I14:I21) ≠ Subtotal (I22)"}]
["Moved, known to be continuing","","","","","","","","","",null,"J22",{"$f":"IF(OR($J$22=\"\",$J$22=\"No Data\"),0,IF(OR($I$47<>$J$22,$D$72<>$J$22,$D$97<>$J$22),1,0))","v":0},{"$f":"J22","v":""},"A",{"$f":"IF(OR($J$22=\"\",$J$22=\"No Data\"),\"\",IF(OR($I$47<>$J$22,$D$72<>$J$22,$D$97<>$J$22),\"Calculated total for category Set A (J22) ≠ Calculated totals for category Set B (I47), Set C (D72), or Set D (D97)\",\"\"))","v":""}]
["Dropped out","","","","","","","","","",null,null,null,null,null,null,null,null,null,null,null,null,null,null,null,null,"=IFERROR(IF(INDEX(StudCntC009,MATCH(AC21,CurrentListing,0))=\"\",\"No Data\",INDEX(StudCntC009,MATCH(AC21,CurrentListing,0))),\"MC\")"]
["Total",{"$f":"IFERROR(IF($J22<>0,B22/$J22,0),\"\")","v":""},"","","","","","","",""]
[]
["Category Set B – Children with disabilities (IDEA) exiting special education, by racial ethnic and basis of exit",null,null,null,null,null,null,null,null,null,null,null,null,null,null,null,null,null,null,null,null,null,null,null,null,null,null,"Category Set B - Student counts for Children with Disabilities (IDEA) exiting special education by basis of exit and Racial Ethnic category"]
["Student count by basis of exit","Racial ethnic"]
[null,"Hispanic/\nLatino","American Indian \nor Alaska Native","Asian","Black or\nAfrican American","Native Hawaiian \nor Other \nPacific Islander","White","Two or\nmore races","Total",null,null,null,null,null,null,"Error Messages",null,null,null,null,null,null,null,null,null,null,null,"Student counts by basis of exit","Hispanic/\nLatino","American Indian \nor Alaska Native","Asian","Black or\nAfrican American","Native Hawaiian \nor Other \nPacific Islander","White","Two or\nMore Races","Total"]
["Transferred to regular education",{"$f":"IFERROR(HYPERLINK(\"#'Exiting (FS009)'!\"&ADDRESS(ROW(INDEX(CurrentListing,MATCH(AM39,CurrentListing,0),1)),25),AC39),HYPERLINK(\"#'Exiting (FS009)'!\"&\"$AA$10\",AC39))","v":"MC"},{"$f":"IFERROR(HYPERLINK(\"#'Exiting (FS009)'!\"&ADDRESS(ROW(INDEX(CurrentListing,MATCH(AN39,CurrentListing,0),1)),25),AD39),HYPERLINK(\"#'Exiting (FS009)'!\"&\"$AA$10\",AD39))","v":"MC"},{"$f":"IFERROR(HYPERLINK(\"#'Exiting (FS009)'!\"&ADDRESS(ROW(INDEX(CurrentListing,MATCH(AO39,CurrentListing,0),1)),25),AE39),HYPERLINK(\"#'Exiting (FS009)'!\"&\"$AA$10\",AE39))","v":"MC"},{"$f":"IFERROR(HYPERLINK(\"#'Exiting (FS009)'!\"&ADDRESS(ROW(INDEX(CurrentListing,MATCH(AP39,CurrentListing,0),1)),25),AF39),HYPERLINK(\"#'Exiting (FS009)'!\"&\"$AA$10\",AF39))","v":"MC"},{"$f":"IFERROR(HYPERLINK(\"#'Exiting (FS009)'!\"&ADDRESS(ROW(INDEX(CurrentListing,MATCH(AQ39,CurrentListing,0),1)),25),AG39),HYPERLINK(\"#'Exiting (FS009)'!\"&\"$AA$10\",AG39))","v":"MC"},{"$f":"IFERROR(HYPERLINK(\"#'Exiting (FS009)'!\"&ADDRESS(ROW(INDEX(CurrentListing,MATCH(AR39,CurrentListing,0),1)),25),AH39),HYPERLINK(\"#'Exiting (FS009)'!\"&\"$AA$10\",AH39))","v":"MC"},{"$f":"IFERROR(HYPERLINK(\"#'Exiting (FS009)'!\"&ADDRESS(ROW(INDEX(CurrentListing,MATCH(AS39,CurrentListing,0),1)),25),AI39),HYPERLINK(\"#'Exiting (FS009)'!\"&\"$AA$10\",AI39))","v":"MC"},{"$f":"IFERROR(HYPERLINK(\"#'Exiting (FS009)'!\"&ADDRESS(ROW(INDEX(CurrentListing,MATCH(AT39,CurrentListing,0),1)),25),AJ39),HYPERLINK(\"#'Exiting (FS009)'!\"&\"$AA$10\",AJ39))","v":"MC"},null,null,"I39",{"$f":"IF(OR($I$39=\"\",$I$39=\"-9\"),0,IF(SUM(B39:H39)<>$I$39,1,0))","v":1},{"$f":"I39","v":"MC"},"B",{"$f":"IF(OR($I$39=\"\",$I$39=\"No Data\"),\"\",IF(SUM(B39:H39)<>$I$39,\"Sum of transferred to regular education for all racial ethnic categories (B39:H39) ≠ Subtotal (I39)\",\"\"))","v":"Sum of transferred to regular education for all racial ethnic categories (B39:H39) ≠ Subtotal (I39)"},null,null,null,null,null,null,null,null,null,null,null,"Transferred to regular education",{"$f":"IFERROR(IF(INDEX(StudCntC009,MATCH(AM39,CurrentListing,0))=\"\",\"No Data\",INDEX(StudCntC009,MATCH(AM39,CurrentListing,0))),\"MC\")","v":"MC"},"MC","MC","MC","MC","MC","MC","MC",null,null,"HI7TRANN","AM7TRANN","AS7TRANN","BL7TRANN","PI7TRANN","WH7TRANN","MU7TRANN","TRANY"]
["Graduated with regular high school diploma",{"$f":"IFERROR(HYPERLINK(\"#'Exiting (FS009)'!\"&ADDRESS(ROW(INDEX(CurrentListing,MATCH(AM40,CurrentListing,0),1)),25),AC40),HYPERLINK(\"#'Exiting (FS009)'!\"&\"$AA$10\",AC40))","v":"MC"},{"$f":"IFERROR(HYPERLINK(\"#'Exiting (FS009)'!\"&ADDRESS(ROW(INDEX(CurrentListing,MATCH(AN40,CurrentListing,0),1)),25),AD40),HYPERLINK(\"#'Exiting (FS009)'!\"&\"$AA$10\",AD40))","v":"MC"},{"$f":"IFERROR(HYPERLINK(\"#'Exiting (FS009)'!\"&ADDRESS(ROW(INDEX(CurrentListing,MATCH(AO40,CurrentListing,0),1)),25),AE40),HYPERLINK(\"#'Exiting (FS009)'!\"&\"$AA$10\",AE40))","v":"MC"},{"$f":"IFERROR(HYPERLINK(\"#'Exiting (FS009)'!\"&ADDRESS(ROW(INDEX(CurrentListing,MATCH(AP40,CurrentListing,0),1)),25),AF40),HYPERLINK(\"#'Exiting (FS009)'!\"&\"$AA$10\",AF40))","v":"MC"},{"$f":"IFERROR(HYPERLINK(\"#'Exiting (FS009)'!\"&ADDRESS(ROW(INDEX(CurrentListing,MATCH(AQ40,CurrentListing,0),1)),25),AG40),HYPERLINK(\"#'Exiting (FS009)'!\"&\"$AA$10\",AG40))","v":"MC"},{"$f":"IFERROR(HYPERLINK(\"#'Exiting (FS009)'!\"&ADDRESS(ROW(INDEX(CurrentListing,MATCH(AR40,CurrentListing,0),1)),25),AH40),HYPERLINK(\"#'Exiting (FS009)'!\"&\"$AA$10\",AH40))","v":"MC"},{"$f":"IFERROR(HYPERLINK(\"#'Exiting (FS009)'!\"&ADDRESS(ROW(INDEX(CurrentListing,MATCH(AS40,CurrentListing,0),1)),25),AI40),HYPERLINK(\"#'Exiting (FS009)'!\"&\"$AA$10\",AI40))","v":"MC"},{"$f":"IFERROR(HYPERLINK(\"#'Exiting (FS009)'!\"&ADDRESS(ROW(INDEX(CurrentListing,MATCH(AT40,CurrentListing,0),1)),25),AJ40),HYPERLINK(\"#'Exiting (FS009)'!\"&\"$AA$10\",AJ40))","v":"MC"},null,null,"I40",{"$f":"IF(OR($I$40=\"\",$I$40=\"-9\"),0,IF(SUM(B40:H40)<>$I$40,1,0))","v":1},{"$f":"I40","v":"MC"},"B",{"$f":"IF(OR($I$40=\"\",$I$40=\"No Data\"),\"\",IF(SUM(B40:H40)<>$I$40,\"Sum of graduated with regular high school diploma for all racial ethnic categories (B40:H40) ≠ Subtotal (I40)\",\"\"))","v":"Sum of graduated with regular high school diploma for all racial ethnic categories (B40:H40) ≠ Subtotal (I40)"},null,null,null,null,null,null,null,null,null,null,null,"Graduated with regular high school diploma","MC","MC","MC","MC","MC","MC","MC","MC",null,null,"HI7GHSN","AM7GHSN","AS7GHSN","BL7GHSN","PI7GHSN","WH7GHSN","MU7GHSN","GHSY"]
["Graduated with an alternate diploma",{"$f":"IFERROR(HYPERLINK(\"#'Exiting (FS009)'!\"&ADDRESS(ROW(INDEX(CurrentListing,MATCH(AM41,CurrentListing,0),1)),25),AC41),HYPERLINK(\"#'Exiting (FS009)'!\"&\"$AA$10\",AC41))","v":"MC"},{"$f":"IFERROR(HYPERLINK(\"#'Exiting (FS009)'!\"&ADDRESS(ROW(INDEX(CurrentListing,MATCH(AN41,CurrentListing,0),1)),25),AD41),HYPERLINK(\"#'Exiting (FS009)'!\"&\"$AA$10\",AD41))","v":"MC"},{"$f":"IFERROR(HYPERLINK(\"#'Exiting (FS009)'!\"&ADDRESS(ROW(INDEX(CurrentListing,MATCH(AO41,CurrentListing,0),1)),25),AE41),HYPERLINK(\"#'Exiting (FS009)'!\"&\"$AA$10\",AE41))","v":"MC"},{"$f":"IFERROR(HYPERLINK(\"#'Exiting (FS009)'!\"&ADDRESS(ROW(INDEX(CurrentListing,MATCH(AP41,CurrentListing,0),1)),25),AF41),HYPERLINK(\"#'Exiting (FS009)'!\"&\"$AA$10\",AF41))","v":"MC"},{"$f":"IFERROR(HYPERLINK(\"#'Exiting (FS009)'!\"&ADDRESS(ROW(INDEX(CurrentListing,MATCH(AQ41,CurrentListing,0),1)),25),AG41),HYPERLINK(\"#'Exiting (FS009)'!\"&\"$AA$10\",AG41))","v":"MC"},{"$f":"IFERROR(HYPERLINK(\"#'Exiting (FS009)'!\"&ADDRESS(ROW(INDEX(CurrentListing,MATCH(AR41,CurrentListing,0),1)),25),AH41),HYPERLINK(\"#'Exiting (FS009)'!\"&\"$AA$10\",AH41))","v":"MC"},{"$f":"IFERROR(HYPERLINK(\"#'Exiting (FS009)'!\"&ADDRESS(ROW(INDEX(CurrentListing,MATCH(AS41,CurrentListing,0),1)),25),AI41),HYPERLINK(\"#'Exiting (FS009)'!\"&\"$AA$10\",AI41))","v":"MC"},{"$f":"IFERROR(HYPERLINK(\"#'Exiting (FS009)'!\"&ADDRESS(ROW(INDEX(CurrentListing,MATCH(AT41,CurrentListing,0),1)),25),AJ41),HYPERLINK(\"#'Exiting (FS009)'!\"&\"$AA$10\",AJ41))","v":"MC"},null,null,"I41",{"$f":"IF(OR($I$41=\"\",$I$41=\"-9\"),0,IF(SUM(B41:H41)<>$I$41,1,0))","v":1},{"$f":"I41","v":"MC"},"B",{"$f":"IF(OR($I$41=\"\",$I$41=\"No Data\"),\"\",IF(SUM(B41:H41)<>$I$41,\"Sum of graduated with an alternate diploma for all racial ethnic categories (B41:H41) ≠ Subtotal (I41)\",\"\"))","v":"Sum of graduated with an alternate diploma for all racial ethnic categories (B41:H41) ≠ Subtotal (I41)"},null,null,null,null,null,null,null,null,null,null,null,"Graduated with an alternate diploma",{"$f":"IFERROR(IF(INDEX(StudCntC009,MATCH(AM41,CurrentListing,0))=\"\",\"No Data\",INDEX(StudCntC009,MATCH(AM41,CurrentListing,0))),\"MC\")","v":"MC"},"MC","MC","MC","MC","MC","MC","MC",null,null,"HI7GRADALTDPLN","AM7GRADALTDPLN","AS7GRADALTDPLN","BL7GRADALTDPLN","PI7GRADALTDPLN","WH7GRADALTDPLN","MU7GRADALTDPLN","GRADALTDPLY"]
["Received a certificate",{"$f":"IFERROR(HYPERLINK(\"#'Exiting (FS009)'!\"&ADDRESS(ROW(INDEX(CurrentListing,MATCH(AM42,CurrentListing,0),1)),25),AC42),HYPERLINK(\"#'Exiting (FS009)'!\"&\"$AA$10\",AC42))","v":"MC"},{"$f":"IFERROR(HYPERLINK(\"#'Exiting (FS009)'!\"&ADDRESS(ROW(INDEX(CurrentListing,MATCH(AN42,CurrentListing,0),1)),25),AD42),HYPERLINK(\"#'Exiting (FS009)'!\"&\"$AA$10\",AD42))","v":"MC"},{"$f":"IFERROR(HYPERLINK(\"#'Exiting (FS009)'!\"&ADDRESS(ROW(INDEX(CurrentListing,MATCH(AO42,CurrentListing,0),1)),25),AE42),HYPERLINK(\"#'Exiting (FS009)'!\"&\"$AA$10\",AE42))","v":"MC"},{"$f":"IFERROR(HYPERLINK(\"#'Exiting (FS009)'!\"&ADDRESS(ROW(INDEX(CurrentListing,MATCH(AP42,CurrentListing,0),1)),25),AF42),HYPERLINK(\"#'Exiting (FS009)'!\"&\"$AA$10\",AF42))","v":"MC"},{"$f":"IFERROR(HYPERLINK(\"#'Exiting (FS009)'!\"&ADDRESS(ROW(INDEX(CurrentListing,MATCH(AQ42,CurrentListing,0),1)),25),AG42),HYPERLINK(\"#'Exiting (FS009)'!\"&\"$AA$10\",AG42))","v":"MC"},{"$f":"IFERROR(HYPERLINK(\"#'Exiting (FS009)'!\"&ADDRESS(ROW(INDEX(CurrentListing,MATCH(AR42,CurrentListing,0),1)),25),AH42),HYPERLINK(\"#'Exiting (FS009)'!\"&\"$AA$10\",AH42))","v":"MC"},{"$f":"IFERROR(HYPERLINK(\"#'Exiting (FS009)'!\"&ADDRESS(ROW(INDEX(CurrentListing,MATCH(AS42,CurrentListing,0),1)),25),AI42),HYPERLINK(\"#'Exiting (FS009)'!\"&\"$AA$10\",AI42))","v":"MC"},{"$f":"IFERROR(HYPERLINK(\"#'Exiting (FS009)'!\"&ADDRESS(ROW(INDEX(CurrentListing,MATCH(AT42,CurrentListing,0),1)),25),AJ42),HYPERLINK(\"#'Exiting (FS009)'!\"&\"$AA$10\",AJ42))","v":"MC"},null,null,"I42",{"$f":"IF(OR($I$42=\"\",$I$42=\"-9\"),0,IF(SUM(B42:H42)<>$I$42,1,0))","v":1},"MC","B",{"$f":"IF(OR($I$42=\"\",$I$42=\"No Data\"),\"\",IF(SUM(B42:H42)<>$I$42,\"Sum of received a certificate for all racial ethnic categories (B42:H42) ≠ Subtotal (I42)\",\"\"))","v":"Sum of received a certificate for all racial ethnic categories (B42:H42) ≠ Subtotal (I42)"},null,null,null,null,null,null,null,null,null,null,null,"Received a certificate","MC","MC","MC","MC","MC","MC","MC","MC",null,null,"HI7RCN","AM7RCN","AS7RCN","BL7RCN","PI7RCN","WH7RCN","MU7RCN","RCY"]
["Reached maximum age",{"$f":"IFERROR(HYPERLINK(\"#'Exiting (FS009)'!\"&ADDRESS(ROW(INDEX(CurrentListing,MATCH(AM43,CurrentListing,0),1)),25),AC43),HYPERLINK(\"#'Exiting (FS009)'!\"&\"$AA$10\",AC43))","v":"MC"},{"$f":"IFERROR(HYPERLINK(\"#'Exiting (FS009)'!\"&ADDRESS(ROW(INDEX(CurrentListing,MATCH(AN43,CurrentListing,0),1)),25),AD43),HYPERLINK(\"#'Exiting (FS009)'!\"&\"$AA$10\",AD43))","v":"MC"},{"$f":"IFERROR(HYPERLINK(\"#'Exiting (FS009)'!\"&ADDRESS(ROW(INDEX(CurrentListing,MATCH(AO43,CurrentListing,0),1)),25),AE43),HYPERLINK(\"#'Exiting (FS009)'!\"&\"$AA$10\",AE43))","v":"MC"},{"$f":"IFERROR(HYPERLINK(\"#'Exiting (FS009)'!\"&ADDRESS(ROW(INDEX(CurrentListing,MATCH(AP43,CurrentListing,0),1)),25),AF43),HYPERLINK(\"#'Exiting (FS009)'!\"&\"$AA$10\",AF43))","v":"MC"},{"$f":"IFERROR(HYPERLINK(\"#'Exiting (FS009)'!\"&ADDRESS(ROW(INDEX(CurrentListing,MATCH(AQ43,CurrentListing,0),1)),25),AG43),HYPERLINK(\"#'Exiting (FS009)'!\"&\"$AA$10\",AG43))","v":"MC"},{"$f":"IFERROR(HYPERLINK(\"#'Exiting (FS009)'!\"&ADDRESS(ROW(INDEX(CurrentListing,MATCH(AR43,CurrentListing,0),1)),25),AH43),HYPERLINK(\"#'Exiting (FS009)'!\"&\"$AA$10\",AH43))","v":"MC"},{"$f":"IFERROR(HYPERLINK(\"#'Exiting (FS009)'!\"&ADDRESS(ROW(INDEX(CurrentListing,MATCH(AS43,CurrentListing,0),1)),25),AI43),HYPERLINK(\"#'Exiting (FS009)'!\"&\"$AA$10\",AI43))","v":"MC"},{"$f":"IFERROR(HYPERLINK(\"#'Exiting (FS009)'!\"&ADDRESS(ROW(INDEX(CurrentListing,MATCH(AT43,CurrentListing,0),1)),25),AJ43),HYPERLINK(\"#'Exiting (FS009)'!\"&\"$AA$10\",AJ43))","v":"MC"},null,null,"I43",{"$f":"IF(OR($I$43=\"\",$I$43=\"-9\"),0,IF(SUM(B43:H43)<>$I$43,1,0))","v":1},"MC","B",{"$f":"IF(OR($I$43=\"\",$I$43=\"No Data\"),\"\",IF(SUM(B43:H43)<>$I$43,\"Sum of reached maximum age for all racial ethnic categories (B43:H43) ≠ Subtotal (I43)\",\"\"))","v":"Sum of reached maximum age for all racial ethnic categories (B43:H43) ≠ Subtotal (I43)"},null,null,null,null,null,null,null,null,null,null,null,"Reached maximum age","MC","MC","MC","MC","MC","MC","MC","MC",null,null,"HI7RMAN","AM7RMAN","AS7RMAN","BL7RMAN","PI7RMAN","WH7RMAN","MU7RMAN","RMAY"]
["Died",{"$f":"IFERROR(HYPERLINK(\"#'Exiting (FS009)'!\"&ADDRESS(ROW(INDEX(CurrentListing,MATCH(AM44,CurrentListing,0),1)),25),AC44),HYPERLINK(\"#'Exiting (FS009)'!\"&\"$AA$10\",AC44))","v":"MC"},{"$f":"IFERROR(HYPERLINK(\"#'Exiting (FS009)'!\"&ADDRESS(ROW(INDEX(CurrentListing,MATCH(AN44,CurrentListing,0),1)),25),AD44),HYPERLINK(\"#'Exiting (FS009)'!\"&\"$AA$10\",AD44))","v":"MC"},{"$f":"IFERROR(HYPERLINK(\"#'Exiting (FS009)'!\"&ADDRESS(ROW(INDEX(CurrentListing,MATCH(AO44,CurrentListing,0),1)),25),AE44),HYPERLINK(\"#'Exiting (FS009)'!\"&\"$AA$10\",AE44))","v":"MC"},{"$f":"IFERROR(HYPERLINK(\"#'Exiting (FS009)'!\"&ADDRESS(ROW(INDEX(CurrentListing,MATCH(AP44,CurrentListing,0),1)),25),AF44),HYPERLINK(\"#'Exiting (FS009)'!\"&\"$AA$10\",AF44))","v":"MC"},{"$f":"IFERROR(HYPERLINK(\"#'Exiting (FS009)'!\"&ADDRESS(ROW(INDEX(CurrentListing,MATCH(AQ44,CurrentListing,0),1)),25),AG44),HYPERLINK(\"#'Exiting (FS009)'!\"&\"$AA$10\",AG44))","v":"MC"},{"$f":"IFERROR(HYPERLINK(\"#'Exiting (FS009)'!\"&ADDRESS(ROW(INDEX(CurrentListing,MATCH(AR44,CurrentListing,0),1)),25),AH44),HYPERLINK(\"#'Exiting (FS009)'!\"&\"$AA$10\",AH44))","v":"MC"},{"$f":"IFERROR(HYPERLINK(\"#'Exiting (FS009)'!\"&ADDRESS(ROW(INDEX(CurrentListing,MATCH(AS44,CurrentListing,0),1)),25),AI44),HYPERLINK(\"#'Exiting (FS009)'!\"&\"$AA$10\",AI44))","v":"MC"},{"$f":"IFERROR(HYPERLINK(\"#'Exiting (FS009)'!\"&ADDRESS(ROW(INDEX(CurrentListing,MATCH(AT44,CurrentListing,0),1)),25),AJ44),HYPERLINK(\"#'Exiting (FS009)'!\"&\"$AA$10\",AJ44))","v":"MC"},null,null,"I44",{"$f":"IF(OR($I$44=\"\",$I$44=\"-9\"),0,IF(SUM(B44:H44)<>$I$44,1,0))","v":1},"MC","B",{"$f":"IF(OR($I$44=\"\",$I$44=\"No Data\"),\"\",IF(SUM(B44:H44)<>$I$44,\"Sum of died for all racial ethnic categories (B44:H44) ≠ Subtotal (I44)\",\"\"))","v":"Sum of died for all racial ethnic categories (B44:H44) ≠ Subtotal (I44)"},null,null,null,null,null,null,null,null,null,null,null,"Died","MC","MC","MC","MC","MC","MC","MC","MC",null,null,"HI7DN","AM7DN","AS7DN","BL7DN","PI7DN","WH7DN","MU7DN","DY"]
["Moved, known to be continuing",{"$f":"IFERROR(HYPERLINK(\"#'Exiting (FS009)'!\"&ADDRESS(ROW(INDEX(CurrentListing,MATCH(AM45,CurrentListing,0),1)),25),AC45),HYPERLINK(\"#'Exiting (FS009)'!\"&\"$AA$10\",AC45))","v":"MC"},{"$f":"IFERROR(HYPERLINK(\"#'Exiting (FS009)'!\"&ADDRESS(ROW(INDEX(CurrentListing,MATCH(AN45,CurrentListing,0),1)),25),AD45),HYPERLINK(\"#'Exiting (FS009)'!\"&\"$AA$10\",AD45))","v":"MC"},{"$f":"IFERROR(HYPERLINK(\"#'Exiting (FS009)'!\"&ADDRESS(ROW(INDEX(CurrentListing,MATCH(AO45,CurrentListing,0),1)),25),AE45),HYPERLINK(\"#'Exiting (FS009)'!\"&\"$AA$10\",AE45))","v":"MC"},{"$f":"IFERROR(HYPERLINK(\"#'Exiting (FS009)'!\"&ADDRESS(ROW(INDEX(CurrentListing,MATCH(AP45,CurrentListing,0),1)),25),AF45),HYPERLINK(\"#'Exiting (FS009)'!\"&\"$AA$10\",AF45))","v":"MC"},{"$f":"IFERROR(HYPERLINK(\"#'Exiting (FS009)'!\"&ADDRESS(ROW(INDEX(CurrentListing,MATCH(AQ45,CurrentListing,0),1)),25),AG45),HYPERLINK(\"#'Exiting (FS009)'!\"&\"$AA$10\",AG45))","v":"MC"},{"$f":"IFERROR(HYPERLINK(\"#'Exiting (FS009)'!\"&ADDRESS(ROW(INDEX(CurrentListing,MATCH(AR45,CurrentListing,0),1)),25),AH45),HYPERLINK(\"#'Exiting (FS009)'!\"&\"$AA$10\",AH45))","v":"MC"},{"$f":"IFERROR(HYPERLINK(\"#'Exiting (FS009)'!\"&ADDRESS(ROW(INDEX(CurrentListing,MATCH(AS45,CurrentListing,0),1)),25),AI45),HYPERLINK(\"#'Exiting (FS009)'!\"&\"$AA$10\",AI45))","v":"MC"},{"$f":"IFERROR(HYPERLINK(\"#'Exiting (FS009)'!\"&ADDRESS(ROW(INDEX(CurrentListing,MATCH(AT45,CurrentListing,0),1)),25),AJ45),HYPERLINK(\"#'Exiting (FS009)'!\"&\"$AA$10\",AJ45))","v":"MC"},null,null,"I45",{"$f":"IF(OR($I$45=\"\",$I$45=\"-9\"),0,IF(SUM(B45:H45)<>$I$45,1,0))","v":1},"MC","B",{"$f":"IF(OR($I$45=\"\",$I$45=\"No Data\"),\"\",IF(SUM(B45:H45)<>$I$45,\"Sum of moved, known to be continuing for all racial ethnic categories (B45:H45) ≠ Subtotal (I45)\",\"\"))","v":"Sum of moved, known to be continuing for all racial ethnic categories (B45:H45) ≠ Subtotal (I45)"},null,null,null,null,null,null,null,null,null,null,null,"Moved, know to be continuing","MC","MC","MC","MC","MC","MC","MC","MC",null,null,"HI7MKCN","AM7MKCN","AS7MKCN","BL7MKCN","PI7MKCN","WH7MKCN","MU7MKCN","MKCY"]
["Dropped out",{"$f":"IFERROR(HYPERLINK(\"#'Exiting (FS009)'!\"&ADDRESS(ROW(INDEX(CurrentListing,MATCH(AM46,CurrentListing,0),1)),25),AC46),HYPERLINK(\"#'Exiting (FS009)'!\"&\"$AA$10\",AC46))","v":"MC"},{"$f":"IFERROR(HYPERLINK(\"#'Exiting (FS009)'!\"&ADDRESS(ROW(INDEX(CurrentListing,MATCH(AN46,CurrentListing,0),1)),25),AD46),HYPERLINK(\"#'Exiting (FS009)'!\"&\"$AA$10\",AD46))","v":"MC"},{"$f":"IFERROR(HYPERLINK(\"#'Exiting (FS009)'!\"&ADDRESS(ROW(INDEX(CurrentListing,MATCH(AO46,CurrentListing,0),1)),25),AE46),HYPERLINK(\"#'Exiting (FS009)'!\"&\"$AA$10\",AE46))","v":"MC"},{"$f":"IFERROR(HYPERLINK(\"#'Exiting (FS009)'!\"&ADDRESS(ROW(INDEX(CurrentListing,MATCH(AP46,CurrentListing,0),1)),25),AF46),HYPERLINK(\"#'Exiting (FS009)'!\"&\"$AA$10\",AF46))","v":"MC"},{"$f":"IFERROR(HYPERLINK(\"#'Exiting (FS009)'!\"&ADDRESS(ROW(INDEX(CurrentListing,MATCH(AQ46,CurrentListing,0),1)),25),AG46),HYPERLINK(\"#'Exiting (FS009)'!\"&\"$AA$10\",AG46))","v":"MC"},{"$f":"IFERROR(HYPERLINK(\"#'Exiting (FS009)'!\"&ADDRESS(ROW(INDEX(CurrentListing,MATCH(AR46,CurrentListing,0),1)),25),AH46),HYPERLINK(\"#'Exiting (FS009)'!\"&\"$AA$10\",AH46))","v":"MC"},{"$f":"IFERROR(HYPERLINK(\"#'Exiting (FS009)'!\"&ADDRESS(ROW(INDEX(CurrentListing,MATCH(AS46,CurrentListing,0),1)),25),AI46),HYPERLINK(\"#'Exiting (FS009)'!\"&\"$AA$10\",AI46))","v":"MC"},{"$f":"IFERROR(HYPERLINK(\"#'Exiting (FS009)'!\"&ADDRESS(ROW(INDEX(CurrentListing,MATCH(AT46,CurrentListing,0),1)),25),AJ46),HYPERLINK(\"#'Exiting (FS009)'!\"&\"$AA$10\",AJ46))","v":"MC"},null,null,"I46",{"$f":"IF(OR($I$46=\"\",$I$46=\"-9\"),0,IF(SUM(B46:H46)<>$I$46,1,0))","v":1},"MC","B",{"$f":"IF(OR($I$46=\"\",$I$46=\"No Data\"),\"\",IF(SUM(B46:H46)<>$I$46,\"Sum of dropped out for all racial ethnic categories (B46:H46) ≠ Subtotal (I46)\",\"\"))","v":"Sum of dropped out for all racial ethnic categories (B46:H46) ≠ Subtotal (I46)"},null,null,null,null,null,null,null,null,null,null,null,"Dropped out","MC","MC","MC","MC","MC","MC","MC","MC",null,null,"HI7DROPOUTN","AM7DROPOUTN","AS7DROPOUTN","BL7DROPOUTN","PI7DROPOUTN","WH7DROPOUTN","MU7DROPOUTN","DROPOUTY"]
["Total",{"$f":"IFERROR(HYPERLINK(\"#'Exiting (FS009)'!\"&ADDRESS(ROW(INDEX(CurrentListing,MATCH(AM47,CurrentListing,0),1)),25),AC47),HYPERLINK(\"#'Exiting (FS009)'!\"&\"$AA$10\",AC47))","v":"MC"},{"$f":"IFERROR(HYPERLINK(\"#'Exiting (FS009)'!\"&ADDRESS(ROW(INDEX(CurrentListing,MATCH(AN47,CurrentListing,0),1)),25),AD47),HYPERLINK(\"#'Exiting (FS009)'!\"&\"$AA$10\",AD47))","v":"MC"},{"$f":"IFERROR(HYPERLINK(\"#'Exiting (FS009)'!\"&ADDRESS(ROW(INDEX(CurrentListing,MATCH(AO47,CurrentListing,0),1)),25),AE47),HYPERLINK(\"#'Exiting (FS009)'!\"&\"$AA$10\",AE47))","v":"MC"},{"$f":"IFERROR(HYPERLINK(\"#'Exiting (FS009)'!\"&ADDRESS(ROW(INDEX(CurrentListing,MATCH(AP47,CurrentListing,0),1)),25),AF47),HYPERLINK(\"#'Exiting (FS009)'!\"&\"$AA$10\",AF47))","v":"MC"},{"$f":"IFERROR(HYPERLINK(\"#'Exiting (FS009)'!\"&ADDRESS(ROW(INDEX(CurrentListing,MATCH(AQ47,CurrentListing,0),1)),25),AG47),HYPERLINK(\"#'Exiting (FS009)'!\"&\"$AA$10\",AG47))","v":"MC"},{"$f":"IFERROR(HYPERLINK(\"#'Exiting (FS009)'!\"&ADDRESS(ROW(INDEX(CurrentListing,MATCH(AR47,CurrentListing,0),1)),25),AH47),HYPERLINK(\"#'Exiting (FS009)'!\"&\"$AA$10\",AH47))","v":"MC"},{"$f":"IFERROR(HYPERLINK(\"#'Exiting (FS009)'!\"&ADDRESS(ROW(INDEX(CurrentListing,MATCH(AS47,CurrentListing,0),1)),25),AI47),HYPERLINK(\"#'Exiting (FS009)'!\"&\"$AA$10\",AI47))","v":"MC"},{"$f":"IF(AND($B$47=\"MC\",$C$47=\"MC\",$D$47=\"MC\",$E$47=\"MC\",$F$47=\"MC\",$G$47=\"MC\",$H$47=\"MC\"),\"\",SUM(B39:H46))","v":""},null,null,"I47",{"$f":"IF(OR($I$47=\"\",$I$47=\"-9\"),0,IF(OR(SUM(I39:I46)<>$I$47,SUM(B47:H47)<>$I$47),1,0))","v":0},"","B",{"$f":"IF(OR($I$47=\"\",$I$47=\"No Data\"),\"\",IF(AND(SUM(I39:I46)<>$I$47,SUM(B47:H47)<>$I$47), \"Sum of exit categories for all Racial Ethnic categories (B47:H47) and subtotals for exit categories (I39:I46) ≠ Calculated total (I47)\", IF(OR($I$47=\"\",$I$47=\"No Data\"),\"\",IF(SUM(I39:I46)<>$I$47, \"Sum of subtotals for exit categories (I39:I46) ≠ Calculated total (I47)\", IF(OR($I$47=\"\",$I$47=\"No Data\"),\"\",IF(SUM(B47:H47)<>$I$47, \"Sum of exit categories for all Racial Ethnic categories (B47:H47) ≠ Subtotal (I47)\", \"\"))))))","v":""},null,null,null,null,null,null,null,null,null,null,null,"Total","MC","MC","MC","MC","MC","MC","MC","MC",null,null,"HI7Y","AM7Y","AS7Y","BL7Y","PI7Y","WH7Y","MU7Y","Y"]
[]
["Percent by basis of exit","Racial ethnic"]
[null,"Hispanic/\nLatino\n(percent)","American Indian \nor Alaska Native\n(percent)","Asian\n(percent)","Black or\nAfrican American\n(percent)","Native Hawaiian \nor Other \nPacific Islander\n(percent)","White\n(percent)","Two or\nmore races\n(percent)","Total\n(percent)"]
["Transferred to regular education",{"$f":"IFERROR(IF($I39<>0,B39/$I39,0),\"\")","v":""},"","","","","","",{"$f":"IF(SUM(B51:H51), SUM(B51:H51), \"\")","v":""},null,null,"B47",{"$f":"IF(OR($B$47=\"\",$B$47=\"-9\"),0,IF(SUM($B$39:$B$46)<>$B$47,1,0))","v":1},{"$f":"B$47","v":"MC"},"B",{"$f":"IF(OR($B$47=\"\",$B$47=\"No Data\"),\"\",IF(SUM($B$39:$B$46)<>$B$47,\"Sum of exit categories for Hispanic/Latino (B39:B46) ≠ Subtotal (B47)\",\"\"))","v":"Sum of exit categories for Hispanic/Latino (B39:B46) ≠ Subtotal (B47)"}]
["Graduated with regular high school diploma","","","","","","","",{"$f":"IF(SUM(B52:H52), SUM(B52:H52), \"\")","v":""},null,null,"C47",{"$f":"IF(OR($C$47=\"\",$C$47=\"-9\"),0,IF(SUM($C$39:$C$46)<>$C$47,1,0))","v":1},{"$f":"C$47","v":"MC"},"B",{"$f":"IF(OR($C$47=\"\",$C$47=\"No Data\"),\"\",IF(SUM($C$39:$C$46)<>$C$47,\"Sum of exit categories for American Indian or Alaska Native (C39:C46) ≠ Subtotal (C47)\",\"\"))","v":"Sum of exit categories for American Indian or Alaska Native (C39:C46) ≠ Subtotal (C47)"}]
["Graduated with an alternate diploma","","","","","","","","",null,null,"D47",{"$f":"IF(OR($D$47=\"\",$D$47=\"-9\"),0,IF(SUM($D$39:$D$46)<>$D$47,1,0))","v":1},{"$f":"D$47","v":"MC"},"B",{"$f":"IF(OR($D$47=\"\",$D$47=\"No Data\"),\"\",IF(SUM($D$39:$D$46)<>$D$47,\"Sum of exit categories for Asian (D39:D46) ≠ Subtotal (D47)\",\"\"))","v":"Sum of exit categories for Asian (D39:D46) ≠ Subtotal (D47)"}]
["Received a certificate","","","","","","","","",null,null,"E47",{"$f":"IF(OR($E$47=\"\",$E$47=\"-9\"),0,IF(SUM($E$39:$E$46)<>$E$47,1,0))","v":1},{"$f":"E$47","v":"MC"},"B",{"$f":"IF(OR($E$47=\"\",$E$47=\"No Data\"),\"\",IF(SUM($E$39:$E$46)<>$E$47,\"Sum of exit categories for Black or African American (E39:E46) ≠ Subtotal (E47)\",\"\"))","v":"Sum of exit categories for Black or African American (E39:E46) ≠ Subtotal (E47)"}]
["Reached maximum age","","","","","","","","",null,null,"F47",{"$f":"IF(OR($F$47=\"\",$F$47=\"-9\"),0,IF(SUM($F$39:$F$46)<>$F$47,1,0))","v":1},{"$f":"F$47","v":"MC"},"B",{"$f":"IF(OR($F$47=\"\",$F$47=\"No Data\"),\"\",IF(SUM($F$39:$F$46)<>$F$47,\"Sum of exit categories for Native Hawaiian or Other Pacific Islander (F39:F46) ≠ Subtotal (F47)\",\"\"))","v":"Sum of exit categories for Native Hawaiian or Other Pacific Islander (F39:F46) ≠ Subtotal (F47)"}]
["Died","","","","","","","","",null,null,"G47",{"$f":"IF(OR($G$47=\"\",$G$47=\"-9\"),0,IF(SUM($G$39:$G$46)<>$G$47,1,0))","v":1},{"$f":"G$47","v":"MC"},"B",{"$f":"IF(OR($G$47=\"\",$G$47=\"No Data\"),\"\",IF(SUM($G$39:$G$46)<>$G$47,\"Sum of exit categories for White (G39:G46) ≠ Subtotal (G47)\",\"\"))","v":"Sum of exit categories for White (G39:G46) ≠ Subtotal (G47)"}]
["Moved, known to be continuing","","","","","","","","",null,null,"H47",{"$f":"IF(OR($H$47=\"\",$H$47=\"-9\"),0,IF(SUM($H$39:$H$46)<>$H$47,1,0))","v":1},{"$f":"H$47","v":"MC"},"B",{"$f":"IF(OR($H$47=\"\",$H$47=\"No Data\"),\"\",IF(SUM($H$39:$H$46)<>$H$47,\"Sum of exit categories for Two or more races (H39:H46) ≠ Subtotal (H47)\",\"\"))","v":"Sum of exit categories for Two or more races (H39:H46) ≠ Subtotal (H47)"}]
["Dropped out","","","","","","","","",null,null,"I47",{"$f":"IF(OR($I$47=\"\",$I$47=\"No Data\"),\"\",IF(OR($J$22<>$I$47,$D$72<>$I$47,$D$97<>$I$47),1,0))","v":""},{"$f":"I47","v":""},"B",{"$f":"IF(OR($I$47=\"\",$I$47=\"No Data\"),\"\",IF(OR($J$22<>$I$47,$D$72<>$I$47,$D$97<>$I$47),\"Calculated total for category Set B (I47) ≠ Calculated totals for category Set A (J22), Set C (D72), or Set D (D97)\",\"\"))","v":""}]
["Total","","","","","","","",""]
[]
["Category Set C – Children with disabilities (IDEA) exiting special education for all disabilities, by sex and basis of exit",null,null,null,null,null,null,null,null,null,null,null,null,null,null,null,null,null,null,null,null,null,null,null,null,null,null,"Category Set C - Student counts for Children with Disabilities (IDEA) exiting special education by basis of exit and gender"]
["Student count by basis of exit","Sex"]
[null,"Male","Female","Total",null,null,null,null,null,null,null,null,null,null,null,"Error Messages",null,null,null,null,null,null,null,null,null,null,null,"Student counts by basis of exit","Male","Female","Total"]
["Transferred to regular education",{"$f":"IFERROR(HYPERLINK(\"#'Exiting (FS009)'!\"&ADDRESS(ROW(INDEX(CurrentListing,MATCH(AH64,CurrentListing,0),1)),25),AC64),HYPERLINK(\"#'Exiting (FS009)'!\"&\"$AA$10\",AC64))","v":"MC"},{"$f":"IFERROR(HYPERLINK(\"#'Exiting (FS009)'!\"&ADDRESS(ROW(INDEX(CurrentListing,MATCH(AI64,CurrentListing,0),1)),25),AD64),HYPERLINK(\"#'Exiting (FS009)'!\"&\"$AA$10\",AD64))","v":"MC"},{"$f":"IFERROR(HYPERLINK(\"#'Exiting (FS009)'!\"&ADDRESS(ROW(INDEX(CurrentListing,MATCH(AJ64,CurrentListing,0),1)),25),AE64),HYPERLINK(\"#'Exiting (FS009)'!\"&\"$AA$10\",AE64))","v":"MC"},null,null,null,null,null,null,null,"D64",{"$f":"IF(OR($D$64=\"\",$D$64=\"-9\"),0,IF(SUM(B64:C64)<>$D$64,1,0))","v":1},{"$f":"D64","v":"MC"},"C",{"$f":"IF(OR($D$64=\"\",$D$64=\"No Data\"),\"\",IF(SUM(B64:C64)<>$D$64,\"Sum of transferred to regular education for all sex categories (B64:C64) ≠ Subtotal (D64)\",\"\"))","v":"Sum of transferred to regular education for all sex categories (B64:C64) ≠ Subtotal (D64)"},null,null,null,null,null,null,null,null,null,null,null,"Transferred to regular education",{"$f":"IFERROR(IF(INDEX(StudCntC009,MATCH(AH64,CurrentListing,0))=\"\",\"No Data\",INDEX(StudCntC009,MATCH(AH64,CurrentListing,0))),\"MC\")","v":"MC"},"MC","MC",null,null,"MTRANN","FTRANN","TRANY"]
["Graduated with regular high school diploma",{"$f":"IFERROR(HYPERLINK(\"#'Exiting (FS009)'!\"&ADDRESS(ROW(INDEX(CurrentListing,MATCH(AH65,CurrentListing,0),1)),25),AC65),HYPERLINK(\"#'Exiting (FS009)'!\"&\"$AA$10\",AC65))","v":"MC"},{"$f":"IFERROR(HYPERLINK(\"#'Exiting (FS009)'!\"&ADDRESS(ROW(INDEX(CurrentListing,MATCH(AI65,CurrentListing,0),1)),25),AD65),HYPERLINK(\"#'Exiting (FS009)'!\"&\"$AA$10\",AD65))","v":"MC"},{"$f":"IFERROR(HYPERLINK(\"#'Exiting (FS009)'!\"&ADDRESS(ROW(INDEX(CurrentListing,MATCH(AJ65,CurrentListing,0),1)),25),AE65),HYPERLINK(\"#'Exiting (FS009)'!\"&\"$AA$10\",AE65))","v":"MC"},null,null,null,null,null,null,null,"D65",{"$f":"IF(OR($D$65=\"\",$D$65=\"-9\"),0,IF(SUM(B65:C65)<>$D$65,1,0))","v":1},{"$f":"D65","v":"MC"},"C",{"$f":"IF(OR($D$65=\"\",$D$65=\"No Data\"),\"\",IF(SUM(B65:C65)<>$D$65,\"Sum of graduated with regular high school diploma for all sex categories (B65:C65) ≠ Subtotal (D65)\",\"\"))","v":"Sum of graduated with regular high school diploma for all sex categories (B65:C65) ≠ Subtotal (D65)"},null,null,null,null,null,null,null,null,null,null,null,"Graduated with regular high school diploma","MC","MC","MC",null,null,"MGHSN","FGHSN","GHSY"]
["Graduated with an alternate diploma",{"$f":"IFERROR(HYPERLINK(\"#'Exiting (FS009)'!\"&ADDRESS(ROW(INDEX(CurrentListing,MATCH(AH66,CurrentListing,0),1)),25),AC66),HYPERLINK(\"#'Exiting (FS009)'!\"&\"$AA$10\",AC66))","v":"MC"},{"$f":"IFERROR(HYPERLINK(\"#'Exiting (FS009)'!\"&ADDRESS(ROW(INDEX(CurrentListing,MATCH(AI66,CurrentListing,0),1)),25),AD66),HYPERLINK(\"#'Exiting (FS009)'!\"&\"$AA$10\",AD66))","v":"MC"},{"$f":"IFERROR(HYPERLINK(\"#'Exiting (FS009)'!\"&ADDRESS(ROW(INDEX(CurrentListing,MATCH(AJ66,CurrentListing,0),1)),25),AE66),HYPERLINK(\"#'Exiting (FS009)'!\"&\"$AA$10\",AE66))","v":"MC"},null,null,null,null,null,null,null,"D66",{"$f":"IF(OR($D$66=\"\",$D$66=\"-9\"),0,IF(SUM(B66:C66)<>$D$66,1,0))","v":1},{"$f":"D66","v":"MC"},"C",{"$f":"IF(OR($D$66=\"\",$D$66=\"No Data\"),\"\",IF(SUM(B66:C66)<>$D$66,\"Sum of graduated with an alternate diploma for all sex categories (B66:C66) ≠ Subtotal (D66)\",\"\"))","v":"Sum of graduated with an alternate diploma for all sex categories (B66:C66) ≠ Subtotal (D66)"},null,null,null,null,null,null,null,null,null,null,null,"Graduated with an alternate diploma",{"$f":"IFERROR(IF(INDEX(StudCntC009,MATCH(AH66,CurrentListing,0))=\"\",\"No Data\",INDEX(StudCntC009,MATCH(AH66,CurrentListing,0))),\"MC\")","v":"MC"},{"$f":"IFERROR(IF(INDEX(StudCntC009,MATCH(AI66,CurrentListing,0))=\"\",\"No Data\",INDEX(StudCntC009,MATCH(AI66,CurrentListing,0))),\"MC\")","v":"MC"},{"$f":"IFERROR(IF(INDEX(StudCntC009,MATCH(AJ66,CurrentListing,0))=\"\",\"No Data\",INDEX(StudCntC009,MATCH(AJ66,CurrentListing,0))),\"MC\")","v":"MC"},null,null,"MGRADALTDPLN","FGRADALTDPLN","GRADALTDPLY"]
["Received a certificate",{"$f":"IFERROR(HYPERLINK(\"#'Exiting (FS009)'!\"&ADDRESS(ROW(INDEX(CurrentListing,MATCH(AH67,CurrentListing,0),1)),25),AC67),HYPERLINK(\"#'Exiting (FS009)'!\"&\"$AA$10\",AC67))","v":"MC"},{"$f":"IFERROR(HYPERLINK(\"#'Exiting (FS009)'!\"&ADDRESS(ROW(INDEX(CurrentListing,MATCH(AI67,CurrentListing,0),1)),25),AD67),HYPERLINK(\"#'Exiting (FS009)'!\"&\"$AA$10\",AD67))","v":"MC"},{"$f":"IFERROR(HYPERLINK(\"#'Exiting (FS009)'!\"&ADDRESS(ROW(INDEX(CurrentListing,MATCH(AJ67,CurrentListing,0),1)),25),AE67),HYPERLINK(\"#'Exiting (FS009)'!\"&\"$AA$10\",AE67))","v":"MC"},null,null,null,null,null,null,null,"D67",{"$f":"IF(OR($D$67=\"\",$D$67=\"-9\"),0,IF(SUM(B67:C67)<>$D$67,1,0))","v":1},"MC","C",{"$f":"IF(OR($D$67=\"\",$D$67=\"No Data\"),\"\",IF(SUM(B67:C67)<>$D$67,\"Sum of received a certificate for all sex categories (B67:C67) ≠ Subtotal (D67)\",\"\"))","v":"Sum of received a certificate for all sex categories (B67:C67) ≠ Subtotal (D67)"},null,null,null,null,null,null,null,null,null,null,null,"Received a certificate","MC","MC","MC",null,null,"MRCN","FRCN","RCY"]
["Reached maximum age",{"$f":"IFERROR(HYPERLINK(\"#'Exiting (FS009)'!\"&ADDRESS(ROW(INDEX(CurrentListing,MATCH(AH68,CurrentListing,0),1)),25),AC68),HYPERLINK(\"#'Exiting (FS009)'!\"&\"$AA$10\",AC68))","v":"MC"},{"$f":"IFERROR(HYPERLINK(\"#'Exiting (FS009)'!\"&ADDRESS(ROW(INDEX(CurrentListing,MATCH(AI68,CurrentListing,0),1)),25),AD68),HYPERLINK(\"#'Exiting (FS009)'!\"&\"$AA$10\",AD68))","v":"MC"},{"$f":"IFERROR(HYPERLINK(\"#'Exiting (FS009)'!\"&ADDRESS(ROW(INDEX(CurrentListing,MATCH(AJ68,CurrentListing,0),1)),25),AE68),HYPERLINK(\"#'Exiting (FS009)'!\"&\"$AA$10\",AE68))","v":"MC"},null,null,null,null,null,null,null,"D68",{"$f":"IF(OR($D$68=\"\",$D$68=\"-9\"),0,IF(SUM(B68:C68)<>$D$68,1,0))","v":1},"MC","C",{"$f":"IF(OR($D$68=\"\",$D$68=\"No Data\"),\"\",IF(SUM(B68:C68)<>$D$68,\"Sum of reached maximum age for all sex categories (B68:C68) ≠ Subtotal (D68)\",\"\"))","v":"Sum of reached maximum age for all sex categories (B68:C68) ≠ Subtotal (D68)"},null,null,null,null,null,null,null,null,null,null,null,"Reached maximum age","MC","MC","MC",null,null,"MRMAN","FRMAN","RMAY"]
["Died",{"$f":"IFERROR(HYPERLINK(\"#'Exiting (FS009)'!\"&ADDRESS(ROW(INDEX(CurrentListing,MATCH(AH69,CurrentListing,0),1)),25),AC69),HYPERLINK(\"#'Exiting (FS009)'!\"&\"$AA$10\",AC69))","v":"MC"},{"$f":"IFERROR(HYPERLINK(\"#'Exiting (FS009)'!\"&ADDRESS(ROW(INDEX(CurrentListing,MATCH(AI69,CurrentListing,0),1)),25),AD69),HYPERLINK(\"#'Exiting (FS009)'!\"&\"$AA$10\",AD69))","v":"MC"},{"$f":"IFERROR(HYPERLINK(\"#'Exiting (FS009)'!\"&ADDRESS(ROW(INDEX(CurrentListing,MATCH(AJ69,CurrentListing,0),1)),25),AE69),HYPERLINK(\"#'Exiting (FS009)'!\"&\"$AA$10\",AE69))","v":"MC"},null,null,null,null,null,null,null,"D69",{"$f":"IF(OR($D$69=\"\",$D$69=\"-9\"),0,IF(SUM(B69:C69)<>$D$69,1,0))","v":1},"MC","C",{"$f":"IF(OR($D$69=\"\",$D$69=\"No Data\"),\"\",IF(SUM(B69:C69)<>$D$69,\"Sum of died for all sex categories (B69:C69) ≠ Subtotal (D69)\",\"\"))","v":"Sum of died for all sex categories (B69:C69) ≠ Subtotal (D69)"},null,null,null,null,null,null,null,null,null,null,null,"Died","MC","MC","MC",null,null,"MDN","FDN","DY"]
["Moved, known to be continuing",{"$f":"IFERROR(HYPERLINK(\"#'Exiting (FS009)'!\"&ADDRESS(ROW(INDEX(CurrentListing,MATCH(AH70,CurrentListing,0),1)),25),AC70),HYPERLINK(\"#'Exiting (FS009)'!\"&\"$AA$10\",AC70))","v":"MC"},{"$f":"IFERROR(HYPERLINK(\"#'Exiting (FS009)'!\"&ADDRESS(ROW(INDEX(CurrentListing,MATCH(AI70,CurrentListing,0),1)),25),AD70),HYPERLINK(\"#'Exiting (FS009)'!\"&\"$AA$10\",AD70))","v":"MC"},{"$f":"IFERROR(HYPERLINK(\"#'Exiting (FS009)'!\"&ADDRESS(ROW(INDEX(CurrentListing,MATCH(AJ70,CurrentListing,0),1)),25),AE70),HYPERLINK(\"#'Exiting (FS009)'!\"&\"$AA$10\",AE70))","v":"MC"},null,null,null,null,null,null,null,"D70",{"$f":"IF(OR($D$70=\"\",$D$70=\"-9\"),0,IF(SUM(B70:C70)<>$D$70,1,0))","v":1},"MC","C",{"$f":"IF(OR($D$70=\"\",$D$70=\"No Data\"),\"\",IF(SUM(B70:C70)<>$D$70,\"Sum of moved, known to be continuing for all sex categories (B70:C70) ≠ Subtotal (D70)\",\"\"))","v":"Sum of moved, known to be continuing for all sex categories (B70:C70) ≠ Subtotal (D70)"},null,null,null,null,null,null,null,null,null,null,null,"Moved, know to be continuing","MC","MC","MC",null,null,"MMKCN","FMKCN","MKCY"]
["Dropped out",{"$f":"IFERROR(HYPERLINK(\"#'Exiting (FS009)'!\"&ADDRESS(ROW(INDEX(CurrentListing,MATCH(AH71,CurrentListing,0),1)),25),AC71),HYPERLINK(\"#'Exiting (FS009)'!\"&\"$AA$10\",AC71))","v":"MC"},{"$f":"IFERROR(HYPERLINK(\"#'Exiting (FS009)'!\"&ADDRESS(ROW(INDEX(CurrentListing,MATCH(AI71,CurrentListing,0),1)),25),AD71),HYPERLINK(\"#'Exiting (FS009)'!\"&\"$AA$10\",AD71))","v":"MC"},{"$f":"IFERROR(HYPERLINK(\"#'Exiting (FS009)'!\"&ADDRESS(ROW(INDEX(CurrentListing,MATCH(AJ71,CurrentListing,0),1)),25),AE71),HYPERLINK(\"#'Exiting (FS009)'!\"&\"$AA$10\",AE71))","v":"MC"},null,null,null,null,null,null,null,"D71",{"$f":"IF(OR($D$71=\"\",$D$71=\"-9\"),0,IF(SUM(B71:C71)<>$D$71,1,0))","v":1},"MC","C",{"$f":"IF(OR($D$71=\"\",$D$71=\"-9\"),\"\",IF(SUM(B71:C71)<>$D$71,\"Sum of dropped out for all sex categories (B71:C71) ≠ Subtotal (D71)\",\"\"))","v":"Sum of dropped out for all sex categories (B71:C71) ≠ Subtotal (D71)"},null,null,null,null,null,null,null,null,null,null,null,"Dropped out","MC","MC","MC",null,null,"MDROPOUTN","FDROPOUTN","DROPOUTY"]
["Total",{"$f":"IFERROR(HYPERLINK(\"#'Exiting (FS009)'!\"&ADDRESS(ROW(INDEX(CurrentListing,MATCH(AH72,CurrentListing,0),1)),25),AC72),HYPERLINK(\"#'Exiting (FS009)'!\"&\"$AA$10\",AC72))","v":"MC"},{"$f":"IFERROR(HYPERLINK(\"#'Exiting (FS009)'!\"&ADDRESS(ROW(INDEX(CurrentListing,MATCH(AI72,CurrentListing,0),1)),25),AD72),HYPERLINK(\"#'Exiting (FS009)'!\"&\"$AA$10\",AD72))","v":"MC"},{"$f":"IF(AND($B$72=\"MC\",$C$72=\"MC\"),\"\",SUM(B64:C71))","v":""},null,null,null,null,null,null,null,"D72",{"$f":"IF(OR($D$72=\"\",$D$72=\"-9\"),0,IF(OR(SUM(D64:D71)<>$D$72,SUM(B72:C72)<>$D$72),1,0))","v":0},"","C",{"$f":"IF(OR($D$72=\"\",$D$72=\"No Data\"),\"\",IF(AND(SUM(D64:D71)<>$D$72,SUM(B72:C72)<>$D$72), \"Sum of subtotals for exit categories (D64:D71) and gender categories (B72:C72) ≠ Calculated total (D72)\", IF(OR($D$72=\"\",$D$72=\"No Data\"),\"\",IF(SUM(D64:D71)<>$D$72, \"Sum of subtotals for exit categories (D64:D71) ≠ Calculated total (D72)\", IF(OR($D$72=\"\",$D$72=\"No Data\"),\"\",IF(SUM(B72:C72)<>$D$72, \"Sum of subtotals for gender categories (B72:C72) ≠ Calculated total (D72)\", \"\"))))))","v":""},null,null,null,null,null,null,null,null,null,null,null,"Total","MC","MC","MC",null,null,"MY","FY","Y"]
[]
["Percent by basis of exit","Sex"]
[null,"Male\n(percent)","Female\n(percent)","Total\n(percent)",null,null,null,null,null,null,null,"B72",{"$f":"IF(OR($B$72=\"\",$B$72=\"-9\"),0,IF(SUM($B$64:$B$71)<>$B$72,1,0))","v":1},{"$f":"B72","v":"MC"},"C",{"$f":"IF(OR($B$72=\"\",$B$72=\"-9\"),\"\",IF(SUM($B$64:$B$71)<>$B$72,\"Sum of exit categories for males (B64:B71) ≠ Subtotal (B72)\",\"\"))","v":"Sum of exit categories for males (B64:B71) ≠ Subtotal (B72)"}]
["Transferred to regular education",{"$f":"IFERROR(IF($D64<>0,B64/$D64,0),\"\")","v":""},"",{"$f":"IF(SUM(B76,C76), SUM(B76,C76), \"\")","v":""},null,null,null,null,null,null,null,"C72",{"$f":"IF(OR($C$72=\"\",$C$72=\"-9\"),0,IF(SUM($C$64:$C$71)<>$C$72,1,0))","v":1},{"$f":"C72","v":"MC"},"C",{"$f":"IF(OR($C$72=\"\",$C$72=\"No data\"),\"\",IF(SUM($C$64:$C$71)<>$C$72,\"Sum of exit categories for females (C64:C71) ≠ Subtotal (C72)\",\"\"))","v":"Sum of exit categories for females (C64:C71) ≠ Subtotal (C72)"}]
["Graduated with regular high school diploma","","",{"$f":"IF(SUM(B77,C77), SUM(B77,C77), \"\")","v":""},null,null,null,null,null,null,null,"D72",{"$f":"IF(OR($D$72=\"\",$D$72=\"-9\"),0,IF(OR($J$22<>$D$72,$I$47<>$D$72,$D$97<>$D$72),1,0))","v":0},{"$f":"D72","v":""},"C",{"$f":"IF(OR($D$72=\"\",$D$72=\"No Data\"),\"\",IF(OR($J$22<>$D$72,$I$47<>$D$72,$D$97<>$D$72),\"Calculated total for category Set C (D72) ≠ Calculated total for category Set A (J22), Set B (I47), or Set D (D97)\",\"\"))","v":""}]
["Graduated with an alternate diploma","","",{"$f":"IF(SUM(B78,C78), SUM(B78,C78), \"\")","v":""}]
["Received a certificate","","",""]
["Reached maximum age","","",""]
["Died","","",""]
["Moved, known to be continuing","","",""]
["Dropped out","","",""]
["Total","","",""]
[]
["Category Set D – Children with disabilities (IDEA) exiting special education for all disabilities, by English learner status and basis of exit",null,null,null,null,null,null,null,null,null,null,null,null,null,null,null,null,null,null,null,null,null,null,null,null,null,null,"Category Set D - Student counts for Children with Disabilities (IDEA) exiting special education by basis of exit and LEP Status"]
["Student count by basis of exit","English learner status"]
[null,"English learner","Non-English learner ","Total",null,null,null,null,null,null,null,null,null,null,null,"Error Messages",null,null,null,null,null,null,null,null,null,null,null,"Student counts by basis of exit","Limited English proficient (LEP) Student","Non-limited English proficient (non-LEP) Student","Total"]
["Transferred to regular education",{"$f":"IFERROR(HYPERLINK(\"#'Exiting (FS009)'!\"&ADDRESS(ROW(INDEX(CurrentListing,MATCH(AH89,CurrentListing,0),1)),25),AC89),HYPERLINK(\"#'Exiting (FS009)'!\"&\"$AA$10\",AC89))","v":"MC"},{"$f":"IFERROR(HYPERLINK(\"#'Exiting (FS009)'!\"&ADDRESS(ROW(INDEX(CurrentListing,MATCH(AI89,CurrentListing,0),1)),25),AD89),HYPERLINK(\"#'Exiting (FS009)'!\"&\"$AA$10\",AD89))","v":"MC"},{"$f":"IFERROR(HYPERLINK(\"#'Exiting (FS009)'!\"&ADDRESS(ROW(INDEX(CurrentListing,MATCH(AJ89,CurrentListing,0),1)),25),AE89),HYPERLINK(\"#'Exiting (FS009)'!\"&\"$AA$10\",AE89))","v":"MC"},null,null,null,null,null,null,null,"D89",{"$f":"IF(OR($D$89=\"\",$D$89=\"-9\"),0,IF(SUM(B89:C89)<>$D$89,1,0))","v":1},{"$f":"D89","v":"MC"},"D",{"$f":"IF(OR($D$89=\"\",$D$89=\"No Data\"),\"\",IF(SUM(B89:C89)<>$D$89,\"Sum of transferred to regular education for all LEP categories (B89:C89) ≠ Subtotal (D89)\",\"\"))","v":"Sum of transferred to regular education for all LEP categories (B89:C89) ≠ Subtotal (D89)"},null,null,null,null,null,null,null,null,null,null,null,"Transferred to regular education",{"$f":"IFERROR(IF(INDEX(StudCntC009,MATCH(AH89,CurrentListing,0))=\"\",\"No Data\",INDEX(StudCntC009,MATCH(AH89,CurrentListing,0))),\"MC\")","v":"MC"},"MC","MC",null,null,"LEPTRANN","NLEPTRANN","TRANY"]
["Graduated with regular high school diploma",{"$f":"IFERROR(HYPERLINK(\"#'Exiting (FS009)'!\"&ADDRESS(ROW(INDEX(CurrentListing,MATCH(AH90,CurrentListing,0),1)),25),AC90),HYPERLINK(\"#'Exiting (FS009)'!\"&\"$AA$10\",AC90))","v":"MC"},{"$f":"IFERROR(HYPERLINK(\"#'Exiting (FS009)'!\"&ADDRESS(ROW(INDEX(CurrentListing,MATCH(AI90,CurrentListing,0),1)),25),AD90),HYPERLINK(\"#'Exiting (FS009)'!\"&\"$AA$10\",AD90))","v":"MC"},{"$f":"IFERROR(HYPERLINK(\"#'Exiting (FS009)'!\"&ADDRESS(ROW(INDEX(CurrentListing,MATCH(AJ90,CurrentListing,0),1)),25),AE90),HYPERLINK(\"#'Exiting (FS009)'!\"&\"$AA$10\",AE90))","v":"MC"},null,null,null,null,null,null,null,"D90",{"$f":"IF(OR($D$90=\"\",$D$90=\"-9\"),0,IF(SUM(B90:C90)<>$D$90,1,0))","v":1},{"$f":"D90","v":"MC"},"D",{"$f":"IF(OR($D$90=\"\",$D$90=\"No Data\"),\"\",IF(SUM(B90:C90)<>$D$90,\"Sum of graduated with regular high school diploma for all LEP categories (B90:C90) ≠ Subtotal (D90)\",\"\"))","v":"Sum of graduated with regular high school diploma for all LEP categories (B90:C90) ≠ Subtotal (D90)"},null,null,null,null,null,null,null,null,null,null,null,"Graduated with regular high school diploma","MC","MC","MC",null,null,"LEPGHSN","NLEPGHSN","GHSY"]
["Graduated with an alternate diploma",{"$f":"IFERROR(HYPERLINK(\"#'Exiting (FS009)'!\"&ADDRESS(ROW(INDEX(CurrentListing,MATCH(AH91,CurrentListing,0),1)),25),AC91),HYPERLINK(\"#'Exiting (FS009)'!\"&\"$AA$10\",AC91))","v":"MC"},{"$f":"IFERROR(HYPERLINK(\"#'Exiting (FS009)'!\"&ADDRESS(ROW(INDEX(CurrentListing,MATCH(AI91,CurrentListing,0),1)),25),AD91),HYPERLINK(\"#'Exiting (FS009)'!\"&\"$AA$10\",AD91))","v":"MC"},{"$f":"IFERROR(HYPERLINK(\"#'Exiting (FS009)'!\"&ADDRESS(ROW(INDEX(CurrentListing,MATCH(AJ91,CurrentListing,0),1)),25),AE91),HYPERLINK(\"#'Exiting (FS009)'!\"&\"$AA$10\",AE91))","v":"MC"},null,null,null,null,null,null,null,"D91",{"$f":"IF(OR($D$91=\"\",$D$91=\"-9\"),0,IF(SUM(B91:C91)<>$D$91,1,0))","v":1},"MC","D",{"$f":"IF(OR($D$91=\"\",$D$91=\"No Data\"),\"\",IF(SUM(B91:C91)<>$D$91,\"Sum of graduated with an alternate diploma for all LEP categories (B91:C91) ≠ Subtotal (D91)\",\"\"))","v":"Sum of graduated with an alternate diploma for all LEP categories (B91:C91) ≠ Subtotal (D91)"},null,null,null,null,null,null,null,null,null,null,null,"Graduated with an alternate diploma",{"$f":"IFERROR(IF(INDEX(StudCntC009,MATCH(AH91,CurrentListing,0))=\"\",\"No Data\",INDEX(StudCntC009,MATCH(AH91,CurrentListing,0))),\"MC\")","v":"MC"},"MC","MC",null,null,"LEPGRADALTDPLN","NLEPGRADALTDPLN","GRADALTDPLY"]
["Received a certificate",{"$f":"IFERROR(HYPERLINK(\"#'Exiting (FS009)'!\"&ADDRESS(ROW(INDEX(CurrentListing,MATCH(AH92,CurrentListing,0),1)),25),AC92),HYPERLINK(\"#'Exiting (FS009)'!\"&\"$AA$10\",AC92))","v":"MC"},{"$f":"IFERROR(HYPERLINK(\"#'Exiting (FS009)'!\"&ADDRESS(ROW(INDEX(CurrentListing,MATCH(AI92,CurrentListing,0),1)),25),AD92),HYPERLINK(\"#'Exiting (FS009)'!\"&\"$AA$10\",AD92))","v":"MC"},{"$f":"IFERROR(HYPERLINK(\"#'Exiting (FS009)'!\"&ADDRESS(ROW(INDEX(CurrentListing,MATCH(AJ92,CurrentListing,0),1)),25),AE92),HYPERLINK(\"#'Exiting (FS009)'!\"&\"$AA$10\",AE92))","v":"MC"},null,null,null,null,null,null,null,"D92",{"$f":"IF(OR($D$92=\"\",$D$92=\"-9\"),0,IF(SUM(B92:C92)<>$D$92,1,0))","v":1},"MC","D",{"$f":"IF(OR($D$92=\"\",$D$92=\"No Data\"),\"\",IF(SUM(B92:C92)<>$D$92,\"Sum of received a certificate for all LEP categories (B92:C92) ≠ Subtotal (D92)\",\"\"))","v":"Sum of received a certificate for all LEP categories (B92:C92) ≠ Subtotal (D92)"},null,null,null,null,null,null,null,null,null,null,null,"Received a certificate","MC","MC","MC",null,null,"LEPRCN","NLEPRCN","RCY"]
["Reached maximum age",{"$f":"IFERROR(HYPERLINK(\"#'Exiting (FS009)'!\"&ADDRESS(ROW(INDEX(CurrentListing,MATCH(AH93,CurrentListing,0),1)),25),AC93),HYPERLINK(\"#'Exiting (FS009)'!\"&\"$AA$10\",AC93))","v":"MC"},{"$f":"IFERROR(HYPERLINK(\"#'Exiting (FS009)'!\"&ADDRESS(ROW(INDEX(CurrentListing,MATCH(AI93,CurrentListing,0),1)),25),AD93),HYPERLINK(\"#'Exiting (FS009)'!\"&\"$AA$10\",AD93))","v":"MC"},{"$f":"IFERROR(HYPERLINK(\"#'Exiting (FS009)'!\"&ADDRESS(ROW(INDEX(CurrentListing,MATCH(AJ93,CurrentListing,0),1)),25),AE93),HYPERLINK(\"#'Exiting (FS009)'!\"&\"$AA$10\",AE93))","v":"MC"},null,null,null,null,null,null,null,"D93",{"$f":"IF(OR($D$93=\"\",$D$93=\"-9\"),0,IF(SUM(B93:C93)<>$D$93,1,0))","v":1},"MC","D",{"$f":"IF(OR($D$93=\"\",$D$93=\"No Data\"),\"\",IF(SUM(B93:C93)<>$D$93,\"Sum of reached maximum age for all LEP categories (B93:C93) ≠ Subtotal (D93)\",\"\"))","v":"Sum of reached maximum age for all LEP categories (B93:C93) ≠ Subtotal (D93)"},null,null,null,null,null,null,null,null,null,null,null,"Reached maximum age","MC","MC","MC",null,null,"LEPRMAN","NLEPRMAN","RMAY"]
["Died",{"$f":"IFERROR(HYPERLINK(\"#'Exiting (FS009)'!\"&ADDRESS(ROW(INDEX(CurrentListing,MATCH(AH94,CurrentListing,0),1)),25),AC94),HYPERLINK(\"#'Exiting (FS009)'!\"&\"$AA$10\",AC94))","v":"MC"},{"$f":"IFERROR(HYPERLINK(\"#'Exiting (FS009)'!\"&ADDRESS(ROW(INDEX(CurrentListing,MATCH(AI94,CurrentListing,0),1)),25),AD94),HYPERLINK(\"#'Exiting (FS009)'!\"&\"$AA$10\",AD94))","v":"MC"},{"$f":"IFERROR(HYPERLINK(\"#'Exiting (FS009)'!\"&ADDRESS(ROW(INDEX(CurrentListing,MATCH(AJ94,CurrentListing,0),1)),25),AE94),HYPERLINK(\"#'Exiting (FS009)'!\"&\"$AA$10\",AE94))","v":"MC"},null,null,null,null,null,null,null,"D94",{"$f":"IF(OR($D$94=\"\",$D$94=\"-9\"),0,IF(SUM(B94:C94)<>$D$94,1,0))","v":1},"MC","D",{"$f":"IF(OR($D$94=\"\",$D$94=\"No Data\"),\"\",IF(SUM(B94:C94)<>$D$94,\"Sum of died for all LEP categories (B94:C94) ≠ Subtotal (D94)\",\"\"))","v":"Sum of died for all LEP categories (B94:C94) ≠ Subtotal (D94)"},null,null,null,null,null,null,null,null,null,null,null,"Died","MC","MC","MC",null,null,"LEPDN","NLEPDN","DY"]
["Moved, known to be continuing",{"$f":"IFERROR(HYPERLINK(\"#'Exiting (FS009)'!\"&ADDRESS(ROW(INDEX(CurrentListing,MATCH(AH95,CurrentListing,0),1)),25),AC95),HYPERLINK(\"#'Exiting (FS009)'!\"&\"$AA$10\",AC95))","v":"MC"},{"$f":"IFERROR(HYPERLINK(\"#'Exiting (FS009)'!\"&ADDRESS(ROW(INDEX(CurrentListing,MATCH(AI95,CurrentListing,0),1)),25),AD95),HYPERLINK(\"#'Exiting (FS009)'!\"&\"$AA$10\",AD95))","v":"MC"},{"$f":"IFERROR(HYPERLINK(\"#'Exiting (FS009)'!\"&ADDRESS(ROW(INDEX(CurrentListing,MATCH(AJ95,CurrentListing,0),1)),25),AE95),HYPERLINK(\"#'Exiting (FS009)'!\"&\"$AA$10\",AE95))","v":"MC"},null,null,null,null,null,null,null,"D95",{"$f":"IF(OR($D$95=\"\",$D$95=\"-9\"),0,IF(SUM(B95:C95)<>$D$95,1,0))","v":1},"MC","D",{"$f":"IF(OR($D$95=\"\",$D$95=\"No Data\"),\"\",IF(SUM(B95:C95)<>$D$95,\"Sum of moved, known to be continuing for all LEP categories (B95:C95) ≠ Subtotal (D95)\",\"\"))","v":"Sum of moved, known to be continuing for all LEP categories (B95:C95) ≠ Subtotal (D95)"},null,null,null,null,null,null,null,null,null,null,null,"Moved, know to be continuing","MC","MC","MC",null,null,"LEPMKCN","NLEPMKCN","MKCY"]
["Dropped out",{"$f":"IFERROR(HYPERLINK(\"#'Exiting (FS009)'!\"&ADDRESS(ROW(INDEX(CurrentListing,MATCH(AH96,CurrentListing,0),1)),25),AC96),HYPERLINK(\"#'Exiting (FS009)'!\"&\"$AA$10\",AC96))","v":"MC"},{"$f":"IFERROR(HYPERLINK(\"#'Exiting (FS009)'!\"&ADDRESS(ROW(INDEX(CurrentListing,MATCH(AI96,CurrentListing,0),1)),25),AD96),HYPERLINK(\"#'Exiting (FS009)'!\"&\"$AA$10\",AD96))","v":"MC"},{"$f":"IFERROR(HYPERLINK(\"#'Exiting (FS009)'!\"&ADDRESS(ROW(INDEX(CurrentListing,MATCH(AJ96,CurrentListing,0),1)),25),AE96),HYPERLINK(\"#'Exiting (FS009)'!\"&\"$AA$10\",AE96))","v":"MC"},null,null,null,null,null,null,null,"D96",{"$f":"IF(OR($D$96=\"\",$D$96=\"-9\"),0,IF(SUM(B96:C96)<>$D$96,1,0))","v":1},"MC","D",{"$f":"IF(OR($D$96=\"\",$D$96=\"No Data\"),\"\",IF(SUM(B96:C96)<>$D$96,\"Sum of dropped out for all LEP categories (B96:C96) ≠ Subtotal (D96)\",\"\"))","v":"Sum of dropped out for all LEP categories (B96:C96) ≠ Subtotal (D96)"},null,null,null,null,null,null,null,null,null,null,null,"Dropped out","MC","MC","MC",null,null,"LEPDROPOUTN","NLEPDROPOUTN","DROPOUTY"]
["Total",{"$f":"IFERROR(HYPERLINK(\"#'Exiting (FS009)'!\"&ADDRESS(ROW(INDEX(CurrentListing,MATCH(AH97,CurrentListing,0),1)),25),AC97),HYPERLINK(\"#'Exiting (FS009)'!\"&\"$AA$10\",AC97))","v":"MC"},{"$f":"IFERROR(HYPERLINK(\"#'Exiting (FS009)'!\"&ADDRESS(ROW(INDEX(CurrentListing,MATCH(AI97,CurrentListing,0),1)),25),AD97),HYPERLINK(\"#'Exiting (FS009)'!\"&\"$AA$10\",AD97))","v":"MC"},{"$f":"IF(AND($B$97=\"MC\",$C$97=\"MC\"),\"\",SUM(B89:C96))","v":""},null,null,null,null,null,null,null,"D97",{"$f":"IF(OR($D$97=\"\",$D$97=\"-9\"),0,IF(OR(SUM(D89:D96)<>$D$97,SUM(B97:C97)<>$D$97),1,0))","v":0},"","D",{"$f":"IF(OR($D$97=\"\",$D$97=\"No Data\"),\"\",IF(AND(SUM(D89:D96)<>$D$97,SUM(B97:C97)<>$D$97), \"Sum of calculated subtotals for exit categories (D89:D96) and LEP categories (B97:C97) ≠ Calculated total (D97)\", IF(OR($D$97=\"\",$D$97=\"No Data\"),\"\",IF(SUM(D89:D96)<>$D$97, \"Sum of calculated subtotals for exit categories (D83:D89) ≠ Calculated total (D90)\", IF(OR($D$97=\"\",$D$97=\"No Data\"),\"\",IF(SUM(B97:C97)<>$D$97, \"Sum of calculated subtotals for LEP categories (B97:C97) ≠ Calculated total (D97)\", \"\"))))))","v":""},null,null,null,null,null,null,null,null,null,null,null,"Total","MC","MC","MC",{"$f":"SUM(AC89:AD96)","v":0},null,"LEPY","NLEPY","Y"]
[]
["Percent by basis of exit","English learner status"]
[null,"English learner\n(percent)","Non-English learner \n(percent)","Total\n(percent)",null,null,null,null,null,null,null,"B97",{"$f":"IF(OR($B$97=\"\",$B$97=\"-9\"),0,IF(SUM($B$89:$B$96)<>$B$97,1,0))","v":1},{"$f":"B97","v":"MC"},"D",{"$f":"IF(OR($B$97=\"\",$B$97=\"No Data\"),\"\",IF(SUM($B$89:$B$96)<>$B$97,\"Sum of exit categories for LEP (B89:B96) ≠ Subtotal (B97)\",\"\"))","v":"Sum of exit categories for LEP (B89:B96) ≠ Subtotal (B97)"}]
["Transferred to regular education",{"$f":"IFERROR(IF($D89<>0,B89/$D89,0),\"\")","v":""},"",{"$f":"IF(SUM(B101,C101), SUM(B101,C101), \"\")","v":""},null,null,null,null,null,null,null,"C97",{"$f":"IF(OR($C$97=\"\",$C$97=\"-9\"),0,IF(SUM($C$89:$C$96)<>$C$97,1,0))","v":1},{"$f":"C97","v":"MC"},"D",{"$f":"IF(OR($C$97=\"\",$C$97=\"No Data\"),\"\",IF(SUM($C$89:$C$96)<>$C$97,\"Sum of exit categories for NLEP (C89:C96) ≠ Subtotal (C97)\",\"\"))","v":"Sum of exit categories for NLEP (C89:C96) ≠ Subtotal (C97)"}]
["Graduated with regular high school diploma","","",{"$f":"IF(SUM(B102,C102), SUM(B102,C102), \"\")","v":""},null,null,null,null,null,null,null,"D97",{"$f":"IF(OR($D$97=\"\",$D$97=\"-9\"),0,IF(OR($J$22<>$D$97,$I$47<>$D$97,$D$72<>$D$97),1,0))","v":0},{"$f":"D97","v":""},"D",{"$f":"IF(OR($D$97=\"\",$D$97=\"No Data\"),\"\",IF(OR($J$22<>$D$97,$I$47<>$D$97,$D$72<>$D$97),\"Calculated total for Category Set D (D97) ≠ Calculated totals for category Set A (J22), Set B (I47), or Set C (D72)\",\"\"))","v":""}]
["Graduated with an alternate diploma","","",{"$f":"IF(SUM(B103,C103), SUM(B103,C103), \"\")","v":""}]
["Received a certificate","","",""]
["Reached maximum age","","",""]
["Died","","",""]
["Moved, known to be continuing","","",""]
["Dropped out","","",""]
["Total","","",""]
[]
["NOTE: MC = missing category."]
[]
["End of worksheet"]

{"sheet":"Category Set A by Age","index":5,"n_rows":218,"n_cols":43,"rows_kept":218,"cut":false,"hidden":false,"merged":[[11,9,11,11],[0,0,0,13],[4,9,4,11],[3,9,3,11],[2,9,2,11],[9,9,9,11],[8,9,8,11],[7,9,7,11],[6,9,6,11],[5,9,5,11],[10,9,10,11],[16,29,17,29],[141,0,142,0],[141,1,141,13],[141,16,141,18],[152,0,152,13],[139,0,139,13],[66,0,67,0],[66,1,66,13],[102,0,102,13],[114,0,114,13],[115,0,115,13],[78,0,79,0],[103,0,104,0],[103,1,103,13],[65,0,65,13],[16,0,17,0],[153,0,154,0],[153,1,153,13],[164,0,164,13],[165,0,165,13],[166,0,167,0],[166,1,166,13],[166,16,166,18],[16,30,16,42],[16,16,16,18],[15,0,15,13],[0,14,217,14],[217,0,217,13],[191,16,191,18],[202,0,202,13],[203,0,204,0],[203,1,203,13],[178,0,179,0],[178,1,178,13],[189,0,189,13],[190,0,190,13],[191,0,192,0],[191,1,191,13],[177,0,177,13],[140,0,140,13],[66,16,66,18],[77,0,77,13],[78,1,78,13],[89,0,89,13],[90,0,90,13],[91,0,92,0],[91,1,91,13],[91,16,91,18],[116,0,117,0],[116,1,116,13],[116,16,116,18],[127,0,127,13],[128,0,129,0],[128,1,128,13],[16,1,16,13],[41,16,41,18],[40,0,40,13],[39,0,39,13],[28,0,29,0],[28,1,28,13],[64,0,64,13],[41,0,42,0],[41,1,41,13],[53,0,54,0],[53,1,53,13],[41,29,42,29],[41,30,41,42],[66,29,67,29],[66,30,66,42],[91,29,92,29],[91,30,91,42],[191,29,192,29],[191,30,191,42],[116,29,117,29],[116,30,116,42],[141,29,142,29],[141,30,141,42],[166,29,167,29],[166,30,166,42]]}
[{"$f":"\"IDEA Exiting Data for School Year \"&'Exiting (FS009)'!E12","v":"IDEA Exiting Data for School Year "},null,null,null,null,null,null,null,null,null,null,null,null,null,"End of worksheet",null,{"$f":"Subtotals!Q1","v":"MC"},{"$f":"Subtotals!R1","v":"Y"},null,null,null,null,null,11698]
[]
[null,null,null,null,null,null,null,null,null,"Age",null,null,"Calculated total for Category \nSet A","Subtotals by age from FS009",null,null,null,null,null,null,null,null,null,null,0]
[null,null,null,null,null,null,null,null,null,"Age 14",null,null,{"$f":"N27","v":""},{"$f":"IFERROR(HYPERLINK(\"#'Exiting (FS009)'!\"&ADDRESS(ROW(INDEX(CurrentListing,MATCH('Category Set A by Age'!AC27,CurrentListing,0),1)),25),AQ27),HYPERLINK(\"#'Exiting (FS009)'!\"&\"$AA$8\",AQ27))","v":"MC"},null,null,null,null,"Total of the Education Units",null,null,null,null,null,0]
[null,null,null,null,null,null,null,null,null,"Age 15",null,null,{"$f":"N52","v":""},{"$f":"IFERROR(HYPERLINK(\"#'Exiting (FS009)'!\"&ADDRESS(ROW(INDEX(CurrentListing,MATCH('Category Set A by Age'!AC52,CurrentListing,0),1)),25),AQ52),HYPERLINK(\"#'Exiting (FS009)'!\"&\"$AA$8\",AQ52))","v":"MC"}]
[null,null,null,null,null,null,null,null,null,"Age 16",null,null,{"$f":"N77","v":""},{"$f":"IFERROR(HYPERLINK(\"#'Exiting (FS009)'!\"&ADDRESS(ROW(INDEX(CurrentListing,MATCH('Category Set A by Age'!AC77,CurrentListing,0),1)),25),AQ77),HYPERLINK(\"#'Exiting (FS009)'!\"&\"$AA$8\",AQ77))","v":"MC"}]
[null,null,null,null,null,null,null,null,null,"Age 17",null,null,{"$f":"N102","v":""},{"$f":"IFERROR(HYPERLINK(\"#'Exiting (FS009)'!\"&ADDRESS(ROW(INDEX(CurrentListing,MATCH('Category Set A by Age'!AC102,CurrentListing,0),1)),25),AQ102),HYPERLINK(\"#'Exiting (FS009)'!\"&\"$AA$8\",AQ102))","v":"MC"}]
[null,null,null,null,null,null,null,null,null,"Age 18",null,null,{"$f":"N127","v":""},{"$f":"IFERROR(HYPERLINK(\"#'Exiting (FS009)'!\"&ADDRESS(ROW(INDEX(CurrentListing,MATCH('Category Set A by Age'!AC127,CurrentListing,0),1)),25),AQ127),HYPERLINK(\"#'Exiting (FS009)'!\"&\"$AA$8\",AQ127))","v":"MC"}]
[null,null,null,null,null,null,null,null,null,"Age 19",null,null,{"$f":"N152","v":""},{"$f":"IFERROR(HYPERLINK(\"#'Exiting (FS009)'!\"&ADDRESS(ROW(INDEX(CurrentListing,MATCH('Category Set A by Age'!AC152,CurrentListing,0),1)),25),AQ152),HYPERLINK(\"#'Exiting (FS009)'!\"&\"$AA$8\",AQ152))","v":"MC"}]
[null,null,null,null,null,null,null,null,null,"Age 20",null,null,{"$f":"N177","v":""},{"$f":"IFERROR(HYPERLINK(\"#'Exiting (FS009)'!\"&ADDRESS(ROW(INDEX(CurrentListing,MATCH('Category Set A by Age'!AC177,CurrentListing,0),1)),25),AQ177),HYPERLINK(\"#'Exiting (FS009)'!\"&\"$AA$8\",AQ177))","v":"MC"}]
[null,null,null,null,null,null,null,null,null,"Age 21",null,null,{"$f":"N202","v":""},{"$f":"IFERROR(HYPERLINK(\"#'Exiting (FS009)'!\"&ADDRESS(ROW(INDEX(CurrentListing,MATCH('Category Set A by Age'!AC202,CurrentListing,0),1)),25),AQ202),HYPERLINK(\"#'Exiting (FS009)'!\"&\"$AA$8\",AQ202))","v":"MC"}]
[null,null,null,null,null,null,null,null,null,"Calculated total by age",null,null,{"$f":"IF(SUM(M4:M11), SUM(M4:M11), \"\")","v":""}]
[]
[null,null,null,null,null,null,null,null,null,"Total of the education unit",null,null,null,{"$f":"IFERROR(HYPERLINK(\"#'Exiting (FS009)'!\"&ADDRESS(ROW(INDEX(CurrentListing,MATCH(R1,CurrentListing,0),1)),25),Q1),HYPERLINK(\"#'Exiting (FS009)'!\"&\"$AA$10\",Q1))","v":"MC"}]
[]
["Category Set A – Children with disabilities (IDEA) exiting special education, by age, disability category, and basis of exit"]
["Student count by basis of exit ","Age 14",null,null,null,null,null,null,null,null,null,null,null,null,null,null,"Age 14 Lookup",null,null,null,null,null,null,null,null,null,null,null,null,"Student counts by basis of exit","Age 14"]
[null,"Intellectual\ndisability","Hearing\nimpairment","Speech or\nlanguage\nimpairment","Visual\nimpairment","Emotional\ndisturbance","Orthopedic\nimpairment","Other\nhealth\nimpairment","Specific\nlearning\ndisability","Deaf-\nblindness","Multiple\ndisabilities","Autism","Traumatic\nbrain\ninjury","Total",null,null,null,null,null,null,null,null,null,null,null,null,null,null,null,null,"Intellectual\nDisability","Hearing\nImpairments","Speech or\nLanguage\nImpairments","Visual\nImpairments","Emotional\nDisturbance","Orthopedic\nImpairments","Other\nHealth\nImpairments","Specific\nLearning\nDisabilities","Deaf-\nBlindness","Multiple\nDisabilities","Autism","Traumatic\nBrain\nInjury","Total"]
["Transferred to regular education",{"$f":"IFERROR(HYPERLINK(\"#'Exiting (FS009)'!\"&ADDRESS(ROW(INDEX(CurrentListing,MATCH('Category Set A by Age'!Q19,CurrentListing,0),1)),25),AE19),HYPERLINK(\"#'Exiting (FS009)'!\"&\"$AA$10\",AE19))","v":"MC"},{"$f":"IFERROR(HYPERLINK(\"#'Exiting (FS009)'!\"&ADDRESS(ROW(INDEX(CurrentListing,MATCH('Category Set A by Age'!R19,CurrentListing,0),1)),25),AF19),HYPERLINK(\"#'Exiting (FS009)'!\"&\"$AA$10\",AF19))","v":"MC"},{"$f":"IFERROR(HYPERLINK(\"#'Exiting (FS009)'!\"&ADDRESS(ROW(INDEX(CurrentListing,MATCH('Category Set A by Age'!S19,CurrentListing,0),1)),25),AG19),HYPERLINK(\"#'Exiting (FS009)'!\"&\"$AA$10\",AG19))","v":"MC"},{"$f":"IFERROR(HYPERLINK(\"#'Exiting (FS009)'!\"&ADDRESS(ROW(INDEX(CurrentListing,MATCH('Category Set A by Age'!T19,CurrentListing,0),1)),25),AH19),HYPERLINK(\"#'Exiting (FS009)'!\"&\"$AA$10\",AH19))","v":"MC"},{"$f":"IFERROR(HYPERLINK(\"#'Exiting (FS009)'!\"&ADDRESS(ROW(INDEX(CurrentListing,MATCH('Category Set A by Age'!U19,CurrentListing,0),1)),25),AI19),HYPERLINK(\"#'Exiting (FS009)'!\"&\"$AA$10\",AI19))","v":"MC"},{"$f":"IFERROR(HYPERLINK(\"#'Exiting (FS009)'!\"&ADDRESS(ROW(INDEX(CurrentListing,MATCH('Category Set A by Age'!V19,CurrentListing,0),1)),25),AJ19),HYPERLINK(\"#'Exiting (FS009)'!\"&\"$AA$10\",AJ19))","v":"MC"},{"$f":"IFERROR(HYPERLINK(\"#'Exiting (FS009)'!\"&ADDRESS(ROW(INDEX(CurrentListing,MATCH('Category Set A by Age'!W19,CurrentListing,0),1)),25),AK19),HYPERLINK(\"#'Exiting (FS009)'!\"&\"$AA$10\",AK19))","v":"MC"},{"$f":"IFERROR(HYPERLINK(\"#'Exiting (FS009)'!\"&ADDRESS(ROW(INDEX(CurrentListing,MATCH('Category Set A by Age'!X19,CurrentListing,0),1)),25),AL19),HYPERLINK(\"#'Exiting (FS009)'!\"&\"$AA$10\",AL19))","v":"MC"},{"$f":"IFERROR(HYPERLINK(\"#'Exiting (FS009)'!\"&ADDRESS(ROW(INDEX(CurrentListing,MATCH('Category Set A by Age'!Y19,CurrentListing,0),1)),25),AM19),HYPERLINK(\"#'Exiting (FS009)'!\"&\"$AA$10\",AM19))","v":"MC"},{"$f":"IFERROR(HYPERLINK(\"#'Exiting (FS009)'!\"&ADDRESS(ROW(INDEX(CurrentListing,MATCH('Category Set A by Age'!Z19,CurrentListing,0),1)),25),AN19),HYPERLINK(\"#'Exiting (FS009)'!\"&\"$AA$10\",AN19))","v":"MC"},{"$f":"IFERROR(HYPERLINK(\"#'Exiting (FS009)'!\"&ADDRESS(ROW(INDEX(CurrentListing,MATCH('Category Set A by Age'!AA19,CurrentListing,0),1)),25),AO19),HYPERLINK(\"#'Exiting (FS009)'!\"&\"$AA$10\",AO19))","v":"MC"},{"$f":"IFERROR(HYPERLINK(\"#'Exiting (FS009)'!\"&ADDRESS(ROW(INDEX(CurrentListing,MATCH('Category Set A by Age'!AB19,CurrentListing,0),1)),25),AP19),HYPERLINK(\"#'Exiting (FS009)'!\"&\"$AA$10\",AP19))","v":"MC"},{"$f":"SUM(B19:M19)","v":0},null,null,"ID14TRANN","HI14TRANN","SLI14TRANN","VI14TRANN","EMN14TRANN","OI14TRANN","OHI14TRANN","SLD14TRANN","DB14TRANN","MD14TRANN","AUT14TRANN","TBI14TRANN",null,"Transferred to regular education",{"$f":"IFERROR(IF(INDEX(StudCntC009,MATCH(Q19,CurrentListing,0))=\"\",\"No Data\",INDEX(StudCntC009,MATCH(Q19,CurrentListing,0))),\"MC\")","v":"MC"},{"$f":"IFERROR(IF(INDEX(StudCntC009,MATCH(R19,CurrentListing,0))=\"\",\"No Data\",INDEX(StudCntC009,MATCH(R19,CurrentListing,0))),\"MC\")","v":"MC"},"MC","MC","MC","MC","MC","MC","MC","MC","MC","MC",{"$f":"SUM(AE19:AP19)","v":0}]
["Graduated with regular high school diploma",{"$f":"IFERROR(HYPERLINK(\"#'Exiting (FS009)'!\"&ADDRESS(ROW(INDEX(CurrentListing,MATCH('Category Set A by Age'!Q20,CurrentListing,0),1)),25),AE20),HYPERLINK(\"#'Exiting (FS009)'!\"&\"$AA$10\",AE20))","v":"MC"},{"$f":"IFERROR(HYPERLINK(\"#'Exiting (FS009)'!\"&ADDRESS(ROW(INDEX(CurrentListing,MATCH('Category Set A by Age'!R20,CurrentListing,0),1)),25),AF20),HYPERLINK(\"#'Exiting (FS009)'!\"&\"$AA$10\",AF20))","v":"MC"},{"$f":"IFERROR(HYPERLINK(\"#'Exiting (FS009)'!\"&ADDRESS(ROW(INDEX(CurrentListing,MATCH('Category Set A by Age'!S20,CurrentListing,0),1)),25),AG20),HYPERLINK(\"#'Exiting (FS009)'!\"&\"$AA$10\",AG20))","v":"MC"},{"$f":"IFERROR(HYPERLINK(\"#'Exiting (FS009)'!\"&ADDRESS(ROW(INDEX(CurrentListing,MATCH('Category Set A by Age'!T20,CurrentListing,0),1)),25),AH20),HYPERLINK(\"#'Exiting (FS009)'!\"&\"$AA$10\",AH20))","v":"MC"},{"$f":"IFERROR(HYPERLINK(\"#'Exiting (FS009)'!\"&ADDRESS(ROW(INDEX(CurrentListing,MATCH('Category Set A by Age'!U20,CurrentListing,0),1)),25),AI20),HYPERLINK(\"#'Exiting (FS009)'!\"&\"$AA$10\",AI20))","v":"MC"},{"$f":"IFERROR(HYPERLINK(\"#'Exiting (FS009)'!\"&ADDRESS(ROW(INDEX(CurrentListing,MATCH('Category Set A by Age'!V20,CurrentListing,0),1)),25),AJ20),HYPERLINK(\"#'Exiting (FS009)'!\"&\"$AA$10\",AJ20))","v":"MC"},{"$f":"IFERROR(HYPERLINK(\"#'Exiting (FS009)'!\"&ADDRESS(ROW(INDEX(CurrentListing,MATCH('Category Set A by Age'!W20,CurrentListing,0),1)),25),AK20),HYPERLINK(\"#'Exiting (FS009)'!\"&\"$AA$10\",AK20))","v":"MC"},{"$f":"IFERROR(HYPERLINK(\"#'Exiting (FS009)'!\"&ADDRESS(ROW(INDEX(CurrentListing,MATCH('Category Set A by Age'!X20,CurrentListing,0),1)),25),AL20),HYPERLINK(\"#'Exiting (FS009)'!\"&\"$AA$10\",AL20))","v":"MC"},{"$f":"IFERROR(HYPERLINK(\"#'Exiting (FS009)'!\"&ADDRESS(ROW(INDEX(CurrentListing,MATCH('Category Set A by Age'!Y20,CurrentListing,0),1)),25),AM20),HYPERLINK(\"#'Exiting (FS009)'!\"&\"$AA$10\",AM20))","v":"MC"},{"$f":"IFERROR(HYPERLINK(\"#'Exiting (FS009)'!\"&ADDRESS(ROW(INDEX(CurrentListing,MATCH('Category Set A by Age'!Z20,CurrentListing,0),1)),25),AN20),HYPERLINK(\"#'Exiting (FS009)'!\"&\"$AA$10\",AN20))","v":"MC"},{"$f":"IFERROR(HYPERLINK(\"#'Exiting (FS009)'!\"&ADDRESS(ROW(INDEX(CurrentListing,MATCH('Category Set A by Age'!AA20,CurrentListing,0),1)),25),AO20),HYPERLINK(\"#'Exiting (FS009)'!\"&\"$AA$10\",AO20))","v":"MC"},{"$f":"IFERROR(HYPERLINK(\"#'Exiting (FS009)'!\"&ADDRESS(ROW(INDEX(CurrentListing,MATCH('Category Set A by Age'!AB20,CurrentListing,0),1)),25),AP20),HYPERLINK(\"#'Exiting (FS009)'!\"&\"$AA$10\",AP20))","v":"MC"},{"$f":"SUM(B20:M20)","v":0},null,null,"ID14GHSN","HI14GHSN","SLI14GHSN","VI14GHSN","EMN14GHSN","OI14GHSN","OHI14GHSN","SLD14GHSN","DB14GHSN","MD14GHSN","AUT14GHSN","TBI14GHSN",null,"Graduated with regular high school diploma","MC","MC","MC","MC","MC","MC","MC","MC","MC","MC","MC","MC",{"$f":"SUM(AE20:AP20)","v":0}]
["Graduated with an alternate diploma",{"$f":"IFERROR(HYPERLINK(\"#'Exiting (FS009)'!\"&ADDRESS(ROW(INDEX(CurrentListing,MATCH('Category Set A by Age'!Q21,CurrentListing,0),1)),25),AE21),HYPERLINK(\"#'Exiting (FS009)'!\"&\"$AA$10\",AE21))","v":"MC"},{"$f":"IFERROR(HYPERLINK(\"#'Exiting (FS009)'!\"&ADDRESS(ROW(INDEX(CurrentListing,MATCH('Category Set A by Age'!R21,CurrentListing,0),1)),25),AF21),HYPERLINK(\"#'Exiting (FS009)'!\"&\"$AA$10\",AF21))","v":"MC"},{"$f":"IFERROR(HYPERLINK(\"#'Exiting (FS009)'!\"&ADDRESS(ROW(INDEX(CurrentListing,MATCH('Category Set A by Age'!S21,CurrentListing,0),1)),25),AG21),HYPERLINK(\"#'Exiting (FS009)'!\"&\"$AA$10\",AG21))","v":"MC"},{"$f":"IFERROR(HYPERLINK(\"#'Exiting (FS009)'!\"&ADDRESS(ROW(INDEX(CurrentListing,MATCH('Category Set A by Age'!T21,CurrentListing,0),1)),25),AH21),HYPERLINK(\"#'Exiting (FS009)'!\"&\"$AA$10\",AH21))","v":"MC"},{"$f":"IFERROR(HYPERLINK(\"#'Exiting (FS009)'!\"&ADDRESS(ROW(INDEX(CurrentListing,MATCH('Category Set A by Age'!U21,CurrentListing,0),1)),25),AI21),HYPERLINK(\"#'Exiting (FS009)'!\"&\"$AA$10\",AI21))","v":"MC"},{"$f":"IFERROR(HYPERLINK(\"#'Exiting (FS009)'!\"&ADDRESS(ROW(INDEX(CurrentListing,MATCH('Category Set A by Age'!V21,CurrentListing,0),1)),25),AJ21),HYPERLINK(\"#'Exiting (FS009)'!\"&\"$AA$10\",AJ21))","v":"MC"},{"$f":"IFERROR(HYPERLINK(\"#'Exiting (FS009)'!\"&ADDRESS(ROW(INDEX(CurrentListing,MATCH('Category Set A by Age'!W21,CurrentListing,0),1)),25),AK21),HYPERLINK(\"#'Exiting (FS009)'!\"&\"$AA$10\",AK21))","v":"MC"},{"$f":"IFERROR(HYPERLINK(\"#'Exiting (FS009)'!\"&ADDRESS(ROW(INDEX(CurrentListing,MATCH('Category Set A by Age'!X21,CurrentListing,0),1)),25),AL21),HYPERLINK(\"#'Exiting (FS009)'!\"&\"$AA$10\",AL21))","v":"MC"},{"$f":"IFERROR(HYPERLINK(\"#'Exiting (FS009)'!\"&ADDRESS(ROW(INDEX(CurrentListing,MATCH('Category Set A by Age'!Y21,CurrentListing,0),1)),25),AM21),HYPERLINK(\"#'Exiting (FS009)'!\"&\"$AA$10\",AM21))","v":"MC"},{"$f":"IFERROR(HYPERLINK(\"#'Exiting (FS009)'!\"&ADDRESS(ROW(INDEX(CurrentListing,MATCH('Category Set A by Age'!Z21,CurrentListing,0),1)),25),AN21),HYPERLINK(\"#'Exiting (FS009)'!\"&\"$AA$10\",AN21))","v":"MC"},{"$f":"IFERROR(HYPERLINK(\"#'Exiting (FS009)'!\"&ADDRESS(ROW(INDEX(CurrentListing,MATCH('Category Set A by Age'!AA21,CurrentListing,0),1)),25),AO21),HYPERLINK(\"#'Exiting (FS009)'!\"&\"$AA$10\",AO21))","v":"MC"},{"$f":"IFERROR(HYPERLINK(\"#'Exiting (FS009)'!\"&ADDRESS(ROW(INDEX(CurrentListing,MATCH('Category Set A by Age'!AB21,CurrentListing,0),1)),25),AP21),HYPERLINK(\"#'Exiting (FS009)'!\"&\"$AA$10\",AP21))","v":"MC"},0,null,null,"ID14GRADALTDPLN","HI14GRADALTDPLN","SLI14GRADALTDPLN","VI14GRADALTDPLN","EMN14GRADALTDPLN","OI14GRADALTDPLN","OHI14GRADALTDPLN","SLD14GRADALTDPLN","DB14GRADALTDPLN","MD14GRADALTDPLN","AUT14GRADALTDPLN","TBI14GRADALTDPLN",null,"Graduated with an alternate diploma",{"$f":"IFERROR(IF(INDEX(StudCntC009,MATCH(Q21,CurrentListing,0))=\"\",\"No Data\",INDEX(StudCntC009,MATCH(Q21,CurrentListing,0))),\"MC\")","v":"MC"},"MC","MC","MC","MC","MC","MC","MC","MC","MC","MC","MC",{"$f":"SUM(AE21:AP21)","v":0}]
["Received a certificate",{"$f":"IFERROR(HYPERLINK(\"#'Exiting (FS009)'!\"&ADDRESS(ROW(INDEX(CurrentListing,MATCH('Category Set A by Age'!Q22,CurrentListing,0),1)),25),AE22),HYPERLINK(\"#'Exiting (FS009)'!\"&\"$AA$10\",AE22))","v":"MC"},{"$f":"IFERROR(HYPERLINK(\"#'Exiting (FS009)'!\"&ADDRESS(ROW(INDEX(CurrentListing,MATCH('Category Set A by Age'!R22,CurrentListing,0),1)),25),AF22),HYPERLINK(\"#'Exiting (FS009)'!\"&\"$AA$10\",AF22))","v":"MC"},{"$f":"IFERROR(HYPERLINK(\"#'Exiting (FS009)'!\"&ADDRESS(ROW(INDEX(CurrentListing,MATCH('Category Set A by Age'!S22,CurrentListing,0),1)),25),AG22),HYPERLINK(\"#'Exiting (FS009)'!\"&\"$AA$10\",AG22))","v":"MC"},{"$f":"IFERROR(HYPERLINK(\"#'Exiting (FS009)'!\"&ADDRESS(ROW(INDEX(CurrentListing,MATCH('Category Set A by Age'!T22,CurrentListing,0),1)),25),AH22),HYPERLINK(\"#'Exiting (FS009)'!\"&\"$AA$10\",AH22))","v":"MC"},{"$f":"IFERROR(HYPERLINK(\"#'Exiting (FS009)'!\"&ADDRESS(ROW(INDEX(CurrentListing,MATCH('Category Set A by Age'!U22,CurrentListing,0),1)),25),AI22),HYPERLINK(\"#'Exiting (FS009)'!\"&\"$AA$10\",AI22))","v":"MC"},{"$f":"IFERROR(HYPERLINK(\"#'Exiting (FS009)'!\"&ADDRESS(ROW(INDEX(CurrentListing,MATCH('Category Set A by Age'!V22,CurrentListing,0),1)),25),AJ22),HYPERLINK(\"#'Exiting (FS009)'!\"&\"$AA$10\",AJ22))","v":"MC"},{"$f":"IFERROR(HYPERLINK(\"#'Exiting (FS009)'!\"&ADDRESS(ROW(INDEX(CurrentListing,MATCH('Category Set A by Age'!W22,CurrentListing,0),1)),25),AK22),HYPERLINK(\"#'Exiting (FS009)'!\"&\"$AA$10\",AK22))","v":"MC"},{"$f":"IFERROR(HYPERLINK(\"#'Exiting (FS009)'!\"&ADDRESS(ROW(INDEX(CurrentListing,MATCH('Category Set A by Age'!X22,CurrentListing,0),1)),25),AL22),HYPERLINK(\"#'Exiting (FS009)'!\"&\"$AA$10\",AL22))","v":"MC"},{"$f":"IFERROR(HYPERLINK(\"#'Exiting (FS009)'!\"&ADDRESS(ROW(INDEX(CurrentListing,MATCH('Category Set A by Age'!Y22,CurrentListing,0),1)),25),AM22),HYPERLINK(\"#'Exiting (FS009)'!\"&\"$AA$10\",AM22))","v":"MC"},{"$f":"IFERROR(HYPERLINK(\"#'Exiting (FS009)'!\"&ADDRESS(ROW(INDEX(CurrentListing,MATCH('Category Set A by Age'!Z22,CurrentListing,0),1)),25),AN22),HYPERLINK(\"#'Exiting (FS009)'!\"&\"$AA$10\",AN22))","v":"MC"},{"$f":"IFERROR(HYPERLINK(\"#'Exiting (FS009)'!\"&ADDRESS(ROW(INDEX(CurrentListing,MATCH('Category Set A by Age'!AA22,CurrentListing,0),1)),25),AO22),HYPERLINK(\"#'Exiting (FS009)'!\"&\"$AA$10\",AO22))","v":"MC"},{"$f":"IFERROR(HYPERLINK(\"#'Exiting (FS009)'!\"&ADDRESS(ROW(INDEX(CurrentListing,MATCH('Category Set A by Age'!AB22,CurrentListing,0),1)),25),AP22),HYPERLINK(\"#'Exiting (FS009)'!\"&\"$AA$10\",AP22))","v":"MC"},0,null,null,"ID14RCN","HI14RCN","SLI14RCN","VI14RCN","EMN14RCN","OI14RCN","OHI14RCN","SLD14RCN","DB14RCN","MD14RCN","AUT14RCN","TBI14RCN",null,"Received a certificate","MC","MC","MC","MC","MC","MC","MC","MC","MC","MC","MC","MC",{"$f":"SUM(AE22:AP22)","v":0}]
["Reached maximum age",null,null,null,null,null,null,null,null,null,null,null,null,0,null,null,null,null,null,null,null,null,null,null,null,null,null,null,null,"Reached maximum age"]
["Died",{"$f":"IFERROR(HYPERLINK(\"#'Exiting (FS009)'!\"&ADDRESS(ROW(INDEX(CurrentListing,MATCH('Category Set A by Age'!Q24,CurrentListing,0),1)),25),AE24),HYPERLINK(\"#'Exiting (FS009)'!\"&\"$AA$10\",AE24))","v":"MC"},{"$f":"IFERROR(HYPERLINK(\"#'Exiting (FS009)'!\"&ADDRESS(ROW(INDEX(CurrentListing,MATCH('Category Set A by Age'!R24,CurrentListing,0),1)),25),AF24),HYPERLINK(\"#'Exiting (FS009)'!\"&\"$AA$10\",AF24))","v":"MC"},{"$f":"IFERROR(HYPERLINK(\"#'Exiting (FS009)'!\"&ADDRESS(ROW(INDEX(CurrentListing,MATCH('Category Set A by Age'!S24,CurrentListing,0),1)),25),AG24),HYPERLINK(\"#'Exiting (FS009)'!\"&\"$AA$10\",AG24))","v":"MC"},{"$f":"IFERROR(HYPERLINK(\"#'Exiting (FS009)'!\"&ADDRESS(ROW(INDEX(CurrentListing,MATCH('Category Set A by Age'!T24,CurrentListing,0),1)),25),AH24),HYPERLINK(\"#'Exiting (FS009)'!\"&\"$AA$10\",AH24))","v":"MC"},{"$f":"IFERROR(HYPERLINK(\"#'Exiting (FS009)'!\"&ADDRESS(ROW(INDEX(CurrentListing,MATCH('Category Set A by Age'!U24,CurrentListing,0),1)),25),AI24),HYPERLINK(\"#'Exiting (FS009)'!\"&\"$AA$10\",AI24))","v":"MC"},{"$f":"IFERROR(HYPERLINK(\"#'Exiting (FS009)'!\"&ADDRESS(ROW(INDEX(CurrentListing,MATCH('Category Set A by Age'!V24,CurrentListing,0),1)),25),AJ24),HYPERLINK(\"#'Exiting (FS009)'!\"&\"$AA$10\",AJ24))","v":"MC"},{"$f":"IFERROR(HYPERLINK(\"#'Exiting (FS009)'!\"&ADDRESS(ROW(INDEX(CurrentListing,MATCH('Category Set A by Age'!W24,CurrentListing,0),1)),25),AK24),HYPERLINK(\"#'Exiting (FS009)'!\"&\"$AA$10\",AK24))","v":"MC"},{"$f":"IFERROR(HYPERLINK(\"#'Exiting (FS009)'!\"&ADDRESS(ROW(INDEX(CurrentListing,MATCH('Category Set A by Age'!X24,CurrentListing,0),1)),25),AL24),HYPERLINK(\"#'Exiting (FS009)'!\"&\"$AA$10\",AL24))","v":"MC"},{"$f":"IFERROR(HYPERLINK(\"#'Exiting (FS009)'!\"&ADDRESS(ROW(INDEX(CurrentListing,MATCH('Category Set A by Age'!Y24,CurrentListing,0),1)),25),AM24),HYPERLINK(\"#'Exiting (FS009)'!\"&\"$AA$10\",AM24))","v":"MC"},{"$f":"IFERROR(HYPERLINK(\"#'Exiting (FS009)'!\"&ADDRESS(ROW(INDEX(CurrentListing,MATCH('Category Set A by Age'!Z24,CurrentListing,0),1)),25),AN24),HYPERLINK(\"#'Exiting (FS009)'!\"&\"$AA$10\",AN24))","v":"MC"},{"$f":"IFERROR(HYPERLINK(\"#'Exiting (FS009)'!\"&ADDRESS(ROW(INDEX(CurrentListing,MATCH('Category Set A by Age'!AA24,CurrentListing,0),1)),25),AO24),HYPERLINK(\"#'Exiting (FS009)'!\"&\"$AA$10\",AO24))","v":"MC"},{"$f":"IFERROR(HYPERLINK(\"#'Exiting (FS009)'!\"&ADDRESS(ROW(INDEX(CurrentListing,MATCH('Category Set A by Age'!AB24,CurrentListing,0),1)),25),AP24),HYPERLINK(\"#'Exiting (FS009)'!\"&\"$AA$10\",AP24))","v":"MC"},0,null,null,"ID14DN","HI14DN","SLI14DN","VI14DN","EMN14DN","OI14DN","OHI14DN","SLD14DN","DB14DN","MD14DN","AUT14DN","TBI14DN",null,"Died",{"$f":"IFERROR(IF(INDEX(StudCntC009,MATCH(Q24,CurrentListing,0))=\"\",\"No Data\",INDEX(StudCntC009,MATCH(Q24,CurrentListing,0))),\"MC\")","v":"MC"},"MC","MC","MC","MC","MC","MC","MC","MC","MC","MC","MC",{"$f":"SUM(AE24:AP24)","v":0}]
["Moved, known to be continuing",{"$f":"IFERROR(HYPERLINK(\"#'Exiting (FS009)'!\"&ADDRESS(ROW(INDEX(CurrentListing,MATCH('Category Set A by Age'!Q25,CurrentListing,0),1)),25),AE25),HYPERLINK(\"#'Exiting (FS009)'!\"&\"$AA$10\",AE25))","v":"MC"},{"$f":"IFERROR(HYPERLINK(\"#'Exiting (FS009)'!\"&ADDRESS(ROW(INDEX(CurrentListing,MATCH('Category Set A by Age'!R25,CurrentListing,0),1)),25),AF25),HYPERLINK(\"#'Exiting (FS009)'!\"&\"$AA$10\",AF25))","v":"MC"},{"$f":"IFERROR(HYPERLINK(\"#'Exiting (FS009)'!\"&ADDRESS(ROW(INDEX(CurrentListing,MATCH('Category Set A by Age'!S25,CurrentListing,0),1)),25),AG25),HYPERLINK(\"#'Exiting (FS009)'!\"&\"$AA$10\",AG25))","v":"MC"},{"$f":"IFERROR(HYPERLINK(\"#'Exiting (FS009)'!\"&ADDRESS(ROW(INDEX(CurrentListing,MATCH('Category Set A by Age'!T25,CurrentListing,0),1)),25),AH25),HYPERLINK(\"#'Exiting (FS009)'!\"&\"$AA$10\",AH25))","v":"MC"},{"$f":"IFERROR(HYPERLINK(\"#'Exiting (FS009)'!\"&ADDRESS(ROW(INDEX(CurrentListing,MATCH('Category Set A by Age'!U25,CurrentListing,0),1)),25),AI25),HYPERLINK(\"#'Exiting (FS009)'!\"&\"$AA$10\",AI25))","v":"MC"},{"$f":"IFERROR(HYPERLINK(\"#'Exiting (FS009)'!\"&ADDRESS(ROW(INDEX(CurrentListing,MATCH('Category Set A by Age'!V25,CurrentListing,0),1)),25),AJ25),HYPERLINK(\"#'Exiting (FS009)'!\"&\"$AA$10\",AJ25))","v":"MC"},{"$f":"IFERROR(HYPERLINK(\"#'Exiting (FS009)'!\"&ADDRESS(ROW(INDEX(CurrentListing,MATCH('Category Set A by Age'!W25,CurrentListing,0),1)),25),AK25),HYPERLINK(\"#'Exiting (FS009)'!\"&\"$AA$10\",AK25))","v":"MC"},{"$f":"IFERROR(HYPERLINK(\"#'Exiting (FS009)'!\"&ADDRESS(ROW(INDEX(CurrentListing,MATCH('Category Set A by Age'!X25,CurrentListing,0),1)),25),AL25),HYPERLINK(\"#'Exiting (FS009)'!\"&\"$AA$10\",AL25))","v":"MC"},{"$f":"IFERROR(HYPERLINK(\"#'Exiting (FS009)'!\"&ADDRESS(ROW(INDEX(CurrentListing,MATCH('Category Set A by Age'!Y25,CurrentListing,0),1)),25),AM25),HYPERLINK(\"#'Exiting (FS009)'!\"&\"$AA$10\",AM25))","v":"MC"},{"$f":"IFERROR(HYPERLINK(\"#'Exiting (FS009)'!\"&ADDRESS(ROW(INDEX(CurrentListing,MATCH('Category Set A by Age'!Z25,CurrentListing,0),1)),25),AN25),HYPERLINK(\"#'Exiting (FS009)'!\"&\"$AA$10\",AN25))","v":"MC"},{"$f":"IFERROR(HYPERLINK(\"#'Exiting (FS009)'!\"&ADDRESS(ROW(INDEX(CurrentListing,MATCH('Category Set A by Age'!AA25,CurrentListing,0),1)),25),AO25),HYPERLINK(\"#'Exiting (FS009)'!\"&\"$AA$10\",AO25))","v":"MC"},{"$f":"IFERROR(HYPERLINK(\"#'Exiting (FS009)'!\"&ADDRESS(ROW(INDEX(CurrentListing,MATCH('Category Set A by Age'!AB25,CurrentListing,0),1)),25),AP25),HYPERLINK(\"#'Exiting (FS009)'!\"&\"$AA$10\",AP25))","v":"MC"},0,null,null,"ID14MKCN","HI14MKCN","SLI14MKCN","VI14MKCN","EMN14MKCN","OI14MKCN","OHI14MKCN","SLD14MKCN","DB14MKCN","MD14MKCN","AUT14MKCN","TBI14MKCN",null,"Moved, known to be continuing","MC","MC","MC","MC","MC","MC","MC","MC","MC","MC","MC","MC",{"$f":"SUM(AE25:AP25)","v":0}]
["Dropped out",{"$f":"IFERROR(HYPERLINK(\"#'Exiting (FS009)'!\"&ADDRESS(ROW(INDEX(CurrentListing,MATCH('Category Set A by Age'!Q26,CurrentListing,0),1)),25),AE26),HYPERLINK(\"#'Exiting (FS009)'!\"&\"$AA$10\",AE26))","v":"MC"},{"$f":"IFERROR(HYPERLINK(\"#'Exiting (FS009)'!\"&ADDRESS(ROW(INDEX(CurrentListing,MATCH('Category Set A by Age'!R26,CurrentListing,0),1)),25),AF26),HYPERLINK(\"#'Exiting (FS009)'!\"&\"$AA$10\",AF26))","v":"MC"},{"$f":"IFERROR(HYPERLINK(\"#'Exiting (FS009)'!\"&ADDRESS(ROW(INDEX(CurrentListing,MATCH('Category Set A by Age'!S26,CurrentListing,0),1)),25),AG26),HYPERLINK(\"#'Exiting (FS009)'!\"&\"$AA$10\",AG26))","v":"MC"},{"$f":"IFERROR(HYPERLINK(\"#'Exiting (FS009)'!\"&ADDRESS(ROW(INDEX(CurrentListing,MATCH('Category Set A by Age'!T26,CurrentListing,0),1)),25),AH26),HYPERLINK(\"#'Exiting (FS009)'!\"&\"$AA$10\",AH26))","v":"MC"},{"$f":"IFERROR(HYPERLINK(\"#'Exiting (FS009)'!\"&ADDRESS(ROW(INDEX(CurrentListing,MATCH('Category Set A by Age'!U26,CurrentListing,0),1)),25),AI26),HYPERLINK(\"#'Exiting (FS009)'!\"&\"$AA$10\",AI26))","v":"MC"},{"$f":"IFERROR(HYPERLINK(\"#'Exiting (FS009)'!\"&ADDRESS(ROW(INDEX(CurrentListing,MATCH('Category Set A by Age'!V26,CurrentListing,0),1)),25),AJ26),HYPERLINK(\"#'Exiting (FS009)'!\"&\"$AA$10\",AJ26))","v":"MC"},{"$f":"IFERROR(HYPERLINK(\"#'Exiting (FS009)'!\"&ADDRESS(ROW(INDEX(CurrentListing,MATCH('Category Set A by Age'!W26,CurrentListing,0),1)),25),AK26),HYPERLINK(\"#'Exiting (FS009)'!\"&\"$AA$10\",AK26))","v":"MC"},{"$f":"IFERROR(HYPERLINK(\"#'Exiting (FS009)'!\"&ADDRESS(ROW(INDEX(CurrentListing,MATCH('Category Set A by Age'!X26,CurrentListing,0),1)),25),AL26),HYPERLINK(\"#'Exiting (FS009)'!\"&\"$AA$10\",AL26))","v":"MC"},{"$f":"IFERROR(HYPERLINK(\"#'Exiting (FS009)'!\"&ADDRESS(ROW(INDEX(CurrentListing,MATCH('Category Set A by Age'!Y26,CurrentListing,0),1)),25),AM26),HYPERLINK(\"#'Exiting (FS009)'!\"&\"$AA$10\",AM26))","v":"MC"},{"$f":"IFERROR(HYPERLINK(\"#'Exiting (FS009)'!\"&ADDRESS(ROW(INDEX(CurrentListing,MATCH('Category Set A by Age'!Z26,CurrentListing,0),1)),25),AN26),HYPERLINK(\"#'Exiting (FS009)'!\"&\"$AA$10\",AN26))","v":"MC"},{"$f":"IFERROR(HYPERLINK(\"#'Exiting (FS009)'!\"&ADDRESS(ROW(INDEX(CurrentListing,MATCH('Category Set A by Age'!AA26,CurrentListing,0),1)),25),AO26),HYPERLINK(\"#'Exiting (FS009)'!\"&\"$AA$10\",AO26))","v":"MC"},{"$f":"IFERROR(HYPERLINK(\"#'Exiting (FS009)'!\"&ADDRESS(ROW(INDEX(CurrentListing,MATCH('Category Set A by Age'!AB26,CurrentListing,0),1)),25),AP26),HYPERLINK(\"#'Exiting (FS009)'!\"&\"$AA$10\",AP26))","v":"MC"},0,null,null,"ID14DROPOUTN","HI14DROPOUTN","SLI14DROPOUTN","VI14DROPOUTN","EMN14DROPOUTN","OI14DROPOUTN","OHI14DROPOUTN","SLD14DROPOUTN","DB14DROPOUTN","MD14DROPOUTN","AUT14DROPOUTN","TBI14DROPOUTN",null,"Dropped out","MC","MC","MC","MC","MC","MC","MC","MC","MC","MC","MC","MC",{"$f":"SUM(AE26:AP26)","v":0}]
["Total",{"$f":"SUM(B19:B26)","v":0},0,0,0,0,0,0,0,0,0,0,0,{"$f":"IF(AND(N4=\"MC\",N5=\"MC\",N6=\"MC\",N7=\"MC\",N8=\"MC\",N9=\"MC\",N10=\"MC\",N11=\"MC\"),\"\",SUM(B19:M26))","v":""},null,null,null,null,null,null,null,null,null,null,null,null,null,null,"14Y","Total",{"$f":"SUM(AE19:AE26)","v":0},{"$f":"SUM(AF19:AF26)","v":0},0,0,0,0,0,0,0,0,0,0,{"$f":"IFERROR(IF(INDEX(StudCntC009,MATCH(AC27,CurrentListing,0))=\"\",\"No Data\",INDEX(StudCntC009,MATCH(AC27,CurrentListing,0))),\"MC\")","v":"MC"}]
[]
["Percent by basis of exit","Age 14"]
[null,"Intellectual\ndisability\n(percent)","Hearing\nimpairment\n(percent)","Speech or\nlanguage\nimpairment\n(percent)","Visual\nimpairment\n(percent)","Emotional\ndisturbance\n(percent)","Orthopedic\nimpairment\n(percent)","Other\nhealth\nimpairment\n(percent)","Specific\nlearning\ndisability\n(percent)","Deaf-\nblindness\n(percent)","Multiple\ndisabilities\n(percent)","Autism\n(percent)","Traumatic\nbrain\ninjury\n(percent)","Total\n(percent)"]
["Transferred to regular education",{"$f":"IF(ISERROR(B19/$N19),IF(B19=\"MC\", \"\",0), B19/$N19)","v":""},{"$f":"IF(ISERROR(C19/$N19),IF(C19=\"MC\", \"\",0), C19/$N19)","v":""},"","","","","","","","","","",{"$f":"SUM(B31:M31)","v":0}]
["Graduated with regular high school diploma",{"$f":"IF(ISERROR(B20/$N20),IF(B20=\"MC\", \"\",0), B20/$N20)","v":""},{"$f":"IF(ISERROR(C20/$N20),IF(C20=\"MC\", \"\",0), C20/$N20)","v":""},"","","","","","","","","","",{"$f":"SUM(B32:M32)","v":0}]
["Graduated with an alternate diploma",{"$f":"IF(ISERROR(B21/$N21),IF(B21=\"MC\", \"\",0), B21/$N21)","v":""},{"$f":"IF(ISERROR(C21/$N21),IF(C21=\"MC\", \"\",0), C21/$N21)","v":""},"","","","","","","","","","",0]
["Received a certificate",{"$f":"IF(ISERROR(B22/$N22),IF(B22=\"MC\", \"\",0), B22/$N22)","v":""},{"$f":"IF(ISERROR(C22/$N22),IF(C22=\"MC\", \"\",0), C22/$N22)","v":""},"","","","","","","","","","",0]
["Reached maximum age"]
["Died",{"$f":"IF(ISERROR(B24/$N24),IF(B24=\"MC\", \"\",0), B24/$N24)","v":""},"","","","","","","","","","","",0]
["Moved, known to be continuing",{"$f":"IF(ISERROR(B25/$N25),IF(B25=\"MC\", \"\",0), B25/$N25)","v":""},"","","","","","","","","","","",0]
["Dropped out",{"$f":"IF(ISERROR(B26/$N26),IF(B26=\"MC\", \"\",0), B26/$N26)","v":""},"","","","","","","","","","","",0]
["Total",{"$f":"IFERROR(IF($N27<>0,B27/$N27,0),\"\")","v":""},{"$f":"IFERROR(IF($N27<>0,C27/$N27,0),\"\")","v":""},"","","","","","","","","","",0]
[]
["Category Set A – Children with disabilities (IDEA) exiting special education, by age, disability category, and basis of exit"]
["Student count by basis of exit ","Age 15",null,null,null,null,null,null,null,null,null,null,null,null,null,null,"Age 15 Lookup",null,null,null,null,null,null,null,null,null,null,null,null,"Student counts by basis of exit","Age 15"]
[null,"Intellectual\ndisability","Hearing\nimpairment","Speech or\nlanguage\nimpairment","Visual\nimpairment","Emotional\ndisturbance","Orthopedic\nimpairment","Other\nhealth\nimpairment","Specific\nlearning\ndisability","Deaf-\nblindness","Multiple\ndisabilities","Autism","Traumatic\nbrain\ninjury","Total",null,null,null,null,null,null,null,null,null,null,null,null,null,null,null,null,"Intellectual\nDisability","Hearing\nImpairments","Speech or\nLanguage\nImpairments","Visual\nImpairments","Emotional\nDisturbance","Orthopedic\nImpairments","Other\nHealth\nImpairments","Specific\nLearning\nDisabilities","Deaf-\nBlindness","Multiple\nDisabilities","Autism","Traumatic\nBrain\nInjury","Total"]
["Transferred to regular education",{"$f":"IFERROR(HYPERLINK(\"#'Exiting (FS009)'!\"&ADDRESS(ROW(INDEX(CurrentListing,MATCH('Category Set A by Age'!Q44,CurrentListing,0),1)),25),AE44),HYPERLINK(\"#'Exiting (FS009)'!\"&\"$AA$10\",AE44))","v":"MC"},{"$f":"IFERROR(HYPERLINK(\"#'Exiting (FS009)'!\"&ADDRESS(ROW(INDEX(CurrentListing,MATCH('Category Set A by Age'!R44,CurrentListing,0),1)),25),AF44),HYPERLINK(\"#'Exiting (FS009)'!\"&\"$AA$10\",AF44))","v":"MC"},{"$f":"IFERROR(HYPERLINK(\"#'Exiting (FS009)'!\"&ADDRESS(ROW(INDEX(CurrentListing,MATCH('Category Set A by Age'!S44,CurrentListing,0),1)),25),AG44),HYPERLINK(\"#'Exiting (FS009)'!\"&\"$AA$10\",AG44))","v":"MC"},{"$f":"IFERROR(HYPERLINK(\"#'Exiting (FS009)'!\"&ADDRESS(ROW(INDEX(CurrentListing,MATCH('Category Set A by Age'!T44,CurrentListing,0),1)),25),AH44),HYPERLINK(\"#'Exiting (FS009)'!\"&\"$AA$10\",AH44))","v":"MC"},{"$f":"IFERROR(HYPERLINK(\"#'Exiting (FS009)'!\"&ADDRESS(ROW(INDEX(CurrentListing,MATCH('Category Set A by Age'!U44,CurrentListing,0),1)),25),AI44),HYPERLINK(\"#'Exiting (FS009)'!\"&\"$AA$10\",AI44))","v":"MC"},{"$f":"IFERROR(HYPERLINK(\"#'Exiting (FS009)'!\"&ADDRESS(ROW(INDEX(CurrentListing,MATCH('Category Set A by Age'!V44,CurrentListing,0),1)),25),AJ44),HYPERLINK(\"#'Exiting (FS009)'!\"&\"$AA$10\",AJ44))","v":"MC"},{"$f":"IFERROR(HYPERLINK(\"#'Exiting (FS009)'!\"&ADDRESS(ROW(INDEX(CurrentListing,MATCH('Category Set A by Age'!W44,CurrentListing,0),1)),25),AK44),HYPERLINK(\"#'Exiting (FS009)'!\"&\"$AA$10\",AK44))","v":"MC"},{"$f":"IFERROR(HYPERLINK(\"#'Exiting (FS009)'!\"&ADDRESS(ROW(INDEX(CurrentListing,MATCH('Category Set A by Age'!X44,CurrentListing,0),1)),25),AL44),HYPERLINK(\"#'Exiting (FS009)'!\"&\"$AA$10\",AL44))","v":"MC"},{"$f":"IFERROR(HYPERLINK(\"#'Exiting (FS009)'!\"&ADDRESS(ROW(INDEX(CurrentListing,MATCH('Category Set A by Age'!Y44,CurrentListing,0),1)),25),AM44),HYPERLINK(\"#'Exiting (FS009)'!\"&\"$AA$10\",AM44))","v":"MC"},{"$f":"IFERROR(HYPERLINK(\"#'Exiting (FS009)'!\"&ADDRESS(ROW(INDEX(CurrentListing,MATCH('Category Set A by Age'!Z44,CurrentListing,0),1)),25),AN44),HYPERLINK(\"#'Exiting (FS009)'!\"&\"$AA$10\",AN44))","v":"MC"},{"$f":"IFERROR(HYPERLINK(\"#'Exiting (FS009)'!\"&ADDRESS(ROW(INDEX(CurrentListing,MATCH('Category Set A by Age'!AA44,CurrentListing,0),1)),25),AO44),HYPERLINK(\"#'Exiting (FS009)'!\"&\"$AA$10\",AO44))","v":"MC"},{"$f":"IFERROR(HYPERLINK(\"#'Exiting (FS009)'!\"&ADDRESS(ROW(INDEX(CurrentListing,MATCH('Category Set A by Age'!AB44,CurrentListing,0),1)),25),AP44),HYPERLINK(\"#'Exiting (FS009)'!\"&\"$AA$10\",AP44))","v":"MC"},{"$f":"SUM(B44:M44)","v":0},null,null,"ID15TRANN","HI15TRANN","SLI15TRANN","VI15TRANN","EMN15TRANN","OI15TRANN","OHI15TRANN","SLD15TRANN","DB15TRANN","MD15TRANN","AUT15TRANN","TBI15TRANN",null,"Transferred to regular education",{"$f":"IFERROR(IF(INDEX(StudCntC009,MATCH(Q44,CurrentListing,0))=\"\",\"No Data\",INDEX(StudCntC009,MATCH(Q44,CurrentListing,0))),\"MC\")","v":"MC"},"MC","MC","MC","MC","MC","MC","MC","MC","MC","MC","MC",{"$f":"SUM(AE44:AP44)","v":0}]
["Graduated with regular high school diploma",{"$f":"IFERROR(HYPERLINK(\"#'Exiting (FS009)'!\"&ADDRESS(ROW(INDEX(CurrentListing,MATCH('Category Set A by Age'!Q45,CurrentListing,0),1)),25),AE45),HYPERLINK(\"#'Exiting (FS009)'!\"&\"$AA$10\",AE45))","v":"MC"},{"$f":"IFERROR(HYPERLINK(\"#'Exiting (FS009)'!\"&ADDRESS(ROW(INDEX(CurrentListing,MATCH('Category Set A by Age'!R45,CurrentListing,0),1)),25),AF45),HYPERLINK(\"#'Exiting (FS009)'!\"&\"$AA$10\",AF45))","v":"MC"},{"$f":"IFERROR(HYPERLINK(\"#'Exiting (FS009)'!\"&ADDRESS(ROW(INDEX(CurrentListing,MATCH('Category Set A by Age'!S45,CurrentListing,0),1)),25),AG45),HYPERLINK(\"#'Exiting (FS009)'!\"&\"$AA$10\",AG45))","v":"MC"},{"$f":"IFERROR(HYPERLINK(\"#'Exiting (FS009)'!\"&ADDRESS(ROW(INDEX(CurrentListing,MATCH('Category Set A by Age'!T45,CurrentListing,0),1)),25),AH45),HYPERLINK(\"#'Exiting (FS009)'!\"&\"$AA$10\",AH45))","v":"MC"},{"$f":"IFERROR(HYPERLINK(\"#'Exiting (FS009)'!\"&ADDRESS(ROW(INDEX(CurrentListing,MATCH('Category Set A by Age'!U45,CurrentListing,0),1)),25),AI45),HYPERLINK(\"#'Exiting (FS009)'!\"&\"$AA$10\",AI45))","v":"MC"},{"$f":"IFERROR(HYPERLINK(\"#'Exiting (FS009)'!\"&ADDRESS(ROW(INDEX(CurrentListing,MATCH('Category Set A by Age'!V45,CurrentListing,0),1)),25),AJ45),HYPERLINK(\"#'Exiting (FS009)'!\"&\"$AA$10\",AJ45))","v":"MC"},{"$f":"IFERROR(HYPERLINK(\"#'Exiting (FS009)'!\"&ADDRESS(ROW(INDEX(CurrentListing,MATCH('Category Set A by Age'!W45,CurrentListing,0),1)),25),AK45),HYPERLINK(\"#'Exiting (FS009)'!\"&\"$AA$10\",AK45))","v":"MC"},{"$f":"IFERROR(HYPERLINK(\"#'Exiting (FS009)'!\"&ADDRESS(ROW(INDEX(CurrentListing,MATCH('Category Set A by Age'!X45,CurrentListing,0),1)),25),AL45),HYPERLINK(\"#'Exiting (FS009)'!\"&\"$AA$10\",AL45))","v":"MC"},{"$f":"IFERROR(HYPERLINK(\"#'Exiting (FS009)'!\"&ADDRESS(ROW(INDEX(CurrentListing,MATCH('Category Set A by Age'!Y45,CurrentListing,0),1)),25),AM45),HYPERLINK(\"#'Exiting (FS009)'!\"&\"$AA$10\",AM45))","v":"MC"},{"$f":"IFERROR(HYPERLINK(\"#'Exiting (FS009)'!\"&ADDRESS(ROW(INDEX(CurrentListing,MATCH('Category Set A by Age'!Z45,CurrentListing,0),1)),25),AN45),HYPERLINK(\"#'Exiting (FS009)'!\"&\"$AA$10\",AN45))","v":"MC"},{"$f":"IFERROR(HYPERLINK(\"#'Exiting (FS009)'!\"&ADDRESS(ROW(INDEX(CurrentListing,MATCH('Category Set A by Age'!AA45,CurrentListing,0),1)),25),AO45),HYPERLINK(\"#'Exiting (FS009)'!\"&\"$AA$10\",AO45))","v":"MC"},{"$f":"IFERROR(HYPERLINK(\"#'Exiting (FS009)'!\"&ADDRESS(ROW(INDEX(CurrentListing,MATCH('Category Set A by Age'!AB45,CurrentListing,0),1)),25),AP45),HYPERLINK(\"#'Exiting (FS009)'!\"&\"$AA$10\",AP45))","v":"MC"},{"$f":"SUM(B45:M45)","v":0},null,null,"ID15GHSN","HI15GHSN","SLI15GHSN","VI15GHSN","EMN15GHSN","OI15GHSN","OHI15GHSN","SLD15GHSN","DB15GHSN","MD15GHSN","AUT15GHSN","TBI15GHSN",null,"Graduated with regular high school diploma","MC","MC","MC","MC","MC","MC","MC","MC","MC","MC","MC","MC",{"$f":"SUM(AE45:AP45)","v":0}]
["Graduated with an alternate diploma",{"$f":"IFERROR(HYPERLINK(\"#'Exiting (FS009)'!\"&ADDRESS(ROW(INDEX(CurrentListing,MATCH('Category Set A by Age'!Q46,CurrentListing,0),1)),25),AE46),HYPERLINK(\"#'Exiting (FS009)'!\"&\"$AA$10\",AE46))","v":"MC"},{"$f":"IFERROR(HYPERLINK(\"#'Exiting (FS009)'!\"&ADDRESS(ROW(INDEX(CurrentListing,MATCH('Category Set A by Age'!R46,CurrentListing,0),1)),25),AF46),HYPERLINK(\"#'Exiting (FS009)'!\"&\"$AA$10\",AF46))","v":"MC"},{"$f":"IFERROR(HYPERLINK(\"#'Exiting (FS009)'!\"&ADDRESS(ROW(INDEX(CurrentListing,MATCH('Category Set A by Age'!S46,CurrentListing,0),1)),25),AG46),HYPERLINK(\"#'Exiting (FS009)'!\"&\"$AA$10\",AG46))","v":"MC"},{"$f":"IFERROR(HYPERLINK(\"#'Exiting (FS009)'!\"&ADDRESS(ROW(INDEX(CurrentListing,MATCH('Category Set A by Age'!T46,CurrentListing,0),1)),25),AH46),HYPERLINK(\"#'Exiting (FS009)'!\"&\"$AA$10\",AH46))","v":"MC"},{"$f":"IFERROR(HYPERLINK(\"#'Exiting (FS009)'!\"&ADDRESS(ROW(INDEX(CurrentListing,MATCH('Category Set A by Age'!U46,CurrentListing,0),1)),25),AI46),HYPERLINK(\"#'Exiting (FS009)'!\"&\"$AA$10\",AI46))","v":"MC"},{"$f":"IFERROR(HYPERLINK(\"#'Exiting (FS009)'!\"&ADDRESS(ROW(INDEX(CurrentListing,MATCH('Category Set A by Age'!V46,CurrentListing,0),1)),25),AJ46),HYPERLINK(\"#'Exiting (FS009)'!\"&\"$AA$10\",AJ46))","v":"MC"},{"$f":"IFERROR(HYPERLINK(\"#'Exiting (FS009)'!\"&ADDRESS(ROW(INDEX(CurrentListing,MATCH('Category Set A by Age'!W46,CurrentListing,0),1)),25),AK46),HYPERLINK(\"#'Exiting (FS009)'!\"&\"$AA$10\",AK46))","v":"MC"},{"$f":"IFERROR(HYPERLINK(\"#'Exiting (FS009)'!\"&ADDRESS(ROW(INDEX(CurrentListing,MATCH('Category Set A by Age'!X46,CurrentListing,0),1)),25),AL46),HYPERLINK(\"#'Exiting (FS009)'!\"&\"$AA$10\",AL46))","v":"MC"},{"$f":"IFERROR(HYPERLINK(\"#'Exiting (FS009)'!\"&ADDRESS(ROW(INDEX(CurrentListing,MATCH('Category Set A by Age'!Y46,CurrentListing,0),1)),25),AM46),HYPERLINK(\"#'Exiting (FS009)'!\"&\"$AA$10\",AM46))","v":"MC"},{"$f":"IFERROR(HYPERLINK(\"#'Exiting (FS009)'!\"&ADDRESS(ROW(INDEX(CurrentListing,MATCH('Category Set A by Age'!Z46,CurrentListing,0),1)),25),AN46),HYPERLINK(\"#'Exiting (FS009)'!\"&\"$AA$10\",AN46))","v":"MC"},{"$f":"IFERROR(HYPERLINK(\"#'Exiting (FS009)'!\"&ADDRESS(ROW(INDEX(CurrentListing,MATCH('Category Set A by Age'!AA46,CurrentListing,0),1)),25),AO46),HYPERLINK(\"#'Exiting (FS009)'!\"&\"$AA$10\",AO46))","v":"MC"},{"$f":"IFERROR(HYPERLINK(\"#'Exiting (FS009)'!\"&ADDRESS(ROW(INDEX(CurrentListing,MATCH('Category Set A by Age'!AB46,CurrentListing,0),1)),25),AP46),HYPERLINK(\"#'Exiting (FS009)'!\"&\"$AA$10\",AP46))","v":"MC"},0,null,null,"ID15GRADALTDPLN","HI15GRADALTDPLN","SLI15GRADALTDPLN","VI15GRADALTDPLN","EMN15GRADALTDPLN","OI15GRADALTDPLN","OHI15GRADALTDPLN","SLD15GRADALTDPLN","DB15GRADALTDPLN","MD15GRADALTDPLN","AUT15GRADALTDPLN","TBI15GRADALTDPLN",null,"Graduated with an alternate diploma",{"$f":"IFERROR(IF(INDEX(StudCntC009,MATCH(Q46,CurrentListing,0))=\"\",\"No Data\",INDEX(StudCntC009,MATCH(Q46,CurrentListing,0))),\"MC\")","v":"MC"},"MC","MC","MC","MC","MC","MC","MC","MC","MC","MC","MC",{"$f":"SUM(AE46:AP46)","v":0}]
["Received a certificate",{"$f":"IFERROR(HYPERLINK(\"#'Exiting (FS009)'!\"&ADDRESS(ROW(INDEX(CurrentListing,MATCH('Category Set A by Age'!Q47,CurrentListing,0),1)),25),AE47),HYPERLINK(\"#'Exiting (FS009)'!\"&\"$AA$10\",AE47))","v":"MC"},{"$f":"IFERROR(HYPERLINK(\"#'Exiting (FS009)'!\"&ADDRESS(ROW(INDEX(CurrentListing,MATCH('Category Set A by Age'!R47,CurrentListing,0),1)),25),AF47),HYPERLINK(\"#'Exiting (FS009)'!\"&\"$AA$10\",AF47))","v":"MC"},{"$f":"IFERROR(HYPERLINK(\"#'Exiting (FS009)'!\"&ADDRESS(ROW(INDEX(CurrentListing,MATCH('Category Set A by Age'!S47,CurrentListing,0),1)),25),AG47),HYPERLINK(\"#'Exiting (FS009)'!\"&\"$AA$10\",AG47))","v":"MC"},{"$f":"IFERROR(HYPERLINK(\"#'Exiting (FS009)'!\"&ADDRESS(ROW(INDEX(CurrentListing,MATCH('Category Set A by Age'!T47,CurrentListing,0),1)),25),AH47),HYPERLINK(\"#'Exiting (FS009)'!\"&\"$AA$10\",AH47))","v":"MC"},{"$f":"IFERROR(HYPERLINK(\"#'Exiting (FS009)'!\"&ADDRESS(ROW(INDEX(CurrentListing,MATCH('Category Set A by Age'!U47,CurrentListing,0),1)),25),AI47),HYPERLINK(\"#'Exiting (FS009)'!\"&\"$AA$10\",AI47))","v":"MC"},{"$f":"IFERROR(HYPERLINK(\"#'Exiting (FS009)'!\"&ADDRESS(ROW(INDEX(CurrentListing,MATCH('Category Set A by Age'!V47,CurrentListing,0),1)),25),AJ47),HYPERLINK(\"#'Exiting (FS009)'!\"&\"$AA$10\",AJ47))","v":"MC"},{"$f":"IFERROR(HYPERLINK(\"#'Exiting (FS009)'!\"&ADDRESS(ROW(INDEX(CurrentListing,MATCH('Category Set A by Age'!W47,CurrentListing,0),1)),25),AK47),HYPERLINK(\"#'Exiting (FS009)'!\"&\"$AA$10\",AK47))","v":"MC"},{"$f":"IFERROR(HYPERLINK(\"#'Exiting (FS009)'!\"&ADDRESS(ROW(INDEX(CurrentListing,MATCH('Category Set A by Age'!X47,CurrentListing,0),1)),25),AL47),HYPERLINK(\"#'Exiting (FS009)'!\"&\"$AA$10\",AL47))","v":"MC"},{"$f":"IFERROR(HYPERLINK(\"#'Exiting (FS009)'!\"&ADDRESS(ROW(INDEX(CurrentListing,MATCH('Category Set A by Age'!Y47,CurrentListing,0),1)),25),AM47),HYPERLINK(\"#'Exiting (FS009)'!\"&\"$AA$10\",AM47))","v":"MC"},{"$f":"IFERROR(HYPERLINK(\"#'Exiting (FS009)'!\"&ADDRESS(ROW(INDEX(CurrentListing,MATCH('Category Set A by Age'!Z47,CurrentListing,0),1)),25),AN47),HYPERLINK(\"#'Exiting (FS009)'!\"&\"$AA$10\",AN47))","v":"MC"},{"$f":"IFERROR(HYPERLINK(\"#'Exiting (FS009)'!\"&ADDRESS(ROW(INDEX(CurrentListing,MATCH('Category Set A by Age'!AA47,CurrentListing,0),1)),25),AO47),HYPERLINK(\"#'Exiting (FS009)'!\"&\"$AA$10\",AO47))","v":"MC"},{"$f":"IFERROR(HYPERLINK(\"#'Exiting (FS009)'!\"&ADDRESS(ROW(INDEX(CurrentListing,MATCH('Category Set A by Age'!AB47,CurrentListing,0),1)),25),AP47),HYPERLINK(\"#'Exiting (FS009)'!\"&\"$AA$10\",AP47))","v":"MC"},0,null,null,"ID15RCN","HI15RCN","SLI15RCN","VI15RCN","EMN15RCN","OI15RCN","OHI15RCN","SLD15RCN","DB15RCN","MD15RCN","AUT15RCN","TBI15RCN",null,"Received a certificate","MC","MC","MC","MC","MC","MC","MC","MC","MC","MC","MC","MC",{"$f":"SUM(AE47:AP47)","v":0}]
["Reached maximum age",null,null,null,null,null,null,null,null,null,null,null,null,null,null,null,null,null,null,null,null,null,null,null,null,null,null,null,null,"Reached maximum age"]
["Died",{"$f":"IFERROR(HYPERLINK(\"#'Exiting (FS009)'!\"&ADDRESS(ROW(INDEX(CurrentListing,MATCH('Category Set A by Age'!Q49,CurrentListing,0),1)),25),AE49),HYPERLINK(\"#'Exiting (FS009)'!\"&\"$AA$10\",AE49))","v":"MC"},{"$f":"IFERROR(HYPERLINK(\"#'Exiting (FS009)'!\"&ADDRESS(ROW(INDEX(CurrentListing,MATCH('Category Set A by Age'!R49,CurrentListing,0),1)),25),AF49),HYPERLINK(\"#'Exiting (FS009)'!\"&\"$AA$10\",AF49))","v":"MC"},{"$f":"IFERROR(HYPERLINK(\"#'Exiting (FS009)'!\"&ADDRESS(ROW(INDEX(CurrentListing,MATCH('Category Set A by Age'!S49,CurrentListing,0),1)),25),AG49),HYPERLINK(\"#'Exiting (FS009)'!\"&\"$AA$10\",AG49))","v":"MC"},{"$f":"IFERROR(HYPERLINK(\"#'Exiting (FS009)'!\"&ADDRESS(ROW(INDEX(CurrentListing,MATCH('Category Set A by Age'!T49,CurrentListing,0),1)),25),AH49),HYPERLINK(\"#'Exiting (FS009)'!\"&\"$AA$10\",AH49))","v":"MC"},{"$f":"IFERROR(HYPERLINK(\"#'Exiting (FS009)'!\"&ADDRESS(ROW(INDEX(CurrentListing,MATCH('Category Set A by Age'!U49,CurrentListing,0),1)),25),AI49),HYPERLINK(\"#'Exiting (FS009)'!\"&\"$AA$10\",AI49))","v":"MC"},{"$f":"IFERROR(HYPERLINK(\"#'Exiting (FS009)'!\"&ADDRESS(ROW(INDEX(CurrentListing,MATCH('Category Set A by Age'!V49,CurrentListing,0),1)),25),AJ49),HYPERLINK(\"#'Exiting (FS009)'!\"&\"$AA$10\",AJ49))","v":"MC"},{"$f":"IFERROR(HYPERLINK(\"#'Exiting (FS009)'!\"&ADDRESS(ROW(INDEX(CurrentListing,MATCH('Category Set A by Age'!W49,CurrentListing,0),1)),25),AK49),HYPERLINK(\"#'Exiting (FS009)'!\"&\"$AA$10\",AK49))","v":"MC"},{"$f":"IFERROR(HYPERLINK(\"#'Exiting (FS009)'!\"&ADDRESS(ROW(INDEX(CurrentListing,MATCH('Category Set A by Age'!X49,CurrentListing,0),1)),25),AL49),HYPERLINK(\"#'Exiting (FS009)'!\"&\"$AA$10\",AL49))","v":"MC"},{"$f":"IFERROR(HYPERLINK(\"#'Exiting (FS009)'!\"&ADDRESS(ROW(INDEX(CurrentListing,MATCH('Category Set A by Age'!Y49,CurrentListing,0),1)),25),AM49),HYPERLINK(\"#'Exiting (FS009)'!\"&\"$AA$10\",AM49))","v":"MC"},{"$f":"IFERROR(HYPERLINK(\"#'Exiting (FS009)'!\"&ADDRESS(ROW(INDEX(CurrentListing,MATCH('Category Set A by Age'!Z49,CurrentListing,0),1)),25),AN49),HYPERLINK(\"#'Exiting (FS009)'!\"&\"$AA$10\",AN49))","v":"MC"},{"$f":"IFERROR(HYPERLINK(\"#'Exiting (FS009)'!\"&ADDRESS(ROW(INDEX(CurrentListing,MATCH('Category Set A by Age'!AA49,CurrentListing,0),1)),25),AO49),HYPERLINK(\"#'Exiting (FS009)'!\"&\"$AA$10\",AO49))","v":"MC"},{"$f":"IFERROR(HYPERLINK(\"#'Exiting (FS009)'!\"&ADDRESS(ROW(INDEX(CurrentListing,MATCH('Category Set A by Age'!AB49,CurrentListing,0),1)),25),AP49),HYPERLINK(\"#'Exiting (FS009)'!\"&\"$AA$10\",AP49))","v":"MC"},0,null,null,"ID15DN","HI15DN","SLI15DN","VI15DN","EMN15DN","OI15DN","OHI15DN","SLD15DN","DB15DN","MD15DN","AUT15DN","TBI15DN",null,"Died",{"$f":"IFERROR(IF(INDEX(StudCntC009,MATCH(Q49,CurrentListing,0))=\"\",\"No Data\",INDEX(StudCntC009,MATCH(Q49,CurrentListing,0))),\"MC\")","v":"MC"},"MC","MC","MC","MC","MC","MC","MC","MC","MC","MC","MC",{"$f":"SUM(AE49:AP49)","v":0}]
["Moved, known to be continuing",{"$f":"IFERROR(HYPERLINK(\"#'Exiting (FS009)'!\"&ADDRESS(ROW(INDEX(CurrentListing,MATCH('Category Set A by Age'!Q50,CurrentListing,0),1)),25),AE50),HYPERLINK(\"#'Exiting (FS009)'!\"&\"$AA$10\",AE50))","v":"MC"},{"$f":"IFERROR(HYPERLINK(\"#'Exiting (FS009)'!\"&ADDRESS(ROW(INDEX(CurrentListing,MATCH('Category Set A by Age'!R50,CurrentListing,0),1)),25),AF50),HYPERLINK(\"#'Exiting (FS009)'!\"&\"$AA$10\",AF50))","v":"MC"},{"$f":"IFERROR(HYPERLINK(\"#'Exiting (FS009)'!\"&ADDRESS(ROW(INDEX(CurrentListing,MATCH('Category Set A by Age'!S50,CurrentListing,0),1)),25),AG50),HYPERLINK(\"#'Exiting (FS009)'!\"&\"$AA$10\",AG50))","v":"MC"},{"$f":"IFERROR(HYPERLINK(\"#'Exiting (FS009)'!\"&ADDRESS(ROW(INDEX(CurrentListing,MATCH('Category Set A by Age'!T50,CurrentListing,0),1)),25),AH50),HYPERLINK(\"#'Exiting (FS009)'!\"&\"$AA$10\",AH50))","v":"MC"},{"$f":"IFERROR(HYPERLINK(\"#'Exiting (FS009)'!\"&ADDRESS(ROW(INDEX(CurrentListing,MATCH('Category Set A by Age'!U50,CurrentListing,0),1)),25),AI50),HYPERLINK(\"#'Exiting (FS009)'!\"&\"$AA$10\",AI50))","v":"MC"},{"$f":"IFERROR(HYPERLINK(\"#'Exiting (FS009)'!\"&ADDRESS(ROW(INDEX(CurrentListing,MATCH('Category Set A by Age'!V50,CurrentListing,0),1)),25),AJ50),HYPERLINK(\"#'Exiting (FS009)'!\"&\"$AA$10\",AJ50))","v":"MC"},{"$f":"IFERROR(HYPERLINK(\"#'Exiting (FS009)'!\"&ADDRESS(ROW(INDEX(CurrentListing,MATCH('Category Set A by Age'!W50,CurrentListing,0),1)),25),AK50),HYPERLINK(\"#'Exiting (FS009)'!\"&\"$AA$10\",AK50))","v":"MC"},{"$f":"IFERROR(HYPERLINK(\"#'Exiting (FS009)'!\"&ADDRESS(ROW(INDEX(CurrentListing,MATCH('Category Set A by Age'!X50,CurrentListing,0),1)),25),AL50),HYPERLINK(\"#'Exiting (FS009)'!\"&\"$AA$10\",AL50))","v":"MC"},{"$f":"IFERROR(HYPERLINK(\"#'Exiting (FS009)'!\"&ADDRESS(ROW(INDEX(CurrentListing,MATCH('Category Set A by Age'!Y50,CurrentListing,0),1)),25),AM50),HYPERLINK(\"#'Exiting (FS009)'!\"&\"$AA$10\",AM50))","v":"MC"},{"$f":"IFERROR(HYPERLINK(\"#'Exiting (FS009)'!\"&ADDRESS(ROW(INDEX(CurrentListing,MATCH('Category Set A by Age'!Z50,CurrentListing,0),1)),25),AN50),HYPERLINK(\"#'Exiting (FS009)'!\"&\"$AA$10\",AN50))","v":"MC"},{"$f":"IFERROR(HYPERLINK(\"#'Exiting (FS009)'!\"&ADDRESS(ROW(INDEX(CurrentListing,MATCH('Category Set A by Age'!AA50,CurrentListing,0),1)),25),AO50),HYPERLINK(\"#'Exiting (FS009)'!\"&\"$AA$10\",AO50))","v":"MC"},{"$f":"IFERROR(HYPERLINK(\"#'Exiting (FS009)'!\"&ADDRESS(ROW(INDEX(CurrentListing,MATCH('Category Set A by Age'!AB50,CurrentListing,0),1)),25),AP50),HYPERLINK(\"#'Exiting (FS009)'!\"&\"$AA$10\",AP50))","v":"MC"},0,null,null,"ID15MKCN","HI15MKCN","SLI15MKCN","VI15MKCN","EMN15MKCN","OI15MKCN","OHI15MKCN","SLD15MKCN","DB15MKCN","MD15MKCN","AUT15MKCN","TBI15MKCN",null,"Moved, known to be continuing","MC","MC","MC","MC","MC","MC","MC","MC","MC","MC","MC","MC",{"$f":"SUM(AE50:AP50)","v":0}]
["Dropped out",{"$f":"IFERROR(HYPERLINK(\"#'Exiting (FS009)'!\"&ADDRESS(ROW(INDEX(CurrentListing,MATCH('Category Set A by Age'!Q51,CurrentListing,0),1)),25),AE51),HYPERLINK(\"#'Exiting (FS009)'!\"&\"$AA$10\",AE51))","v":"MC"},{"$f":"IFERROR(HYPERLINK(\"#'Exiting (FS009)'!\"&ADDRESS(ROW(INDEX(CurrentListing,MATCH('Category Set A by Age'!R51,CurrentListing,0),1)),25),AF51),HYPERLINK(\"#'Exiting (FS009)'!\"&\"$AA$10\",AF51))","v":"MC"},{"$f":"IFERROR(HYPERLINK(\"#'Exiting (FS009)'!\"&ADDRESS(ROW(INDEX(CurrentListing,MATCH('Category Set A by Age'!S51,CurrentListing,0),1)),25),AG51),HYPERLINK(\"#'Exiting (FS009)'!\"&\"$AA$10\",AG51))","v":"MC"},{"$f":"IFERROR(HYPERLINK(\"#'Exiting (FS009)'!\"&ADDRESS(ROW(INDEX(CurrentListing,MATCH('Category Set A by Age'!T51,CurrentListing,0),1)),25),AH51),HYPERLINK(\"#'Exiting (FS009)'!\"&\"$AA$10\",AH51))","v":"MC"},{"$f":"IFERROR(HYPERLINK(\"#'Exiting (FS009)'!\"&ADDRESS(ROW(INDEX(CurrentListing,MATCH('Category Set A by Age'!U51,CurrentListing,0),1)),25),AI51),HYPERLINK(\"#'Exiting (FS009)'!\"&\"$AA$10\",AI51))","v":"MC"},{"$f":"IFERROR(HYPERLINK(\"#'Exiting (FS009)'!\"&ADDRESS(ROW(INDEX(CurrentListing,MATCH('Category Set A by Age'!V51,CurrentListing,0),1)),25),AJ51),HYPERLINK(\"#'Exiting (FS009)'!\"&\"$AA$10\",AJ51))","v":"MC"},{"$f":"IFERROR(HYPERLINK(\"#'Exiting (FS009)'!\"&ADDRESS(ROW(INDEX(CurrentListing,MATCH('Category Set A by Age'!W51,CurrentListing,0),1)),25),AK51),HYPERLINK(\"#'Exiting (FS009)'!\"&\"$AA$10\",AK51))","v":"MC"},{"$f":"IFERROR(HYPERLINK(\"#'Exiting (FS009)'!\"&ADDRESS(ROW(INDEX(CurrentListing,MATCH('Category Set A by Age'!X51,CurrentListing,0),1)),25),AL51),HYPERLINK(\"#'Exiting (FS009)'!\"&\"$AA$10\",AL51))","v":"MC"},{"$f":"IFERROR(HYPERLINK(\"#'Exiting (FS009)'!\"&ADDRESS(ROW(INDEX(CurrentListing,MATCH('Category Set A by Age'!Y51,CurrentListing,0),1)),25),AM51),HYPERLINK(\"#'Exiting (FS009)'!\"&\"$AA$10\",AM51))","v":"MC"},{"$f":"IFERROR(HYPERLINK(\"#'Exiting (FS009)'!\"&ADDRESS(ROW(INDEX(CurrentListing,MATCH('Category Set A by Age'!Z51,CurrentListing,0),1)),25),AN51),HYPERLINK(\"#'Exiting (FS009)'!\"&\"$AA$10\",AN51))","v":"MC"},{"$f":"IFERROR(HYPERLINK(\"#'Exiting (FS009)'!\"&ADDRESS(ROW(INDEX(CurrentListing,MATCH('Category Set A by Age'!AA51,CurrentListing,0),1)),25),AO51),HYPERLINK(\"#'Exiting (FS009)'!\"&\"$AA$10\",AO51))","v":"MC"},{"$f":"IFERROR(HYPERLINK(\"#'Exiting (FS009)'!\"&ADDRESS(ROW(INDEX(CurrentListing,MATCH('Category Set A by Age'!AB51,CurrentListing,0),1)),25),AP51),HYPERLINK(\"#'Exiting (FS009)'!\"&\"$AA$10\",AP51))","v":"MC"},0,null,null,"ID15DROPOUTN","HI15DROPOUTN","SLI15DROPOUTN","VI15DROPOUTN","EMN15DROPOUTN","OI15DROPOUTN","OHI15DROPOUTN","SLD15DROPOUTN","DB15DROPOUTN","MD15DROPOUTN","AUT15DROPOUTN","TBI15DROPOUTN",null,"Dropped out","MC","MC","MC","MC","MC","MC","MC","MC","MC","MC","MC","MC",{"$f":"SUM(AE51:AP51)","v":0}]
["Total",{"$f":"SUM(B44:B51)","v":0},{"$f":"SUM(C44:C51)","v":0},0,0,0,0,0,0,0,0,0,0,{"$f":"IF(AND(N4=\"MC\",N5=\"MC\",N6=\"MC\",N7=\"MC\",N8=\"MC\",N9=\"MC\",N10=\"MC\",N11=\"MC\"),\"\",SUM(B44:M51))","v":""},null,null,null,null,null,null,null,null,null,null,null,null,null,null,"15Y","Total",{"$f":"SUM(AE44:AE51)","v":0},{"$f":"SUM(AF44:AF51)","v":0},0,0,0,0,0,0,0,0,0,0,{"$f":"IFERROR(IF(INDEX(StudCntC009,MATCH(AC52,CurrentListing,0))=\"\",\"No Data\",INDEX(StudCntC009,MATCH(AC52,CurrentListing,0))),\"MC\")","v":"MC"}]
[]
["Percent by basis of exit","Age 15"]
[null,"Intellectual\ndisability\n(percent)","Hearing\nimpairment\n(percent)","Speech or\nlanguage\nimpairment\n(percent)","Visual\nimpairment\n(percent)","Emotional\ndisturbance\n(percent)","Orthopedic\nimpairment\n(percent)","Other\nhealth\nimpairment\n(percent)","Specific\nlearning\ndisability\n(percent)","Deaf-\nblindness\n(percent)","Multiple\ndisabilities\n(percent)","Autism\n(percent)","Traumatic\nbrain\ninjury\n(percent)","Total\n(percent)"]
["Transferred to regular education",{"$f":"IF(ISERROR(B44/$N44),IF(B44=\"MC\", \"\",0), B44/$N44)","v":""},{"$f":"IF(ISERROR(C44/$N44),IF(C44=\"MC\", \"\",0), C44/$N44)","v":""},"","","","","","","","","","",{"$f":"SUM(B56:M56)","v":0}]
["Graduated with regular high school diploma",{"$f":"IF(ISERROR(B45/$N45),IF(B45=\"MC\", \"\",0), B45/$N45)","v":""},"","","","","","","","","","","",{"$f":"SUM(B57:M57)","v":0}]
["Graduated with an alternate diploma","","","","","","","","","","","","",{"$f":"SUM(B58:M58)","v":0}]
["Received a certificate",{"$f":"IF(ISERROR(B47/$N47),IF(B47=\"MC\", \"\",0), B47/$N47)","v":""},"","","","","","","","","","","",0]
["Reached maximum age"]
["Died",{"$f":"IF(ISERROR(B49/$N49),IF(B49=\"MC\", \"\",0), B49/$N49)","v":""},"","","","","","","","","","","",0]
["Moved, known to be continuing",{"$f":"IF(ISERROR(B50/$N50),IF(B50=\"MC\", \"\",0), B50/$N50)","v":""},"","","","","","","","","","","",0]
["Dropped out",{"$f":"IF(ISERROR(B51/$N51),IF(B51=\"MC\", \"\",0), B51/$N51)","v":""},"","","","","","","","","","","",0]
["Total",{"$f":"IFERROR(IF($N52<>0,B52/$N52,0),\"\")","v":""},{"$f":"IFERROR(IF($N52<>0,C52/$N52,0),\"\")","v":""},"","","","","","","",{"$f":"IFERROR(IF($N52<>0,K52/$N52,0),\"\")","v":""},"","",0]
[]
["Category Set A – Children with disabilities (IDEA) exiting special education, by age, disability category, and basis of exit"]
["Student count by basis of exit ","Age 16",null,null,null,null,null,null,null,null,null,null,null,null,null,null,"Age 16 Lookup",null,null,null,null,null,null,null,null,null,null,null,null,"Student counts by basis of exit","Age 16"]
[null,"Intellectual\ndisability","Hearing\nimpairment","Speech or\nlanguage\nimpairment","Visual\nimpairment","Emotional\ndisturbance","Orthopedic\nimpairment","Other\nhealth\nimpairment","Specific\nlearning\ndisability","Deaf-\nblindness","Multiple\ndisabilities","Autism","Traumatic\nbrain\ninjury","Total",null,null,null,null,null,null,null,null,null,null,null,null,null,null,null,null,"Intellectual\nDisability","Hearing\nImpairments","Speech or\nLanguage\nImpairments","Visual\nImpairments","Emotional\nDisturbance","Orthopedic\nImpairments","Other\nHealth\nImpairments","Specific\nLearning\nDisabilities","Deaf-\nBlindness","Multiple\nDisabilities","Autism","Traumatic\nBrain\nInjury","Total"]
["Transferred to regular education",{"$f":"IFERROR(HYPERLINK(\"#'Exiting (FS009)'!\"&ADDRESS(ROW(INDEX(CurrentListing,MATCH('Category Set A by Age'!Q69,CurrentListing,0),1)),25),AE69),HYPERLINK(\"#'Exiting (FS009)'!\"&\"$AA$10\",AE69))","v":"MC"},{"$f":"IFERROR(HYPERLINK(\"#'Exiting (FS009)'!\"&ADDRESS(ROW(INDEX(CurrentListing,MATCH('Category Set A by Age'!R69,CurrentListing,0),1)),25),AF69),HYPERLINK(\"#'Exiting (FS009)'!\"&\"$AA$10\",AF69))","v":"MC"},{"$f":"IFERROR(HYPERLINK(\"#'Exiting (FS009)'!\"&ADDRESS(ROW(INDEX(CurrentListing,MATCH('Category Set A by Age'!S69,CurrentListing,0),1)),25),AG69),HYPERLINK(\"#'Exiting (FS009)'!\"&\"$AA$10\",AG69))","v":"MC"},{"$f":"IFERROR(HYPERLINK(\"#'Exiting (FS009)'!\"&ADDRESS(ROW(INDEX(CurrentListing,MATCH('Category Set A by Age'!T69,CurrentListing,0),1)),25),AH69),HYPERLINK(\"#'Exiting (FS009)'!\"&\"$AA$10\",AH69))","v":"MC"},{"$f":"IFERROR(HYPERLINK(\"#'Exiting (FS009)'!\"&ADDRESS(ROW(INDEX(CurrentListing,MATCH('Category Set A by Age'!U69,CurrentListing,0),1)),25),AI69),HYPERLINK(\"#'Exiting (FS009)'!\"&\"$AA$10\",AI69))","v":"MC"},{"$f":"IFERROR(HYPERLINK(\"#'Exiting (FS009)'!\"&ADDRESS(ROW(INDEX(CurrentListing,MATCH('Category Set A by Age'!V69,CurrentListing,0),1)),25),AJ69),HYPERLINK(\"#'Exiting (FS009)'!\"&\"$AA$10\",AJ69))","v":"MC"},{"$f":"IFERROR(HYPERLINK(\"#'Exiting (FS009)'!\"&ADDRESS(ROW(INDEX(CurrentListing,MATCH('Category Set A by Age'!W69,CurrentListing,0),1)),25),AK69),HYPERLINK(\"#'Exiting (FS009)'!\"&\"$AA$10\",AK69))","v":"MC"},{"$f":"IFERROR(HYPERLINK(\"#'Exiting (FS009)'!\"&ADDRESS(ROW(INDEX(CurrentListing,MATCH('Category Set A by Age'!X69,CurrentListing,0),1)),25),AL69),HYPERLINK(\"#'Exiting (FS009)'!\"&\"$AA$10\",AL69))","v":"MC"},{"$f":"IFERROR(HYPERLINK(\"#'Exiting (FS009)'!\"&ADDRESS(ROW(INDEX(CurrentListing,MATCH('Category Set A by Age'!Y69,CurrentListing,0),1)),25),AM69),HYPERLINK(\"#'Exiting (FS009)'!\"&\"$AA$10\",AM69))","v":"MC"},{"$f":"IFERROR(HYPERLINK(\"#'Exiting (FS009)'!\"&ADDRESS(ROW(INDEX(CurrentListing,MATCH('Category Set A by Age'!Z69,CurrentListing,0),1)),25),AN69),HYPERLINK(\"#'Exiting (FS009)'!\"&\"$AA$10\",AN69))","v":"MC"},{"$f":"IFERROR(HYPERLINK(\"#'Exiting (FS009)'!\"&ADDRESS(ROW(INDEX(CurrentListing,MATCH('Category Set A by Age'!AA69,CurrentListing,0),1)),25),AO69),HYPERLINK(\"#'Exiting (FS009)'!\"&\"$AA$10\",AO69))","v":"MC"},{"$f":"IFERROR(HYPERLINK(\"#'Exiting (FS009)'!\"&ADDRESS(ROW(INDEX(CurrentListing,MATCH('Category Set A by Age'!AB69,CurrentListing,0),1)),25),AP69),HYPERLINK(\"#'Exiting (FS009)'!\"&\"$AA$10\",AP69))","v":"MC"},{"$f":"SUM(B69:M69)","v":0},null,null,"ID16TRANN","HI16TRANN","SLI16TRANN","VI16TRANN","EMN16TRANN","OI16TRANN","OHI16TRANN","SLD16TRANN","DB16TRANN","MD16TRANN","AUT16TRANN","TBI16TRANN",null,"Transferred to regular education",{"$f":"IFERROR(IF(INDEX(StudCntC009,MATCH(Q69,CurrentListing,0))=\"\",\"No Data\",INDEX(StudCntC009,MATCH(Q69,CurrentListing,0))),\"MC\")","v":"MC"},"MC","MC","MC","MC","MC","MC","MC","MC","MC","MC","MC",{"$f":"SUM(AE69:AP69)","v":0}]
["Graduated with regular high school diploma",{"$f":"IFERROR(HYPERLINK(\"#'Exiting (FS009)'!\"&ADDRESS(ROW(INDEX(CurrentListing,MATCH('Category Set A by Age'!Q70,CurrentListing,0),1)),25),AE70),HYPERLINK(\"#'Exiting (FS009)'!\"&\"$AA$10\",AE70))","v":"MC"},{"$f":"IFERROR(HYPERLINK(\"#'Exiting (FS009)'!\"&ADDRESS(ROW(INDEX(CurrentListing,MATCH('Category Set A by Age'!R70,CurrentListing,0),1)),25),AF70),HYPERLINK(\"#'Exiting (FS009)'!\"&\"$AA$10\",AF70))","v":"MC"},{"$f":"IFERROR(HYPERLINK(\"#'Exiting (FS009)'!\"&ADDRESS(ROW(INDEX(CurrentListing,MATCH('Category Set A by Age'!S70,CurrentListing,0),1)),25),AG70),HYPERLINK(\"#'Exiting (FS009)'!\"&\"$AA$10\",AG70))","v":"MC"},{"$f":"IFERROR(HYPERLINK(\"#'Exiting (FS009)'!\"&ADDRESS(ROW(INDEX(CurrentListing,MATCH('Category Set A by Age'!T70,CurrentListing,0),1)),25),AH70),HYPERLINK(\"#'Exiting (FS009)'!\"&\"$AA$10\",AH70))","v":"MC"},{"$f":"IFERROR(HYPERLINK(\"#'Exiting (FS009)'!\"&ADDRESS(ROW(INDEX(CurrentListing,MATCH('Category Set A by Age'!U70,CurrentListing,0),1)),25),AI70),HYPERLINK(\"#'Exiting (FS009)'!\"&\"$AA$10\",AI70))","v":"MC"},{"$f":"IFERROR(HYPERLINK(\"#'Exiting (FS009)'!\"&ADDRESS(ROW(INDEX(CurrentListing,MATCH('Category Set A by Age'!V70,CurrentListing,0),1)),25),AJ70),HYPERLINK(\"#'Exiting (FS009)'!\"&\"$AA$10\",AJ70))","v":"MC"},{"$f":"IFERROR(HYPERLINK(\"#'Exiting (FS009)'!\"&ADDRESS(ROW(INDEX(CurrentListing,MATCH('Category Set A by Age'!W70,CurrentListing,0),1)),25),AK70),HYPERLINK(\"#'Exiting (FS009)'!\"&\"$AA$10\",AK70))","v":"MC"},{"$f":"IFERROR(HYPERLINK(\"#'Exiting (FS009)'!\"&ADDRESS(ROW(INDEX(CurrentListing,MATCH('Category Set A by Age'!X70,CurrentListing,0),1)),25),AL70),HYPERLINK(\"#'Exiting (FS009)'!\"&\"$AA$10\",AL70))","v":"MC"},{"$f":"IFERROR(HYPERLINK(\"#'Exiting (FS009)'!\"&ADDRESS(ROW(INDEX(CurrentListing,MATCH('Category Set A by Age'!Y70,CurrentListing,0),1)),25),AM70),HYPERLINK(\"#'Exiting (FS009)'!\"&\"$AA$10\",AM70))","v":"MC"},{"$f":"IFERROR(HYPERLINK(\"#'Exiting (FS009)'!\"&ADDRESS(ROW(INDEX(CurrentListing,MATCH('Category Set A by Age'!Z70,CurrentListing,0),1)),25),AN70),HYPERLINK(\"#'Exiting (FS009)'!\"&\"$AA$10\",AN70))","v":"MC"},{"$f":"IFERROR(HYPERLINK(\"#'Exiting (FS009)'!\"&ADDRESS(ROW(INDEX(CurrentListing,MATCH('Category Set A by Age'!AA70,CurrentListing,0),1)),25),AO70),HYPERLINK(\"#'Exiting (FS009)'!\"&\"$AA$10\",AO70))","v":"MC"},{"$f":"IFERROR(HYPERLINK(\"#'Exiting (FS009)'!\"&ADDRESS(ROW(INDEX(CurrentListing,MATCH('Category Set A by Age'!AB70,CurrentListing,0),1)),25),AP70),HYPERLINK(\"#'Exiting (FS009)'!\"&\"$AA$10\",AP70))","v":"MC"},{"$f":"SUM(B70:M70)","v":0},null,null,"ID16GHSN","HI16GHSN","SLI16GHSN","VI16GHSN","EMN16GHSN","OI16GHSN","OHI16GHSN","SLD16GHSN","DB16GHSN","MD16GHSN","AUT16GHSN","TBI16GHSN",null,"Graduated with regular high school diploma","MC","MC","MC","MC","MC","MC","MC","MC","MC","MC","MC","MC",{"$f":"SUM(AE70:AP70)","v":0}]
["Graduated with an alternate diploma",{"$f":"IFERROR(HYPERLINK(\"#'Exiting (FS009)'!\"&ADDRESS(ROW(INDEX(CurrentListing,MATCH('Category Set A by Age'!Q71,CurrentListing,0),1)),25),AE71),HYPERLINK(\"#'Exiting (FS009)'!\"&\"$AA$10\",AE71))","v":"MC"},{"$f":"IFERROR(HYPERLINK(\"#'Exiting (FS009)'!\"&ADDRESS(ROW(INDEX(CurrentListing,MATCH('Category Set A by Age'!R71,CurrentListing,0),1)),25),AF71),HYPERLINK(\"#'Exiting (FS009)'!\"&\"$AA$10\",AF71))","v":"MC"},{"$f":"IFERROR(HYPERLINK(\"#'Exiting (FS009)'!\"&ADDRESS(ROW(INDEX(CurrentListing,MATCH('Category Set A by Age'!S71,CurrentListing,0),1)),25),AG71),HYPERLINK(\"#'Exiting (FS009)'!\"&\"$AA$10\",AG71))","v":"MC"},{"$f":"IFERROR(HYPERLINK(\"#'Exiting (FS009)'!\"&ADDRESS(ROW(INDEX(CurrentListing,MATCH('Category Set A by Age'!T71,CurrentListing,0),1)),25),AH71),HYPERLINK(\"#'Exiting (FS009)'!\"&\"$AA$10\",AH71))","v":"MC"},{"$f":"IFERROR(HYPERLINK(\"#'Exiting (FS009)'!\"&ADDRESS(ROW(INDEX(CurrentListing,MATCH('Category Set A by Age'!U71,CurrentListing,0),1)),25),AI71),HYPERLINK(\"#'Exiting (FS009)'!\"&\"$AA$10\",AI71))","v":"MC"},{"$f":"IFERROR(HYPERLINK(\"#'Exiting (FS009)'!\"&ADDRESS(ROW(INDEX(CurrentListing,MATCH('Category Set A by Age'!V71,CurrentListing,0),1)),25),AJ71),HYPERLINK(\"#'Exiting (FS009)'!\"&\"$AA$10\",AJ71))","v":"MC"},{"$f":"IFERROR(HYPERLINK(\"#'Exiting (FS009)'!\"&ADDRESS(ROW(INDEX(CurrentListing,MATCH('Category Set A by Age'!W71,CurrentListing,0),1)),25),AK71),HYPERLINK(\"#'Exiting (FS009)'!\"&\"$AA$10\",AK71))","v":"MC"},{"$f":"IFERROR(HYPERLINK(\"#'Exiting (FS009)'!\"&ADDRESS(ROW(INDEX(CurrentListing,MATCH('Category Set A by Age'!X71,CurrentListing,0),1)),25),AL71),HYPERLINK(\"#'Exiting (FS009)'!\"&\"$AA$10\",AL71))","v":"MC"},{"$f":"IFERROR(HYPERLINK(\"#'Exiting (FS009)'!\"&ADDRESS(ROW(INDEX(CurrentListing,MATCH('Category Set A by Age'!Y71,CurrentListing,0),1)),25),AM71),HYPERLINK(\"#'Exiting (FS009)'!\"&\"$AA$10\",AM71))","v":"MC"},{"$f":"IFERROR(HYPERLINK(\"#'Exiting (FS009)'!\"&ADDRESS(ROW(INDEX(CurrentListing,MATCH('Category Set A by Age'!Z71,CurrentListing,0),1)),25),AN71),HYPERLINK(\"#'Exiting (FS009)'!\"&\"$AA$10\",AN71))","v":"MC"},{"$f":"IFERROR(HYPERLINK(\"#'Exiting (FS009)'!\"&ADDRESS(ROW(INDEX(CurrentListing,MATCH('Category Set A by Age'!AA71,CurrentListing,0),1)),25),AO71),HYPERLINK(\"#'Exiting (FS009)'!\"&\"$AA$10\",AO71))","v":"MC"},{"$f":"IFERROR(HYPERLINK(\"#'Exiting (FS009)'!\"&ADDRESS(ROW(INDEX(CurrentListing,MATCH('Category Set A by Age'!AB71,CurrentListing,0),1)),25),AP71),HYPERLINK(\"#'Exiting (FS009)'!\"&\"$AA$10\",AP71))","v":"MC"},0,null,null,"ID16GRADALTDPLN","HI16GRADALTDPLN","SLI16GRADALTDPLN","VI16GRADALTDPLN","EMN16GRADALTDPLN","OI16GRADALTDPLN","OHI16GRADALTDPLN","SLD16GRADALTDPLN","DB16GRADALTDPLN","MD16GRADALTDPLN","AUT16GRADALTDPLN","TBI16GRADALTDPLN",null,"Graduated with an alternate diploma",{"$f":"IFERROR(IF(INDEX(StudCntC009,MATCH(Q71,CurrentListing,0))=\"\",\"No Data\",INDEX(StudCntC009,MATCH(Q71,CurrentListing,0))),\"MC\")","v":"MC"},"MC","MC","MC","MC","MC","MC","MC","MC","MC","MC","MC",{"$f":"SUM(AE71:AP71)","v":0}]
["Received a certificate",{"$f":"IFERROR(HYPERLINK(\"#'Exiting (FS009)'!\"&ADDRESS(ROW(INDEX(CurrentListing,MATCH('Category Set A by Age'!Q72,CurrentListing,0),1)),25),AE72),HYPERLINK(\"#'Exiting (FS009)'!\"&\"$AA$10\",AE72))","v":"MC"},{"$f":"IFERROR(HYPERLINK(\"#'Exiting (FS009)'!\"&ADDRESS(ROW(INDEX(CurrentListing,MATCH('Category Set A by Age'!R72,CurrentListing,0),1)),25),AF72),HYPERLINK(\"#'Exiting (FS009)'!\"&\"$AA$10\",AF72))","v":"MC"},{"$f":"IFERROR(HYPERLINK(\"#'Exiting (FS009)'!\"&ADDRESS(ROW(INDEX(CurrentListing,MATCH('Category Set A by Age'!S72,CurrentListing,0),1)),25),AG72),HYPERLINK(\"#'Exiting (FS009)'!\"&\"$AA$10\",AG72))","v":"MC"},{"$f":"IFERROR(HYPERLINK(\"#'Exiting (FS009)'!\"&ADDRESS(ROW(INDEX(CurrentListing,MATCH('Category Set A by Age'!T72,CurrentListing,0),1)),25),AH72),HYPERLINK(\"#'Exiting (FS009)'!\"&\"$AA$10\",AH72))","v":"MC"},{"$f":"IFERROR(HYPERLINK(\"#'Exiting (FS009)'!\"&ADDRESS(ROW(INDEX(CurrentListing,MATCH('Category Set A by Age'!U72,CurrentListing,0),1)),25),AI72),HYPERLINK(\"#'Exiting (FS009)'!\"&\"$AA$10\",AI72))","v":"MC"},{"$f":"IFERROR(HYPERLINK(\"#'Exiting (FS009)'!\"&ADDRESS(ROW(INDEX(CurrentListing,MATCH('Category Set A by Age'!V72,CurrentListing,0),1)),25),AJ72),HYPERLINK(\"#'Exiting (FS009)'!\"&\"$AA$10\",AJ72))","v":"MC"},{"$f":"IFERROR(HYPERLINK(\"#'Exiting (FS009)'!\"&ADDRESS(ROW(INDEX(CurrentListing,MATCH('Category Set A by Age'!W72,CurrentListing,0),1)),25),AK72),HYPERLINK(\"#'Exiting (FS009)'!\"&\"$AA$10\",AK72))","v":"MC"},{"$f":"IFERROR(HYPERLINK(\"#'Exiting (FS009)'!\"&ADDRESS(ROW(INDEX(CurrentListing,MATCH('Category Set A by Age'!X72,CurrentListing,0),1)),25),AL72),HYPERLINK(\"#'Exiting (FS009)'!\"&\"$AA$10\",AL72))","v":"MC"},{"$f":"IFERROR(HYPERLINK(\"#'Exiting (FS009)'!\"&ADDRESS(ROW(INDEX(CurrentListing,MATCH('Category Set A by Age'!Y72,CurrentListing,0),1)),25),AM72),HYPERLINK(\"#'Exiting (FS009)'!\"&\"$AA$10\",AM72))","v":"MC"},{"$f":"IFERROR(HYPERLINK(\"#'Exiting (FS009)'!\"&ADDRESS(ROW(INDEX(CurrentListing,MATCH('Category Set A by Age'!Z72,CurrentListing,0),1)),25),AN72),HYPERLINK(\"#'Exiting (FS009)'!\"&\"$AA$10\",AN72))","v":"MC"},{"$f":"IFERROR(HYPERLINK(\"#'Exiting (FS009)'!\"&ADDRESS(ROW(INDEX(CurrentListing,MATCH('Category Set A by Age'!AA72,CurrentListing,0),1)),25),AO72),HYPERLINK(\"#'Exiting (FS009)'!\"&\"$AA$10\",AO72))","v":"MC"},{"$f":"IFERROR(HYPERLINK(\"#'Exiting (FS009)'!\"&ADDRESS(ROW(INDEX(CurrentListing,MATCH('Category Set A by Age'!AB72,CurrentListing,0),1)),25),AP72),HYPERLINK(\"#'Exiting (FS009)'!\"&\"$AA$10\",AP72))","v":"MC"},0,null,null,"ID16RCN","HI16RCN","SLI16RCN","VI16RCN","EMN16RCN","OI16RCN","OHI16RCN","SLD16RCN","DB16RCN","MD16RCN","AUT16RCN","TBI16RCN",null,"Received a certificate","MC","MC","MC","MC","MC","MC","MC","MC","MC","MC","MC","MC",{"$f":"SUM(AE72:AP72)","v":0}]
["Reached maximum age",null,null,null,null,null,null,null,null,null,null,null,null,null,null,null,null,null,null,null,null,null,null,null,null,null,null,null,null,"Reached maximum age"]
["Died",{"$f":"IFERROR(HYPERLINK(\"#'Exiting (FS009)'!\"&ADDRESS(ROW(INDEX(CurrentListing,MATCH('Category Set A by Age'!Q74,CurrentListing,0),1)),25),AE74),HYPERLINK(\"#'Exiting (FS009)'!\"&\"$AA$10\",AE74))","v":"MC"},{"$f":"IFERROR(HYPERLINK(\"#'Exiting (FS009)'!\"&ADDRESS(ROW(INDEX(CurrentListing,MATCH('Category Set A by Age'!R74,CurrentListing,0),1)),25),AF74),HYPERLINK(\"#'Exiting (FS009)'!\"&\"$AA$10\",AF74))","v":"MC"},{"$f":"IFERROR(HYPERLINK(\"#'Exiting (FS009)'!\"&ADDRESS(ROW(INDEX(CurrentListing,MATCH('Category Set A by Age'!S74,CurrentListing,0),1)),25),AG74),HYPERLINK(\"#'Exiting (FS009)'!\"&\"$AA$10\",AG74))","v":"MC"},{"$f":"IFERROR(HYPERLINK(\"#'Exiting (FS009)'!\"&ADDRESS(ROW(INDEX(CurrentListing,MATCH('Category Set A by Age'!T74,CurrentListing,0),1)),25),AH74),HYPERLINK(\"#'Exiting (FS009)'!\"&\"$AA$10\",AH74))","v":"MC"},{"$f":"IFERROR(HYPERLINK(\"#'Exiting (FS009)'!\"&ADDRESS(ROW(INDEX(CurrentListing,MATCH('Category Set A by Age'!U74,CurrentListing,0),1)),25),AI74),HYPERLINK(\"#'Exiting (FS009)'!\"&\"$AA$10\",AI74))","v":"MC"},{"$f":"IFERROR(HYPERLINK(\"#'Exiting (FS009)'!\"&ADDRESS(ROW(INDEX(CurrentListing,MATCH('Category Set A by Age'!V74,CurrentListing,0),1)),25),AJ74),HYPERLINK(\"#'Exiting (FS009)'!\"&\"$AA$10\",AJ74))","v":"MC"},{"$f":"IFERROR(HYPERLINK(\"#'Exiting (FS009)'!\"&ADDRESS(ROW(INDEX(CurrentListing,MATCH('Category Set A by Age'!W74,CurrentListing,0),1)),25),AK74),HYPERLINK(\"#'Exiting (FS009)'!\"&\"$AA$10\",AK74))","v":"MC"},{"$f":"IFERROR(HYPERLINK(\"#'Exiting (FS009)'!\"&ADDRESS(ROW(INDEX(CurrentListing,MATCH('Category Set A by Age'!X74,CurrentListing,0),1)),25),AL74),HYPERLINK(\"#'Exiting (FS009)'!\"&\"$AA$10\",AL74))","v":"MC"},{"$f":"IFERROR(HYPERLINK(\"#'Exiting (FS009)'!\"&ADDRESS(ROW(INDEX(CurrentListing,MATCH('Category Set A by Age'!Y74,CurrentListing,0),1)),25),AM74),HYPERLINK(\"#'Exiting (FS009)'!\"&\"$AA$10\",AM74))","v":"MC"},{"$f":"IFERROR(HYPERLINK(\"#'Exiting (FS009)'!\"&ADDRESS(ROW(INDEX(CurrentListing,MATCH('Category Set A by Age'!Z74,CurrentListing,0),1)),25),AN74),HYPERLINK(\"#'Exiting (FS009)'!\"&\"$AA$10\",AN74))","v":"MC"},{"$f":"IFERROR(HYPERLINK(\"#'Exiting (FS009)'!\"&ADDRESS(ROW(INDEX(CurrentListing,MATCH('Category Set A by Age'!AA74,CurrentListing,0),1)),25),AO74),HYPERLINK(\"#'Exiting (FS009)'!\"&\"$AA$10\",AO74))","v":"MC"},{"$f":"IFERROR(HYPERLINK(\"#'Exiting (FS009)'!\"&ADDRESS(ROW(INDEX(CurrentListing,MATCH('Category Set A by Age'!AB74,CurrentListing,0),1)),25),AP74),HYPERLINK(\"#'Exiting (FS009)'!\"&\"$AA$10\",AP74))","v":"MC"},0,null,null,"ID16DN","HI16DN","SLI16DN","VI16DN","EMN16DN","OI16DN","OHI16DN","SLD16DN","DB16DN","MD16DN","AUT16DN","TBI16DN",null,"Died",{"$f":"IFERROR(IF(INDEX(StudCntC009,MATCH(Q74,CurrentListing,0))=\"\",\"No Data\",INDEX(StudCntC009,MATCH(Q74,CurrentListing,0))),\"MC\")","v":"MC"},"MC","MC","MC","MC","MC","MC","MC","MC","MC","MC","MC",{"$f":"SUM(AE74:AP74)","v":0}]
["Moved, known to be continuing",{"$f":"IFERROR(HYPERLINK(\"#'Exiting (FS009)'!\"&ADDRESS(ROW(INDEX(CurrentListing,MATCH('Category Set A by Age'!Q75,CurrentListing,0),1)),25),AE75),HYPERLINK(\"#'Exiting (FS009)'!\"&\"$AA$10\",AE75))","v":"MC"},{"$f":"IFERROR(HYPERLINK(\"#'Exiting (FS009)'!\"&ADDRESS(ROW(INDEX(CurrentListing,MATCH('Category Set A by Age'!R75,CurrentListing,0),1)),25),AF75),HYPERLINK(\"#'Exiting (FS009)'!\"&\"$AA$10\",AF75))","v":"MC"},{"$f":"IFERROR(HYPERLINK(\"#'Exiting (FS009)'!\"&ADDRESS(ROW(INDEX(CurrentListing,MATCH('Category Set A by Age'!S75,CurrentListing,0),1)),25),AG75),HYPERLINK(\"#'Exiting (FS009)'!\"&\"$AA$10\",AG75))","v":"MC"},{"$f":"IFERROR(HYPERLINK(\"#'Exiting (FS009)'!\"&ADDRESS(ROW(INDEX(CurrentListing,MATCH('Category Set A by Age'!T75,CurrentListing,0),1)),25),AH75),HYPERLINK(\"#'Exiting (FS009)'!\"&\"$AA$10\",AH75))","v":"MC"},{"$f":"IFERROR(HYPERLINK(\"#'Exiting (FS009)'!\"&ADDRESS(ROW(INDEX(CurrentListing,MATCH('Category Set A by Age'!U75,CurrentListing,0),1)),25),AI75),HYPERLINK(\"#'Exiting (FS009)'!\"&\"$AA$10\",AI75))","v":"MC"},{"$f":"IFERROR(HYPERLINK(\"#'Exiting (FS009)'!\"&ADDRESS(ROW(INDEX(CurrentListing,MATCH('Category Set A by Age'!V75,CurrentListing,0),1)),25),AJ75),HYPERLINK(\"#'Exiting (FS009)'!\"&\"$AA$10\",AJ75))","v":"MC"},{"$f":"IFERROR(HYPERLINK(\"#'Exiting (FS009)'!\"&ADDRESS(ROW(INDEX(CurrentListing,MATCH('Category Set A by Age'!W75,CurrentListing,0),1)),25),AK75),HYPERLINK(\"#'Exiting (FS009)'!\"&\"$AA$10\",AK75))","v":"MC"},{"$f":"IFERROR(HYPERLINK(\"#'Exiting (FS009)'!\"&ADDRESS(ROW(INDEX(CurrentListing,MATCH('Category Set A by Age'!X75,CurrentListing,0),1)),25),AL75),HYPERLINK(\"#'Exiting (FS009)'!\"&\"$AA$10\",AL75))","v":"MC"},{"$f":"IFERROR(HYPERLINK(\"#'Exiting (FS009)'!\"&ADDRESS(ROW(INDEX(CurrentListing,MATCH('Category Set A by Age'!Y75,CurrentListing,0),1)),25),AM75),HYPERLINK(\"#'Exiting (FS009)'!\"&\"$AA$10\",AM75))","v":"MC"},{"$f":"IFERROR(HYPERLINK(\"#'Exiting (FS009)'!\"&ADDRESS(ROW(INDEX(CurrentListing,MATCH('Category Set A by Age'!Z75,CurrentListing,0),1)),25),AN75),HYPERLINK(\"#'Exiting (FS009)'!\"&\"$AA$10\",AN75))","v":"MC"},{"$f":"IFERROR(HYPERLINK(\"#'Exiting (FS009)'!\"&ADDRESS(ROW(INDEX(CurrentListing,MATCH('Category Set A by Age'!AA75,CurrentListing,0),1)),25),AO75),HYPERLINK(\"#'Exiting (FS009)'!\"&\"$AA$10\",AO75))","v":"MC"},{"$f":"IFERROR(HYPERLINK(\"#'Exiting (FS009)'!\"&ADDRESS(ROW(INDEX(CurrentListing,MATCH('Category Set A by Age'!AB75,CurrentListing,0),1)),25),AP75),HYPERLINK(\"#'Exiting (FS009)'!\"&\"$AA$10\",AP75))","v":"MC"},0,null,null,"ID16MKCN","HI16MKCN","SLI16MKCN","VI16MKCN","EMN16MKCN","OI16MKCN","OHI16MKCN","SLD16MKCN","DB16MKCN","MD16MKCN","AUT16MKCN","TBI16MKCN",null,"Moved, known to be continuing","MC","MC","MC","MC","MC","MC","MC","MC","MC","MC","MC","MC",{"$f":"SUM(AE75:AP75)","v":0}]
["Dropped out",{"$f":"IFERROR(HYPERLINK(\"#'Exiting (FS009)'!\"&ADDRESS(ROW(INDEX(CurrentListing,MATCH('Category Set A by Age'!Q76,CurrentListing,0),1)),25),AE76),HYPERLINK(\"#'Exiting (FS009)'!\"&\"$AA$10\",AE76))","v":"MC"},{"$f":"IFERROR(HYPERLINK(\"#'Exiting (FS009)'!\"&ADDRESS(ROW(INDEX(CurrentListing,MATCH('Category Set A by Age'!R76,CurrentListing,0),1)),25),AF76),HYPERLINK(\"#'Exiting (FS009)'!\"&\"$AA$10\",AF76))","v":"MC"},{"$f":"IFERROR(HYPERLINK(\"#'Exiting (FS009)'!\"&ADDRESS(ROW(INDEX(CurrentListing,MATCH('Category Set A by Age'!S76,CurrentListing,0),1)),25),AG76),HYPERLINK(\"#'Exiting (FS009)'!\"&\"$AA$10\",AG76))","v":"MC"},{"$f":"IFERROR(HYPERLINK(\"#'Exiting (FS009)'!\"&ADDRESS(ROW(INDEX(CurrentListing,MATCH('Category Set A by Age'!T76,CurrentListing,0),1)),25),AH76),HYPERLINK(\"#'Exiting (FS009)'!\"&\"$AA$10\",AH76))","v":"MC"},{"$f":"IFERROR(HYPERLINK(\"#'Exiting (FS009)'!\"&ADDRESS(ROW(INDEX(CurrentListing,MATCH('Category Set A by Age'!U76,CurrentListing,0),1)),25),AI76),HYPERLINK(\"#'Exiting (FS009)'!\"&\"$AA$10\",AI76))","v":"MC"},{"$f":"IFERROR(HYPERLINK(\"#'Exiting (FS009)'!\"&ADDRESS(ROW(INDEX(CurrentListing,MATCH('Category Set A by Age'!V76,CurrentListing,0),1)),25),AJ76),HYPERLINK(\"#'Exiting (FS009)'!\"&\"$AA$10\",AJ76))","v":"MC"},{"$f":"IFERROR(HYPERLINK(\"#'Exiting (FS009)'!\"&ADDRESS(ROW(INDEX(CurrentListing,MATCH('Category Set A by Age'!W76,CurrentListing,0),1)),25),AK76),HYPERLINK(\"#'Exiting (FS009)'!\"&\"$AA$10\",AK76))","v":"MC"},{"$f":"IFERROR(HYPERLINK(\"#'Exiting (FS009)'!\"&ADDRESS(ROW(INDEX(CurrentListing,MATCH('Category Set A by Age'!X76,CurrentListing,0),1)),25),AL76),HYPERLINK(\"#'Exiting (FS009)'!\"&\"$AA$10\",AL76))","v":"MC"},{"$f":"IFERROR(HYPERLINK(\"#'Exiting (FS009)'!\"&ADDRESS(ROW(INDEX(CurrentListing,MATCH('Category Set A by Age'!Y76,CurrentListing,0),1)),25),AM76),HYPERLINK(\"#'Exiting (FS009)'!\"&\"$AA$10\",AM76))","v":"MC"},{"$f":"IFERROR(HYPERLINK(\"#'Exiting (FS009)'!\"&ADDRESS(ROW(INDEX(CurrentListing,MATCH('Category Set A by Age'!Z76,CurrentListing,0),1)),25),AN76),HYPERLINK(\"#'Exiting (FS009)'!\"&\"$AA$10\",AN76))","v":"MC"},{"$f":"IFERROR(HYPERLINK(\"#'Exiting (FS009)'!\"&ADDRESS(ROW(INDEX(CurrentListing,MATCH('Category Set A by Age'!AA76,CurrentListing,0),1)),25),AO76),HYPERLINK(\"#'Exiting (FS009)'!\"&\"$AA$10\",AO76))","v":"MC"},{"$f":"IFERROR(HYPERLINK(\"#'Exiting (FS009)'!\"&ADDRESS(ROW(INDEX(CurrentListing,MATCH('Category Set A by Age'!AB76,CurrentListing,0),1)),25),AP76),HYPERLINK(\"#'Exiting (FS009)'!\"&\"$AA$10\",AP76))","v":"MC"},0,null,null,"ID16DROPOUTN","HI16DROPOUTN","SLI16DROPOUTN","VI16DROPOUTN","EMN16DROPOUTN","OI16DROPOUTN","OHI16DROPOUTN","SLD16DROPOUTN","DB16DROPOUTN","MD16DROPOUTN","AUT16DROPOUTN","TBI16DROPOUTN",null,"Dropped out","MC","MC","MC","MC","MC","MC","MC","MC","MC","MC","MC","MC",{"$f":"SUM(AE76:AP76)","v":0}]
["Total",{"$f":"SUM(B69:B76)","v":0},{"$f":"SUM(C69:C76)","v":0},0,0,0,0,0,0,0,0,0,0,{"$f":"IF(AND(N4=\"MC\",N5=\"MC\",N6=\"MC\",N7=\"MC\",N8=\"MC\",N9=\"MC\",N10=\"MC\",N11=\"MC\"),\"\",SUM(B69:M76))","v":""},null,null,null,null,null,null,null,null,null,null,null,null,null,null,"16Y","Total",{"$f":"SUM(AE69:AE76)","v":0},{"$f":"SUM(AF69:AF76)","v":0},0,0,0,0,0,0,0,0,0,0,{"$f":"IFERROR(IF(INDEX(StudCntC009,MATCH(AC77,CurrentListing,0))=\"\",\"No Data\",INDEX(StudCntC009,MATCH(AC77,CurrentListing,0))),\"MC\")","v":"MC"}]
[]
["Percent by basis of exit","Age 16"]
[null,"Intellectual\ndisability\n(percent)","Hearing\nimpairment\n(percent)","Speech or\nlanguage\nimpairment\n(percent)","Visual\nimpairment\n(percent)","Emotional\ndisturbance\n(percent)","Orthopedic\nimpairment\n(percent)","Other\nhealth\nimpairment\n(percent)","Specific\nlearning\ndisability\n(percent)","Deaf-\nblindness\n(percent)","Multiple\ndisabilities\n(percent)","Autism\n(percent)","Traumatic\nbrain\ninjury\n(percent)","Total\n(percent)"]
["Transferred to regular education",{"$f":"IF(ISERROR(B69/$N69),IF(B69=\"MC\", \"\",0), B69/$N69)","v":""},{"$f":"IF(ISERROR(C69/$N69),IF(C69=\"MC\", \"\",0), C69/$N69)","v":""},"","","","","","","","","","",{"$f":"SUM(B81:M81)","v":0}]
["Graduated with regular high school diploma",{"$f":"IF(ISERROR(B70/$N70),IF(B70=\"MC\", \"\",0), B70/$N70)","v":""},"","","","","","","","","","","",{"$f":"SUM(B82:M82)","v":0}]
["Graduated with an alternate diploma","","","","","","","","","","","","",0]
["Received a certificate",{"$f":"IF(ISERROR(B72/$N72),IF(B72=\"MC\", \"\",0), B72/$N72)","v":""},"","","","","","","","","","","",0]
["Reached maximum age"]
["Died",{"$f":"IF(ISERROR(B74/$N74),IF(B74=\"MC\", \"\",0), B74/$N74)","v":""},"","","","","","","","","","","",0]
["Moved, known to be continuing",{"$f":"IF(ISERROR(B75/$N75),IF(B75=\"MC\", \"\",0), B75/$N75)","v":""},"","","","","","","","","","","",0]
["Dropped out",{"$f":"IF(ISERROR(B76/$N76),IF(B76=\"MC\", \"\",0), B76/$N76)","v":""},"","","","","","","","","","","",0]
["Total",{"$f":"IFERROR(IF($N77<>0,B77/$N77,0),\"\")","v":""},{"$f":"IFERROR(IF($N77<>0,C77/$N77,0),\"\")","v":""},"","","","","","","","","","",0]
[]
["Category Set A – Children with disabilities (IDEA) exiting special education, by age, disability category, and basis of exit"]
["Student count by basis of exit ","Age 17",null,null,null,null,null,null,null,null,null,null,null,null,null,null,"Age 17 Lookup",null,null,null,null,null,null,null,null,null,null,null,null,"Student counts by basis of exit","Age 17"]
[null,"Intellectual\ndisability","Hearing\nimpairment","Speech or\nlanguage\nimpairment","Visual\nimpairment","Emotional\ndisturbance","Orthopedic\nimpairment","Other\nhealth\nimpairment","Specific\nlearning\ndisability","Deaf-\nblindness","Multiple\ndisabilities","Autism","Traumatic\nbrain\ninjury","Total",null,null,null,null,null,null,null,null,null,null,null,null,null,null,null,null,"Intellectual\nDisability","Hearing\nImpairments","Speech or\nLanguage\nImpairments","Visual\nImpairments","Emotional\nDisturbance","Orthopedic\nImpairments","Other\nHealth\nImpairments","Specific\nLearning\nDisabilities","Deaf-\nBlindness","Multiple\nDisabilities","Autism","Traumatic\nBrain\nInjury","Total"]
["Transferred to regular education",{"$f":"IFERROR(HYPERLINK(\"#'Exiting (FS009)'!\"&ADDRESS(ROW(INDEX(CurrentListing,MATCH('Category Set A by Age'!Q94,CurrentListing,0),1)),25),AE94),HYPERLINK(\"#'Exiting (FS009)'!\"&\"$AA$10\",AE94))","v":"MC"},{"$f":"IFERROR(HYPERLINK(\"#'Exiting (FS009)'!\"&ADDRESS(ROW(INDEX(CurrentListing,MATCH('Category Set A by Age'!R94,CurrentListing,0),1)),25),AF94),HYPERLINK(\"#'Exiting (FS009)'!\"&\"$AA$10\",AF94))","v":"MC"},{"$f":"IFERROR(HYPERLINK(\"#'Exiting (FS009)'!\"&ADDRESS(ROW(INDEX(CurrentListing,MATCH('Category Set A by Age'!S94,CurrentListing,0),1)),25),AG94),HYPERLINK(\"#'Exiting (FS009)'!\"&\"$AA$10\",AG94))","v":"MC"},{"$f":"IFERROR(HYPERLINK(\"#'Exiting (FS009)'!\"&ADDRESS(ROW(INDEX(CurrentListing,MATCH('Category Set A by Age'!T94,CurrentListing,0),1)),25),AH94),HYPERLINK(\"#'Exiting (FS009)'!\"&\"$AA$10\",AH94))","v":"MC"},{"$f":"IFERROR(HYPERLINK(\"#'Exiting (FS009)'!\"&ADDRESS(ROW(INDEX(CurrentListing,MATCH('Category Set A by Age'!U94,CurrentListing,0),1)),25),AI94),HYPERLINK(\"#'Exiting (FS009)'!\"&\"$AA$10\",AI94))","v":"MC"},{"$f":"IFERROR(HYPERLINK(\"#'Exiting (FS009)'!\"&ADDRESS(ROW(INDEX(CurrentListing,MATCH('Category Set A by Age'!V94,CurrentListing,0),1)),25),AJ94),HYPERLINK(\"#'Exiting (FS009)'!\"&\"$AA$10\",AJ94))","v":"MC"},{"$f":"IFERROR(HYPERLINK(\"#'Exiting (FS009)'!\"&ADDRESS(ROW(INDEX(CurrentListing,MATCH('Category Set A by Age'!W94,CurrentListing,0),1)),25),AK94),HYPERLINK(\"#'Exiting (FS009)'!\"&\"$AA$10\",AK94))","v":"MC"},{"$f":"IFERROR(HYPERLINK(\"#'Exiting (FS009)'!\"&ADDRESS(ROW(INDEX(CurrentListing,MATCH('Category Set A by Age'!X94,CurrentListing,0),1)),25),AL94),HYPERLINK(\"#'Exiting (FS009)'!\"&\"$AA$10\",AL94))","v":"MC"},{"$f":"IFERROR(HYPERLINK(\"#'Exiting (FS009)'!\"&ADDRESS(ROW(INDEX(CurrentListing,MATCH('Category Set A by Age'!Y94,CurrentListing,0),1)),25),AM94),HYPERLINK(\"#'Exiting (FS009)'!\"&\"$AA$10\",AM94))","v":"MC"},{"$f":"IFERROR(HYPERLINK(\"#'Exiting (FS009)'!\"&ADDRESS(ROW(INDEX(CurrentListing,MATCH('Category Set A by Age'!Z94,CurrentListing,0),1)),25),AN94),HYPERLINK(\"#'Exiting (FS009)'!\"&\"$AA$10\",AN94))","v":"MC"},{"$f":"IFERROR(HYPERLINK(\"#'Exiting (FS009)'!\"&ADDRESS(ROW(INDEX(CurrentListing,MATCH('Category Set A by Age'!AA94,CurrentListing,0),1)),25),AO94),HYPERLINK(\"#'Exiting (FS009)'!\"&\"$AA$10\",AO94))","v":"MC"},{"$f":"IFERROR(HYPERLINK(\"#'Exiting (FS009)'!\"&ADDRESS(ROW(INDEX(CurrentListing,MATCH('Category Set A by Age'!AB94,CurrentListing,0),1)),25),AP94),HYPERLINK(\"#'Exiting (FS009)'!\"&\"$AA$10\",AP94))","v":"MC"},{"$f":"SUM(B94:M94)","v":0},null,null,"ID17TRANN","HI17TRANN","SLI17TRANN","VI17TRANN","EMN17TRANN","OI17TRANN","OHI17TRANN","SLD17TRANN","DB17TRANN","MD17TRANN","AUT17TRANN","TBI17TRANN",null,"Transferred to regular education",{"$f":"IFERROR(IF(INDEX(StudCntC009,MATCH(Q94,CurrentListing,0))=\"\",\"No Data\",INDEX(StudCntC009,MATCH(Q94,CurrentListing,0))),\"MC\")","v":"MC"},"MC","MC","MC","MC","MC","MC","MC","MC","MC","MC","MC",{"$f":"SUM(AE94:AP94)","v":0}]
["Graduated with regular high school diploma",{"$f":"IFERROR(HYPERLINK(\"#'Exiting (FS009)'!\"&ADDRESS(ROW(INDEX(CurrentListing,MATCH('Category Set A by Age'!Q95,CurrentListing,0),1)),25),AE95),HYPERLINK(\"#'Exiting (FS009)'!\"&\"$AA$10\",AE95))","v":"MC"},{"$f":"IFERROR(HYPERLINK(\"#'Exiting (FS009)'!\"&ADDRESS(ROW(INDEX(CurrentListing,MATCH('Category Set A by Age'!R95,CurrentListing,0),1)),25),AF95),HYPERLINK(\"#'Exiting (FS009)'!\"&\"$AA$10\",AF95))","v":"MC"},{"$f":"IFERROR(HYPERLINK(\"#'Exiting (FS009)'!\"&ADDRESS(ROW(INDEX(CurrentListing,MATCH('Category Set A by Age'!S95,CurrentListing,0),1)),25),AG95),HYPERLINK(\"#'Exiting (FS009)'!\"&\"$AA$10\",AG95))","v":"MC"},{"$f":"IFERROR(HYPERLINK(\"#'Exiting (FS009)'!\"&ADDRESS(ROW(INDEX(CurrentListing,MATCH('Category Set A by Age'!T95,CurrentListing,0),1)),25),AH95),HYPERLINK(\"#'Exiting (FS009)'!\"&\"$AA$10\",AH95))","v":"MC"},{"$f":"IFERROR(HYPERLINK(\"#'Exiting (FS009)'!\"&ADDRESS(ROW(INDEX(CurrentListing,MATCH('Category Set A by Age'!U95,CurrentListing,0),1)),25),AI95),HYPERLINK(\"#'Exiting (FS009)'!\"&\"$AA$10\",AI95))","v":"MC"},{"$f":"IFERROR(HYPERLINK(\"#'Exiting (FS009)'!\"&ADDRESS(ROW(INDEX(CurrentListing,MATCH('Category Set A by Age'!V95,CurrentListing,0),1)),25),AJ95),HYPERLINK(\"#'Exiting (FS009)'!\"&\"$AA$10\",AJ95))","v":"MC"},{"$f":"IFERROR(HYPERLINK(\"#'Exiting (FS009)'!\"&ADDRESS(ROW(INDEX(CurrentListing,MATCH('Category Set A by Age'!W95,CurrentListing,0),1)),25),AK95),HYPERLINK(\"#'Exiting (FS009)'!\"&\"$AA$10\",AK95))","v":"MC"},{"$f":"IFERROR(HYPERLINK(\"#'Exiting (FS009)'!\"&ADDRESS(ROW(INDEX(CurrentListing,MATCH('Category Set A by Age'!X95,CurrentListing,0),1)),25),AL95),HYPERLINK(\"#'Exiting (FS009)'!\"&\"$AA$10\",AL95))","v":"MC"},{"$f":"IFERROR(HYPERLINK(\"#'Exiting (FS009)'!\"&ADDRESS(ROW(INDEX(CurrentListing,MATCH('Category Set A by Age'!Y95,CurrentListing,0),1)),25),AM95),HYPERLINK(\"#'Exiting (FS009)'!\"&\"$AA$10\",AM95))","v":"MC"},{"$f":"IFERROR(HYPERLINK(\"#'Exiting (FS009)'!\"&ADDRESS(ROW(INDEX(CurrentListing,MATCH('Category Set A by Age'!Z95,CurrentListing,0),1)),25),AN95),HYPERLINK(\"#'Exiting (FS009)'!\"&\"$AA$10\",AN95))","v":"MC"},{"$f":"IFERROR(HYPERLINK(\"#'Exiting (FS009)'!\"&ADDRESS(ROW(INDEX(CurrentListing,MATCH('Category Set A by Age'!AA95,CurrentListing,0),1)),25),AO95),HYPERLINK(\"#'Exiting (FS009)'!\"&\"$AA$10\",AO95))","v":"MC"},{"$f":"IFERROR(HYPERLINK(\"#'Exiting (FS009)'!\"&ADDRESS(ROW(INDEX(CurrentListing,MATCH('Category Set A by Age'!AB95,CurrentListing,0),1)),25),AP95),HYPERLINK(\"#'Exiting (FS009)'!\"&\"$AA$10\",AP95))","v":"MC"},{"$f":"SUM(B95:M95)","v":0},null,null,"ID17GHSN","HI17GHSN","SLI17GHSN","VI17GHSN","EMN17GHSN","OI17GHSN","OHI17GHSN","SLD17GHSN","DB17GHSN","MD17GHSN","AUT17GHSN","TBI17GHSN",null,"Graduated with regular high school diploma","MC","MC","MC","MC","MC","MC","MC","MC","MC","MC","MC","MC",{"$f":"SUM(AE95:AP95)","v":0}]
["Graduated with an alternate diploma",{"$f":"IFERROR(HYPERLINK(\"#'Exiting (FS009)'!\"&ADDRESS(ROW(INDEX(CurrentListing,MATCH('Category Set A by Age'!Q96,CurrentListing,0),1)),25),AE96),HYPERLINK(\"#'Exiting (FS009)'!\"&\"$AA$10\",AE96))","v":"MC"},{"$f":"IFERROR(HYPERLINK(\"#'Exiting (FS009)'!\"&ADDRESS(ROW(INDEX(CurrentListing,MATCH('Category Set A by Age'!R96,CurrentListing,0),1)),25),AF96),HYPERLINK(\"#'Exiting (FS009)'!\"&\"$AA$10\",AF96))","v":"MC"},{"$f":"IFERROR(HYPERLINK(\"#'Exiting (FS009)'!\"&ADDRESS(ROW(INDEX(CurrentListing,MATCH('Category Set A by Age'!S96,CurrentListing,0),1)),25),AG96),HYPERLINK(\"#'Exiting (FS009)'!\"&\"$AA$10\",AG96))","v":"MC"},{"$f":"IFERROR(HYPERLINK(\"#'Exiting (FS009)'!\"&ADDRESS(ROW(INDEX(CurrentListing,MATCH('Category Set A by Age'!T96,CurrentListing,0),1)),25),AH96),HYPERLINK(\"#'Exiting (FS009)'!\"&\"$AA$10\",AH96))","v":"MC"},{"$f":"IFERROR(HYPERLINK(\"#'Exiting (FS009)'!\"&ADDRESS(ROW(INDEX(CurrentListing,MATCH('Category Set A by Age'!U96,CurrentListing,0),1)),25),AI96),HYPERLINK(\"#'Exiting (FS009)'!\"&\"$AA$10\",AI96))","v":"MC"},{"$f":"IFERROR(HYPERLINK(\"#'Exiting (FS009)'!\"&ADDRESS(ROW(INDEX(CurrentListing,MATCH('Category Set A by Age'!V96,CurrentListing,0),1)),25),AJ96),HYPERLINK(\"#'Exiting (FS009)'!\"&\"$AA$10\",AJ96))","v":"MC"},{"$f":"IFERROR(HYPERLINK(\"#'Exiting (FS009)'!\"&ADDRESS(ROW(INDEX(CurrentListing,MATCH('Category Set A by Age'!W96,CurrentListing,0),1)),25),AK96),HYPERLINK(\"#'Exiting (FS009)'!\"&\"$AA$10\",AK96))","v":"MC"},{"$f":"IFERROR(HYPERLINK(\"#'Exiting (FS009)'!\"&ADDRESS(ROW(INDEX(CurrentListing,MATCH('Category Set A by Age'!X96,CurrentListing,0),1)),25),AL96),HYPERLINK(\"#'Exiting (FS009)'!\"&\"$AA$10\",AL96))","v":"MC"},{"$f":"IFERROR(HYPERLINK(\"#'Exiting (FS009)'!\"&ADDRESS(ROW(INDEX(CurrentListing,MATCH('Category Set A by Age'!Y96,CurrentListing,0),1)),25),AM96),HYPERLINK(\"#'Exiting (FS009)'!\"&\"$AA$10\",AM96))","v":"MC"},{"$f":"IFERROR(HYPERLINK(\"#'Exiting (FS009)'!\"&ADDRESS(ROW(INDEX(CurrentListing,MATCH('Category Set A by Age'!Z96,CurrentListing,0),1)),25),AN96),HYPERLINK(\"#'Exiting (FS009)'!\"&\"$AA$10\",AN96))","v":"MC"},{"$f":"IFERROR(HYPERLINK(\"#'Exiting (FS009)'!\"&ADDRESS(ROW(INDEX(CurrentListing,MATCH('Category Set A by Age'!AA96,CurrentListing,0),1)),25),AO96),HYPERLINK(\"#'Exiting (FS009)'!\"&\"$AA$10\",AO96))","v":"MC"},{"$f":"IFERROR(HYPERLINK(\"#'Exiting (FS009)'!\"&ADDRESS(ROW(INDEX(CurrentListing,MATCH('Category Set A by Age'!AB96,CurrentListing,0),1)),25),AP96),HYPERLINK(\"#'Exiting (FS009)'!\"&\"$AA$10\",AP96))","v":"MC"},0,null,null,"ID17GRADALTDPLN","HI17GRADALTDPLN","SLI17GRADALTDPLN","VI17GRADALTDPLN","EMN17GRADALTDPLN","OI17GRADALTDPLN","OHI17GRADALTDPLN","SLD17GRADALTDPLN","DB17GRADALTDPLN","MD17GRADALTDPLN","AUT17GRADALTDPLN","TBI17GRADALTDPLN",null,"Graduated with an alternate diploma",{"$f":"IFERROR(IF(INDEX(StudCntC009,MATCH(Q96,CurrentListing,0))=\"\",\"No Data\",INDEX(StudCntC009,MATCH(Q96,CurrentListing,0))),\"MC\")","v":"MC"},"MC","MC","MC","MC","MC","MC","MC","MC","MC","MC","MC",{"$f":"SUM(AE96:AP96)","v":0}]
["Received a certificate",{"$f":"IFERROR(HYPERLINK(\"#'Exiting (FS009)'!\"&ADDRESS(ROW(INDEX(CurrentListing,MATCH('Category Set A by Age'!Q97,CurrentListing,0),1)),25),AE97),HYPERLINK(\"#'Exiting (FS009)'!\"&\"$AA$10\",AE97))","v":"MC"},{"$f":"IFERROR(HYPERLINK(\"#'Exiting (FS009)'!\"&ADDRESS(ROW(INDEX(CurrentListing,MATCH('Category Set A by Age'!R97,CurrentListing,0),1)),25),AF97),HYPERLINK(\"#'Exiting (FS009)'!\"&\"$AA$10\",AF97))","v":"MC"},{"$f":"IFERROR(HYPERLINK(\"#'Exiting (FS009)'!\"&ADDRESS(ROW(INDEX(CurrentListing,MATCH('Category Set A by Age'!S97,CurrentListing,0),1)),25),AG97),HYPERLINK(\"#'Exiting (FS009)'!\"&\"$AA$10\",AG97))","v":"MC"},{"$f":"IFERROR(HYPERLINK(\"#'Exiting (FS009)'!\"&ADDRESS(ROW(INDEX(CurrentListing,MATCH('Category Set A by Age'!T97,CurrentListing,0),1)),25),AH97),HYPERLINK(\"#'Exiting (FS009)'!\"&\"$AA$10\",AH97))","v":"MC"},{"$f":"IFERROR(HYPERLINK(\"#'Exiting (FS009)'!\"&ADDRESS(ROW(INDEX(CurrentListing,MATCH('Category Set A by Age'!U97,CurrentListing,0),1)),25),AI97),HYPERLINK(\"#'Exiting (FS009)'!\"&\"$AA$10\",AI97))","v":"MC"},{"$f":"IFERROR(HYPERLINK(\"#'Exiting (FS009)'!\"&ADDRESS(ROW(INDEX(CurrentListing,MATCH('Category Set A by Age'!V97,CurrentListing,0),1)),25),AJ97),HYPERLINK(\"#'Exiting (FS009)'!\"&\"$AA$10\",AJ97))","v":"MC"},{"$f":"IFERROR(HYPERLINK(\"#'Exiting (FS009)'!\"&ADDRESS(ROW(INDEX(CurrentListing,MATCH('Category Set A by Age'!W97,CurrentListing,0),1)),25),AK97),HYPERLINK(\"#'Exiting (FS009)'!\"&\"$AA$10\",AK97))","v":"MC"},{"$f":"IFERROR(HYPERLINK(\"#'Exiting (FS009)'!\"&ADDRESS(ROW(INDEX(CurrentListing,MATCH('Category Set A by Age'!X97,CurrentListing,0),1)),25),AL97),HYPERLINK(\"#'Exiting (FS009)'!\"&\"$AA$10\",AL97))","v":"MC"},{"$f":"IFERROR(HYPERLINK(\"#'Exiting (FS009)'!\"&ADDRESS(ROW(INDEX(CurrentListing,MATCH('Category Set A by Age'!Y97,CurrentListing,0),1)),25),AM97),HYPERLINK(\"#'Exiting (FS009)'!\"&\"$AA$10\",AM97))","v":"MC"},{"$f":"IFERROR(HYPERLINK(\"#'Exiting (FS009)'!\"&ADDRESS(ROW(INDEX(CurrentListing,MATCH('Category Set A by Age'!Z97,CurrentListing,0),1)),25),AN97),HYPERLINK(\"#'Exiting (FS009)'!\"&\"$AA$10\",AN97))","v":"MC"},{"$f":"IFERROR(HYPERLINK(\"#'Exiting (FS009)'!\"&ADDRESS(ROW(INDEX(CurrentListing,MATCH('Category Set A by Age'!AA97,CurrentListing,0),1)),25),AO97),HYPERLINK(\"#'Exiting (FS009)'!\"&\"$AA$10\",AO97))","v":"MC"},{"$f":"IFERROR(HYPERLINK(\"#'Exiting (FS009)'!\"&ADDRESS(ROW(INDEX(CurrentListing,MATCH('Category Set A by Age'!AB97,CurrentListing,0),1)),25),AP97),HYPERLINK(\"#'Exiting (FS009)'!\"&\"$AA$10\",AP97))","v":"MC"},0,null,null,"ID17RCN","HI17RCN","SLI17RCN","VI17RCN","EMN17RCN","OI17RCN","OHI17RCN","SLD17RCN","DB17RCN","MD17RCN","AUT17RCN","TBI17RCN",null,"Received a certificate","MC","MC","MC","MC","MC","MC","MC","MC","MC","MC","MC","MC",{"$f":"SUM(AE97:AP97)","v":0}]
["Reached maximum age",null,null,null,null,null,null,null,null,null,null,null,null,null,null,null,null,null,null,null,null,null,null,null,null,null,null,null,null,"Reached maximum age"]
["Died",{"$f":"IFERROR(HYPERLINK(\"#'Exiting (FS009)'!\"&ADDRESS(ROW(INDEX(CurrentListing,MATCH('Category Set A by Age'!Q99,CurrentListing,0),1)),25),AE99),HYPERLINK(\"#'Exiting (FS009)'!\"&\"$AA$10\",AE99))","v":"MC"},{"$f":"IFERROR(HYPERLINK(\"#'Exiting (FS009)'!\"&ADDRESS(ROW(INDEX(CurrentListing,MATCH('Category Set A by Age'!R99,CurrentListing,0),1)),25),AF99),HYPERLINK(\"#'Exiting (FS009)'!\"&\"$AA$10\",AF99))","v":"MC"},{"$f":"IFERROR(HYPERLINK(\"#'Exiting (FS009)'!\"&ADDRESS(ROW(INDEX(CurrentListing,MATCH('Category Set A by Age'!S99,CurrentListing,0),1)),25),AG99),HYPERLINK(\"#'Exiting (FS009)'!\"&\"$AA$10\",AG99))","v":"MC"},{"$f":"IFERROR(HYPERLINK(\"#'Exiting (FS009)'!\"&ADDRESS(ROW(INDEX(CurrentListing,MATCH('Category Set A by Age'!T99,CurrentListing,0),1)),25),AH99),HYPERLINK(\"#'Exiting (FS009)'!\"&\"$AA$10\",AH99))","v":"MC"},{"$f":"IFERROR(HYPERLINK(\"#'Exiting (FS009)'!\"&ADDRESS(ROW(INDEX(CurrentListing,MATCH('Category Set A by Age'!U99,CurrentListing,0),1)),25),AI99),HYPERLINK(\"#'Exiting (FS009)'!\"&\"$AA$10\",AI99))","v":"MC"},{"$f":"IFERROR(HYPERLINK(\"#'Exiting (FS009)'!\"&ADDRESS(ROW(INDEX(CurrentListing,MATCH('Category Set A by Age'!V99,CurrentListing,0),1)),25),AJ99),HYPERLINK(\"#'Exiting (FS009)'!\"&\"$AA$10\",AJ99))","v":"MC"},{"$f":"IFERROR(HYPERLINK(\"#'Exiting (FS009)'!\"&ADDRESS(ROW(INDEX(CurrentListing,MATCH('Category Set A by Age'!W99,CurrentListing,0),1)),25),AK99),HYPERLINK(\"#'Exiting (FS009)'!\"&\"$AA$10\",AK99))","v":"MC"},{"$f":"IFERROR(HYPERLINK(\"#'Exiting (FS009)'!\"&ADDRESS(ROW(INDEX(CurrentListing,MATCH('Category Set A by Age'!X99,CurrentListing,0),1)),25),AL99),HYPERLINK(\"#'Exiting (FS009)'!\"&\"$AA$10\",AL99))","v":"MC"},{"$f":"IFERROR(HYPERLINK(\"#'Exiting (FS009)'!\"&ADDRESS(ROW(INDEX(CurrentListing,MATCH('Category Set A by Age'!Y99,CurrentListing,0),1)),25),AM99),HYPERLINK(\"#'Exiting (FS009)'!\"&\"$AA$10\",AM99))","v":"MC"},{"$f":"IFERROR(HYPERLINK(\"#'Exiting (FS009)'!\"&ADDRESS(ROW(INDEX(CurrentListing,MATCH('Category Set A by Age'!Z99,CurrentListing,0),1)),25),AN99),HYPERLINK(\"#'Exiting (FS009)'!\"&\"$AA$10\",AN99))","v":"MC"},{"$f":"IFERROR(HYPERLINK(\"#'Exiting (FS009)'!\"&ADDRESS(ROW(INDEX(CurrentListing,MATCH('Category Set A by Age'!AA99,CurrentListing,0),1)),25),AO99),HYPERLINK(\"#'Exiting (FS009)'!\"&\"$AA$10\",AO99))","v":"MC"},{"$f":"IFERROR(HYPERLINK(\"#'Exiting (FS009)'!\"&ADDRESS(ROW(INDEX(CurrentListing,MATCH('Category Set A by Age'!AB99,CurrentListing,0),1)),25),AP99),HYPERLINK(\"#'Exiting (FS009)'!\"&\"$AA$10\",AP99))","v":"MC"},0,null,null,"ID17DN","HI17DN","SLI17DN","VI17DN","EMN17DN","OI17DN","OHI17DN","SLD17DN","DB17DN","MD17DN","AUT17DN","TBI17DN",null,"Died",{"$f":"IFERROR(IF(INDEX(StudCntC009,MATCH(Q99,CurrentListing,0))=\"\",\"No Data\",INDEX(StudCntC009,MATCH(Q99,CurrentListing,0))),\"MC\")","v":"MC"},"MC","MC","MC","MC","MC","MC","MC","MC","MC","MC","MC",{"$f":"SUM(AE99:AP99)","v":0}]
["Moved, known to be continuing",{"$f":"IFERROR(HYPERLINK(\"#'Exiting (FS009)'!\"&ADDRESS(ROW(INDEX(CurrentListing,MATCH('Category Set A by Age'!Q100,CurrentListing,0),1)),25),AE100),HYPERLINK(\"#'Exiting (FS009)'!\"&\"$AA$10\",AE100))","v":"MC"},{"$f":"IFERROR(HYPERLINK(\"#'Exiting (FS009)'!\"&ADDRESS(ROW(INDEX(CurrentListing,MATCH('Category Set A by Age'!R100,CurrentListing,0),1)),25),AF100),HYPERLINK(\"#'Exiting (FS009)'!\"&\"$AA$10\",AF100))","v":"MC"},{"$f":"IFERROR(HYPERLINK(\"#'Exiting (FS009)'!\"&ADDRESS(ROW(INDEX(CurrentListing,MATCH('Category Set A by Age'!S100,CurrentListing,0),1)),25),AG100),HYPERLINK(\"#'Exiting (FS009)'!\"&\"$AA$10\",AG100))","v":"MC"},{"$f":"IFERROR(HYPERLINK(\"#'Exiting (FS009)'!\"&ADDRESS(ROW(INDEX(CurrentListing,MATCH('Category Set A by Age'!T100,CurrentListing,0),1)),25),AH100),HYPERLINK(\"#'Exiting (FS009)'!\"&\"$AA$10\",AH100))","v":"MC"},{"$f":"IFERROR(HYPERLINK(\"#'Exiting (FS009)'!\"&ADDRESS(ROW(INDEX(CurrentListing,MATCH('Category Set A by Age'!U100,CurrentListing,0),1)),25),AI100),HYPERLINK(\"#'Exiting (FS009)'!\"&\"$AA$10\",AI100))","v":"MC"},{"$f":"IFERROR(HYPERLINK(\"#'Exiting (FS009)'!\"&ADDRESS(ROW(INDEX(CurrentListing,MATCH('Category Set A by Age'!V100,CurrentListing,0),1)),25),AJ100),HYPERLINK(\"#'Exiting (FS009)'!\"&\"$AA$10\",AJ100))","v":"MC"},{"$f":"IFERROR(HYPERLINK(\"#'Exiting (FS009)'!\"&ADDRESS(ROW(INDEX(CurrentListing,MATCH('Category Set A by Age'!W100,CurrentListing,0),1)),25),AK100),HYPERLINK(\"#'Exiting (FS009)'!\"&\"$AA$10\",AK100))","v":"MC"},{"$f":"IFERROR(HYPERLINK(\"#'Exiting (FS009)'!\"&ADDRESS(ROW(INDEX(CurrentListing,MATCH('Category Set A by Age'!X100,CurrentListing,0),1)),25),AL100),HYPERLINK(\"#'Exiting (FS009)'!\"&\"$AA$10\",AL100))","v":"MC"},{"$f":"IFERROR(HYPERLINK(\"#'Exiting (FS009)'!\"&ADDRESS(ROW(INDEX(CurrentListing,MATCH('Category Set A by Age'!Y100,CurrentListing,0),1)),25),AM100),HYPERLINK(\"#'Exiting (FS009)'!\"&\"$AA$10\",AM100))","v":"MC"},{"$f":"IFERROR(HYPERLINK(\"#'Exiting (FS009)'!\"&ADDRESS(ROW(INDEX(CurrentListing,MATCH('Category Set A by Age'!Z100,CurrentListing,0),1)),25),AN100),HYPERLINK(\"#'Exiting (FS009)'!\"&\"$AA$10\",AN100))","v":"MC"},{"$f":"IFERROR(HYPERLINK(\"#'Exiting (FS009)'!\"&ADDRESS(ROW(INDEX(CurrentListing,MATCH('Category Set A by Age'!AA100,CurrentListing,0),1)),25),AO100),HYPERLINK(\"#'Exiting (FS009)'!\"&\"$AA$10\",AO100))","v":"MC"},{"$f":"IFERROR(HYPERLINK(\"#'Exiting (FS009)'!\"&ADDRESS(ROW(INDEX(CurrentListing,MATCH('Category Set A by Age'!AB100,CurrentListing,0),1)),25),AP100),HYPERLINK(\"#'Exiting (FS009)'!\"&\"$AA$10\",AP100))","v":"MC"},0,null,null,"ID17MKCN","HI17MKCN","SLI17MKCN","VI17MKCN","EMN17MKCN","OI17MKCN","OHI17MKCN","SLD17MKCN","DB17MKCN","MD17MKCN","AUT17MKCN","TBI17MKCN",null,"Moved, known to be continuing","MC","MC","MC","MC","MC","MC","MC","MC","MC","MC","MC","MC",{"$f":"SUM(AE100:AP100)","v":0}]
["Dropped out",{"$f":"IFERROR(HYPERLINK(\"#'Exiting (FS009)'!\"&ADDRESS(ROW(INDEX(CurrentListing,MATCH('Category Set A by Age'!Q101,CurrentListing,0),1)),25),AE101),HYPERLINK(\"#'Exiting (FS009)'!\"&\"$AA$10\",AE101))","v":"MC"},{"$f":"IFERROR(HYPERLINK(\"#'Exiting (FS009)'!\"&ADDRESS(ROW(INDEX(CurrentListing,MATCH('Category Set A by Age'!R101,CurrentListing,0),1)),25),AF101),HYPERLINK(\"#'Exiting (FS009)'!\"&\"$AA$10\",AF101))","v":"MC"},{"$f":"IFERROR(HYPERLINK(\"#'Exiting (FS009)'!\"&ADDRESS(ROW(INDEX(CurrentListing,MATCH('Category Set A by Age'!S101,CurrentListing,0),1)),25),AG101),HYPERLINK(\"#'Exiting (FS009)'!\"&\"$AA$10\",AG101))","v":"MC"},{"$f":"IFERROR(HYPERLINK(\"#'Exiting (FS009)'!\"&ADDRESS(ROW(INDEX(CurrentListing,MATCH('Category Set A by Age'!T101,CurrentListing,0),1)),25),AH101),HYPERLINK(\"#'Exiting (FS009)'!\"&\"$AA$10\",AH101))","v":"MC"},{"$f":"IFERROR(HYPERLINK(\"#'Exiting (FS009)'!\"&ADDRESS(ROW(INDEX(CurrentListing,MATCH('Category Set A by Age'!U101,CurrentListing,0),1)),25),AI101),HYPERLINK(\"#'Exiting (FS009)'!\"&\"$AA$10\",AI101))","v":"MC"},{"$f":"IFERROR(HYPERLINK(\"#'Exiting (FS009)'!\"&ADDRESS(ROW(INDEX(CurrentListing,MATCH('Category Set A by Age'!V101,CurrentListing,0),1)),25),AJ101),HYPERLINK(\"#'Exiting (FS009)'!\"&\"$AA$10\",AJ101))","v":"MC"},{"$f":"IFERROR(HYPERLINK(\"#'Exiting (FS009)'!\"&ADDRESS(ROW(INDEX(CurrentListing,MATCH('Category Set A by Age'!W101,CurrentListing,0),1)),25),AK101),HYPERLINK(\"#'Exiting (FS009)'!\"&\"$AA$10\",AK101))","v":"MC"},{"$f":"IFERROR(HYPERLINK(\"#'Exiting (FS009)'!\"&ADDRESS(ROW(INDEX(CurrentListing,MATCH('Category Set A by Age'!X101,CurrentListing,0),1)),25),AL101),HYPERLINK(\"#'Exiting (FS009)'!\"&\"$AA$10\",AL101))","v":"MC"},{"$f":"IFERROR(HYPERLINK(\"#'Exiting (FS009)'!\"&ADDRESS(ROW(INDEX(CurrentListing,MATCH('Category Set A by Age'!Y101,CurrentListing,0),1)),25),AM101),HYPERLINK(\"#'Exiting (FS009)'!\"&\"$AA$10\",AM101))","v":"MC"},{"$f":"IFERROR(HYPERLINK(\"#'Exiting (FS009)'!\"&ADDRESS(ROW(INDEX(CurrentListing,MATCH('Category Set A by Age'!Z101,CurrentListing,0),1)),25),AN101),HYPERLINK(\"#'Exiting (FS009)'!\"&\"$AA$10\",AN101))","v":"MC"},{"$f":"IFERROR(HYPERLINK(\"#'Exiting (FS009)'!\"&ADDRESS(ROW(INDEX(CurrentListing,MATCH('Category Set A by Age'!AA101,CurrentListing,0),1)),25),AO101),HYPERLINK(\"#'Exiting (FS009)'!\"&\"$AA$10\",AO101))","v":"MC"},{"$f":"IFERROR(HYPERLINK(\"#'Exiting (FS009)'!\"&ADDRESS(ROW(INDEX(CurrentListing,MATCH('Category Set A by Age'!AB101,CurrentListing,0),1)),25),AP101),HYPERLINK(\"#'Exiting (FS009)'!\"&\"$AA$10\",AP101))","v":"MC"},0,null,null,"ID17DROPOUTN","HI17DROPOUTN","SLI17DROPOUTN","VI17DROPOUTN","EMN17DROPOUTN","OI17DROPOUTN","OHI17DROPOUTN","SLD17DROPOUTN","DB17DROPOUTN","MD17DROPOUTN","AUT17DROPOUTN","TBI17DROPOUTN",null,"Dropped out","MC","MC","MC","MC","MC","MC","MC","MC","MC","MC","MC","MC",{"$f":"SUM(AE101:AP101)","v":0}]
["Total",{"$f":"SUM(B94:B101)","v":0},{"$f":"SUM(C94:C101)","v":0},0,0,0,0,0,0,0,0,0,0,{"$f":"IF(AND(N4=\"MC\",N5=\"MC\",N6=\"MC\",N7=\"MC\",N8=\"MC\",N9=\"MC\",N10=\"MC\",N11=\"MC\"),\"\",SUM(B94:M101))","v":""},null,null,null,null,null,null,null,null,null,null,null,null,null,null,"17Y","Total",{"$f":"SUM(AE94:AE101)","v":0},{"$f":"SUM(AF94:AF101)","v":0},0,0,0,0,0,0,0,0,0,0,{"$f":"IFERROR(IF(INDEX(StudCntC009,MATCH(AC102,CurrentListing,0))=\"\",\"No Data\",INDEX(StudCntC009,MATCH(AC102,CurrentListing,0))),\"MC\")","v":"MC"}]
[]
["Percent by basis of exit","Age 17"]
[null,"Intellectual\ndisability\n(percent)","Hearing\nimpairment\n(percent)","Speech or\nlanguage\nimpairment\n(percent)","Visual\nimpairment\n(percent)","Emotional\ndisturbance\n(percent)","Orthopedic\nimpairment\n(percent)","Other\nhealth\nimpairment\n(percent)","Specific\nlearning\ndisability\n(percent)","Deaf-\nblindness\n(percent)","Multiple\ndisabilities\n(percent)","Autism\n(percent)","Traumatic\nbrain\ninjury\n(percent)","Total\n(percent)"]
["Transferred to regular education",{"$f":"IF(ISERROR(B94/$N94),IF(B94=\"MC\", \"\",0), B94/$N94)","v":""},{"$f":"IF(ISERROR(C94/$N94),IF(C94=\"MC\", \"\",0), C94/$N94)","v":""},"","","","","","","","","","",{"$f":"SUM(B106:M106)","v":0}]
["Graduated with regular high school diploma",{"$f":"IF(ISERROR(B95/$N95),IF(B95=\"MC\", \"\",0), B95/$N95)","v":""},"","","","","","","","","","","",{"$f":"SUM(B107:M107)","v":0}]
["Graduated with an alternate diploma","","","","","","","","","","","","",0]
["Received a certificate",{"$f":"IF(ISERROR(B97/$N97),IF(B97=\"MC\", \"\",0), B97/$N97)","v":""},"","","","","","","","","","","",0]
["Reached maximum age"]
["Died",{"$f":"IF(ISERROR(B99/$N99),IF(B99=\"MC\", \"\",0), B99/$N99)","v":""},"","","","","","","","","","","",0]
["Moved, known to be continuing",{"$f":"IF(ISERROR(B100/$N100),IF(B100=\"MC\", \"\",0), B100/$N100)","v":""},"","","","","","","","","","","",0]
["Dropped out",{"$f":"IF(ISERROR(B101/$N101),IF(B101=\"MC\", \"\",0), B101/$N101)","v":""},"","","","","","","","","","","",0]
["Total",{"$f":"IFERROR(IF($N102<>0,B102/$N102,0),\"\")","v":""},{"$f":"IFERROR(IF($N102<>0,C102/$N102,0),\"\")","v":""},"","","","","","","","","","",0]
[]
["Category Set A – Children with disabilities (IDEA) exiting special education, by age, disability category, and basis of exit"]
["Student count by basis of exit ","Age 18",null,null,null,null,null,null,null,null,null,null,null,null,null,null,"Age 18 Lookup",null,null,null,null,null,null,null,null,null,null,null,null,"Student counts by basis of exit","Age 18"]
[null,"Intellectual\ndisability","Hearing\nimpairment","Speech or\nlanguage\nimpairment","Visual\nimpairment","Emotional\ndisturbance","Orthopedic\nimpairment","Other\nhealth\nimpairment","Specific\nlearning\ndisability","Deaf-\nblindness","Multiple\ndisabilities","Autism","Traumatic\nbrain\ninjury","Total",null,null,null,null,null,null,null,null,null,null,null,null,null,null,null,null,"Intellectual\nDisability","Hearing\nImpairments","Speech or\nLanguage\nImpairments","Visual\nImpairments","Emotional\nDisturbance","Orthopedic\nImpairments","Other\nHealth\nImpairments","Specific\nLearning\nDisabilities","Deaf-\nBlindness","Multiple\nDisabilities","Autism","Traumatic\nBrain\nInjury","Total"]
["Transferred to regular education",{"$f":"IFERROR(HYPERLINK(\"#'Exiting (FS009)'!\"&ADDRESS(ROW(INDEX(CurrentListing,MATCH('Category Set A by Age'!Q119,CurrentListing,0),1)),25),AE119),HYPERLINK(\"#'Exiting (FS009)'!\"&\"$AA$10\",AE119))","v":"MC"},{"$f":"IFERROR(HYPERLINK(\"#'Exiting (FS009)'!\"&ADDRESS(ROW(INDEX(CurrentListing,MATCH('Category Set A by Age'!R119,CurrentListing,0),1)),25),AF119),HYPERLINK(\"#'Exiting (FS009)'!\"&\"$AA$10\",AF119))","v":"MC"},{"$f":"IFERROR(HYPERLINK(\"#'Exiting (FS009)'!\"&ADDRESS(ROW(INDEX(CurrentListing,MATCH('Category Set A by Age'!S119,CurrentListing,0),1)),25),AG119),HYPERLINK(\"#'Exiting (FS009)'!\"&\"$AA$10\",AG119))","v":"MC"},{"$f":"IFERROR(HYPERLINK(\"#'Exiting (FS009)'!\"&ADDRESS(ROW(INDEX(CurrentListing,MATCH('Category Set A by Age'!T119,CurrentListing,0),1)),25),AH119),HYPERLINK(\"#'Exiting (FS009)'!\"&\"$AA$10\",AH119))","v":"MC"},{"$f":"IFERROR(HYPERLINK(\"#'Exiting (FS009)'!\"&ADDRESS(ROW(INDEX(CurrentListing,MATCH('Category Set A by Age'!U119,CurrentListing,0),1)),25),AI119),HYPERLINK(\"#'Exiting (FS009)'!\"&\"$AA$10\",AI119))","v":"MC"},{"$f":"IFERROR(HYPERLINK(\"#'Exiting (FS009)'!\"&ADDRESS(ROW(INDEX(CurrentListing,MATCH('Category Set A by Age'!V119,CurrentListing,0),1)),25),AJ119),HYPERLINK(\"#'Exiting (FS009)'!\"&\"$AA$10\",AJ119))","v":"MC"},{"$f":"IFERROR(HYPERLINK(\"#'Exiting (FS009)'!\"&ADDRESS(ROW(INDEX(CurrentListing,MATCH('Category Set A by Age'!W119,CurrentListing,0),1)),25),AK119),HYPERLINK(\"#'Exiting (FS009)'!\"&\"$AA$10\",AK119))","v":"MC"},{"$f":"IFERROR(HYPERLINK(\"#'Exiting (FS009)'!\"&ADDRESS(ROW(INDEX(CurrentListing,MATCH('Category Set A by Age'!X119,CurrentListing,0),1)),25),AL119),HYPERLINK(\"#'Exiting (FS009)'!\"&\"$AA$10\",AL119))","v":"MC"},{"$f":"IFERROR(HYPERLINK(\"#'Exiting (FS009)'!\"&ADDRESS(ROW(INDEX(CurrentListing,MATCH('Category Set A by Age'!Y119,CurrentListing,0),1)),25),AM119),HYPERLINK(\"#'Exiting (FS009)'!\"&\"$AA$10\",AM119))","v":"MC"},{"$f":"IFERROR(HYPERLINK(\"#'Exiting (FS009)'!\"&ADDRESS(ROW(INDEX(CurrentListing,MATCH('Category Set A by Age'!Z119,CurrentListing,0),1)),25),AN119),HYPERLINK(\"#'Exiting (FS009)'!\"&\"$AA$10\",AN119))","v":"MC"},{"$f":"IFERROR(HYPERLINK(\"#'Exiting (FS009)'!\"&ADDRESS(ROW(INDEX(CurrentListing,MATCH('Category Set A by Age'!AA119,CurrentListing,0),1)),25),AO119),HYPERLINK(\"#'Exiting (FS009)'!\"&\"$AA$10\",AO119))","v":"MC"},{"$f":"IFERROR(HYPERLINK(\"#'Exiting (FS009)'!\"&ADDRESS(ROW(INDEX(CurrentListing,MATCH('Category Set A by Age'!AB119,CurrentListing,0),1)),25),AP119),HYPERLINK(\"#'Exiting (FS009)'!\"&\"$AA$10\",AP119))","v":"MC"},{"$f":"SUM(B119:M119)","v":0},null,null,"ID18TRANN","HI18TRANN","SLI18TRANN","VI18TRANN","EMN18TRANN","OI18TRANN","OHI18TRANN","SLD18TRANN","DB18TRANN","MD18TRANN","AUT18TRANN","TBI18TRANN",null,"Transferred to regular education",{"$f":"IFERROR(IF(INDEX(StudCntC009,MATCH(Q119,CurrentListing,0))=\"\",\"No Data\",INDEX(StudCntC009,MATCH(Q119,CurrentListing,0))),\"MC\")","v":"MC"},"MC","MC","MC","MC","MC","MC","MC","MC","MC","MC","MC",{"$f":"SUM(AE119:AP119)","v":0}]
["Graduated with regular high school diploma",{"$f":"IFERROR(HYPERLINK(\"#'Exiting (FS009)'!\"&ADDRESS(ROW(INDEX(CurrentListing,MATCH('Category Set A by Age'!Q120,CurrentListing,0),1)),25),AE120),HYPERLINK(\"#'Exiting (FS009)'!\"&\"$AA$10\",AE120))","v":"MC"},{"$f":"IFERROR(HYPERLINK(\"#'Exiting (FS009)'!\"&ADDRESS(ROW(INDEX(CurrentListing,MATCH('Category Set A by Age'!R120,CurrentListing,0),1)),25),AF120),HYPERLINK(\"#'Exiting (FS009)'!\"&\"$AA$10\",AF120))","v":"MC"},{"$f":"IFERROR(HYPERLINK(\"#'Exiting (FS009)'!\"&ADDRESS(ROW(INDEX(CurrentListing,MATCH('Category Set A by Age'!S120,CurrentListing,0),1)),25),AG120),HYPERLINK(\"#'Exiting (FS009)'!\"&\"$AA$10\",AG120))","v":"MC"},{"$f":"IFERROR(HYPERLINK(\"#'Exiting (FS009)'!\"&ADDRESS(ROW(INDEX(CurrentListing,MATCH('Category Set A by Age'!T120,CurrentListing,0),1)),25),AH120),HYPERLINK(\"#'Exiting (FS009)'!\"&\"$AA$10\",AH120))","v":"MC"},{"$f":"IFERROR(HYPERLINK(\"#'Exiting (FS009)'!\"&ADDRESS(ROW(INDEX(CurrentListing,MATCH('Category Set A by Age'!U120,CurrentListing,0),1)),25),AI120),HYPERLINK(\"#'Exiting (FS009)'!\"&\"$AA$10\",AI120))","v":"MC"},{"$f":"IFERROR(HYPERLINK(\"#'Exiting (FS009)'!\"&ADDRESS(ROW(INDEX(CurrentListing,MATCH('Category Set A by Age'!V120,CurrentListing,0),1)),25),AJ120),HYPERLINK(\"#'Exiting (FS009)'!\"&\"$AA$10\",AJ120))","v":"MC"},{"$f":"IFERROR(HYPERLINK(\"#'Exiting (FS009)'!\"&ADDRESS(ROW(INDEX(CurrentListing,MATCH('Category Set A by Age'!W120,CurrentListing,0),1)),25),AK120),HYPERLINK(\"#'Exiting (FS009)'!\"&\"$AA$10\",AK120))","v":"MC"},{"$f":"IFERROR(HYPERLINK(\"#'Exiting (FS009)'!\"&ADDRESS(ROW(INDEX(CurrentListing,MATCH('Category Set A by Age'!X120,CurrentListing,0),1)),25),AL120),HYPERLINK(\"#'Exiting (FS009)'!\"&\"$AA$10\",AL120))","v":"MC"},{"$f":"IFERROR(HYPERLINK(\"#'Exiting (FS009)'!\"&ADDRESS(ROW(INDEX(CurrentListing,MATCH('Category Set A by Age'!Y120,CurrentListing,0),1)),25),AM120),HYPERLINK(\"#'Exiting (FS009)'!\"&\"$AA$10\",AM120))","v":"MC"},{"$f":"IFERROR(HYPERLINK(\"#'Exiting (FS009)'!\"&ADDRESS(ROW(INDEX(CurrentListing,MATCH('Category Set A by Age'!Z120,CurrentListing,0),1)),25),AN120),HYPERLINK(\"#'Exiting (FS009)'!\"&\"$AA$10\",AN120))","v":"MC"},{"$f":"IFERROR(HYPERLINK(\"#'Exiting (FS009)'!\"&ADDRESS(ROW(INDEX(CurrentListing,MATCH('Category Set A by Age'!AA120,CurrentListing,0),1)),25),AO120),HYPERLINK(\"#'Exiting (FS009)'!\"&\"$AA$10\",AO120))","v":"MC"},{"$f":"IFERROR(HYPERLINK(\"#'Exiting (FS009)'!\"&ADDRESS(ROW(INDEX(CurrentListing,MATCH('Category Set A by Age'!AB120,CurrentListing,0),1)),25),AP120),HYPERLINK(\"#'Exiting (FS009)'!\"&\"$AA$10\",AP120))","v":"MC"},{"$f":"SUM(B120:M120)","v":0},null,null,"ID18GHSN","HI18GHSN","SLI18GHSN","VI18GHSN","EMN18GHSN","OI18GHSN","OHI18GHSN","SLD18GHSN","DB18GHSN","MD18GHSN","AUT18GHSN","TBI18GHSN",null,"Graduated with regular high school diploma","MC","MC","MC","MC","MC","MC","MC","MC","MC","MC","MC","MC",0]
["Graduated with an alternate diploma",{"$f":"IFERROR(HYPERLINK(\"#'Exiting (FS009)'!\"&ADDRESS(ROW(INDEX(CurrentListing,MATCH('Category Set A by Age'!Q121,CurrentListing,0),1)),25),AE121),HYPERLINK(\"#'Exiting (FS009)'!\"&\"$AA$10\",AE121))","v":"MC"},{"$f":"IFERROR(HYPERLINK(\"#'Exiting (FS009)'!\"&ADDRESS(ROW(INDEX(CurrentListing,MATCH('Category Set A by Age'!R121,CurrentListing,0),1)),25),AF121),HYPERLINK(\"#'Exiting (FS009)'!\"&\"$AA$10\",AF121))","v":"MC"},{"$f":"IFERROR(HYPERLINK(\"#'Exiting (FS009)'!\"&ADDRESS(ROW(INDEX(CurrentListing,MATCH('Category Set A by Age'!S121,CurrentListing,0),1)),25),AG121),HYPERLINK(\"#'Exiting (FS009)'!\"&\"$AA$10\",AG121))","v":"MC"},{"$f":"IFERROR(HYPERLINK(\"#'Exiting (FS009)'!\"&ADDRESS(ROW(INDEX(CurrentListing,MATCH('Category Set A by Age'!T121,CurrentListing,0),1)),25),AH121),HYPERLINK(\"#'Exiting (FS009)'!\"&\"$AA$10\",AH121))","v":"MC"},{"$f":"IFERROR(HYPERLINK(\"#'Exiting (FS009)'!\"&ADDRESS(ROW(INDEX(CurrentListing,MATCH('Category Set A by Age'!U121,CurrentListing,0),1)),25),AI121),HYPERLINK(\"#'Exiting (FS009)'!\"&\"$AA$10\",AI121))","v":"MC"},{"$f":"IFERROR(HYPERLINK(\"#'Exiting (FS009)'!\"&ADDRESS(ROW(INDEX(CurrentListing,MATCH('Category Set A by Age'!V121,CurrentListing,0),1)),25),AJ121),HYPERLINK(\"#'Exiting (FS009)'!\"&\"$AA$10\",AJ121))","v":"MC"},{"$f":"IFERROR(HYPERLINK(\"#'Exiting (FS009)'!\"&ADDRESS(ROW(INDEX(CurrentListing,MATCH('Category Set A by Age'!W121,CurrentListing,0),1)),25),AK121),HYPERLINK(\"#'Exiting (FS009)'!\"&\"$AA$10\",AK121))","v":"MC"},{"$f":"IFERROR(HYPERLINK(\"#'Exiting (FS009)'!\"&ADDRESS(ROW(INDEX(CurrentListing,MATCH('Category Set A by Age'!X121,CurrentListing,0),1)),25),AL121),HYPERLINK(\"#'Exiting (FS009)'!\"&\"$AA$10\",AL121))","v":"MC"},{"$f":"IFERROR(HYPERLINK(\"#'Exiting (FS009)'!\"&ADDRESS(ROW(INDEX(CurrentListing,MATCH('Category Set A by Age'!Y121,CurrentListing,0),1)),25),AM121),HYPERLINK(\"#'Exiting (FS009)'!\"&\"$AA$10\",AM121))","v":"MC"},{"$f":"IFERROR(HYPERLINK(\"#'Exiting (FS009)'!\"&ADDRESS(ROW(INDEX(CurrentListing,MATCH('Category Set A by Age'!Z121,CurrentListing,0),1)),25),AN121),HYPERLINK(\"#'Exiting (FS009)'!\"&\"$AA$10\",AN121))","v":"MC"},{"$f":"IFERROR(HYPERLINK(\"#'Exiting (FS009)'!\"&ADDRESS(ROW(INDEX(CurrentListing,MATCH('Category Set A by Age'!AA121,CurrentListing,0),1)),25),AO121),HYPERLINK(\"#'Exiting (FS009)'!\"&\"$AA$10\",AO121))","v":"MC"},{"$f":"IFERROR(HYPERLINK(\"#'Exiting (FS009)'!\"&ADDRESS(ROW(INDEX(CurrentListing,MATCH('Category Set A by Age'!AB121,CurrentListing,0),1)),25),AP121),HYPERLINK(\"#'Exiting (FS009)'!\"&\"$AA$10\",AP121))","v":"MC"},0,null,null,"ID18GRADALTDPLN","HI18GRADALTDPLN","SLI18GRADALTDPLN","VI18GRADALTDPLN","EMN18GRADALTDPLN","OI18GRADALTDPLN","OHI18GRADALTDPLN","SLD18GRADALTDPLN","DB18GRADALTDPLN","MD18GRADALTDPLN","AUT18GRADALTDPLN","TBI18GRADALTDPLN",null,"Graduated with an alternate diploma",{"$f":"IFERROR(IF(INDEX(StudCntC009,MATCH(Q121,CurrentListing,0))=\"\",\"No Data\",INDEX(StudCntC009,MATCH(Q121,CurrentListing,0))),\"MC\")","v":"MC"},"MC","MC","MC","MC","MC","MC","MC","MC","MC","MC","MC",0]
["Received a certificate",{"$f":"IFERROR(HYPERLINK(\"#'Exiting (FS009)'!\"&ADDRESS(ROW(INDEX(CurrentListing,MATCH('Category Set A by Age'!Q122,CurrentListing,0),1)),25),AE122),HYPERLINK(\"#'Exiting (FS009)'!\"&\"$AA$10\",AE122))","v":"MC"},{"$f":"IFERROR(HYPERLINK(\"#'Exiting (FS009)'!\"&ADDRESS(ROW(INDEX(CurrentListing,MATCH('Category Set A by Age'!R122,CurrentListing,0),1)),25),AF122),HYPERLINK(\"#'Exiting (FS009)'!\"&\"$AA$10\",AF122))","v":"MC"},{"$f":"IFERROR(HYPERLINK(\"#'Exiting (FS009)'!\"&ADDRESS(ROW(INDEX(CurrentListing,MATCH('Category Set A by Age'!S122,CurrentListing,0),1)),25),AG122),HYPERLINK(\"#'Exiting (FS009)'!\"&\"$AA$10\",AG122))","v":"MC"},{"$f":"IFERROR(HYPERLINK(\"#'Exiting (FS009)'!\"&ADDRESS(ROW(INDEX(CurrentListing,MATCH('Category Set A by Age'!T122,CurrentListing,0),1)),25),AH122),HYPERLINK(\"#'Exiting (FS009)'!\"&\"$AA$10\",AH122))","v":"MC"},{"$f":"IFERROR(HYPERLINK(\"#'Exiting (FS009)'!\"&ADDRESS(ROW(INDEX(CurrentListing,MATCH('Category Set A by Age'!U122,CurrentListing,0),1)),25),AI122),HYPERLINK(\"#'Exiting (FS009)'!\"&\"$AA$10\",AI122))","v":"MC"},{"$f":"IFERROR(HYPERLINK(\"#'Exiting (FS009)'!\"&ADDRESS(ROW(INDEX(CurrentListing,MATCH('Category Set A by Age'!V122,CurrentListing,0),1)),25),AJ122),HYPERLINK(\"#'Exiting (FS009)'!\"&\"$AA$10\",AJ122))","v":"MC"},{"$f":"IFERROR(HYPERLINK(\"#'Exiting (FS009)'!\"&ADDRESS(ROW(INDEX(CurrentListing,MATCH('Category Set A by Age'!W122,CurrentListing,0),1)),25),AK122),HYPERLINK(\"#'Exiting (FS009)'!\"&\"$AA$10\",AK122))","v":"MC"},{"$f":"IFERROR(HYPERLINK(\"#'Exiting (FS009)'!\"&ADDRESS(ROW(INDEX(CurrentListing,MATCH('Category Set A by Age'!X122,CurrentListing,0),1)),25),AL122),HYPERLINK(\"#'Exiting (FS009)'!\"&\"$AA$10\",AL122))","v":"MC"},{"$f":"IFERROR(HYPERLINK(\"#'Exiting (FS009)'!\"&ADDRESS(ROW(INDEX(CurrentListing,MATCH('Category Set A by Age'!Y122,CurrentListing,0),1)),25),AM122),HYPERLINK(\"#'Exiting (FS009)'!\"&\"$AA$10\",AM122))","v":"MC"},{"$f":"IFERROR(HYPERLINK(\"#'Exiting (FS009)'!\"&ADDRESS(ROW(INDEX(CurrentListing,MATCH('Category Set A by Age'!Z122,CurrentListing,0),1)),25),AN122),HYPERLINK(\"#'Exiting (FS009)'!\"&\"$AA$10\",AN122))","v":"MC"},{"$f":"IFERROR(HYPERLINK(\"#'Exiting (FS009)'!\"&ADDRESS(ROW(INDEX(CurrentListing,MATCH('Category Set A by Age'!AA122,CurrentListing,0),1)),25),AO122),HYPERLINK(\"#'Exiting (FS009)'!\"&\"$AA$10\",AO122))","v":"MC"},{"$f":"IFERROR(HYPERLINK(\"#'Exiting (FS009)'!\"&ADDRESS(ROW(INDEX(CurrentListing,MATCH('Category Set A by Age'!AB122,CurrentListing,0),1)),25),AP122),HYPERLINK(\"#'Exiting (FS009)'!\"&\"$AA$10\",AP122))","v":"MC"},0,null,null,"ID18RCN","HI18RCN","SLI18RCN","VI18RCN","EMN18RCN","OI18RCN","OHI18RCN","SLD18RCN","DB18RCN","MD18RCN","AUT18RCN","TBI18RCN",null,"Received a certificate","MC","MC","MC","MC","MC","MC","MC","MC","MC","MC","MC","MC",0]
["Reached maximum age",{"$f":"IFERROR(HYPERLINK(\"#'Exiting (FS009)'!\"&ADDRESS(ROW(INDEX(CurrentListing,MATCH('Category Set A by Age'!Q123,CurrentListing,0),1)),25),AE123),HYPERLINK(\"#'Exiting (FS009)'!\"&\"$AA$10\",AE123))","v":"MC"},{"$f":"IFERROR(HYPERLINK(\"#'Exiting (FS009)'!\"&ADDRESS(ROW(INDEX(CurrentListing,MATCH('Category Set A by Age'!R123,CurrentListing,0),1)),25),AF123),HYPERLINK(\"#'Exiting (FS009)'!\"&\"$AA$10\",AF123))","v":"MC"},{"$f":"IFERROR(HYPERLINK(\"#'Exiting (FS009)'!\"&ADDRESS(ROW(INDEX(CurrentListing,MATCH('Category Set A by Age'!S123,CurrentListing,0),1)),25),AG123),HYPERLINK(\"#'Exiting (FS009)'!\"&\"$AA$10\",AG123))","v":"MC"},{"$f":"IFERROR(HYPERLINK(\"#'Exiting (FS009)'!\"&ADDRESS(ROW(INDEX(CurrentListing,MATCH('Category Set A by Age'!T123,CurrentListing,0),1)),25),AH123),HYPERLINK(\"#'Exiting (FS009)'!\"&\"$AA$10\",AH123))","v":"MC"},{"$f":"IFERROR(HYPERLINK(\"#'Exiting (FS009)'!\"&ADDRESS(ROW(INDEX(CurrentListing,MATCH('Category Set A by Age'!U123,CurrentListing,0),1)),25),AI123),HYPERLINK(\"#'Exiting (FS009)'!\"&\"$AA$10\",AI123))","v":"MC"},{"$f":"IFERROR(HYPERLINK(\"#'Exiting (FS009)'!\"&ADDRESS(ROW(INDEX(CurrentListing,MATCH('Category Set A by Age'!V123,CurrentListing,0),1)),25),AJ123),HYPERLINK(\"#'Exiting (FS009)'!\"&\"$AA$10\",AJ123))","v":"MC"},{"$f":"IFERROR(HYPERLINK(\"#'Exiting (FS009)'!\"&ADDRESS(ROW(INDEX(CurrentListing,MATCH('Category Set A by Age'!W123,CurrentListing,0),1)),25),AK123),HYPERLINK(\"#'Exiting (FS009)'!\"&\"$AA$10\",AK123))","v":"MC"},{"$f":"IFERROR(HYPERLINK(\"#'Exiting (FS009)'!\"&ADDRESS(ROW(INDEX(CurrentListing,MATCH('Category Set A by Age'!X123,CurrentListing,0),1)),25),AL123),HYPERLINK(\"#'Exiting (FS009)'!\"&\"$AA$10\",AL123))","v":"MC"},{"$f":"IFERROR(HYPERLINK(\"#'Exiting (FS009)'!\"&ADDRESS(ROW(INDEX(CurrentListing,MATCH('Category Set A by Age'!Y123,CurrentListing,0),1)),25),AM123),HYPERLINK(\"#'Exiting (FS009)'!\"&\"$AA$10\",AM123))","v":"MC"},{"$f":"IFERROR(HYPERLINK(\"#'Exiting (FS009)'!\"&ADDRESS(ROW(INDEX(CurrentListing,MATCH('Category Set A by Age'!Z123,CurrentListing,0),1)),25),AN123),HYPERLINK(\"#'Exiting (FS009)'!\"&\"$AA$10\",AN123))","v":"MC"},{"$f":"IFERROR(HYPERLINK(\"#'Exiting (FS009)'!\"&ADDRESS(ROW(INDEX(CurrentListing,MATCH('Category Set A by Age'!AA123,CurrentListing,0),1)),25),AO123),HYPERLINK(\"#'Exiting (FS009)'!\"&\"$AA$10\",AO123))","v":"MC"},{"$f":"IFERROR(HYPERLINK(\"#'Exiting (FS009)'!\"&ADDRESS(ROW(INDEX(CurrentListing,MATCH('Category Set A by Age'!AB123,CurrentListing,0),1)),25),AP123),HYPERLINK(\"#'Exiting (FS009)'!\"&\"$AA$10\",AP123))","v":"MC"},0,null,null,"ID18RMAN","HI18RMAN","SLI18RMAN","VI18RMAN","EMN18RMAN","OI18RMAN","OHI18RMAN","SLD18RMAN","DB18RMAN","MD18RMAN","AUT18RMAN","TBI18RMAN",null,"Reached maximum age","MC","MC","MC","MC","MC","MC","MC","MC","MC","MC","MC","MC",0]
["Died",{"$f":"IFERROR(HYPERLINK(\"#'Exiting (FS009)'!\"&ADDRESS(ROW(INDEX(CurrentListing,MATCH('Category Set A by Age'!Q124,CurrentListing,0),1)),25),AE124),HYPERLINK(\"#'Exiting (FS009)'!\"&\"$AA$10\",AE124))","v":"MC"},{"$f":"IFERROR(HYPERLINK(\"#'Exiting (FS009)'!\"&ADDRESS(ROW(INDEX(CurrentListing,MATCH('Category Set A by Age'!R124,CurrentListing,0),1)),25),AF124),HYPERLINK(\"#'Exiting (FS009)'!\"&\"$AA$10\",AF124))","v":"MC"},{"$f":"IFERROR(HYPERLINK(\"#'Exiting (FS009)'!\"&ADDRESS(ROW(INDEX(CurrentListing,MATCH('Category Set A by Age'!S124,CurrentListing,0),1)),25),AG124),HYPERLINK(\"#'Exiting (FS009)'!\"&\"$AA$10\",AG124))","v":"MC"},{"$f":"IFERROR(HYPERLINK(\"#'Exiting (FS009)'!\"&ADDRESS(ROW(INDEX(CurrentListing,MATCH('Category Set A by Age'!T124,CurrentListing,0),1)),25),AH124),HYPERLINK(\"#'Exiting (FS009)'!\"&\"$AA$10\",AH124))","v":"MC"},{"$f":"IFERROR(HYPERLINK(\"#'Exiting (FS009)'!\"&ADDRESS(ROW(INDEX(CurrentListing,MATCH('Category Set A by Age'!U124,CurrentListing,0),1)),25),AI124),HYPERLINK(\"#'Exiting (FS009)'!\"&\"$AA$10\",AI124))","v":"MC"},{"$f":"IFERROR(HYPERLINK(\"#'Exiting (FS009)'!\"&ADDRESS(ROW(INDEX(CurrentListing,MATCH('Category Set A by Age'!V124,CurrentListing,0),1)),25),AJ124),HYPERLINK(\"#'Exiting (FS009)'!\"&\"$AA$10\",AJ124))","v":"MC"},{"$f":"IFERROR(HYPERLINK(\"#'Exiting (FS009)'!\"&ADDRESS(ROW(INDEX(CurrentListing,MATCH('Category Set A by Age'!W124,CurrentListing,0),1)),25),AK124),HYPERLINK(\"#'Exiting (FS009)'!\"&\"$AA$10\",AK124))","v":"MC"},{"$f":"IFERROR(HYPERLINK(\"#'Exiting (FS009)'!\"&ADDRESS(ROW(INDEX(CurrentListing,MATCH('Category Set A by Age'!X124,CurrentListing,0),1)),25),AL124),HYPERLINK(\"#'Exiting (FS009)'!\"&\"$AA$10\",AL124))","v":"MC"},{"$f":"IFERROR(HYPERLINK(\"#'Exiting (FS009)'!\"&ADDRESS(ROW(INDEX(CurrentListing,MATCH('Category Set A by Age'!Y124,CurrentListing,0),1)),25),AM124),HYPERLINK(\"#'Exiting (FS009)'!\"&\"$AA$10\",AM124))","v":"MC"},{"$f":"IFERROR(HYPERLINK(\"#'Exiting (FS009)'!\"&ADDRESS(ROW(INDEX(CurrentListing,MATCH('Category Set A by Age'!Z124,CurrentListing,0),1)),25),AN124),HYPERLINK(\"#'Exiting (FS009)'!\"&\"$AA$10\",AN124))","v":"MC"},{"$f":"IFERROR(HYPERLINK(\"#'Exiting (FS009)'!\"&ADDRESS(ROW(INDEX(CurrentListing,MATCH('Category Set A by Age'!AA124,CurrentListing,0),1)),25),AO124),HYPERLINK(\"#'Exiting (FS009)'!\"&\"$AA$10\",AO124))","v":"MC"},{"$f":"IFERROR(HYPERLINK(\"#'Exiting (FS009)'!\"&ADDRESS(ROW(INDEX(CurrentListing,MATCH('Category Set A by Age'!AB124,CurrentListing,0),1)),25),AP124),HYPERLINK(\"#'Exiting (FS009)'!\"&\"$AA$10\",AP124))","v":"MC"},0,null,null,"ID18DN","HI18DN","SLI18DN","VI18DN","EMN18DN","OI18DN","OHI18DN","SLD18DN","DB18DN","MD18DN","AUT18DN","TBI18DN",null,"Died","MC","MC","MC","MC","MC","MC","MC","MC","MC","MC","MC","MC",0]
["Moved, known to be continuing",{"$f":"IFERROR(HYPERLINK(\"#'Exiting (FS009)'!\"&ADDRESS(ROW(INDEX(CurrentListing,MATCH('Category Set A by Age'!Q125,CurrentListing,0),1)),25),AE125),HYPERLINK(\"#'Exiting (FS009)'!\"&\"$AA$10\",AE125))","v":"MC"},{"$f":"IFERROR(HYPERLINK(\"#'Exiting (FS009)'!\"&ADDRESS(ROW(INDEX(CurrentListing,MATCH('Category Set A by Age'!R125,CurrentListing,0),1)),25),AF125),HYPERLINK(\"#'Exiting (FS009)'!\"&\"$AA$10\",AF125))","v":"MC"},{"$f":"IFERROR(HYPERLINK(\"#'Exiting (FS009)'!\"&ADDRESS(ROW(INDEX(CurrentListing,MATCH('Category Set A by Age'!S125,CurrentListing,0),1)),25),AG125),HYPERLINK(\"#'Exiting (FS009)'!\"&\"$AA$10\",AG125))","v":"MC"},{"$f":"IFERROR(HYPERLINK(\"#'Exiting (FS009)'!\"&ADDRESS(ROW(INDEX(CurrentListing,MATCH('Category Set A by Age'!T125,CurrentListing,0),1)),25),AH125),HYPERLINK(\"#'Exiting (FS009)'!\"&\"$AA$10\",AH125))","v":"MC"},{"$f":"IFERROR(HYPERLINK(\"#'Exiting (FS009)'!\"&ADDRESS(ROW(INDEX(CurrentListing,MATCH('Category Set A by Age'!U125,CurrentListing,0),1)),25),AI125),HYPERLINK(\"#'Exiting (FS009)'!\"&\"$AA$10\",AI125))","v":"MC"},{"$f":"IFERROR(HYPERLINK(\"#'Exiting (FS009)'!\"&ADDRESS(ROW(INDEX(CurrentListing,MATCH('Category Set A by Age'!V125,CurrentListing,0),1)),25),AJ125),HYPERLINK(\"#'Exiting (FS009)'!\"&\"$AA$10\",AJ125))","v":"MC"},{"$f":"IFERROR(HYPERLINK(\"#'Exiting (FS009)'!\"&ADDRESS(ROW(INDEX(CurrentListing,MATCH('Category Set A by Age'!W125,CurrentListing,0),1)),25),AK125),HYPERLINK(\"#'Exiting (FS009)'!\"&\"$AA$10\",AK125))","v":"MC"},{"$f":"IFERROR(HYPERLINK(\"#'Exiting (FS009)'!\"&ADDRESS(ROW(INDEX(CurrentListing,MATCH('Category Set A by Age'!X125,CurrentListing,0),1)),25),AL125),HYPERLINK(\"#'Exiting (FS009)'!\"&\"$AA$10\",AL125))","v":"MC"},{"$f":"IFERROR(HYPERLINK(\"#'Exiting (FS009)'!\"&ADDRESS(ROW(INDEX(CurrentListing,MATCH('Category Set A by Age'!Y125,CurrentListing,0),1)),25),AM125),HYPERLINK(\"#'Exiting (FS009)'!\"&\"$AA$10\",AM125))","v":"MC"},{"$f":"IFERROR(HYPERLINK(\"#'Exiting (FS009)'!\"&ADDRESS(ROW(INDEX(CurrentListing,MATCH('Category Set A by Age'!Z125,CurrentListing,0),1)),25),AN125),HYPERLINK(\"#'Exiting (FS009)'!\"&\"$AA$10\",AN125))","v":"MC"},{"$f":"IFERROR(HYPERLINK(\"#'Exiting (FS009)'!\"&ADDRESS(ROW(INDEX(CurrentListing,MATCH('Category Set A by Age'!AA125,CurrentListing,0),1)),25),AO125),HYPERLINK(\"#'Exiting (FS009)'!\"&\"$AA$10\",AO125))","v":"MC"},{"$f":"IFERROR(HYPERLINK(\"#'Exiting (FS009)'!\"&ADDRESS(ROW(INDEX(CurrentListing,MATCH('Category Set A by Age'!AB125,CurrentListing,0),1)),25),AP125),HYPERLINK(\"#'Exiting (FS009)'!\"&\"$AA$10\",AP125))","v":"MC"},0,null,null,"ID18MKCN","HI18MKCN","SLI18MKCN","VI18MKCN","EMN18MKCN","OI18MKCN","OHI18MKCN","SLD18MKCN","DB18MKCN","MD18MKCN","AUT18MKCN","TBI18MKCN",null,"Moved, known to be continuing","MC","MC","MC","MC","MC","MC","MC","MC","MC","MC","MC","MC",0]
["Dropped out",{"$f":"IFERROR(HYPERLINK(\"#'Exiting (FS009)'!\"&ADDRESS(ROW(INDEX(CurrentListing,MATCH('Category Set A by Age'!Q126,CurrentListing,0),1)),25),AE126),HYPERLINK(\"#'Exiting (FS009)'!\"&\"$AA$10\",AE126))","v":"MC"},{"$f":"IFERROR(HYPERLINK(\"#'Exiting (FS009)'!\"&ADDRESS(ROW(INDEX(CurrentListing,MATCH('Category Set A by Age'!R126,CurrentListing,0),1)),25),AF126),HYPERLINK(\"#'Exiting (FS009)'!\"&\"$AA$10\",AF126))","v":"MC"},{"$f":"IFERROR(HYPERLINK(\"#'Exiting (FS009)'!\"&ADDRESS(ROW(INDEX(CurrentListing,MATCH('Category Set A by Age'!S126,CurrentListing,0),1)),25),AG126),HYPERLINK(\"#'Exiting (FS009)'!\"&\"$AA$10\",AG126))","v":"MC"},{"$f":"IFERROR(HYPERLINK(\"#'Exiting (FS009)'!\"&ADDRESS(ROW(INDEX(CurrentListing,MATCH('Category Set A by Age'!T126,CurrentListing,0),1)),25),AH126),HYPERLINK(\"#'Exiting (FS009)'!\"&\"$AA$10\",AH126))","v":"MC"},{"$f":"IFERROR(HYPERLINK(\"#'Exiting (FS009)'!\"&ADDRESS(ROW(INDEX(CurrentListing,MATCH('Category Set A by Age'!U126,CurrentListing,0),1)),25),AI126),HYPERLINK(\"#'Exiting (FS009)'!\"&\"$AA$10\",AI126))","v":"MC"},{"$f":"IFERROR(HYPERLINK(\"#'Exiting (FS009)'!\"&ADDRESS(ROW(INDEX(CurrentListing,MATCH('Category Set A by Age'!V126,CurrentListing,0),1)),25),AJ126),HYPERLINK(\"#'Exiting (FS009)'!\"&\"$AA$10\",AJ126))","v":"MC"},{"$f":"IFERROR(HYPERLINK(\"#'Exiting (FS009)'!\"&ADDRESS(ROW(INDEX(CurrentListing,MATCH('Category Set A by Age'!W126,CurrentListing,0),1)),25),AK126),HYPERLINK(\"#'Exiting (FS009)'!\"&\"$AA$10\",AK126))","v":"MC"},{"$f":"IFERROR(HYPERLINK(\"#'Exiting (FS009)'!\"&ADDRESS(ROW(INDEX(CurrentListing,MATCH('Category Set A by Age'!X126,CurrentListing,0),1)),25),AL126),HYPERLINK(\"#'Exiting (FS009)'!\"&\"$AA$10\",AL126))","v":"MC"},{"$f":"IFERROR(HYPERLINK(\"#'Exiting (FS009)'!\"&ADDRESS(ROW(INDEX(CurrentListing,MATCH('Category Set A by Age'!Y126,CurrentListing,0),1)),25),AM126),HYPERLINK(\"#'Exiting (FS009)'!\"&\"$AA$10\",AM126))","v":"MC"},{"$f":"IFERROR(HYPERLINK(\"#'Exiting (FS009)'!\"&ADDRESS(ROW(INDEX(CurrentListing,MATCH('Category Set A by Age'!Z126,CurrentListing,0),1)),25),AN126),HYPERLINK(\"#'Exiting (FS009)'!\"&\"$AA$10\",AN126))","v":"MC"},{"$f":"IFERROR(HYPERLINK(\"#'Exiting (FS009)'!\"&ADDRESS(ROW(INDEX(CurrentListing,MATCH('Category Set A by Age'!AA126,CurrentListing,0),1)),25),AO126),HYPERLINK(\"#'Exiting (FS009)'!\"&\"$AA$10\",AO126))","v":"MC"},{"$f":"IFERROR(HYPERLINK(\"#'Exiting (FS009)'!\"&ADDRESS(ROW(INDEX(CurrentListing,MATCH('Category Set A by Age'!AB126,CurrentListing,0),1)),25),AP126),HYPERLINK(\"#'Exiting (FS009)'!\"&\"$AA$10\",AP126))","v":"MC"},0,null,null,"ID18DROPOUTN","HI18DROPOUTN","SLI18DROPOUTN","VI18DROPOUTN","EMN18DROPOUTN","OI18DROPOUTN","OHI18DROPOUTN","SLD18DROPOUTN","DB18DROPOUTN","MD18DROPOUTN","AUT18DROPOUTN","TBI18DROPOUTN",null,"Dropped out","MC","MC","MC","MC","MC","MC","MC","MC","MC","MC","MC","MC",0]
["Total",{"$f":"SUM(B119:B126)","v":0},{"$f":"SUM(C119:C126)","v":0},0,0,0,0,0,0,0,0,0,0,{"$f":"IF(AND(N4=\"MC\",N5=\"MC\",N6=\"MC\",N7=\"MC\",N8=\"MC\",N9=\"MC\",N10=\"MC\",N11=\"MC\"),\"\",SUM(B119:M126))","v":""},null,null,null,null,null,null,null,null,null,null,null,null,null,null,"18Y","Total",{"$f":"SUM(AE119:AE126)","v":0},{"$f":"SUM(AF119:AF126)","v":0},0,0,0,0,0,0,0,0,0,0,{"$f":"IFERROR(IF(INDEX(StudCntC009,MATCH(AC127,CurrentListing,0))=\"\",\"No Data\",INDEX(StudCntC009,MATCH(AC127,CurrentListing,0))),\"MC\")","v":"MC"}]
[]
["Percent by basis of exit","Age 18"]
[null,"Intellectual\ndisability\n(percent)","Hearing\nimpairment\n(percent)","Speech or\nlanguage\nimpairment\n(percent)","Visual\nimpairment\n(percent)","Emotional\ndisturbance\n(percent)","Orthopedic\nimpairment\n(percent)","Other\nhealth\nimpairment\n(percent)","Specific\nlearning\ndisability\n(percent)","Deaf-\nblindness\n(percent)","Multiple\ndisabilities\n(percent)","Autism\n(percent)","Traumatic\nbrain\ninjury\n(percent)","Total\n(percent)"]
["Transferred to regular education",{"$f":"IF(ISERROR(B119/$N119),IF(B119=\"MC\", \"\",0), B119/$N119)","v":""},{"$f":"IF(ISERROR(C119/$N119),IF(C119=\"MC\", \"\",0), C119/$N119)","v":""},"","","","","","","","","","",{"$f":"SUM(B131:M131)","v":0}]
["Graduated with regular high school diploma","",{"$f":"IF(ISERROR(C120/$N120),IF(C120=\"MC\", \"\",0), C120/$N120)","v":""},"","","","","","","","","","",{"$f":"SUM(B132:M132)","v":0}]
["Graduated with an alternate diploma","",{"$f":"IF(ISERROR(C121/$N121),IF(C121=\"MC\", \"\",0), C121/$N121)","v":""},"","","","","","","","","","",{"$f":"SUM(B133:M133)","v":0}]
["Received a certificate","",{"$f":"IF(ISERROR(C122/$N122),IF(C122=\"MC\", \"\",0), C122/$N122)","v":""},"","","","","","","","","","",0]
["Reached maximum age","",{"$f":"IF(ISERROR(C123/$N123),IF(C123=\"MC\", \"\",0), C123/$N123)","v":""},"","","","","","","","","","",0]
["Died","",{"$f":"IF(ISERROR(C124/$N124),IF(C124=\"MC\", \"\",0), C124/$N124)","v":""},"","","","","","","","","","",0]
["Moved, known to be continuing","",{"$f":"IF(ISERROR(C125/$N125),IF(C125=\"MC\", \"\",0), C125/$N125)","v":""},"","","","","","","","","","",0]
["Dropped out","",{"$f":"IF(ISERROR(C126/$N126),IF(C126=\"MC\", \"\",0), C126/$N126)","v":""},"","","","","","","","","","",0]
["Total",{"$f":"IFERROR(IF($N127<>0,B127/$N127,0),\"\")","v":""},{"$f":"IFERROR(IF($N127<>0,C127/$N127,0),\"\")","v":""},"","","","","","","","","","",0]
[]
["Category set A – Children with disabilities (IDEA) exiting special education, by age, disability category, and basis of exit"]
["Student count by basis of exit ","Age 19",null,null,null,null,null,null,null,null,null,null,null,null,null,null,"Age 19 Lookup",null,null,null,null,null,null,null,null,null,null,null,null,"Student counts by basis of exit","Age 19"]
[null,"Intellectual\ndisability","Hearing\nimpairment","Speech or\nlanguage\nimpairment","Visual\nimpairment","Emotional\ndisturbance","Orthopedic\nimpairment","Other\nhealth\nimpairment","Specific\nlearning\ndisability","Deaf-\nblindness","Multiple\ndisabilities","Autism","Traumatic\nbrain\ninjury","Total",null,null,null,null,null,null,null,null,null,null,null,null,null,null,null,null,"Intellectual\nDisability","Hearing\nImpairments","Speech or\nLanguage\nImpairments","Visual\nImpairments","Emotional\nDisturbance","Orthopedic\nImpairments","Other\nHealth\nImpairments","Specific\nLearning\nDisabilities","Deaf-\nBlindness","Multiple\nDisabilities","Autism","Traumatic\nBrain\nInjury","Total"]
["Transferred to regular education",{"$f":"IFERROR(HYPERLINK(\"#'Exiting (FS009)'!\"&ADDRESS(ROW(INDEX(CurrentListing,MATCH('Category Set A by Age'!Q144,CurrentListing,0),1)),25),AE144),HYPERLINK(\"#'Exiting (FS009)'!\"&\"$AA$10\",AE144))","v":"MC"},{"$f":"IFERROR(HYPERLINK(\"#'Exiting (FS009)'!\"&ADDRESS(ROW(INDEX(CurrentListing,MATCH('Category Set A by Age'!R144,CurrentListing,0),1)),25),AF144),HYPERLINK(\"#'Exiting (FS009)'!\"&\"$AA$10\",AF144))","v":"MC"},{"$f":"IFERROR(HYPERLINK(\"#'Exiting (FS009)'!\"&ADDRESS(ROW(INDEX(CurrentListing,MATCH('Category Set A by Age'!S144,CurrentListing,0),1)),25),AG144),HYPERLINK(\"#'Exiting (FS009)'!\"&\"$AA$10\",AG144))","v":"MC"},{"$f":"IFERROR(HYPERLINK(\"#'Exiting (FS009)'!\"&ADDRESS(ROW(INDEX(CurrentListing,MATCH('Category Set A by Age'!T144,CurrentListing,0),1)),25),AH144),HYPERLINK(\"#'Exiting (FS009)'!\"&\"$AA$10\",AH144))","v":"MC"},{"$f":"IFERROR(HYPERLINK(\"#'Exiting (FS009)'!\"&ADDRESS(ROW(INDEX(CurrentListing,MATCH('Category Set A by Age'!U144,CurrentListing,0),1)),25),AI144),HYPERLINK(\"#'Exiting (FS009)'!\"&\"$AA$10\",AI144))","v":"MC"},{"$f":"IFERROR(HYPERLINK(\"#'Exiting (FS009)'!\"&ADDRESS(ROW(INDEX(CurrentListing,MATCH('Category Set A by Age'!V144,CurrentListing,0),1)),25),AJ144),HYPERLINK(\"#'Exiting (FS009)'!\"&\"$AA$10\",AJ144))","v":"MC"},{"$f":"IFERROR(HYPERLINK(\"#'Exiting (FS009)'!\"&ADDRESS(ROW(INDEX(CurrentListing,MATCH('Category Set A by Age'!W144,CurrentListing,0),1)),25),AK144),HYPERLINK(\"#'Exiting (FS009)'!\"&\"$AA$10\",AK144))","v":"MC"},{"$f":"IFERROR(HYPERLINK(\"#'Exiting (FS009)'!\"&ADDRESS(ROW(INDEX(CurrentListing,MATCH('Category Set A by Age'!X144,CurrentListing,0),1)),25),AL144),HYPERLINK(\"#'Exiting (FS009)'!\"&\"$AA$10\",AL144))","v":"MC"},{"$f":"IFERROR(HYPERLINK(\"#'Exiting (FS009)'!\"&ADDRESS(ROW(INDEX(CurrentListing,MATCH('Category Set A by Age'!Y144,CurrentListing,0),1)),25),AM144),HYPERLINK(\"#'Exiting (FS009)'!\"&\"$AA$10\",AM144))","v":"MC"},{"$f":"IFERROR(HYPERLINK(\"#'Exiting (FS009)'!\"&ADDRESS(ROW(INDEX(CurrentListing,MATCH('Category Set A by Age'!Z144,CurrentListing,0),1)),25),AN144),HYPERLINK(\"#'Exiting (FS009)'!\"&\"$AA$10\",AN144))","v":"MC"},{"$f":"IFERROR(HYPERLINK(\"#'Exiting (FS009)'!\"&ADDRESS(ROW(INDEX(CurrentListing,MATCH('Category Set A by Age'!AA144,CurrentListing,0),1)),25),AO144),HYPERLINK(\"#'Exiting (FS009)'!\"&\"$AA$10\",AO144))","v":"MC"},{"$f":"IFERROR(HYPERLINK(\"#'Exiting (FS009)'!\"&ADDRESS(ROW(INDEX(CurrentListing,MATCH('Category Set A by Age'!AB144,CurrentListing,0),1)),25),AP144),HYPERLINK(\"#'Exiting (FS009)'!\"&\"$AA$10\",AP144))","v":"MC"},{"$f":"SUM(B144:M144)","v":0},null,null,"ID19TRANN","HI19TRANN","SLI19TRANN","VI19TRANN","EMN19TRANN","OI19TRANN","OHI19TRANN","SLD19TRANN","DB19TRANN","MD19TRANN","AUT19TRANN","TBI19TRANN",null,"Transferred to regular education",{"$f":"IFERROR(IF(INDEX(StudCntC009,MATCH(Q144,CurrentListing,0))=\"\",\"No Data\",INDEX(StudCntC009,MATCH(Q144,CurrentListing,0))),\"MC\")","v":"MC"},"MC","MC","MC","MC","MC","MC","MC","MC","MC","MC","MC",{"$f":"SUM(AE144:AP144)","v":0}]
["Graduated with regular high school diploma",{"$f":"IFERROR(HYPERLINK(\"#'Exiting (FS009)'!\"&ADDRESS(ROW(INDEX(CurrentListing,MATCH('Category Set A by Age'!Q145,CurrentListing,0),1)),25),AE145),HYPERLINK(\"#'Exiting (FS009)'!\"&\"$AA$10\",AE145))","v":"MC"},{"$f":"IFERROR(HYPERLINK(\"#'Exiting (FS009)'!\"&ADDRESS(ROW(INDEX(CurrentListing,MATCH('Category Set A by Age'!R145,CurrentListing,0),1)),25),AF145),HYPERLINK(\"#'Exiting (FS009)'!\"&\"$AA$10\",AF145))","v":"MC"},{"$f":"IFERROR(HYPERLINK(\"#'Exiting (FS009)'!\"&ADDRESS(ROW(INDEX(CurrentListing,MATCH('Category Set A by Age'!S145,CurrentListing,0),1)),25),AG145),HYPERLINK(\"#'Exiting (FS009)'!\"&\"$AA$10\",AG145))","v":"MC"},{"$f":"IFERROR(HYPERLINK(\"#'Exiting (FS009)'!\"&ADDRESS(ROW(INDEX(CurrentListing,MATCH('Category Set A by Age'!T145,CurrentListing,0),1)),25),AH145),HYPERLINK(\"#'Exiting (FS009)'!\"&\"$AA$10\",AH145))","v":"MC"},{"$f":"IFERROR(HYPERLINK(\"#'Exiting (FS009)'!\"&ADDRESS(ROW(INDEX(CurrentListing,MATCH('Category Set A by Age'!U145,CurrentListing,0),1)),25),AI145),HYPERLINK(\"#'Exiting (FS009)'!\"&\"$AA$10\",AI145))","v":"MC"},{"$f":"IFERROR(HYPERLINK(\"#'Exiting (FS009)'!\"&ADDRESS(ROW(INDEX(CurrentListing,MATCH('Category Set A by Age'!V145,CurrentListing,0),1)),25),AJ145),HYPERLINK(\"#'Exiting (FS009)'!\"&\"$AA$10\",AJ145))","v":"MC"},{"$f":"IFERROR(HYPERLINK(\"#'Exiting (FS009)'!\"&ADDRESS(ROW(INDEX(CurrentListing,MATCH('Category Set A by Age'!W145,CurrentListing,0),1)),25),AK145),HYPERLINK(\"#'Exiting (FS009)'!\"&\"$AA$10\",AK145))","v":"MC"},{"$f":"IFERROR(HYPERLINK(\"#'Exiting (FS009)'!\"&ADDRESS(ROW(INDEX(CurrentListing,MATCH('Category Set A by Age'!X145,CurrentListing,0),1)),25),AL145),HYPERLINK(\"#'Exiting (FS009)'!\"&\"$AA$10\",AL145))","v":"MC"},{"$f":"IFERROR(HYPERLINK(\"#'Exiting (FS009)'!\"&ADDRESS(ROW(INDEX(CurrentListing,MATCH('Category Set A by Age'!Y145,CurrentListing,0),1)),25),AM145),HYPERLINK(\"#'Exiting (FS009)'!\"&\"$AA$10\",AM145))","v":"MC"},{"$f":"IFERROR(HYPERLINK(\"#'Exiting (FS009)'!\"&ADDRESS(ROW(INDEX(CurrentListing,MATCH('Category Set A by Age'!Z145,CurrentListing,0),1)),25),AN145),HYPERLINK(\"#'Exiting (FS009)'!\"&\"$AA$10\",AN145))","v":"MC"},{"$f":"IFERROR(HYPERLINK(\"#'Exiting (FS009)'!\"&ADDRESS(ROW(INDEX(CurrentListing,MATCH('Category Set A by Age'!AA145,CurrentListing,0),1)),25),AO145),HYPERLINK(\"#'Exiting (FS009)'!\"&\"$AA$10\",AO145))","v":"MC"},{"$f":"IFERROR(HYPERLINK(\"#'Exiting (FS009)'!\"&ADDRESS(ROW(INDEX(CurrentListing,MATCH('Category Set A by Age'!AB145,CurrentListing,0),1)),25),AP145),HYPERLINK(\"#'Exiting (FS009)'!\"&\"$AA$10\",AP145))","v":"MC"},{"$f":"SUM(B145:M145)","v":0},null,null,"ID19GHSN","HI19GHSN","SLI19GHSN","VI19GHSN","EMN19GHSN","OI19GHSN","OHI19GHSN","SLD19GHSN","DB19GHSN","MD19GHSN","AUT19GHSN","TBI19GHSN",null,"Graduated with regular high school diploma","MC","MC","MC","MC","MC","MC","MC","MC","MC","MC","MC","MC",0]
["Graduated with an alternate diploma",{"$f":"IFERROR(HYPERLINK(\"#'Exiting (FS009)'!\"&ADDRESS(ROW(INDEX(CurrentListing,MATCH('Category Set A by Age'!Q146,CurrentListing,0),1)),25),AE146),HYPERLINK(\"#'Exiting (FS009)'!\"&\"$AA$10\",AE146))","v":"MC"},{"$f":"IFERROR(HYPERLINK(\"#'Exiting (FS009)'!\"&ADDRESS(ROW(INDEX(CurrentListing,MATCH('Category Set A by Age'!R146,CurrentListing,0),1)),25),AF146),HYPERLINK(\"#'Exiting (FS009)'!\"&\"$AA$10\",AF146))","v":"MC"},{"$f":"IFERROR(HYPERLINK(\"#'Exiting (FS009)'!\"&ADDRESS(ROW(INDEX(CurrentListing,MATCH('Category Set A by Age'!S146,CurrentListing,0),1)),25),AG146),HYPERLINK(\"#'Exiting (FS009)'!\"&\"$AA$10\",AG146))","v":"MC"},{"$f":"IFERROR(HYPERLINK(\"#'Exiting (FS009)'!\"&ADDRESS(ROW(INDEX(CurrentListing,MATCH('Category Set A by Age'!T146,CurrentListing,0),1)),25),AH146),HYPERLINK(\"#'Exiting (FS009)'!\"&\"$AA$10\",AH146))","v":"MC"},{"$f":"IFERROR(HYPERLINK(\"#'Exiting (FS009)'!\"&ADDRESS(ROW(INDEX(CurrentListing,MATCH('Category Set A by Age'!U146,CurrentListing,0),1)),25),AI146),HYPERLINK(\"#'Exiting (FS009)'!\"&\"$AA$10\",AI146))","v":"MC"},{"$f":"IFERROR(HYPERLINK(\"#'Exiting (FS009)'!\"&ADDRESS(ROW(INDEX(CurrentListing,MATCH('Category Set A by Age'!V146,CurrentListing,0),1)),25),AJ146),HYPERLINK(\"#'Exiting (FS009)'!\"&\"$AA$10\",AJ146))","v":"MC"},{"$f":"IFERROR(HYPERLINK(\"#'Exiting (FS009)'!\"&ADDRESS(ROW(INDEX(CurrentListing,MATCH('Category Set A by Age'!W146,CurrentListing,0),1)),25),AK146),HYPERLINK(\"#'Exiting (FS009)'!\"&\"$AA$10\",AK146))","v":"MC"},{"$f":"IFERROR(HYPERLINK(\"#'Exiting (FS009)'!\"&ADDRESS(ROW(INDEX(CurrentListing,MATCH('Category Set A by Age'!X146,CurrentListing,0),1)),25),AL146),HYPERLINK(\"#'Exiting (FS009)'!\"&\"$AA$10\",AL146))","v":"MC"},{"$f":"IFERROR(HYPERLINK(\"#'Exiting (FS009)'!\"&ADDRESS(ROW(INDEX(CurrentListing,MATCH('Category Set A by Age'!Y146,CurrentListing,0),1)),25),AM146),HYPERLINK(\"#'Exiting (FS009)'!\"&\"$AA$10\",AM146))","v":"MC"},{"$f":"IFERROR(HYPERLINK(\"#'Exiting (FS009)'!\"&ADDRESS(ROW(INDEX(CurrentListing,MATCH('Category Set A by Age'!Z146,CurrentListing,0),1)),25),AN146),HYPERLINK(\"#'Exiting (FS009)'!\"&\"$AA$10\",AN146))","v":"MC"},{"$f":"IFERROR(HYPERLINK(\"#'Exiting (FS009)'!\"&ADDRESS(ROW(INDEX(CurrentListing,MATCH('Category Set A by Age'!AA146,CurrentListing,0),1)),25),AO146),HYPERLINK(\"#'Exiting (FS009)'!\"&\"$AA$10\",AO146))","v":"MC"},{"$f":"IFERROR(HYPERLINK(\"#'Exiting (FS009)'!\"&ADDRESS(ROW(INDEX(CurrentListing,MATCH('Category Set A by Age'!AB146,CurrentListing,0),1)),25),AP146),HYPERLINK(\"#'Exiting (FS009)'!\"&\"$AA$10\",AP146))","v":"MC"},0,null,null,"ID19GRADALTDPLN","HI19GRADALTDPLN","SLI19GRADALTDPLN","VI19GRADALTDPLN","EMN19GRADALTDPLN","OI19GRADALTDPLN","OHI19GRADALTDPLN","SLD19GRADALTDPLN","DB19GRADALTDPLN","MD19GRADALTDPLN","AUT19GRADALTDPLN","TBI19GRADALTDPLN",null,"Graduated with an alternate diploma",{"$f":"IFERROR(IF(INDEX(StudCntC009,MATCH(Q146,CurrentListing,0))=\"\",\"No Data\",INDEX(StudCntC009,MATCH(Q146,CurrentListing,0))),\"MC\")","v":"MC"},"MC","MC","MC","MC","MC","MC","MC","MC","MC","MC","MC",0]
["Received a certificate",{"$f":"IFERROR(HYPERLINK(\"#'Exiting (FS009)'!\"&ADDRESS(ROW(INDEX(CurrentListing,MATCH('Category Set A by Age'!Q147,CurrentListing,0),1)),25),AE147),HYPERLINK(\"#'Exiting (FS009)'!\"&\"$AA$10\",AE147))","v":"MC"},{"$f":"IFERROR(HYPERLINK(\"#'Exiting (FS009)'!\"&ADDRESS(ROW(INDEX(CurrentListing,MATCH('Category Set A by Age'!R147,CurrentListing,0),1)),25),AF147),HYPERLINK(\"#'Exiting (FS009)'!\"&\"$AA$10\",AF147))","v":"MC"},{"$f":"IFERROR(HYPERLINK(\"#'Exiting (FS009)'!\"&ADDRESS(ROW(INDEX(CurrentListing,MATCH('Category Set A by Age'!S147,CurrentListing,0),1)),25),AG147),HYPERLINK(\"#'Exiting (FS009)'!\"&\"$AA$10\",AG147))","v":"MC"},{"$f":"IFERROR(HYPERLINK(\"#'Exiting (FS009)'!\"&ADDRESS(ROW(INDEX(CurrentListing,MATCH('Category Set A by Age'!T147,CurrentListing,0),1)),25),AH147),HYPERLINK(\"#'Exiting (FS009)'!\"&\"$AA$10\",AH147))","v":"MC"},{"$f":"IFERROR(HYPERLINK(\"#'Exiting (FS009)'!\"&ADDRESS(ROW(INDEX(CurrentListing,MATCH('Category Set A by Age'!U147,CurrentListing,0),1)),25),AI147),HYPERLINK(\"#'Exiting (FS009)'!\"&\"$AA$10\",AI147))","v":"MC"},{"$f":"IFERROR(HYPERLINK(\"#'Exiting (FS009)'!\"&ADDRESS(ROW(INDEX(CurrentListing,MATCH('Category Set A by Age'!V147,CurrentListing,0),1)),25),AJ147),HYPERLINK(\"#'Exiting (FS009)'!\"&\"$AA$10\",AJ147))","v":"MC"},{"$f":"IFERROR(HYPERLINK(\"#'Exiting (FS009)'!\"&ADDRESS(ROW(INDEX(CurrentListing,MATCH('Category Set A by Age'!W147,CurrentListing,0),1)),25),AK147),HYPERLINK(\"#'Exiting (FS009)'!\"&\"$AA$10\",AK147))","v":"MC"},{"$f":"IFERROR(HYPERLINK(\"#'Exiting (FS009)'!\"&ADDRESS(ROW(INDEX(CurrentListing,MATCH('Category Set A by Age'!X147,CurrentListing,0),1)),25),AL147),HYPERLINK(\"#'Exiting (FS009)'!\"&\"$AA$10\",AL147))","v":"MC"},{"$f":"IFERROR(HYPERLINK(\"#'Exiting (FS009)'!\"&ADDRESS(ROW(INDEX(CurrentListing,MATCH('Category Set A by Age'!Y147,CurrentListing,0),1)),25),AM147),HYPERLINK(\"#'Exiting (FS009)'!\"&\"$AA$10\",AM147))","v":"MC"},{"$f":"IFERROR(HYPERLINK(\"#'Exiting (FS009)'!\"&ADDRESS(ROW(INDEX(CurrentListing,MATCH('Category Set A by Age'!Z147,CurrentListing,0),1)),25),AN147),HYPERLINK(\"#'Exiting (FS009)'!\"&\"$AA$10\",AN147))","v":"MC"},{"$f":"IFERROR(HYPERLINK(\"#'Exiting (FS009)'!\"&ADDRESS(ROW(INDEX(CurrentListing,MATCH('Category Set A by Age'!AA147,CurrentListing,0),1)),25),AO147),HYPERLINK(\"#'Exiting (FS009)'!\"&\"$AA$10\",AO147))","v":"MC"},{"$f":"IFERROR(HYPERLINK(\"#'Exiting (FS009)'!\"&ADDRESS(ROW(INDEX(CurrentListing,MATCH('Category Set A by Age'!AB147,CurrentListing,0),1)),25),AP147),HYPERLINK(\"#'Exiting (FS009)'!\"&\"$AA$10\",AP147))","v":"MC"},0,null,null,"ID19RCN","HI19RCN","SLI19RCN","VI19RCN","EMN19RCN","OI19RCN","OHI19RCN","SLD19RCN","DB19RCN","MD19RCN","AUT19RCN","TBI19RCN",null,"Received a certificate","MC","MC","MC","MC","MC","MC","MC","MC","MC","MC","MC","MC",0]
["Reached maximum age",{"$f":"IFERROR(HYPERLINK(\"#'Exiting (FS009)'!\"&ADDRESS(ROW(INDEX(CurrentListing,MATCH('Category Set A by Age'!Q148,CurrentListing,0),1)),25),AE148),HYPERLINK(\"#'Exiting (FS009)'!\"&\"$AA$10\",AE148))","v":"MC"},{"$f":"IFERROR(HYPERLINK(\"#'Exiting (FS009)'!\"&ADDRESS(ROW(INDEX(CurrentListing,MATCH('Category Set A by Age'!R148,CurrentListing,0),1)),25),AF148),HYPERLINK(\"#'Exiting (FS009)'!\"&\"$AA$10\",AF148))","v":"MC"},{"$f":"IFERROR(HYPERLINK(\"#'Exiting (FS009)'!\"&ADDRESS(ROW(INDEX(CurrentListing,MATCH('Category Set A by Age'!S148,CurrentListing,0),1)),25),AG148),HYPERLINK(\"#'Exiting (FS009)'!\"&\"$AA$10\",AG148))","v":"MC"},{"$f":"IFERROR(HYPERLINK(\"#'Exiting (FS009)'!\"&ADDRESS(ROW(INDEX(CurrentListing,MATCH('Category Set A by Age'!T148,CurrentListing,0),1)),25),AH148),HYPERLINK(\"#'Exiting (FS009)'!\"&\"$AA$10\",AH148))","v":"MC"},{"$f":"IFERROR(HYPERLINK(\"#'Exiting (FS009)'!\"&ADDRESS(ROW(INDEX(CurrentListing,MATCH('Category Set A by Age'!U148,CurrentListing,0),1)),25),AI148),HYPERLINK(\"#'Exiting (FS009)'!\"&\"$AA$10\",AI148))","v":"MC"},{"$f":"IFERROR(HYPERLINK(\"#'Exiting (FS009)'!\"&ADDRESS(ROW(INDEX(CurrentListing,MATCH('Category Set A by Age'!V148,CurrentListing,0),1)),25),AJ148),HYPERLINK(\"#'Exiting (FS009)'!\"&\"$AA$10\",AJ148))","v":"MC"},{"$f":"IFERROR(HYPERLINK(\"#'Exiting (FS009)'!\"&ADDRESS(ROW(INDEX(CurrentListing,MATCH('Category Set A by Age'!W148,CurrentListing,0),1)),25),AK148),HYPERLINK(\"#'Exiting (FS009)'!\"&\"$AA$10\",AK148))","v":"MC"},{"$f":"IFERROR(HYPERLINK(\"#'Exiting (FS009)'!\"&ADDRESS(ROW(INDEX(CurrentListing,MATCH('Category Set A by Age'!X148,CurrentListing,0),1)),25),AL148),HYPERLINK(\"#'Exiting (FS009)'!\"&\"$AA$10\",AL148))","v":"MC"},{"$f":"IFERROR(HYPERLINK(\"#'Exiting (FS009)'!\"&ADDRESS(ROW(INDEX(CurrentListing,MATCH('Category Set A by Age'!Y148,CurrentListing,0),1)),25),AM148),HYPERLINK(\"#'Exiting (FS009)'!\"&\"$AA$10\",AM148))","v":"MC"},{"$f":"IFERROR(HYPERLINK(\"#'Exiting (FS009)'!\"&ADDRESS(ROW(INDEX(CurrentListing,MATCH('Category Set A by Age'!Z148,CurrentListing,0),1)),25),AN148),HYPERLINK(\"#'Exiting (FS009)'!\"&\"$AA$10\",AN148))","v":"MC"},{"$f":"IFERROR(HYPERLINK(\"#'Exiting (FS009)'!\"&ADDRESS(ROW(INDEX(CurrentListing,MATCH('Category Set A by Age'!AA148,CurrentListing,0),1)),25),AO148),HYPERLINK(\"#'Exiting (FS009)'!\"&\"$AA$10\",AO148))","v":"MC"},{"$f":"IFERROR(HYPERLINK(\"#'Exiting (FS009)'!\"&ADDRESS(ROW(INDEX(CurrentListing,MATCH('Category Set A by Age'!AB148,CurrentListing,0),1)),25),AP148),HYPERLINK(\"#'Exiting (FS009)'!\"&\"$AA$10\",AP148))","v":"MC"},0,null,null,"ID19RMAN","HI19RMAN","SLI19RMAN","VI19RMAN","EMN19RMAN","OI19RMAN","OHI19RMAN","SLD19RMAN","DB19RMAN","MD19RMAN","AUT19RMAN","TBI19RMAN",null,"Reached maximum age","MC","MC","MC","MC","MC","MC","MC","MC","MC","MC","MC","MC",0]
["Died",{"$f":"IFERROR(HYPERLINK(\"#'Exiting (FS009)'!\"&ADDRESS(ROW(INDEX(CurrentListing,MATCH('Category Set A by Age'!Q149,CurrentListing,0),1)),25),AE149),HYPERLINK(\"#'Exiting (FS009)'!\"&\"$AA$10\",AE149))","v":"MC"},{"$f":"IFERROR(HYPERLINK(\"#'Exiting (FS009)'!\"&ADDRESS(ROW(INDEX(CurrentListing,MATCH('Category Set A by Age'!R149,CurrentListing,0),1)),25),AF149),HYPERLINK(\"#'Exiting (FS009)'!\"&\"$AA$10\",AF149))","v":"MC"},{"$f":"IFERROR(HYPERLINK(\"#'Exiting (FS009)'!\"&ADDRESS(ROW(INDEX(CurrentListing,MATCH('Category Set A by Age'!S149,CurrentListing,0),1)),25),AG149),HYPERLINK(\"#'Exiting (FS009)'!\"&\"$AA$10\",AG149))","v":"MC"},{"$f":"IFERROR(HYPERLINK(\"#'Exiting (FS009)'!\"&ADDRESS(ROW(INDEX(CurrentListing,MATCH('Category Set A by Age'!T149,CurrentListing,0),1)),25),AH149),HYPERLINK(\"#'Exiting (FS009)'!\"&\"$AA$10\",AH149))","v":"MC"},{"$f":"IFERROR(HYPERLINK(\"#'Exiting (FS009)'!\"&ADDRESS(ROW(INDEX(CurrentListing,MATCH('Category Set A by Age'!U149,CurrentListing,0),1)),25),AI149),HYPERLINK(\"#'Exiting (FS009)'!\"&\"$AA$10\",AI149))","v":"MC"},{"$f":"IFERROR(HYPERLINK(\"#'Exiting (FS009)'!\"&ADDRESS(ROW(INDEX(CurrentListing,MATCH('Category Set A by Age'!V149,CurrentListing,0),1)),25),AJ149),HYPERLINK(\"#'Exiting (FS009)'!\"&\"$AA$10\",AJ149))","v":"MC"},{"$f":"IFERROR(HYPERLINK(\"#'Exiting (FS009)'!\"&ADDRESS(ROW(INDEX(CurrentListing,MATCH('Category Set A by Age'!W149,CurrentListing,0),1)),25),AK149),HYPERLINK(\"#'Exiting (FS009)'!\"&\"$AA$10\",AK149))","v":"MC"},{"$f":"IFERROR(HYPERLINK(\"#'Exiting (FS009)'!\"&ADDRESS(ROW(INDEX(CurrentListing,MATCH('Category Set A by Age'!X149,CurrentListing,0),1)),25),AL149),HYPERLINK(\"#'Exiting (FS009)'!\"&\"$AA$10\",AL149))","v":"MC"},{"$f":"IFERROR(HYPERLINK(\"#'Exiting (FS009)'!\"&ADDRESS(ROW(INDEX(CurrentListing,MATCH('Category Set A by Age'!Y149,CurrentListing,0),1)),25),AM149),HYPERLINK(\"#'Exiting (FS009)'!\"&\"$AA$10\",AM149))","v":"MC"},{"$f":"IFERROR(HYPERLINK(\"#'Exiting (FS009)'!\"&ADDRESS(ROW(INDEX(CurrentListing,MATCH('Category Set A by Age'!Z149,CurrentListing,0),1)),25),AN149),HYPERLINK(\"#'Exiting (FS009)'!\"&\"$AA$10\",AN149))","v":"MC"},{"$f":"IFERROR(HYPERLINK(\"#'Exiting (FS009)'!\"&ADDRESS(ROW(INDEX(CurrentListing,MATCH('Category Set A by Age'!AA149,CurrentListing,0),1)),25),AO149),HYPERLINK(\"#'Exiting (FS009)'!\"&\"$AA$10\",AO149))","v":"MC"},{"$f":"IFERROR(HYPERLINK(\"#'Exiting (FS009)'!\"&ADDRESS(ROW(INDEX(CurrentListing,MATCH('Category Set A by Age'!AB149,CurrentListing,0),1)),25),AP149),HYPERLINK(\"#'Exiting (FS009)'!\"&\"$AA$10\",AP149))","v":"MC"},0,null,null,"ID19DN","HI19DN","SLI19DN","VI19DN","EMN19DN","OI19DN","OHI19DN","SLD19DN","DB19DN","MD19DN","AUT19DN","TBI19DN",null,"Died","MC","MC","MC","MC","MC","MC","MC","MC","MC","MC","MC","MC",0]
["Moved, known to be continuing",{"$f":"IFERROR(HYPERLINK(\"#'Exiting (FS009)'!\"&ADDRESS(ROW(INDEX(CurrentListing,MATCH('Category Set A by Age'!Q150,CurrentListing,0),1)),25),AE150),HYPERLINK(\"#'Exiting (FS009)'!\"&\"$AA$10\",AE150))","v":"MC"},{"$f":"IFERROR(HYPERLINK(\"#'Exiting (FS009)'!\"&ADDRESS(ROW(INDEX(CurrentListing,MATCH('Category Set A by Age'!R150,CurrentListing,0),1)),25),AF150),HYPERLINK(\"#'Exiting (FS009)'!\"&\"$AA$10\",AF150))","v":"MC"},{"$f":"IFERROR(HYPERLINK(\"#'Exiting (FS009)'!\"&ADDRESS(ROW(INDEX(CurrentListing,MATCH('Category Set A by Age'!S150,CurrentListing,0),1)),25),AG150),HYPERLINK(\"#'Exiting (FS009)'!\"&\"$AA$10\",AG150))","v":"MC"},{"$f":"IFERROR(HYPERLINK(\"#'Exiting (FS009)'!\"&ADDRESS(ROW(INDEX(CurrentListing,MATCH('Category Set A by Age'!T150,CurrentListing,0),1)),25),AH150),HYPERLINK(\"#'Exiting (FS009)'!\"&\"$AA$10\",AH150))","v":"MC"},{"$f":"IFERROR(HYPERLINK(\"#'Exiting (FS009)'!\"&ADDRESS(ROW(INDEX(CurrentListing,MATCH('Category Set A by Age'!U150,CurrentListing,0),1)),25),AI150),HYPERLINK(\"#'Exiting (FS009)'!\"&\"$AA$10\",AI150))","v":"MC"},{"$f":"IFERROR(HYPERLINK(\"#'Exiting (FS009)'!\"&ADDRESS(ROW(INDEX(CurrentListing,MATCH('Category Set A by Age'!V150,CurrentListing,0),1)),25),AJ150),HYPERLINK(\"#'Exiting (FS009)'!\"&\"$AA$10\",AJ150))","v":"MC"},{"$f":"IFERROR(HYPERLINK(\"#'Exiting (FS009)'!\"&ADDRESS(ROW(INDEX(CurrentListing,MATCH('Category Set A by Age'!W150,CurrentListing,0),1)),25),AK150),HYPERLINK(\"#'Exiting (FS009)'!\"&\"$AA$10\",AK150))","v":"MC"},{"$f":"IFERROR(HYPERLINK(\"#'Exiting (FS009)'!\"&ADDRESS(ROW(INDEX(CurrentListing,MATCH('Category Set A by Age'!X150,CurrentListing,0),1)),25),AL150),HYPERLINK(\"#'Exiting (FS009)'!\"&\"$AA$10\",AL150))","v":"MC"},{"$f":"IFERROR(HYPERLINK(\"#'Exiting (FS009)'!\"&ADDRESS(ROW(INDEX(CurrentListing,MATCH('Category Set A by Age'!Y150,CurrentListing,0),1)),25),AM150),HYPERLINK(\"#'Exiting (FS009)'!\"&\"$AA$10\",AM150))","v":"MC"},{"$f":"IFERROR(HYPERLINK(\"#'Exiting (FS009)'!\"&ADDRESS(ROW(INDEX(CurrentListing,MATCH('Category Set A by Age'!Z150,CurrentListing,0),1)),25),AN150),HYPERLINK(\"#'Exiting (FS009)'!\"&\"$AA$10\",AN150))","v":"MC"},{"$f":"IFERROR(HYPERLINK(\"#'Exiting (FS009)'!\"&ADDRESS(ROW(INDEX(CurrentListing,MATCH('Category Set A by Age'!AA150,CurrentListing,0),1)),25),AO150),HYPERLINK(\"#'Exiting (FS009)'!\"&\"$AA$10\",AO150))","v":"MC"},{"$f":"IFERROR(HYPERLINK(\"#'Exiting (FS009)'!\"&ADDRESS(ROW(INDEX(CurrentListing,MATCH('Category Set A by Age'!AB150,CurrentListing,0),1)),25),AP150),HYPERLINK(\"#'Exiting (FS009)'!\"&\"$AA$10\",AP150))","v":"MC"},0,null,null,"ID19MKCN","HI19MKCN","SLI19MKCN","VI19MKCN","EMN19MKCN","OI19MKCN","OHI19MKCN","SLD19MKCN","DB19MKCN","MD19MKCN","AUT19MKCN","TBI19MKCN",null,"Moved, known to be continuing","MC","MC","MC","MC","MC","MC","MC","MC","MC","MC","MC","MC",0]
["Dropped out",{"$f":"IFERROR(HYPERLINK(\"#'Exiting (FS009)'!\"&ADDRESS(ROW(INDEX(CurrentListing,MATCH('Category Set A by Age'!Q151,CurrentListing,0),1)),25),AE151),HYPERLINK(\"#'Exiting (FS009)'!\"&\"$AA$10\",AE151))","v":"MC"},{"$f":"IFERROR(HYPERLINK(\"#'Exiting (FS009)'!\"&ADDRESS(ROW(INDEX(CurrentListing,MATCH('Category Set A by Age'!R151,CurrentListing,0),1)),25),AF151),HYPERLINK(\"#'Exiting (FS009)'!\"&\"$AA$10\",AF151))","v":"MC"},{"$f":"IFERROR(HYPERLINK(\"#'Exiting (FS009)'!\"&ADDRESS(ROW(INDEX(CurrentListing,MATCH('Category Set A by Age'!S151,CurrentListing,0),1)),25),AG151),HYPERLINK(\"#'Exiting (FS009)'!\"&\"$AA$10\",AG151))","v":"MC"},{"$f":"IFERROR(HYPERLINK(\"#'Exiting (FS009)'!\"&ADDRESS(ROW(INDEX(CurrentListing,MATCH('Category Set A by Age'!T151,CurrentListing,0),1)),25),AH151),HYPERLINK(\"#'Exiting (FS009)'!\"&\"$AA$10\",AH151))","v":"MC"},{"$f":"IFERROR(HYPERLINK(\"#'Exiting (FS009)'!\"&ADDRESS(ROW(INDEX(CurrentListing,MATCH('Category Set A by Age'!U151,CurrentListing,0),1)),25),AI151),HYPERLINK(\"#'Exiting (FS009)'!\"&\"$AA$10\",AI151))","v":"MC"},{"$f":"IFERROR(HYPERLINK(\"#'Exiting (FS009)'!\"&ADDRESS(ROW(INDEX(CurrentListing,MATCH('Category Set A by Age'!V151,CurrentListing,0),1)),25),AJ151),HYPERLINK(\"#'Exiting (FS009)'!\"&\"$AA$10\",AJ151))","v":"MC"},{"$f":"IFERROR(HYPERLINK(\"#'Exiting (FS009)'!\"&ADDRESS(ROW(INDEX(CurrentListing,MATCH('Category Set A by Age'!W151,CurrentListing,0),1)),25),AK151),HYPERLINK(\"#'Exiting (FS009)'!\"&\"$AA$10\",AK151))","v":"MC"},{"$f":"IFERROR(HYPERLINK(\"#'Exiting (FS009)'!\"&ADDRESS(ROW(INDEX(CurrentListing,MATCH('Category Set A by Age'!X151,CurrentListing,0),1)),25),AL151),HYPERLINK(\"#'Exiting (FS009)'!\"&\"$AA$10\",AL151))","v":"MC"},{"$f":"IFERROR(HYPERLINK(\"#'Exiting (FS009)'!\"&ADDRESS(ROW(INDEX(CurrentListing,MATCH('Category Set A by Age'!Y151,CurrentListing,0),1)),25),AM151),HYPERLINK(\"#'Exiting (FS009)'!\"&\"$AA$10\",AM151))","v":"MC"},{"$f":"IFERROR(HYPERLINK(\"#'Exiting (FS009)'!\"&ADDRESS(ROW(INDEX(CurrentListing,MATCH('Category Set A by Age'!Z151,CurrentListing,0),1)),25),AN151),HYPERLINK(\"#'Exiting (FS009)'!\"&\"$AA$10\",AN151))","v":"MC"},{"$f":"IFERROR(HYPERLINK(\"#'Exiting (FS009)'!\"&ADDRESS(ROW(INDEX(CurrentListing,MATCH('Category Set A by Age'!AA151,CurrentListing,0),1)),25),AO151),HYPERLINK(\"#'Exiting (FS009)'!\"&\"$AA$10\",AO151))","v":"MC"},{"$f":"IFERROR(HYPERLINK(\"#'Exiting (FS009)'!\"&ADDRESS(ROW(INDEX(CurrentListing,MATCH('Category Set A by Age'!AB151,CurrentListing,0),1)),25),AP151),HYPERLINK(\"#'Exiting (FS009)'!\"&\"$AA$10\",AP151))","v":"MC"},0,null,null,"ID19DROPOUTN","HI19DROPOUTN","SLI19DROPOUTN","VI19DROPOUTN","EMN19DROPOUTN","OI19DROPOUTN","OHI19DROPOUTN","SLD19DROPOUTN","DB19DROPOUTN","MD19DROPOUTN","AUT19DROPOUTN","TBI19DROPOUTN",null,"Dropped out","MC","MC","MC","MC","MC","MC","MC","MC","MC","MC","MC","MC",0]
["Total",{"$f":"SUM(B144:B151)","v":0},{"$f":"SUM(C144:C151)","v":0},0,0,0,0,0,0,0,0,0,0,{"$f":"IF(AND(N4=\"MC\",N5=\"MC\",N6=\"MC\",N7=\"MC\",N8=\"MC\",N9=\"MC\",N10=\"MC\",N11=\"MC\"),\"\",SUM(B144:M151))","v":""},null,null,null,null,null,null,null,null,null,null,null,null,null,null,"19Y","Total",{"$f":"SUM(AE144:AE151)","v":0},{"$f":"SUM(AF144:AF151)","v":0},0,0,0,0,0,0,0,0,0,0,{"$f":"IFERROR(IF(INDEX(StudCntC009,MATCH(AC152,CurrentListing,0))=\"\",\"No Data\",INDEX(StudCntC009,MATCH(AC152,CurrentListing,0))),\"MC\")","v":"MC"}]
[]
["Percent by basis of exit","Age 19"]
[null,"Intellectual\ndisability\n(percent)","Hearing\nimpairment\n(percent)","Speech or\nlanguage\nimpairment\n(percent)","Visual\nimpairment\n(percent)","Emotional\ndisturbance\n(percent)","Orthopedic\nimpairment\n(percent)","Other\nhealth\nimpairment\n(percent)","Specific\nlearning\ndisability\n(percent)","Deaf-\nblindness\n(percent)","Multiple\ndisabilities\n(percent)","Autism\n(percent)","Traumatic\nbrain\ninjury\n(percent)","Total\n(percent)"]
["Transferred to regular education",{"$f":"IF(ISERROR(B144/$N144),IF(B144=\"MC\", \"\",0), B144/$N144)","v":""},{"$f":"IF(ISERROR(C144/$N144),IF(C144=\"MC\", \"\",0), C144/$N144)","v":""},"","","","","","","","","","",{"$f":"SUM(B156:M156)","v":0}]
["Graduated with regular high school diploma",{"$f":"IF(ISERROR(B145/$N145),IF(B145=\"MC\", \"\",0), B145/$N145)","v":""},"","","","","","","","","","","",{"$f":"SUM(B157:M157)","v":0}]
["Graduated with an alternate diploma","","","","","","","","","","","","",{"$f":"SUM(B158:M158)","v":0}]
["Received a certificate",{"$f":"IF(ISERROR(B147/$N147),IF(B147=\"MC\", \"\",0), B147/$N147)","v":""},"","","","","","","","","","","",0]
["Reached maximum age",{"$f":"IF(ISERROR(B148/$N148),IF(B148=\"MC\", \"\",0), B148/$N148)","v":""},"","","","","","","","","","","",0]
["Died",{"$f":"IF(ISERROR(B149/$N149),IF(B149=\"MC\", \"\",0), B149/$N149)","v":""},"","","","","","","","","","","",0]
["Moved, known to be continuing",{"$f":"IF(ISERROR(B150/$N150),IF(B150=\"MC\", \"\",0), B150/$N150)","v":""},"","","","","","","","","","","",0]
["Dropped out",{"$f":"IF(ISERROR(B151/$N151),IF(B151=\"MC\", \"\",0), B151/$N151)","v":""},"","","","","","","","","","","",0]
["Total",{"$f":"IFERROR(IF($N152<>0,B152/$N152,0),\"\")","v":""},"","","","","","","","","","","",0]
[]
["Category Set A – Children with disabilities (IDEA) exiting special education, by age, disability category, and basis of exit"]
["Student count by basis of exit ","Age 20",null,null,null,null,null,null,null,null,null,null,null,null,null,null,"Age 20 Lookup",null,null,null,null,null,null,null,null,null,null,null,null,"Student counts by basis of exit","Age 20"]
[null,"Intellectual\ndisability","Hearing\nimpairment","Speech or\nlanguage\nimpairment","Visual\nimpairment","Emotional\ndisturbance","Orthopedic\nimpairment","Other\nhealth\nimpairment","Specific\nlearning\ndisability","Deaf-\nblindness","Multiple\ndisabilities","Autism","Traumatic\nbrain\ninjury","Total",null,null,null,null,null,null,null,null,null,null,null,null,null,null,null,null,"Intellectual\nDisability","Hearing\nImpairments","Speech or\nLanguage\nImpairments","Visual\nImpairments","Emotional\nDisturbance","Orthopedic\nImpairments","Other\nHealth\nImpairments","Specific\nLearning\nDisabilities","Deaf-\nBlindness","Multiple\nDisabilities","Autism","Traumatic\nBrain\nInjury","Total"]
["Transferred to regular education",{"$f":"IFERROR(HYPERLINK(\"#'Exiting (FS009)'!\"&ADDRESS(ROW(INDEX(CurrentListing,MATCH('Category Set A by Age'!Q169,CurrentListing,0),1)),25),AE169),HYPERLINK(\"#'Exiting (FS009)'!\"&\"$AA$10\",AE169))","v":"MC"},{"$f":"IFERROR(HYPERLINK(\"#'Exiting (FS009)'!\"&ADDRESS(ROW(INDEX(CurrentListing,MATCH('Category Set A by Age'!R169,CurrentListing,0),1)),25),AF169),HYPERLINK(\"#'Exiting (FS009)'!\"&\"$AA$10\",AF169))","v":"MC"},{"$f":"IFERROR(HYPERLINK(\"#'Exiting (FS009)'!\"&ADDRESS(ROW(INDEX(CurrentListing,MATCH('Category Set A by Age'!S169,CurrentListing,0),1)),25),AG169),HYPERLINK(\"#'Exiting (FS009)'!\"&\"$AA$10\",AG169))","v":"MC"},{"$f":"IFERROR(HYPERLINK(\"#'Exiting (FS009)'!\"&ADDRESS(ROW(INDEX(CurrentListing,MATCH('Category Set A by Age'!T169,CurrentListing,0),1)),25),AH169),HYPERLINK(\"#'Exiting (FS009)'!\"&\"$AA$10\",AH169))","v":"MC"},{"$f":"IFERROR(HYPERLINK(\"#'Exiting (FS009)'!\"&ADDRESS(ROW(INDEX(CurrentListing,MATCH('Category Set A by Age'!U169,CurrentListing,0),1)),25),AI169),HYPERLINK(\"#'Exiting (FS009)'!\"&\"$AA$10\",AI169))","v":"MC"},{"$f":"IFERROR(HYPERLINK(\"#'Exiting (FS009)'!\"&ADDRESS(ROW(INDEX(CurrentListing,MATCH('Category Set A by Age'!V169,CurrentListing,0),1)),25),AJ169),HYPERLINK(\"#'Exiting (FS009)'!\"&\"$AA$10\",AJ169))","v":"MC"},{"$f":"IFERROR(HYPERLINK(\"#'Exiting (FS009)'!\"&ADDRESS(ROW(INDEX(CurrentListing,MATCH('Category Set A by Age'!W169,CurrentListing,0),1)),25),AK169),HYPERLINK(\"#'Exiting (FS009)'!\"&\"$AA$10\",AK169))","v":"MC"},{"$f":"IFERROR(HYPERLINK(\"#'Exiting (FS009)'!\"&ADDRESS(ROW(INDEX(CurrentListing,MATCH('Category Set A by Age'!X169,CurrentListing,0),1)),25),AL169),HYPERLINK(\"#'Exiting (FS009)'!\"&\"$AA$10\",AL169))","v":"MC"},{"$f":"IFERROR(HYPERLINK(\"#'Exiting (FS009)'!\"&ADDRESS(ROW(INDEX(CurrentListing,MATCH('Category Set A by Age'!Y169,CurrentListing,0),1)),25),AM169),HYPERLINK(\"#'Exiting (FS009)'!\"&\"$AA$10\",AM169))","v":"MC"},{"$f":"IFERROR(HYPERLINK(\"#'Exiting (FS009)'!\"&ADDRESS(ROW(INDEX(CurrentListing,MATCH('Category Set A by Age'!Z169,CurrentListing,0),1)),25),AN169),HYPERLINK(\"#'Exiting (FS009)'!\"&\"$AA$10\",AN169))","v":"MC"},{"$f":"IFERROR(HYPERLINK(\"#'Exiting (FS009)'!\"&ADDRESS(ROW(INDEX(CurrentListing,MATCH('Category Set A by Age'!AA169,CurrentListing,0),1)),25),AO169),HYPERLINK(\"#'Exiting (FS009)'!\"&\"$AA$10\",AO169))","v":"MC"},{"$f":"IFERROR(HYPERLINK(\"#'Exiting (FS009)'!\"&ADDRESS(ROW(INDEX(CurrentListing,MATCH('Category Set A by Age'!AB169,CurrentListing,0),1)),25),AP169),HYPERLINK(\"#'Exiting (FS009)'!\"&\"$AA$10\",AP169))","v":"MC"},{"$f":"SUM(B169:M169)","v":0},null,null,"ID20TRANN","HI20TRANN","SLI20TRANN","VI20TRANN","EMN20TRANN","OI20TRANN","OHI20TRANN","SLD20TRANN","DB20TRANN","MD20TRANN","AUT20TRANN","TBI20TRANN",null,"Transferred to regular education",{"$f":"IFERROR(IF(INDEX(StudCntC009,MATCH(Q169,CurrentListing,0))=\"\",\"No Data\",INDEX(StudCntC009,MATCH(Q169,CurrentListing,0))),\"MC\")","v":"MC"},"MC","MC","MC","MC","MC","MC","MC","MC","MC","MC","MC",{"$f":"SUM(AE169:AP169)","v":0}]
["Graduated with regular high school diploma",{"$f":"IFERROR(HYPERLINK(\"#'Exiting (FS009)'!\"&ADDRESS(ROW(INDEX(CurrentListing,MATCH('Category Set A by Age'!Q170,CurrentListing,0),1)),25),AE170),HYPERLINK(\"#'Exiting (FS009)'!\"&\"$AA$10\",AE170))","v":"MC"},{"$f":"IFERROR(HYPERLINK(\"#'Exiting (FS009)'!\"&ADDRESS(ROW(INDEX(CurrentListing,MATCH('Category Set A by Age'!R170,CurrentListing,0),1)),25),AF170),HYPERLINK(\"#'Exiting (FS009)'!\"&\"$AA$10\",AF170))","v":"MC"},{"$f":"IFERROR(HYPERLINK(\"#'Exiting (FS009)'!\"&ADDRESS(ROW(INDEX(CurrentListing,MATCH('Category Set A by Age'!S170,CurrentListing,0),1)),25),AG170),HYPERLINK(\"#'Exiting (FS009)'!\"&\"$AA$10\",AG170))","v":"MC"},{"$f":"IFERROR(HYPERLINK(\"#'Exiting (FS009)'!\"&ADDRESS(ROW(INDEX(CurrentListing,MATCH('Category Set A by Age'!T170,CurrentListing,0),1)),25),AH170),HYPERLINK(\"#'Exiting (FS009)'!\"&\"$AA$10\",AH170))","v":"MC"},{"$f":"IFERROR(HYPERLINK(\"#'Exiting (FS009)'!\"&ADDRESS(ROW(INDEX(CurrentListing,MATCH('Category Set A by Age'!U170,CurrentListing,0),1)),25),AI170),HYPERLINK(\"#'Exiting (FS009)'!\"&\"$AA$10\",AI170))","v":"MC"},{"$f":"IFERROR(HYPERLINK(\"#'Exiting (FS009)'!\"&ADDRESS(ROW(INDEX(CurrentListing,MATCH('Category Set A by Age'!V170,CurrentListing,0),1)),25),AJ170),HYPERLINK(\"#'Exiting (FS009)'!\"&\"$AA$10\",AJ170))","v":"MC"},{"$f":"IFERROR(HYPERLINK(\"#'Exiting (FS009)'!\"&ADDRESS(ROW(INDEX(CurrentListing,MATCH('Category Set A by Age'!W170,CurrentListing,0),1)),25),AK170),HYPERLINK(\"#'Exiting (FS009)'!\"&\"$AA$10\",AK170))","v":"MC"},{"$f":"IFERROR(HYPERLINK(\"#'Exiting (FS009)'!\"&ADDRESS(ROW(INDEX(CurrentListing,MATCH('Category Set A by Age'!X170,CurrentListing,0),1)),25),AL170),HYPERLINK(\"#'Exiting (FS009)'!\"&\"$AA$10\",AL170))","v":"MC"},{"$f":"IFERROR(HYPERLINK(\"#'Exiting (FS009)'!\"&ADDRESS(ROW(INDEX(CurrentListing,MATCH('Category Set A by Age'!Y170,CurrentListing,0),1)),25),AM170),HYPERLINK(\"#'Exiting (FS009)'!\"&\"$AA$10\",AM170))","v":"MC"},{"$f":"IFERROR(HYPERLINK(\"#'Exiting (FS009)'!\"&ADDRESS(ROW(INDEX(CurrentListing,MATCH('Category Set A by Age'!Z170,CurrentListing,0),1)),25),AN170),HYPERLINK(\"#'Exiting (FS009)'!\"&\"$AA$10\",AN170))","v":"MC"},{"$f":"IFERROR(HYPERLINK(\"#'Exiting (FS009)'!\"&ADDRESS(ROW(INDEX(CurrentListing,MATCH('Category Set A by Age'!AA170,CurrentListing,0),1)),25),AO170),HYPERLINK(\"#'Exiting (FS009)'!\"&\"$AA$10\",AO170))","v":"MC"},{"$f":"IFERROR(HYPERLINK(\"#'Exiting (FS009)'!\"&ADDRESS(ROW(INDEX(CurrentListing,MATCH('Category Set A by Age'!AB170,CurrentListing,0),1)),25),AP170),HYPERLINK(\"#'Exiting (FS009)'!\"&\"$AA$10\",AP170))","v":"MC"},{"$f":"SUM(B170:M170)","v":0},null,null,"ID20GHSN","HI20GHSN","SLI20GHSN","VI20GHSN","EMN20GHSN","OI20GHSN","OHI20GHSN","SLD20GHSN","DB20GHSN","MD20GHSN","AUT20GHSN","TBI20GHSN",null,"Graduated with regular high school diploma","MC","MC","MC","MC","MC","MC","MC","MC","MC","MC","MC","MC",0]
["Graduated with an alternate diploma",{"$f":"IFERROR(HYPERLINK(\"#'Exiting (FS009)'!\"&ADDRESS(ROW(INDEX(CurrentListing,MATCH('Category Set A by Age'!Q171,CurrentListing,0),1)),25),AE171),HYPERLINK(\"#'Exiting (FS009)'!\"&\"$AA$10\",AE171))","v":"MC"},{"$f":"IFERROR(HYPERLINK(\"#'Exiting (FS009)'!\"&ADDRESS(ROW(INDEX(CurrentListing,MATCH('Category Set A by Age'!R171,CurrentListing,0),1)),25),AF171),HYPERLINK(\"#'Exiting (FS009)'!\"&\"$AA$10\",AF171))","v":"MC"},{"$f":"IFERROR(HYPERLINK(\"#'Exiting (FS009)'!\"&ADDRESS(ROW(INDEX(CurrentListing,MATCH('Category Set A by Age'!S171,CurrentListing,0),1)),25),AG171),HYPERLINK(\"#'Exiting (FS009)'!\"&\"$AA$10\",AG171))","v":"MC"},{"$f":"IFERROR(HYPERLINK(\"#'Exiting (FS009)'!\"&ADDRESS(ROW(INDEX(CurrentListing,MATCH('Category Set A by Age'!T171,CurrentListing,0),1)),25),AH171),HYPERLINK(\"#'Exiting (FS009)'!\"&\"$AA$10\",AH171))","v":"MC"},{"$f":"IFERROR(HYPERLINK(\"#'Exiting (FS009)'!\"&ADDRESS(ROW(INDEX(CurrentListing,MATCH('Category Set A by Age'!U171,CurrentListing,0),1)),25),AI171),HYPERLINK(\"#'Exiting (FS009)'!\"&\"$AA$10\",AI171))","v":"MC"},{"$f":"IFERROR(HYPERLINK(\"#'Exiting (FS009)'!\"&ADDRESS(ROW(INDEX(CurrentListing,MATCH('Category Set A by Age'!V171,CurrentListing,0),1)),25),AJ171),HYPERLINK(\"#'Exiting (FS009)'!\"&\"$AA$10\",AJ171))","v":"MC"},{"$f":"IFERROR(HYPERLINK(\"#'Exiting (FS009)'!\"&ADDRESS(ROW(INDEX(CurrentListing,MATCH('Category Set A by Age'!W171,CurrentListing,0),1)),25),AK171),HYPERLINK(\"#'Exiting (FS009)'!\"&\"$AA$10\",AK171))","v":"MC"},{"$f":"IFERROR(HYPERLINK(\"#'Exiting (FS009)'!\"&ADDRESS(ROW(INDEX(CurrentListing,MATCH('Category Set A by Age'!X171,CurrentListing,0),1)),25),AL171),HYPERLINK(\"#'Exiting (FS009)'!\"&\"$AA$10\",AL171))","v":"MC"},{"$f":"IFERROR(HYPERLINK(\"#'Exiting (FS009)'!\"&ADDRESS(ROW(INDEX(CurrentListing,MATCH('Category Set A by Age'!Y171,CurrentListing,0),1)),25),AM171),HYPERLINK(\"#'Exiting (FS009)'!\"&\"$AA$10\",AM171))","v":"MC"},{"$f":"IFERROR(HYPERLINK(\"#'Exiting (FS009)'!\"&ADDRESS(ROW(INDEX(CurrentListing,MATCH('Category Set A by Age'!Z171,CurrentListing,0),1)),25),AN171),HYPERLINK(\"#'Exiting (FS009)'!\"&\"$AA$10\",AN171))","v":"MC"},{"$f":"IFERROR(HYPERLINK(\"#'Exiting (FS009)'!\"&ADDRESS(ROW(INDEX(CurrentListing,MATCH('Category Set A by Age'!AA171,CurrentListing,0),1)),25),AO171),HYPERLINK(\"#'Exiting (FS009)'!\"&\"$AA$10\",AO171))","v":"MC"},{"$f":"IFERROR(HYPERLINK(\"#'Exiting (FS009)'!\"&ADDRESS(ROW(INDEX(CurrentListing,MATCH('Category Set A by Age'!AB171,CurrentListing,0),1)),25),AP171),HYPERLINK(\"#'Exiting (FS009)'!\"&\"$AA$10\",AP171))","v":"MC"},0,null,null,"ID20GRADALTDPLN","HI20GRADALTDPLN","SLI20GRADALTDPLN","VI20GRADALTDPLN","EMN20GRADALTDPLN","OI20GRADALTDPLN","OHI20GRADALTDPLN","SLD20GRADALTDPLN","DB20GRADALTDPLN","MD20GRADALTDPLN","AUT20GRADALTDPLN","TBI20GRADALTDPLN",null,"Graduated with an alternate diploma",{"$f":"IFERROR(IF(INDEX(StudCntC009,MATCH(Q171,CurrentListing,0))=\"\",\"No Data\",INDEX(StudCntC009,MATCH(Q171,CurrentListing,0))),\"MC\")","v":"MC"},"MC","MC","MC","MC","MC","MC","MC","MC","MC","MC","MC",0]
["Received a certificate",{"$f":"IFERROR(HYPERLINK(\"#'Exiting (FS009)'!\"&ADDRESS(ROW(INDEX(CurrentListing,MATCH('Category Set A by Age'!Q172,CurrentListing,0),1)),25),AE172),HYPERLINK(\"#'Exiting (FS009)'!\"&\"$AA$10\",AE172))","v":"MC"},{"$f":"IFERROR(HYPERLINK(\"#'Exiting (FS009)'!\"&ADDRESS(ROW(INDEX(CurrentListing,MATCH('Category Set A by Age'!R172,CurrentListing,0),1)),25),AF172),HYPERLINK(\"#'Exiting (FS009)'!\"&\"$AA$10\",AF172))","v":"MC"},{"$f":"IFERROR(HYPERLINK(\"#'Exiting (FS009)'!\"&ADDRESS(ROW(INDEX(CurrentListing,MATCH('Category Set A by Age'!S172,CurrentListing,0),1)),25),AG172),HYPERLINK(\"#'Exiting (FS009)'!\"&\"$AA$10\",AG172))","v":"MC"},{"$f":"IFERROR(HYPERLINK(\"#'Exiting (FS009)'!\"&ADDRESS(ROW(INDEX(CurrentListing,MATCH('Category Set A by Age'!T172,CurrentListing,0),1)),25),AH172),HYPERLINK(\"#'Exiting (FS009)'!\"&\"$AA$10\",AH172))","v":"MC"},{"$f":"IFERROR(HYPERLINK(\"#'Exiting (FS009)'!\"&ADDRESS(ROW(INDEX(CurrentListing,MATCH('Category Set A by Age'!U172,CurrentListing,0),1)),25),AI172),HYPERLINK(\"#'Exiting (FS009)'!\"&\"$AA$10\",AI172))","v":"MC"},{"$f":"IFERROR(HYPERLINK(\"#'Exiting (FS009)'!\"&ADDRESS(ROW(INDEX(CurrentListing,MATCH('Category Set A by Age'!V172,CurrentListing,0),1)),25),AJ172),HYPERLINK(\"#'Exiting (FS009)'!\"&\"$AA$10\",AJ172))","v":"MC"},{"$f":"IFERROR(HYPERLINK(\"#'Exiting (FS009)'!\"&ADDRESS(ROW(INDEX(CurrentListing,MATCH('Category Set A by Age'!W172,CurrentListing,0),1)),25),AK172),HYPERLINK(\"#'Exiting (FS009)'!\"&\"$AA$10\",AK172))","v":"MC"},{"$f":"IFERROR(HYPERLINK(\"#'Exiting (FS009)'!\"&ADDRESS(ROW(INDEX(CurrentListing,MATCH('Category Set A by Age'!X172,CurrentListing,0),1)),25),AL172),HYPERLINK(\"#'Exiting (FS009)'!\"&\"$AA$10\",AL172))","v":"MC"},{"$f":"IFERROR(HYPERLINK(\"#'Exiting (FS009)'!\"&ADDRESS(ROW(INDEX(CurrentListing,MATCH('Category Set A by Age'!Y172,CurrentListing,0),1)),25),AM172),HYPERLINK(\"#'Exiting (FS009)'!\"&\"$AA$10\",AM172))","v":"MC"},{"$f":"IFERROR(HYPERLINK(\"#'Exiting (FS009)'!\"&ADDRESS(ROW(INDEX(CurrentListing,MATCH('Category Set A by Age'!Z172,CurrentListing,0),1)),25),AN172),HYPERLINK(\"#'Exiting (FS009)'!\"&\"$AA$10\",AN172))","v":"MC"},{"$f":"IFERROR(HYPERLINK(\"#'Exiting (FS009)'!\"&ADDRESS(ROW(INDEX(CurrentListing,MATCH('Category Set A by Age'!AA172,CurrentListing,0),1)),25),AO172),HYPERLINK(\"#'Exiting (FS009)'!\"&\"$AA$10\",AO172))","v":"MC"},{"$f":"IFERROR(HYPERLINK(\"#'Exiting (FS009)'!\"&ADDRESS(ROW(INDEX(CurrentListing,MATCH('Category Set A by Age'!AB172,CurrentListing,0),1)),25),AP172),HYPERLINK(\"#'Exiting (FS009)'!\"&\"$AA$10\",AP172))","v":"MC"},0,null,null,"ID20RCN","HI20RCN","SLI20RCN","VI20RCN","EMN20RCN","OI20RCN","OHI20RCN","SLD20RCN","DB20RCN","MD20RCN","AUT20RCN","TBI20RCN",null,"Received a certificate","MC","MC","MC","MC","MC","MC","MC","MC","MC","MC","MC","MC",0]
["Reached maximum age",{"$f":"IFERROR(HYPERLINK(\"#'Exiting (FS009)'!\"&ADDRESS(ROW(INDEX(CurrentListing,MATCH('Category Set A by Age'!Q173,CurrentListing,0),1)),25),AE173),HYPERLINK(\"#'Exiting (FS009)'!\"&\"$AA$10\",AE173))","v":"MC"},{"$f":"IFERROR(HYPERLINK(\"#'Exiting (FS009)'!\"&ADDRESS(ROW(INDEX(CurrentListing,MATCH('Category Set A by Age'!R173,CurrentListing,0),1)),25),AF173),HYPERLINK(\"#'Exiting (FS009)'!\"&\"$AA$10\",AF173))","v":"MC"},{"$f":"IFERROR(HYPERLINK(\"#'Exiting (FS009)'!\"&ADDRESS(ROW(INDEX(CurrentListing,MATCH('Category Set A by Age'!S173,CurrentListing,0),1)),25),AG173),HYPERLINK(\"#'Exiting (FS009)'!\"&\"$AA$10\",AG173))","v":"MC"},{"$f":"IFERROR(HYPERLINK(\"#'Exiting (FS009)'!\"&ADDRESS(ROW(INDEX(CurrentListing,MATCH('Category Set A by Age'!T173,CurrentListing,0),1)),25),AH173),HYPERLINK(\"#'Exiting (FS009)'!\"&\"$AA$10\",AH173))","v":"MC"},{"$f":"IFERROR(HYPERLINK(\"#'Exiting (FS009)'!\"&ADDRESS(ROW(INDEX(CurrentListing,MATCH('Category Set A by Age'!U173,CurrentListing,0),1)),25),AI173),HYPERLINK(\"#'Exiting (FS009)'!\"&\"$AA$10\",AI173))","v":"MC"},{"$f":"IFERROR(HYPERLINK(\"#'Exiting (FS009)'!\"&ADDRESS(ROW(INDEX(CurrentListing,MATCH('Category Set A by Age'!V173,CurrentListing,0),1)),25),AJ173),HYPERLINK(\"#'Exiting (FS009)'!\"&\"$AA$10\",AJ173))","v":"MC"},{"$f":"IFERROR(HYPERLINK(\"#'Exiting (FS009)'!\"&ADDRESS(ROW(INDEX(CurrentListing,MATCH('Category Set A by Age'!W173,CurrentListing,0),1)),25),AK173),HYPERLINK(\"#'Exiting (FS009)'!\"&\"$AA$10\",AK173))","v":"MC"},{"$f":"IFERROR(HYPERLINK(\"#'Exiting (FS009)'!\"&ADDRESS(ROW(INDEX(CurrentListing,MATCH('Category Set A by Age'!X173,CurrentListing,0),1)),25),AL173),HYPERLINK(\"#'Exiting (FS009)'!\"&\"$AA$10\",AL173))","v":"MC"},{"$f":"IFERROR(HYPERLINK(\"#'Exiting (FS009)'!\"&ADDRESS(ROW(INDEX(CurrentListing,MATCH('Category Set A by Age'!Y173,CurrentListing,0),1)),25),AM173),HYPERLINK(\"#'Exiting (FS009)'!\"&\"$AA$10\",AM173))","v":"MC"},{"$f":"IFERROR(HYPERLINK(\"#'Exiting (FS009)'!\"&ADDRESS(ROW(INDEX(CurrentListing,MATCH('Category Set A by Age'!Z173,CurrentListing,0),1)),25),AN173),HYPERLINK(\"#'Exiting (FS009)'!\"&\"$AA$10\",AN173))","v":"MC"},{"$f":"IFERROR(HYPERLINK(\"#'Exiting (FS009)'!\"&ADDRESS(ROW(INDEX(CurrentListing,MATCH('Category Set A by Age'!AA173,CurrentListing,0),1)),25),AO173),HYPERLINK(\"#'Exiting (FS009)'!\"&\"$AA$10\",AO173))","v":"MC"},{"$f":"IFERROR(HYPERLINK(\"#'Exiting (FS009)'!\"&ADDRESS(ROW(INDEX(CurrentListing,MATCH('Category Set A by Age'!AB173,CurrentListing,0),1)),25),AP173),HYPERLINK(\"#'Exiting (FS009)'!\"&\"$AA$10\",AP173))","v":"MC"},0,null,null,"ID20RMAN","HI20RMAN","SLI20RMAN","VI20RMAN","EMN20RMAN","OI20RMAN","OHI20RMAN","SLD20RMAN","DB20RMAN","MD20RMAN","AUT20RMAN","TBI20RMAN",null,"Reached maximum age","MC","MC","MC","MC","MC","MC","MC","MC","MC","MC","MC","MC",0]
["Died",{"$f":"IFERROR(HYPERLINK(\"#'Exiting (FS009)'!\"&ADDRESS(ROW(INDEX(CurrentListing,MATCH('Category Set A by Age'!Q174,CurrentListing,0),1)),25),AE174),HYPERLINK(\"#'Exiting (FS009)'!\"&\"$AA$10\",AE174))","v":"MC"},{"$f":"IFERROR(HYPERLINK(\"#'Exiting (FS009)'!\"&ADDRESS(ROW(INDEX(CurrentListing,MATCH('Category Set A by Age'!R174,CurrentListing,0),1)),25),AF174),HYPERLINK(\"#'Exiting (FS009)'!\"&\"$AA$10\",AF174))","v":"MC"},{"$f":"IFERROR(HYPERLINK(\"#'Exiting (FS009)'!\"&ADDRESS(ROW(INDEX(CurrentListing,MATCH('Category Set A by Age'!S174,CurrentListing,0),1)),25),AG174),HYPERLINK(\"#'Exiting (FS009)'!\"&\"$AA$10\",AG174))","v":"MC"},{"$f":"IFERROR(HYPERLINK(\"#'Exiting (FS009)'!\"&ADDRESS(ROW(INDEX(CurrentListing,MATCH('Category Set A by Age'!T174,CurrentListing,0),1)),25),AH174),HYPERLINK(\"#'Exiting (FS009)'!\"&\"$AA$10\",AH174))","v":"MC"},{"$f":"IFERROR(HYPERLINK(\"#'Exiting (FS009)'!\"&ADDRESS(ROW(INDEX(CurrentListing,MATCH('Category Set A by Age'!U174,CurrentListing,0),1)),25),AI174),HYPERLINK(\"#'Exiting (FS009)'!\"&\"$AA$10\",AI174))","v":"MC"},{"$f":"IFERROR(HYPERLINK(\"#'Exiting (FS009)'!\"&ADDRESS(ROW(INDEX(CurrentListing,MATCH('Category Set A by Age'!V174,CurrentListing,0),1)),25),AJ174),HYPERLINK(\"#'Exiting (FS009)'!\"&\"$AA$10\",AJ174))","v":"MC"},{"$f":"IFERROR(HYPERLINK(\"#'Exiting (FS009)'!\"&ADDRESS(ROW(INDEX(CurrentListing,MATCH('Category Set A by Age'!W174,CurrentListing,0),1)),25),AK174),HYPERLINK(\"#'Exiting (FS009)'!\"&\"$AA$10\",AK174))","v":"MC"},{"$f":"IFERROR(HYPERLINK(\"#'Exiting (FS009)'!\"&ADDRESS(ROW(INDEX(CurrentListing,MATCH('Category Set A by Age'!X174,CurrentListing,0),1)),25),AL174),HYPERLINK(\"#'Exiting (FS009)'!\"&\"$AA$10\",AL174))","v":"MC"},{"$f":"IFERROR(HYPERLINK(\"#'Exiting (FS009)'!\"&ADDRESS(ROW(INDEX(CurrentListing,MATCH('Category Set A by Age'!Y174,CurrentListing,0),1)),25),AM174),HYPERLINK(\"#'Exiting (FS009)'!\"&\"$AA$10\",AM174))","v":"MC"},{"$f":"IFERROR(HYPERLINK(\"#'Exiting (FS009)'!\"&ADDRESS(ROW(INDEX(CurrentListing,MATCH('Category Set A by Age'!Z174,CurrentListing,0),1)),25),AN174),HYPERLINK(\"#'Exiting (FS009)'!\"&\"$AA$10\",AN174))","v":"MC"},{"$f":"IFERROR(HYPERLINK(\"#'Exiting (FS009)'!\"&ADDRESS(ROW(INDEX(CurrentListing,MATCH('Category Set A by Age'!AA174,CurrentListing,0),1)),25),AO174),HYPERLINK(\"#'Exiting (FS009)'!\"&\"$AA$10\",AO174))","v":"MC"},{"$f":"IFERROR(HYPERLINK(\"#'Exiting (FS009)'!\"&ADDRESS(ROW(INDEX(CurrentListing,MATCH('Category Set A by Age'!AB174,CurrentListing,0),1)),25),AP174),HYPERLINK(\"#'Exiting (FS009)'!\"&\"$AA$10\",AP174))","v":"MC"},0,null,null,"ID20DN","HI20DN","SLI20DN","VI20DN","EMN20DN","OI20DN","OHI20DN","SLD20DN","DB20DN","MD20DN","AUT20DN","TBI20DN",null,"Died","MC","MC","MC","MC","MC","MC","MC","MC","MC","MC","MC","MC",0]
["Moved, known to be continuing",{"$f":"IFERROR(HYPERLINK(\"#'Exiting (FS009)'!\"&ADDRESS(ROW(INDEX(CurrentListing,MATCH('Category Set A by Age'!Q175,CurrentListing,0),1)),25),AE175),HYPERLINK(\"#'Exiting (FS009)'!\"&\"$AA$10\",AE175))","v":"MC"},{"$f":"IFERROR(HYPERLINK(\"#'Exiting (FS009)'!\"&ADDRESS(ROW(INDEX(CurrentListing,MATCH('Category Set A by Age'!R175,CurrentListing,0),1)),25),AF175),HYPERLINK(\"#'Exiting (FS009)'!\"&\"$AA$10\",AF175))","v":"MC"},{"$f":"IFERROR(HYPERLINK(\"#'Exiting (FS009)'!\"&ADDRESS(ROW(INDEX(CurrentListing,MATCH('Category Set A by Age'!S175,CurrentListing,0),1)),25),AG175),HYPERLINK(\"#'Exiting (FS009)'!\"&\"$AA$10\",AG175))","v":"MC"},{"$f":"IFERROR(HYPERLINK(\"#'Exiting (FS009)'!\"&ADDRESS(ROW(INDEX(CurrentListing,MATCH('Category Set A by Age'!T175,CurrentListing,0),1)),25),AH175),HYPERLINK(\"#'Exiting (FS009)'!\"&\"$AA$10\",AH175))","v":"MC"},{"$f":"IFERROR(HYPERLINK(\"#'Exiting (FS009)'!\"&ADDRESS(ROW(INDEX(CurrentListing,MATCH('Category Set A by Age'!U175,CurrentListing,0),1)),25),AI175),HYPERLINK(\"#'Exiting (FS009)'!\"&\"$AA$10\",AI175))","v":"MC"},{"$f":"IFERROR(HYPERLINK(\"#'Exiting (FS009)'!\"&ADDRESS(ROW(INDEX(CurrentListing,MATCH('Category Set A by Age'!V175,CurrentListing,0),1)),25),AJ175),HYPERLINK(\"#'Exiting (FS009)'!\"&\"$AA$10\",AJ175))","v":"MC"},{"$f":"IFERROR(HYPERLINK(\"#'Exiting (FS009)'!\"&ADDRESS(ROW(INDEX(CurrentListing,MATCH('Category Set A by Age'!W175,CurrentListing,0),1)),25),AK175),HYPERLINK(\"#'Exiting (FS009)'!\"&\"$AA$10\",AK175))","v":"MC"},{"$f":"IFERROR(HYPERLINK(\"#'Exiting (FS009)'!\"&ADDRESS(ROW(INDEX(CurrentListing,MATCH('Category Set A by Age'!X175,CurrentListing,0),1)),25),AL175),HYPERLINK(\"#'Exiting (FS009)'!\"&\"$AA$10\",AL175))","v":"MC"},{"$f":"IFERROR(HYPERLINK(\"#'Exiting (FS009)'!\"&ADDRESS(ROW(INDEX(CurrentListing,MATCH('Category Set A by Age'!Y175,CurrentListing,0),1)),25),AM175),HYPERLINK(\"#'Exiting (FS009)'!\"&\"$AA$10\",AM175))","v":"MC"},{"$f":"IFERROR(HYPERLINK(\"#'Exiting (FS009)'!\"&ADDRESS(ROW(INDEX(CurrentListing,MATCH('Category Set A by Age'!Z175,CurrentListing,0),1)),25),AN175),HYPERLINK(\"#'Exiting (FS009)'!\"&\"$AA$10\",AN175))","v":"MC"},{"$f":"IFERROR(HYPERLINK(\"#'Exiting (FS009)'!\"&ADDRESS(ROW(INDEX(CurrentListing,MATCH('Category Set A by Age'!AA175,CurrentListing,0),1)),25),AO175),HYPERLINK(\"#'Exiting (FS009)'!\"&\"$AA$10\",AO175))","v":"MC"},{"$f":"IFERROR(HYPERLINK(\"#'Exiting (FS009)'!\"&ADDRESS(ROW(INDEX(CurrentListing,MATCH('Category Set A by Age'!AB175,CurrentListing,0),1)),25),AP175),HYPERLINK(\"#'Exiting (FS009)'!\"&\"$AA$10\",AP175))","v":"MC"},0,null,null,"ID20MKCN","HI20MKCN","SLI20MKCN","VI20MKCN","EMN20MKCN","OI20MKCN","OHI20MKCN","SLD20MKCN","DB20MKCN","MD20MKCN","AUT20MKCN","TBI20MKCN",null,"Moved, known to be continuing","MC","MC","MC","MC","MC","MC","MC","MC","MC","MC","MC","MC",0]
["Dropped out",{"$f":"IFERROR(HYPERLINK(\"#'Exiting (FS009)'!\"&ADDRESS(ROW(INDEX(CurrentListing,MATCH('Category Set A by Age'!Q176,CurrentListing,0),1)),25),AE176),HYPERLINK(\"#'Exiting (FS009)'!\"&\"$AA$10\",AE176))","v":"MC"},{"$f":"IFERROR(HYPERLINK(\"#'Exiting (FS009)'!\"&ADDRESS(ROW(INDEX(CurrentListing,MATCH('Category Set A by Age'!R176,CurrentListing,0),1)),25),AF176),HYPERLINK(\"#'Exiting (FS009)'!\"&\"$AA$10\",AF176))","v":"MC"},{"$f":"IFERROR(HYPERLINK(\"#'Exiting (FS009)'!\"&ADDRESS(ROW(INDEX(CurrentListing,MATCH('Category Set A by Age'!S176,CurrentListing,0),1)),25),AG176),HYPERLINK(\"#'Exiting (FS009)'!\"&\"$AA$10\",AG176))","v":"MC"},{"$f":"IFERROR(HYPERLINK(\"#'Exiting (FS009)'!\"&ADDRESS(ROW(INDEX(CurrentListing,MATCH('Category Set A by Age'!T176,CurrentListing,0),1)),25),AH176),HYPERLINK(\"#'Exiting (FS009)'!\"&\"$AA$10\",AH176))","v":"MC"},{"$f":"IFERROR(HYPERLINK(\"#'Exiting (FS009)'!\"&ADDRESS(ROW(INDEX(CurrentListing,MATCH('Category Set A by Age'!U176,CurrentListing,0),1)),25),AI176),HYPERLINK(\"#'Exiting (FS009)'!\"&\"$AA$10\",AI176))","v":"MC"},{"$f":"IFERROR(HYPERLINK(\"#'Exiting (FS009)'!\"&ADDRESS(ROW(INDEX(CurrentListing,MATCH('Category Set A by Age'!V176,CurrentListing,0),1)),25),AJ176),HYPERLINK(\"#'Exiting (FS009)'!\"&\"$AA$10\",AJ176))","v":"MC"},{"$f":"IFERROR(HYPERLINK(\"#'Exiting (FS009)'!\"&ADDRESS(ROW(INDEX(CurrentListing,MATCH('Category Set A by Age'!W176,CurrentListing,0),1)),25),AK176),HYPERLINK(\"#'Exiting (FS009)'!\"&\"$AA$10\",AK176))","v":"MC"},{"$f":"IFERROR(HYPERLINK(\"#'Exiting (FS009)'!\"&ADDRESS(ROW(INDEX(CurrentListing,MATCH('Category Set A by Age'!X176,CurrentListing,0),1)),25),AL176),HYPERLINK(\"#'Exiting (FS009)'!\"&\"$AA$10\",AL176))","v":"MC"},{"$f":"IFERROR(HYPERLINK(\"#'Exiting (FS009)'!\"&ADDRESS(ROW(INDEX(CurrentListing,MATCH('Category Set A by Age'!Y176,CurrentListing,0),1)),25),AM176),HYPERLINK(\"#'Exiting (FS009)'!\"&\"$AA$10\",AM176))","v":"MC"},{"$f":"IFERROR(HYPERLINK(\"#'Exiting (FS009)'!\"&ADDRESS(ROW(INDEX(CurrentListing,MATCH('Category Set A by Age'!Z176,CurrentListing,0),1)),25),AN176),HYPERLINK(\"#'Exiting (FS009)'!\"&\"$AA$10\",AN176))","v":"MC"},{"$f":"IFERROR(HYPERLINK(\"#'Exiting (FS009)'!\"&ADDRESS(ROW(INDEX(CurrentListing,MATCH('Category Set A by Age'!AA176,CurrentListing,0),1)),25),AO176),HYPERLINK(\"#'Exiting (FS009)'!\"&\"$AA$10\",AO176))","v":"MC"},{"$f":"IFERROR(HYPERLINK(\"#'Exiting (FS009)'!\"&ADDRESS(ROW(INDEX(CurrentListing,MATCH('Category Set A by Age'!AB176,CurrentListing,0),1)),25),AP176),HYPERLINK(\"#'Exiting (FS009)'!\"&\"$AA$10\",AP176))","v":"MC"},0,null,null,"ID20DROPOUTN","HI20DROPOUTN","SLI20DROPOUTN","VI20DROPOUTN","EMN20DROPOUTN","OI20DROPOUTN","OHI20DROPOUTN","SLD20DROPOUTN","DB20DROPOUTN","MD20DROPOUTN","AUT20DROPOUTN","TBI20DROPOUTN",null,"Dropped out","MC","MC","MC","MC","MC","MC","MC","MC","MC","MC","MC","MC",0]
["Total",{"$f":"SUM(B169:B176)","v":0},{"$f":"SUM(C169:C176)","v":0},0,0,0,0,0,0,0,0,0,0,{"$f":"IF(AND(N4=\"MC\",N5=\"MC\",N6=\"MC\",N7=\"MC\",N8=\"MC\",N9=\"MC\",N10=\"MC\",N11=\"MC\"),\"\",SUM(B169:M176))","v":""},null,null,null,null,null,null,null,null,null,null,null,null,null,null,"20Y","Total",{"$f":"SUM(AE169:AE176)","v":0},{"$f":"SUM(AF169:AF176)","v":0},0,0,0,0,0,0,0,0,0,0,{"$f":"IFERROR(IF(INDEX(StudCntC009,MATCH(AC177,CurrentListing,0))=\"\",\"No Data\",INDEX(StudCntC009,MATCH(AC177,CurrentListing,0))),\"MC\")","v":"MC"}]
[]
["Percent by basis of exit","Age 20"]
[null,"Intellectual\ndisability\n(percent)","Hearing\nimpairment\n(percent)","Speech or\nlanguage\nimpairment\n(percent)","Visual\nimpairment\n(percent)","Emotional\ndisturbance\n(percent)","Orthopedic\nimpairment\n(percent)","Other\nhealth\nimpairment\n(percent)","Specific\nlearning\ndisability\n(percent)","Deaf-\nblindness\n(percent)","Multiple\ndisabilities\n(percent)","Autism\n(percent)","Traumatic\nbrain\ninjury\n(percent)","Total\n(percent)"]
["Transferred to regular education",{"$f":"IF(ISERROR(B169/$N169),IF(B169=\"MC\", \"\",0), B169/$N169)","v":""},{"$f":"IF(ISERROR(C169/$N169),IF(C169=\"MC\", \"\",0), C169/$N169)","v":""},"","","","","","","","","","",{"$f":"SUM(B181:M181)","v":0}]
["Graduated with regular high school diploma",{"$f":"IF(ISERROR(B170/$N170),IF(B170=\"MC\", \"\",0), B170/$N170)","v":""},"","","","","","","","","","","",{"$f":"SUM(B182:M182)","v":0}]
["Graduated with an alternate diploma","","","","","","","","","","","","",0]
["Received a certificate",{"$f":"IF(ISERROR(B172/$N172),IF(B172=\"MC\", \"\",0), B172/$N172)","v":""},"","","","","","","","","","","",0]
["Reached maximum age",{"$f":"IF(ISERROR(B173/$N173),IF(B173=\"MC\", \"\",0), B173/$N173)","v":""},"","","","","","","","","","","",0]
["Died",{"$f":"IF(ISERROR(B174/$N174),IF(B174=\"MC\", \"\",0), B174/$N174)","v":""},"","","","","","","","","","","",0]
["Moved, known to be continuing",{"$f":"IF(ISERROR(B175/$N175),IF(B175=\"MC\", \"\",0), B175/$N175)","v":""},"","","","","","","","","","","",0]
["Dropped out",{"$f":"IF(ISERROR(B176/$N176),IF(B176=\"MC\", \"\",0), B176/$N176)","v":""},"","","","","","","","","","","",0]
["Total",{"$f":"IFERROR(IF($N177<>0,B177/$N177,0),\"\")","v":""},"","","","","","","","","","","",{"$f":"SUM(B189:M189)","v":0}]
[]
["Category Set A – Children with disabilities (IDEA) exiting special education, by age, disability category, and basis of exit"]
["Student count by basis of exit","Age 21",null,null,null,null,null,null,null,null,null,null,null,null,null,null,"Age 21 Lookup",null,null,null,null,null,null,null,null,null,null,null,null,"Student counts by basis of exit","Age 21"]
[null,"Intellectual\ndisability","Hearing\nimpairment","Speech or\nlanguage\nimpairment","Visual\nimpairment","Emotional\ndisturbance","Orthopedic\nimpairment","Other\nhealth\nimpairment","Specific\nlearning\ndisability","Deaf-\nblindness","Multiple\ndisabilities","Autism","Traumatic\nbrain\ninjury","Total",null,null,null,null,null,null,null,null,null,null,null,null,null,null,null,null,"Intellectual\nDisability","Hearing\nImpairments","Speech or\nLanguage\nImpairments","Visual\nImpairments","Emotional\nDisturbance","Orthopedic\nImpairments","Other\nHealth\nImpairments","Specific\nLearning\nDisabilities","Deaf-\nBlindness","Multiple\nDisabilities","Autism","Traumatic\nBrain\nInjury","Total"]
["Transferred to regular education",{"$f":"IFERROR(HYPERLINK(\"#'Exiting (FS009)'!\"&ADDRESS(ROW(INDEX(CurrentListing,MATCH('Category Set A by Age'!Q194,CurrentListing,0),1)),25),AE194),HYPERLINK(\"#'Exiting (FS009)'!\"&\"$AA$10\",AE194))","v":"MC"},{"$f":"IFERROR(HYPERLINK(\"#'Exiting (FS009)'!\"&ADDRESS(ROW(INDEX(CurrentListing,MATCH('Category Set A by Age'!R194,CurrentListing,0),1)),25),AF194),HYPERLINK(\"#'Exiting (FS009)'!\"&\"$AA$10\",AF194))","v":"MC"},{"$f":"IFERROR(HYPERLINK(\"#'Exiting (FS009)'!\"&ADDRESS(ROW(INDEX(CurrentListing,MATCH('Category Set A by Age'!S194,CurrentListing,0),1)),25),AG194),HYPERLINK(\"#'Exiting (FS009)'!\"&\"$AA$10\",AG194))","v":"MC"},{"$f":"IFERROR(HYPERLINK(\"#'Exiting (FS009)'!\"&ADDRESS(ROW(INDEX(CurrentListing,MATCH('Category Set A by Age'!T194,CurrentListing,0),1)),25),AH194),HYPERLINK(\"#'Exiting (FS009)'!\"&\"$AA$10\",AH194))","v":"MC"},{"$f":"IFERROR(HYPERLINK(\"#'Exiting (FS009)'!\"&ADDRESS(ROW(INDEX(CurrentListing,MATCH('Category Set A by Age'!U194,CurrentListing,0),1)),25),AI194),HYPERLINK(\"#'Exiting (FS009)'!\"&\"$AA$10\",AI194))","v":"MC"},{"$f":"IFERROR(HYPERLINK(\"#'Exiting (FS009)'!\"&ADDRESS(ROW(INDEX(CurrentListing,MATCH('Category Set A by Age'!V194,CurrentListing,0),1)),25),AJ194),HYPERLINK(\"#'Exiting (FS009)'!\"&\"$AA$10\",AJ194))","v":"MC"},{"$f":"IFERROR(HYPERLINK(\"#'Exiting (FS009)'!\"&ADDRESS(ROW(INDEX(CurrentListing,MATCH('Category Set A by Age'!W194,CurrentListing,0),1)),25),AK194),HYPERLINK(\"#'Exiting (FS009)'!\"&\"$AA$10\",AK194))","v":"MC"},{"$f":"IFERROR(HYPERLINK(\"#'Exiting (FS009)'!\"&ADDRESS(ROW(INDEX(CurrentListing,MATCH('Category Set A by Age'!X194,CurrentListing,0),1)),25),AL194),HYPERLINK(\"#'Exiting (FS009)'!\"&\"$AA$10\",AL194))","v":"MC"},{"$f":"IFERROR(HYPERLINK(\"#'Exiting (FS009)'!\"&ADDRESS(ROW(INDEX(CurrentListing,MATCH('Category Set A by Age'!Y194,CurrentListing,0),1)),25),AM194),HYPERLINK(\"#'Exiting (FS009)'!\"&\"$AA$10\",AM194))","v":"MC"},{"$f":"IFERROR(HYPERLINK(\"#'Exiting (FS009)'!\"&ADDRESS(ROW(INDEX(CurrentListing,MATCH('Category Set A by Age'!Z194,CurrentListing,0),1)),25),AN194),HYPERLINK(\"#'Exiting (FS009)'!\"&\"$AA$10\",AN194))","v":"MC"},{"$f":"IFERROR(HYPERLINK(\"#'Exiting (FS009)'!\"&ADDRESS(ROW(INDEX(CurrentListing,MATCH('Category Set A by Age'!AA194,CurrentListing,0),1)),25),AO194),HYPERLINK(\"#'Exiting (FS009)'!\"&\"$AA$10\",AO194))","v":"MC"},{"$f":"IFERROR(HYPERLINK(\"#'Exiting (FS009)'!\"&ADDRESS(ROW(INDEX(CurrentListing,MATCH('Category Set A by Age'!AB194,CurrentListing,0),1)),25),AP194),HYPERLINK(\"#'Exiting (FS009)'!\"&\"$AA$10\",AP194))","v":"MC"},{"$f":"SUM(B194:M194)","v":0},null,null,"ID21TRANN","HI21TRANN","SLI21TRANN","VI21TRANN","EMN21TRANN","OI21TRANN","OHI21TRANN","SLD21TRANN","DB21TRANN","MD21TRANN","AUT21TRANN","TBI21TRANN",null,"Transferred to regular education",{"$f":"IFERROR(IF(INDEX(StudCntC009,MATCH(Q194,CurrentListing,0))=\"\",\"No Data\",INDEX(StudCntC009,MATCH(Q194,CurrentListing,0))),\"MC\")","v":"MC"},"MC","MC","MC","MC","MC","MC","MC","MC","MC","MC","MC",{"$f":"SUM(AE194:AP194)","v":0}]
["Graduated with regular high school diploma",{"$f":"IFERROR(HYPERLINK(\"#'Exiting (FS009)'!\"&ADDRESS(ROW(INDEX(CurrentListing,MATCH('Category Set A by Age'!Q195,CurrentListing,0),1)),25),AE195),HYPERLINK(\"#'Exiting (FS009)'!\"&\"$AA$10\",AE195))","v":"MC"},{"$f":"IFERROR(HYPERLINK(\"#'Exiting (FS009)'!\"&ADDRESS(ROW(INDEX(CurrentListing,MATCH('Category Set A by Age'!R195,CurrentListing,0),1)),25),AF195),HYPERLINK(\"#'Exiting (FS009)'!\"&\"$AA$10\",AF195))","v":"MC"},{"$f":"IFERROR(HYPERLINK(\"#'Exiting (FS009)'!\"&ADDRESS(ROW(INDEX(CurrentListing,MATCH('Category Set A by Age'!S195,CurrentListing,0),1)),25),AG195),HYPERLINK(\"#'Exiting (FS009)'!\"&\"$AA$10\",AG195))","v":"MC"},{"$f":"IFERROR(HYPERLINK(\"#'Exiting (FS009)'!\"&ADDRESS(ROW(INDEX(CurrentListing,MATCH('Category Set A by Age'!T195,CurrentListing,0),1)),25),AH195),HYPERLINK(\"#'Exiting (FS009)'!\"&\"$AA$10\",AH195))","v":"MC"},{"$f":"IFERROR(HYPERLINK(\"#'Exiting (FS009)'!\"&ADDRESS(ROW(INDEX(CurrentListing,MATCH('Category Set A by Age'!U195,CurrentListing,0),1)),25),AI195),HYPERLINK(\"#'Exiting (FS009)'!\"&\"$AA$10\",AI195))","v":"MC"},{"$f":"IFERROR(HYPERLINK(\"#'Exiting (FS009)'!\"&ADDRESS(ROW(INDEX(CurrentListing,MATCH('Category Set A by Age'!V195,CurrentListing,0),1)),25),AJ195),HYPERLINK(\"#'Exiting (FS009)'!\"&\"$AA$10\",AJ195))","v":"MC"},{"$f":"IFERROR(HYPERLINK(\"#'Exiting (FS009)'!\"&ADDRESS(ROW(INDEX(CurrentListing,MATCH('Category Set A by Age'!W195,CurrentListing,0),1)),25),AK195),HYPERLINK(\"#'Exiting (FS009)'!\"&\"$AA$10\",AK195))","v":"MC"},{"$f":"IFERROR(HYPERLINK(\"#'Exiting (FS009)'!\"&ADDRESS(ROW(INDEX(CurrentListing,MATCH('Category Set A by Age'!X195,CurrentListing,0),1)),25),AL195),HYPERLINK(\"#'Exiting (FS009)'!\"&\"$AA$10\",AL195))","v":"MC"},{"$f":"IFERROR(HYPERLINK(\"#'Exiting (FS009)'!\"&ADDRESS(ROW(INDEX(CurrentListing,MATCH('Category Set A by Age'!Y195,CurrentListing,0),1)),25),AM195),HYPERLINK(\"#'Exiting (FS009)'!\"&\"$AA$10\",AM195))","v":"MC"},{"$f":"IFERROR(HYPERLINK(\"#'Exiting (FS009)'!\"&ADDRESS(ROW(INDEX(CurrentListing,MATCH('Category Set A by Age'!Z195,CurrentListing,0),1)),25),AN195),HYPERLINK(\"#'Exiting (FS009)'!\"&\"$AA$10\",AN195))","v":"MC"},{"$f":"IFERROR(HYPERLINK(\"#'Exiting (FS009)'!\"&ADDRESS(ROW(INDEX(CurrentListing,MATCH('Category Set A by Age'!AA195,CurrentListing,0),1)),25),AO195),HYPERLINK(\"#'Exiting (FS009)'!\"&\"$AA$10\",AO195))","v":"MC"},{"$f":"IFERROR(HYPERLINK(\"#'Exiting (FS009)'!\"&ADDRESS(ROW(INDEX(CurrentListing,MATCH('Category Set A by Age'!AB195,CurrentListing,0),1)),25),AP195),HYPERLINK(\"#'Exiting (FS009)'!\"&\"$AA$10\",AP195))","v":"MC"},{"$f":"SUM(B195:M195)","v":0},null,null,"ID21GHSN","HI21GHSN","SLI21GHSN","VI21GHSN","EMN21GHSN","OI21GHSN","OHI21GHSN","SLD21GHSN","DB21GHSN","MD21GHSN","AUT21GHSN","TBI21GHSN",null,"Graduated with regular high school diploma","MC","MC","MC","MC","MC","MC","MC","MC","MC","MC","MC","MC",0]
["Graduated with an alternate diploma",{"$f":"IFERROR(HYPERLINK(\"#'Exiting (FS009)'!\"&ADDRESS(ROW(INDEX(CurrentListing,MATCH('Category Set A by Age'!Q196,CurrentListing,0),1)),25),AE196),HYPERLINK(\"#'Exiting (FS009)'!\"&\"$AA$10\",AE196))","v":"MC"},{"$f":"IFERROR(HYPERLINK(\"#'Exiting (FS009)'!\"&ADDRESS(ROW(INDEX(CurrentListing,MATCH('Category Set A by Age'!R196,CurrentListing,0),1)),25),AF196),HYPERLINK(\"#'Exiting (FS009)'!\"&\"$AA$10\",AF196))","v":"MC"},{"$f":"IFERROR(HYPERLINK(\"#'Exiting (FS009)'!\"&ADDRESS(ROW(INDEX(CurrentListing,MATCH('Category Set A by Age'!S196,CurrentListing,0),1)),25),AG196),HYPERLINK(\"#'Exiting (FS009)'!\"&\"$AA$10\",AG196))","v":"MC"},{"$f":"IFERROR(HYPERLINK(\"#'Exiting (FS009)'!\"&ADDRESS(ROW(INDEX(CurrentListing,MATCH('Category Set A by Age'!T196,CurrentListing,0),1)),25),AH196),HYPERLINK(\"#'Exiting (FS009)'!\"&\"$AA$10\",AH196))","v":"MC"},{"$f":"IFERROR(HYPERLINK(\"#'Exiting (FS009)'!\"&ADDRESS(ROW(INDEX(CurrentListing,MATCH('Category Set A by Age'!U196,CurrentListing,0),1)),25),AI196),HYPERLINK(\"#'Exiting (FS009)'!\"&\"$AA$10\",AI196))","v":"MC"},{"$f":"IFERROR(HYPERLINK(\"#'Exiting (FS009)'!\"&ADDRESS(ROW(INDEX(CurrentListing,MATCH('Category Set A by Age'!V196,CurrentListing,0),1)),25),AJ196),HYPERLINK(\"#'Exiting (FS009)'!\"&\"$AA$10\",AJ196))","v":"MC"},{"$f":"IFERROR(HYPERLINK(\"#'Exiting (FS009)'!\"&ADDRESS(ROW(INDEX(CurrentListing,MATCH('Category Set A by Age'!W196,CurrentListing,0),1)),25),AK196),HYPERLINK(\"#'Exiting (FS009)'!\"&\"$AA$10\",AK196))","v":"MC"},{"$f":"IFERROR(HYPERLINK(\"#'Exiting (FS009)'!\"&ADDRESS(ROW(INDEX(CurrentListing,MATCH('Category Set A by Age'!X196,CurrentListing,0),1)),25),AL196),HYPERLINK(\"#'Exiting (FS009)'!\"&\"$AA$10\",AL196))","v":"MC"},{"$f":"IFERROR(HYPERLINK(\"#'Exiting (FS009)'!\"&ADDRESS(ROW(INDEX(CurrentListing,MATCH('Category Set A by Age'!Y196,CurrentListing,0),1)),25),AM196),HYPERLINK(\"#'Exiting (FS009)'!\"&\"$AA$10\",AM196))","v":"MC"},{"$f":"IFERROR(HYPERLINK(\"#'Exiting (FS009)'!\"&ADDRESS(ROW(INDEX(CurrentListing,MATCH('Category Set A by Age'!Z196,CurrentListing,0),1)),25),AN196),HYPERLINK(\"#'Exiting (FS009)'!\"&\"$AA$10\",AN196))","v":"MC"},{"$f":"IFERROR(HYPERLINK(\"#'Exiting (FS009)'!\"&ADDRESS(ROW(INDEX(CurrentListing,MATCH('Category Set A by Age'!AA196,CurrentListing,0),1)),25),AO196),HYPERLINK(\"#'Exiting (FS009)'!\"&\"$AA$10\",AO196))","v":"MC"},{"$f":"IFERROR(HYPERLINK(\"#'Exiting (FS009)'!\"&ADDRESS(ROW(INDEX(CurrentListing,MATCH('Category Set A by Age'!AB196,CurrentListing,0),1)),25),AP196),HYPERLINK(\"#'Exiting (FS009)'!\"&\"$AA$10\",AP196))","v":"MC"},0,null,null,"ID21GRADALTDPLN","HI21GRADALTDPLN","SLI21GRADALTDPLN","VI21GRADALTDPLN","EMN21GRADALTDPLN","OI21GRADALTDPLN","OHI21GRADALTDPLN","SLD21GRADALTDPLN","DB21GRADALTDPLN","MD21GRADALTDPLN","AUT21GRADALTDPLN","TBI21GRADALTDPLN",null,"Graduated with an alternate diploma",{"$f":"IFERROR(IF(INDEX(StudCntC009,MATCH(Q196,CurrentListing,0))=\"\",\"No Data\",INDEX(StudCntC009,MATCH(Q196,CurrentListing,0))),\"MC\")","v":"MC"},"MC","MC","MC","MC","MC","MC","MC","MC","MC","MC","MC",0]
["Received a certificate",{"$f":"IFERROR(HYPERLINK(\"#'Exiting (FS009)'!\"&ADDRESS(ROW(INDEX(CurrentListing,MATCH('Category Set A by Age'!Q197,CurrentListing,0),1)),25),AE197),HYPERLINK(\"#'Exiting (FS009)'!\"&\"$AA$10\",AE197))","v":"MC"},{"$f":"IFERROR(HYPERLINK(\"#'Exiting (FS009)'!\"&ADDRESS(ROW(INDEX(CurrentListing,MATCH('Category Set A by Age'!R197,CurrentListing,0),1)),25),AF197),HYPERLINK(\"#'Exiting (FS009)'!\"&\"$AA$10\",AF197))","v":"MC"},{"$f":"IFERROR(HYPERLINK(\"#'Exiting (FS009)'!\"&ADDRESS(ROW(INDEX(CurrentListing,MATCH('Category Set A by Age'!S197,CurrentListing,0),1)),25),AG197),HYPERLINK(\"#'Exiting (FS009)'!\"&\"$AA$10\",AG197))","v":"MC"},{"$f":"IFERROR(HYPERLINK(\"#'Exiting (FS009)'!\"&ADDRESS(ROW(INDEX(CurrentListing,MATCH('Category Set A by Age'!T197,CurrentListing,0),1)),25),AH197),HYPERLINK(\"#'Exiting (FS009)'!\"&\"$AA$10\",AH197))","v":"MC"},{"$f":"IFERROR(HYPERLINK(\"#'Exiting (FS009)'!\"&ADDRESS(ROW(INDEX(CurrentListing,MATCH('Category Set A by Age'!U197,CurrentListing,0),1)),25),AI197),HYPERLINK(\"#'Exiting (FS009)'!\"&\"$AA$10\",AI197))","v":"MC"},{"$f":"IFERROR(HYPERLINK(\"#'Exiting (FS009)'!\"&ADDRESS(ROW(INDEX(CurrentListing,MATCH('Category Set A by Age'!V197,CurrentListing,0),1)),25),AJ197),HYPERLINK(\"#'Exiting (FS009)'!\"&\"$AA$10\",AJ197))","v":"MC"},{"$f":"IFERROR(HYPERLINK(\"#'Exiting (FS009)'!\"&ADDRESS(ROW(INDEX(CurrentListing,MATCH('Category Set A by Age'!W197,CurrentListing,0),1)),25),AK197),HYPERLINK(\"#'Exiting (FS009)'!\"&\"$AA$10\",AK197))","v":"MC"},{"$f":"IFERROR(HYPERLINK(\"#'Exiting (FS009)'!\"&ADDRESS(ROW(INDEX(CurrentListing,MATCH('Category Set A by Age'!X197,CurrentListing,0),1)),25),AL197),HYPERLINK(\"#'Exiting (FS009)'!\"&\"$AA$10\",AL197))","v":"MC"},{"$f":"IFERROR(HYPERLINK(\"#'Exiting (FS009)'!\"&ADDRESS(ROW(INDEX(CurrentListing,MATCH('Category Set A by Age'!Y197,CurrentListing,0),1)),25),AM197),HYPERLINK(\"#'Exiting (FS009)'!\"&\"$AA$10\",AM197))","v":"MC"},{"$f":"IFERROR(HYPERLINK(\"#'Exiting (FS009)'!\"&ADDRESS(ROW(INDEX(CurrentListing,MATCH('Category Set A by Age'!Z197,CurrentListing,0),1)),25),AN197),HYPERLINK(\"#'Exiting (FS009)'!\"&\"$AA$10\",AN197))","v":"MC"},{"$f":"IFERROR(HYPERLINK(\"#'Exiting (FS009)'!\"&ADDRESS(ROW(INDEX(CurrentListing,MATCH('Category Set A by Age'!AA197,CurrentListing,0),1)),25),AO197),HYPERLINK(\"#'Exiting (FS009)'!\"&\"$AA$10\",AO197))","v":"MC"},{"$f":"IFERROR(HYPERLINK(\"#'Exiting (FS009)'!\"&ADDRESS(ROW(INDEX(CurrentListing,MATCH('Category Set A by Age'!AB197,CurrentListing,0),1)),25),AP197),HYPERLINK(\"#'Exiting (FS009)'!\"&\"$AA$10\",AP197))","v":"MC"},0,null,null,"ID21RCN","HI21RCN","SLI21RCN","VI21RCN","EMN21RCN","OI21RCN","OHI21RCN","SLD21RCN","DB21RCN","MD21RCN","AUT21RCN","TBI21RCN",null,"Received a certificate","MC","MC","MC","MC","MC","MC","MC","MC","MC","MC","MC","MC",0]
["Reached maximum age",{"$f":"IFERROR(HYPERLINK(\"#'Exiting (FS009)'!\"&ADDRESS(ROW(INDEX(CurrentListing,MATCH('Category Set A by Age'!Q198,CurrentListing,0),1)),25),AE198),HYPERLINK(\"#'Exiting (FS009)'!\"&\"$AA$10\",AE198))","v":"MC"},{"$f":"IFERROR(HYPERLINK(\"#'Exiting (FS009)'!\"&ADDRESS(ROW(INDEX(CurrentListing,MATCH('Category Set A by Age'!R198,CurrentListing,0),1)),25),AF198),HYPERLINK(\"#'Exiting (FS009)'!\"&\"$AA$10\",AF198))","v":"MC"},{"$f":"IFERROR(HYPERLINK(\"#'Exiting (FS009)'!\"&ADDRESS(ROW(INDEX(CurrentListing,MATCH('Category Set A by Age'!S198,CurrentListing,0),1)),25),AG198),HYPERLINK(\"#'Exiting (FS009)'!\"&\"$AA$10\",AG198))","v":"MC"},{"$f":"IFERROR(HYPERLINK(\"#'Exiting (FS009)'!\"&ADDRESS(ROW(INDEX(CurrentListing,MATCH('Category Set A by Age'!T198,CurrentListing,0),1)),25),AH198),HYPERLINK(\"#'Exiting (FS009)'!\"&\"$AA$10\",AH198))","v":"MC"},{"$f":"IFERROR(HYPERLINK(\"#'Exiting (FS009)'!\"&ADDRESS(ROW(INDEX(CurrentListing,MATCH('Category Set A by Age'!U198,CurrentListing,0),1)),25),AI198),HYPERLINK(\"#'Exiting (FS009)'!\"&\"$AA$10\",AI198))","v":"MC"},{"$f":"IFERROR(HYPERLINK(\"#'Exiting (FS009)'!\"&ADDRESS(ROW(INDEX(CurrentListing,MATCH('Category Set A by Age'!V198,CurrentListing,0),1)),25),AJ198),HYPERLINK(\"#'Exiting (FS009)'!\"&\"$AA$10\",AJ198))","v":"MC"},{"$f":"IFERROR(HYPERLINK(\"#'Exiting (FS009)'!\"&ADDRESS(ROW(INDEX(CurrentListing,MATCH('Category Set A by Age'!W198,CurrentListing,0),1)),25),AK198),HYPERLINK(\"#'Exiting (FS009)'!\"&\"$AA$10\",AK198))","v":"MC"},{"$f":"IFERROR(HYPERLINK(\"#'Exiting (FS009)'!\"&ADDRESS(ROW(INDEX(CurrentListing,MATCH('Category Set A by Age'!X198,CurrentListing,0),1)),25),AL198),HYPERLINK(\"#'Exiting (FS009)'!\"&\"$AA$10\",AL198))","v":"MC"},{"$f":"IFERROR(HYPERLINK(\"#'Exiting (FS009)'!\"&ADDRESS(ROW(INDEX(CurrentListing,MATCH('Category Set A by Age'!Y198,CurrentListing,0),1)),25),AM198),HYPERLINK(\"#'Exiting (FS009)'!\"&\"$AA$10\",AM198))","v":"MC"},{"$f":"IFERROR(HYPERLINK(\"#'Exiting (FS009)'!\"&ADDRESS(ROW(INDEX(CurrentListing,MATCH('Category Set A by Age'!Z198,CurrentListing,0),1)),25),AN198),HYPERLINK(\"#'Exiting (FS009)'!\"&\"$AA$10\",AN198))","v":"MC"},{"$f":"IFERROR(HYPERLINK(\"#'Exiting (FS009)'!\"&ADDRESS(ROW(INDEX(CurrentListing,MATCH('Category Set A by Age'!AA198,CurrentListing,0),1)),25),AO198),HYPERLINK(\"#'Exiting (FS009)'!\"&\"$AA$10\",AO198))","v":"MC"},{"$f":"IFERROR(HYPERLINK(\"#'Exiting (FS009)'!\"&ADDRESS(ROW(INDEX(CurrentListing,MATCH('Category Set A by Age'!AB198,CurrentListing,0),1)),25),AP198),HYPERLINK(\"#'Exiting (FS009)'!\"&\"$AA$10\",AP198))","v":"MC"},0,null,null,"ID21RMAN","HI21RMAN","SLI21RMAN","VI21RMAN","EMN21RMAN","OI21RMAN","OHI21RMAN","SLD21RMAN","DB21RMAN","MD21RMAN","AUT21RMAN","TBI21RMAN",null,"Reached maximum age","MC","MC","MC","MC","MC","MC","MC","MC","MC","MC","MC","MC",0]
["Died",{"$f":"IFERROR(HYPERLINK(\"#'Exiting (FS009)'!\"&ADDRESS(ROW(INDEX(CurrentListing,MATCH('Category Set A by Age'!Q199,CurrentListing,0),1)),25),AE199),HYPERLINK(\"#'Exiting (FS009)'!\"&\"$AA$10\",AE199))","v":"MC"},{"$f":"IFERROR(HYPERLINK(\"#'Exiting (FS009)'!\"&ADDRESS(ROW(INDEX(CurrentListing,MATCH('Category Set A by Age'!R199,CurrentListing,0),1)),25),AF199),HYPERLINK(\"#'Exiting (FS009)'!\"&\"$AA$10\",AF199))","v":"MC"},{"$f":"IFERROR(HYPERLINK(\"#'Exiting (FS009)'!\"&ADDRESS(ROW(INDEX(CurrentListing,MATCH('Category Set A by Age'!S199,CurrentListing,0),1)),25),AG199),HYPERLINK(\"#'Exiting (FS009)'!\"&\"$AA$10\",AG199))","v":"MC"},{"$f":"IFERROR(HYPERLINK(\"#'Exiting (FS009)'!\"&ADDRESS(ROW(INDEX(CurrentListing,MATCH('Category Set A by Age'!T199,CurrentListing,0),1)),25),AH199),HYPERLINK(\"#'Exiting (FS009)'!\"&\"$AA$10\",AH199))","v":"MC"},{"$f":"IFERROR(HYPERLINK(\"#'Exiting (FS009)'!\"&ADDRESS(ROW(INDEX(CurrentListing,MATCH('Category Set A by Age'!U199,CurrentListing,0),1)),25),AI199),HYPERLINK(\"#'Exiting (FS009)'!\"&\"$AA$10\",AI199))","v":"MC"},{"$f":"IFERROR(HYPERLINK(\"#'Exiting (FS009)'!\"&ADDRESS(ROW(INDEX(CurrentListing,MATCH('Category Set A by Age'!V199,CurrentListing,0),1)),25),AJ199),HYPERLINK(\"#'Exiting (FS009)'!\"&\"$AA$10\",AJ199))","v":"MC"},{"$f":"IFERROR(HYPERLINK(\"#'Exiting (FS009)'!\"&ADDRESS(ROW(INDEX(CurrentListing,MATCH('Category Set A by Age'!W199,CurrentListing,0),1)),25),AK199),HYPERLINK(\"#'Exiting (FS009)'!\"&\"$AA$10\",AK199))","v":"MC"},{"$f":"IFERROR(HYPERLINK(\"#'Exiting (FS009)'!\"&ADDRESS(ROW(INDEX(CurrentListing,MATCH('Category Set A by Age'!X199,CurrentListing,0),1)),25),AL199),HYPERLINK(\"#'Exiting (FS009)'!\"&\"$AA$10\",AL199))","v":"MC"},{"$f":"IFERROR(HYPERLINK(\"#'Exiting (FS009)'!\"&ADDRESS(ROW(INDEX(CurrentListing,MATCH('Category Set A by Age'!Y199,CurrentListing,0),1)),25),AM199),HYPERLINK(\"#'Exiting (FS009)'!\"&\"$AA$10\",AM199))","v":"MC"},{"$f":"IFERROR(HYPERLINK(\"#'Exiting (FS009)'!\"&ADDRESS(ROW(INDEX(CurrentListing,MATCH('Category Set A by Age'!Z199,CurrentListing,0),1)),25),AN199),HYPERLINK(\"#'Exiting (FS009)'!\"&\"$AA$10\",AN199))","v":"MC"},{"$f":"IFERROR(HYPERLINK(\"#'Exiting (FS009)'!\"&ADDRESS(ROW(INDEX(CurrentListing,MATCH('Category Set A by Age'!AA199,CurrentListing,0),1)),25),AO199),HYPERLINK(\"#'Exiting (FS009)'!\"&\"$AA$10\",AO199))","v":"MC"},{"$f":"IFERROR(HYPERLINK(\"#'Exiting (FS009)'!\"&ADDRESS(ROW(INDEX(CurrentListing,MATCH('Category Set A by Age'!AB199,CurrentListing,0),1)),25),AP199),HYPERLINK(\"#'Exiting (FS009)'!\"&\"$AA$10\",AP199))","v":"MC"},0,null,null,"ID21DN","HI21DN","SLI21DN","VI21DN","EMN21DN","OI21DN","OHI21DN","SLD21DN","DB21DN","MD21DN","AUT21DN","TBI21DN",null,"Died","MC","MC","MC","MC","MC","MC","MC","MC","MC","MC","MC","MC",0]
["Moved, known to be continuing",{"$f":"IFERROR(HYPERLINK(\"#'Exiting (FS009)'!\"&ADDRESS(ROW(INDEX(CurrentListing,MATCH('Category Set A by Age'!Q200,CurrentListing,0),1)),25),AE200),HYPERLINK(\"#'Exiting (FS009)'!\"&\"$AA$10\",AE200))","v":"MC"},{"$f":"IFERROR(HYPERLINK(\"#'Exiting (FS009)'!\"&ADDRESS(ROW(INDEX(CurrentListing,MATCH('Category Set A by Age'!R200,CurrentListing,0),1)),25),AF200),HYPERLINK(\"#'Exiting (FS009)'!\"&\"$AA$10\",AF200))","v":"MC"},{"$f":"IFERROR(HYPERLINK(\"#'Exiting (FS009)'!\"&ADDRESS(ROW(INDEX(CurrentListing,MATCH('Category Set A by Age'!S200,CurrentListing,0),1)),25),AG200),HYPERLINK(\"#'Exiting (FS009)'!\"&\"$AA$10\",AG200))","v":"MC"},{"$f":"IFERROR(HYPERLINK(\"#'Exiting (FS009)'!\"&ADDRESS(ROW(INDEX(CurrentListing,MATCH('Category Set A by Age'!T200,CurrentListing,0),1)),25),AH200),HYPERLINK(\"#'Exiting (FS009)'!\"&\"$AA$10\",AH200))","v":"MC"},{"$f":"IFERROR(HYPERLINK(\"#'Exiting (FS009)'!\"&ADDRESS(ROW(INDEX(CurrentListing,MATCH('Category Set A by Age'!U200,CurrentListing,0),1)),25),AI200),HYPERLINK(\"#'Exiting (FS009)'!\"&\"$AA$10\",AI200))","v":"MC"},{"$f":"IFERROR(HYPERLINK(\"#'Exiting (FS009)'!\"&ADDRESS(ROW(INDEX(CurrentListing,MATCH('Category Set A by Age'!V200,CurrentListing,0),1)),25),AJ200),HYPERLINK(\"#'Exiting (FS009)'!\"&\"$AA$10\",AJ200))","v":"MC"},{"$f":"IFERROR(HYPERLINK(\"#'Exiting (FS009)'!\"&ADDRESS(ROW(INDEX(CurrentListing,MATCH('Category Set A by Age'!W200,CurrentListing,0),1)),25),AK200),HYPERLINK(\"#'Exiting (FS009)'!\"&\"$AA$10\",AK200))","v":"MC"},{"$f":"IFERROR(HYPERLINK(\"#'Exiting (FS009)'!\"&ADDRESS(ROW(INDEX(CurrentListing,MATCH('Category Set A by Age'!X200,CurrentListing,0),1)),25),AL200),HYPERLINK(\"#'Exiting (FS009)'!\"&\"$AA$10\",AL200))","v":"MC"},{"$f":"IFERROR(HYPERLINK(\"#'Exiting (FS009)'!\"&ADDRESS(ROW(INDEX(CurrentListing,MATCH('Category Set A by Age'!Y200,CurrentListing,0),1)),25),AM200),HYPERLINK(\"#'Exiting (FS009)'!\"&\"$AA$10\",AM200))","v":"MC"},{"$f":"IFERROR(HYPERLINK(\"#'Exiting (FS009)'!\"&ADDRESS(ROW(INDEX(CurrentListing,MATCH('Category Set A by Age'!Z200,CurrentListing,0),1)),25),AN200),HYPERLINK(\"#'Exiting (FS009)'!\"&\"$AA$10\",AN200))","v":"MC"},{"$f":"IFERROR(HYPERLINK(\"#'Exiting (FS009)'!\"&ADDRESS(ROW(INDEX(CurrentListing,MATCH('Category Set A by Age'!AA200,CurrentListing,0),1)),25),AO200),HYPERLINK(\"#'Exiting (FS009)'!\"&\"$AA$10\",AO200))","v":"MC"},{"$f":"IFERROR(HYPERLINK(\"#'Exiting (FS009)'!\"&ADDRESS(ROW(INDEX(CurrentListing,MATCH('Category Set A by Age'!AB200,CurrentListing,0),1)),25),AP200),HYPERLINK(\"#'Exiting (FS009)'!\"&\"$AA$10\",AP200))","v":"MC"},0,null,null,"ID21MKCN","HI21MKCN","SLI21MKCN","VI21MKCN","EMN21MKCN","OI21MKCN","OHI21MKCN","SLD21MKCN","DB21MKCN","MD21MKCN","AUT21MKCN","TBI21MKCN",null,"Moved, known to be continuing","MC","MC","MC","MC","MC","MC","MC","MC","MC","MC","MC","MC",0]
["Dropped out",{"$f":"IFERROR(HYPERLINK(\"#'Exiting (FS009)'!\"&ADDRESS(ROW(INDEX(CurrentListing,MATCH('Category Set A by Age'!Q201,CurrentListing,0),1)),25),AE201),HYPERLINK(\"#'Exiting (FS009)'!\"&\"$AA$10\",AE201))","v":"MC"},{"$f":"IFERROR(HYPERLINK(\"#'Exiting (FS009)'!\"&ADDRESS(ROW(INDEX(CurrentListing,MATCH('Category Set A by Age'!R201,CurrentListing,0),1)),25),AF201),HYPERLINK(\"#'Exiting (FS009)'!\"&\"$AA$10\",AF201))","v":"MC"},{"$f":"IFERROR(HYPERLINK(\"#'Exiting (FS009)'!\"&ADDRESS(ROW(INDEX(CurrentListing,MATCH('Category Set A by Age'!S201,CurrentListing,0),1)),25),AG201),HYPERLINK(\"#'Exiting (FS009)'!\"&\"$AA$10\",AG201))","v":"MC"},{"$f":"IFERROR(HYPERLINK(\"#'Exiting (FS009)'!\"&ADDRESS(ROW(INDEX(CurrentListing,MATCH('Category Set A by Age'!T201,CurrentListing,0),1)),25),AH201),HYPERLINK(\"#'Exiting (FS009)'!\"&\"$AA$10\",AH201))","v":"MC"},{"$f":"IFERROR(HYPERLINK(\"#'Exiting (FS009)'!\"&ADDRESS(ROW(INDEX(CurrentListing,MATCH('Category Set A by Age'!U201,CurrentListing,0),1)),25),AI201),HYPERLINK(\"#'Exiting (FS009)'!\"&\"$AA$10\",AI201))","v":"MC"},{"$f":"IFERROR(HYPERLINK(\"#'Exiting (FS009)'!\"&ADDRESS(ROW(INDEX(CurrentListing,MATCH('Category Set A by Age'!V201,CurrentListing,0),1)),25),AJ201),HYPERLINK(\"#'Exiting (FS009)'!\"&\"$AA$10\",AJ201))","v":"MC"},{"$f":"IFERROR(HYPERLINK(\"#'Exiting (FS009)'!\"&ADDRESS(ROW(INDEX(CurrentListing,MATCH('Category Set A by Age'!W201,CurrentListing,0),1)),25),AK201),HYPERLINK(\"#'Exiting (FS009)'!\"&\"$AA$10\",AK201))","v":"MC"},{"$f":"IFERROR(HYPERLINK(\"#'Exiting (FS009)'!\"&ADDRESS(ROW(INDEX(CurrentListing,MATCH('Category Set A by Age'!X201,CurrentListing,0),1)),25),AL201),HYPERLINK(\"#'Exiting (FS009)'!\"&\"$AA$10\",AL201))","v":"MC"},{"$f":"IFERROR(HYPERLINK(\"#'Exiting (FS009)'!\"&ADDRESS(ROW(INDEX(CurrentListing,MATCH('Category Set A by Age'!Y201,CurrentListing,0),1)),25),AM201),HYPERLINK(\"#'Exiting (FS009)'!\"&\"$AA$10\",AM201))","v":"MC"},{"$f":"IFERROR(HYPERLINK(\"#'Exiting (FS009)'!\"&ADDRESS(ROW(INDEX(CurrentListing,MATCH('Category Set A by Age'!Z201,CurrentListing,0),1)),25),AN201),HYPERLINK(\"#'Exiting (FS009)'!\"&\"$AA$10\",AN201))","v":"MC"},{"$f":"IFERROR(HYPERLINK(\"#'Exiting (FS009)'!\"&ADDRESS(ROW(INDEX(CurrentListing,MATCH('Category Set A by Age'!AA201,CurrentListing,0),1)),25),AO201),HYPERLINK(\"#'Exiting (FS009)'!\"&\"$AA$10\",AO201))","v":"MC"},{"$f":"IFERROR(HYPERLINK(\"#'Exiting (FS009)'!\"&ADDRESS(ROW(INDEX(CurrentListing,MATCH('Category Set A by Age'!AB201,CurrentListing,0),1)),25),AP201),HYPERLINK(\"#'Exiting (FS009)'!\"&\"$AA$10\",AP201))","v":"MC"},0,null,null,"ID21DROPOUTN","HI21DROPOUTN","SLI21DROPOUTN","VI21DROPOUTN","EMN21DROPOUTN","OI21DROPOUTN","OHI21DROPOUTN","SLD21DROPOUTN","DB21DROPOUTN","MD21DROPOUTN","AUT21DROPOUTN","TBI21DROPOUTN",null,"Dropped out","MC","MC","MC","MC","MC","MC","MC","MC","MC","MC","MC","MC",0]
["Total",{"$f":"SUM(B194:B201)","v":0},{"$f":"SUM(C194:C201)","v":0},0,0,0,0,0,0,0,0,0,0,{"$f":"IF(AND(N4=\"MC\",N5=\"MC\",N6=\"MC\",N7=\"MC\",N8=\"MC\",N9=\"MC\",N10=\"MC\",N11=\"MC\"),\"\",SUM(B194:M201))","v":""},null,null,null,null,null,null,null,null,null,null,null,null,null,null,"21Y","Total",{"$f":"SUM(AE194:AE201)","v":0},{"$f":"SUM(AF194:AF201)","v":0},0,0,0,0,0,0,0,0,0,0,{"$f":"IFERROR(IF(INDEX(StudCntC009,MATCH(AC202,CurrentListing,0))=\"\",\"No Data\",INDEX(StudCntC009,MATCH(AC202,CurrentListing,0))),\"MC\")","v":"MC"}]
[]
["Percent by basis of exit","Age 21"]
[null,"Intellectual\ndisability\n(percent)","Hearing\nimpairment\n(percent)","Speech or\nlanguage\nimpairment\n(percent)","Visual\nimpairment\n(percent)","Emotional\ndisturbance\n(percent)","Orthopedic\nimpairment\n(percent)","Other\nhealth\nimpairment\n(percent)","Specific\nlearning\ndisability\n(percent)","Deaf-\nblindness\n(percent)","Multiple\ndisabilities\n(percent)","Autism\n(percent)","Traumatic\nbrain\ninjury\n(percent)","Total\n(percent)"]
["Transferred to regular education",{"$f":"IF(ISERROR(B194/$N194),IF(B194=\"MC\", \"\",0), B194/$N194)","v":""},{"$f":"IF(ISERROR(C194/$N194),IF(C194=\"MC\", \"\",0), C194/$N194)","v":""},"","","","","","","","","","",{"$f":"SUM(B206:M206)","v":0}]
["Graduated with regular high school diploma",{"$f":"IF(ISERROR(B195/$N195),IF(B195=\"MC\", \"\",0), B195/$N195)","v":""},"","","","","","","","","","","",{"$f":"SUM(B207:M207)","v":0}]
["Graduated with an alternate diploma","","","","","","","","","","","","",{"$f":"SUM(B208:M208)","v":0}]
["Received a certificate",{"$f":"IF(ISERROR(B197/$N197),IF(B197=\"MC\", \"\",0), B197/$N197)","v":""},"","","","","","","","","","","",0]
["Reached maximum age",{"$f":"IF(ISERROR(B198/$N198),IF(B198=\"MC\", \"\",0), B198/$N198)","v":""},"","","","","","","","","","","",0]
["Died",{"$f":"IF(ISERROR(B199/$N199),IF(B199=\"MC\", \"\",0), B199/$N199)","v":""},"","","","","","","","","","","",0]
["Moved, known to be continuing",{"$f":"IF(ISERROR(B200/$N200),IF(B200=\"MC\", \"\",0), B200/$N200)","v":""},"","","","","","","","","","","",0]
["Dropped out",{"$f":"IF(ISERROR(B201/$N201),IF(B201=\"MC\", \"\",0), B201/$N201)","v":""},"","","","","","","","","","","",0]
["Total",{"$f":"IFERROR(IF($N202<>0,B202/$N202,0),\"\")","v":""},"","","","","","","","","","","",0]
[]
["NOTE: MC = missing category."]
[]
["End of worksheet"]

{"sheet":"Category Set A by Basis of Exit","index":6,"n_rows":218,"n_cols":43,"rows_kept":218,"cut":false,"hidden":false,"merged":[[0,0,0,13],[217,0,217,14],[3,7,3,11],[4,7,4,11],[6,7,6,11],[7,7,7,11],[191,1,191,13],[202,0,202,13],[203,0,204,0],[203,1,203,13],[127,0,127,13],[128,0,129,0],[128,1,128,13],[116,0,117,0],[116,1,116,13],[215,0,215,1],[11,7,11,11],[13,7,13,11],[189,0,189,13],[178,0,179,0],[178,1,178,13],[177,0,177,13],[164,0,164,13],[165,0,165,13],[166,0,167,0],[40,0,40,13],[166,1,166,13],[90,0,90,13],[141,0,142,0],[141,1,141,13],[102,0,102,13],[103,0,104,0],[78,0,79,0],[78,1,78,13],[103,1,103,13],[152,0,152,13],[153,0,154,0],[153,1,153,13],[114,0,114,13],[115,0,115,13],[191,29,192,29],[191,30,191,42],[116,29,117,29],[116,30,116,42],[91,29,92,29],[91,30,91,42],[141,29,142,29],[141,30,141,42],[166,29,167,29],[166,30,166,42],[190,0,190,13],[191,0,192,0],[91,0,92,0],[91,1,91,13],[8,7,8,11],[9,7,9,11],[10,7,10,11],[39,0,39,13],[16,0,17,0],[16,1,16,13],[27,0,27,13],[28,0,29,0],[15,0,15,13],[41,0,42,0],[139,0,139,13],[140,0,140,13],[66,29,67,29],[66,30,66,42],[5,7,5,11],[53,1,53,13],[53,0,54,0],[66,0,67,0],[66,1,66,13],[28,1,28,13],[16,29,17,29],[16,30,16,42],[41,29,42,29],[41,30,41,42],[41,1,41,13],[65,0,65,13],[0,14,213,14],[2,7,2,11]]}
[{"$f":"\"IDEA Exiting Data for School Year \"&'Exiting (FS009)'!E12","v":"IDEA Exiting Data for School Year "},null,null,null,null,null,null,null,null,null,null,null,null,null,"End of worksheet",null,{"$f":"Subtotals!Q1","v":"MC"},{"$f":"Subtotals!R1","v":"Y"}]
[]
[null,null,null,null,null,null,null,"Basis of exit",null,null,null,null,"Calculated total for Category \nSet A","Subtotals by basis of exit from FS009"]
[null,null,null,null,null,null,null,"Transferred to regular education",null,null,null,null,{"$f":"N27","v":""},{"$f":"IFERROR(HYPERLINK(\"#'Exiting (FS009)'!\"&ADDRESS(ROW(INDEX(CurrentListing,MATCH('Category Set A by Basis of Exit'!AC27,CurrentListing,0),1)),25),AQ27),HYPERLINK(\"#'Exiting (FS009)'!\"&\"$AA$10\",AQ27))","v":"MC"}]
[null,null,null,null,null,null,null,"Graduated with regular high school diploma",null,null,null,null,{"$f":"N52","v":""},{"$f":"IFERROR(HYPERLINK(\"#'Exiting (FS009)'!\"&ADDRESS(ROW(INDEX(CurrentListing,MATCH('Category Set A by Basis of Exit'!AC52,CurrentListing,0),1)),25),AQ52),HYPERLINK(\"#'Exiting (FS009)'!\"&\"$AA$10\",AQ52))","v":"MC"}]
[null,null,null,null,null,null,null,"Graduated with an alternate diploma",null,null,null,null,{"$f":"N77","v":""},{"$f":"IFERROR(HYPERLINK(\"#'Exiting (FS009)'!\"&ADDRESS(ROW(INDEX(CurrentListing,MATCH('Category Set A by Basis of Exit'!AC77,CurrentListing,0),1)),25),AQ77),HYPERLINK(\"#'Exiting (FS009)'!\"&\"$AA$10\",AQ77))","v":"MC"}]
[null,null,null,null,null,null,null,"Received a certificate",null,null,null,null,{"$f":"N102","v":""},{"$f":"IFERROR(HYPERLINK(\"#'Exiting (FS009)'!\"&ADDRESS(ROW(INDEX(CurrentListing,MATCH('Category Set A by Basis of Exit'!AC102,CurrentListing,0),1)),25),AQ102),HYPERLINK(\"#'Exiting (FS009)'!\"&\"$$AA$10\",AQ102))","v":"MC"}]
[null,null,null,null,null,null,null,"Reached maximum age",null,null,null,null,{"$f":" N127","v":""},{"$f":"IFERROR(HYPERLINK(\"#'Exiting (FS009)'!\"&ADDRESS(ROW(INDEX(CurrentListing,MATCH('Category Set A by Basis of Exit'!AC127,CurrentListing,0),1)),25),AQ127),HYPERLINK(\"#'Exiting (FS009)'!\"&\"$AA$10\",AQ127))","v":"MC"}]
[null,null,null,null,null,null,null,"Died",null,null,null,null,{"$f":"N152","v":""},{"$f":"IFERROR(HYPERLINK(\"#'Exiting (FS009)'!\"&ADDRESS(ROW(INDEX(CurrentListing,MATCH('Category Set A by Basis of Exit'!AC152,CurrentListing,0),1)),25),AQ152),HYPERLINK(\"#'Exiting (FS009)'!\"&\"$AA$10\",AQ152))","v":"MC"}]
[null,null,null,null,null,null,null,"Moved, known to be continuing",null,null,null,null,{"$f":"N177","v":""},{"$f":"IFERROR(HYPERLINK(\"#'Exiting (FS009)'!\"&ADDRESS(ROW(INDEX(CurrentListing,MATCH('Category Set A by Basis of Exit'!AC177,CurrentListing,0),1)),25),AQ177),HYPERLINK(\"#'Exiting (FS009)'!\"&\"$AA$10\",AQ177))","v":"MC"}]
[null,null,null,null,null,null,null,"Dropped out",null,null,null,null,{"$f":"N202","v":""},{"$f":"IFERROR(HYPERLINK(\"#'Exiting (FS009)'!\"&ADDRESS(ROW(INDEX(CurrentListing,MATCH('Category Set A by Basis of Exit'!AC202,CurrentListing,0),1)),25),AQ202),HYPERLINK(\"#'Exiting (FS009)'!\"&\"$AA$10\",AQ202))","v":"MC"}]
[null,null,null,null,null,null,null,"Calculated total by basis of exit",null,null,null,null,{"$f":"IF(SUM(M4:M11), SUM(M4:M11), \"\")","v":""}]
[]
[null,null,null,null,null,null,null,"Total of the education unit",null,null,null,null,null,{"$f":"IFERROR(HYPERLINK(\"#'Exiting (FS009)'!\"&ADDRESS(ROW(INDEX(CurrentListing,MATCH(R1,CurrentListing,0),1)),25),Q1),HYPERLINK(\"#'Exiting (FS009)'!\"&\"$AA$10\",Q1))","v":"MC"}]
[]
["Category Set A – Children with disabilities (IDEA) exiting special education, by basis of exit, disability category, and age",null,null,null,null,null,null,null,null,null,null,null,null,null,null,null,"Transferred to regular education"]
["Student count by age","Transferred to regular education",null,null,null,null,null,null,null,null,null,null,null,null,null,null,null,null,null,null,null,null,null,null,null,null,null,null,null,"Student counts by age",{"$f":"B17","v":"Transferred to regular education"}]
[null,"Intellectual\ndisability","Hearing\nimpairment","Speech or\nlanguage\nimpairment","Visual\nimpairment","Emotional\ndisturbance","Orthopedic\nimpairment","Other\nhealth\nimpairment","Specific\nlearning\ndisability","Deaf-\nblindness","Multiple\ndisabilities","Autism","Traumatic\nbrain\ninjury","Total",null,null,null,null,null,null,null,null,null,null,null,null,null,null,null,null,"Intellectual\nDisability","Hearing\nImpairments","Speech or\nLanguage\nImpairments","Visual\nImpairments","Emotional\nDisturbance","Orthopedic\nImpairments","Other\nHealth\nImpairments","Specific\nLearning\nDisabilities","Deaf-\nBlindness","Multiple\nDisabilities","Autism","Traumatic\nBrain\nInjury","Total"]
[14,{"$f":"IFERROR(HYPERLINK(\"#'Exiting (FS009)'!\"&ADDRESS(ROW(INDEX(CurrentListing,MATCH('Category Set A by Basis of Exit'!Q19,CurrentListing,0),1)),25),AE19),HYPERLINK(\"#'Exiting (FS009)'!\"&\"$AA$10\",AE19))","v":"MC"},{"$f":"IFERROR(HYPERLINK(\"#'Exiting (FS009)'!\"&ADDRESS(ROW(INDEX(CurrentListing,MATCH('Category Set A by Basis of Exit'!R19,CurrentListing,0),1)),25),AF19),HYPERLINK(\"#'Exiting (FS009)'!\"&\"$AA$10\",AF19))","v":"MC"},{"$f":"IFERROR(HYPERLINK(\"#'Exiting (FS009)'!\"&ADDRESS(ROW(INDEX(CurrentListing,MATCH('Category Set A by Basis of Exit'!S19,CurrentListing,0),1)),25),AG19),HYPERLINK(\"#'Exiting (FS009)'!\"&\"$AA$10\",AG19))","v":"MC"},{"$f":"IFERROR(HYPERLINK(\"#'Exiting (FS009)'!\"&ADDRESS(ROW(INDEX(CurrentListing,MATCH('Category Set A by Basis of Exit'!T19,CurrentListing,0),1)),25),AH19),HYPERLINK(\"#'Exiting (FS009)'!\"&\"$AA$10\",AH19))","v":"MC"},{"$f":"IFERROR(HYPERLINK(\"#'Exiting (FS009)'!\"&ADDRESS(ROW(INDEX(CurrentListing,MATCH('Category Set A by Basis of Exit'!U19,CurrentListing,0),1)),25),AI19),HYPERLINK(\"#'Exiting (FS009)'!\"&\"$AA$10\",AI19))","v":"MC"},{"$f":"IFERROR(HYPERLINK(\"#'Exiting (FS009)'!\"&ADDRESS(ROW(INDEX(CurrentListing,MATCH('Category Set A by Basis of Exit'!V19,CurrentListing,0),1)),25),AJ19),HYPERLINK(\"#'Exiting (FS009)'!\"&\"$AA$10\",AJ19))","v":"MC"},{"$f":"IFERROR(HYPERLINK(\"#'Exiting (FS009)'!\"&ADDRESS(ROW(INDEX(CurrentListing,MATCH('Category Set A by Basis of Exit'!W19,CurrentListing,0),1)),25),AK19),HYPERLINK(\"#'Exiting (FS009)'!\"&\"$AA$10\",AK19))","v":"MC"},{"$f":"IFERROR(HYPERLINK(\"#'Exiting (FS009)'!\"&ADDRESS(ROW(INDEX(CurrentListing,MATCH('Category Set A by Basis of Exit'!X19,CurrentListing,0),1)),25),AL19),HYPERLINK(\"#'Exiting (FS009)'!\"&\"$AA$10\",AL19))","v":"MC"},{"$f":"IFERROR(HYPERLINK(\"#'Exiting (FS009)'!\"&ADDRESS(ROW(INDEX(CurrentListing,MATCH('Category Set A by Basis of Exit'!Y19,CurrentListing,0),1)),25),AM19),HYPERLINK(\"#'Exiting (FS009)'!\"&\"$AA$10\",AM19))","v":"MC"},{"$f":"IFERROR(HYPERLINK(\"#'Exiting (FS009)'!\"&ADDRESS(ROW(INDEX(CurrentListing,MATCH('Category Set A by Basis of Exit'!Z19,CurrentListing,0),1)),25),AN19),HYPERLINK(\"#'Exiting (FS009)'!\"&\"$AA$10\",AN19))","v":"MC"},{"$f":"IFERROR(HYPERLINK(\"#'Exiting (FS009)'!\"&ADDRESS(ROW(INDEX(CurrentListing,MATCH('Category Set A by Basis of Exit'!AA19,CurrentListing,0),1)),25),AO19),HYPERLINK(\"#'Exiting (FS009)'!\"&\"$AA$10\",AO19))","v":"MC"},{"$f":"IFERROR(HYPERLINK(\"#'Exiting (FS009)'!\"&ADDRESS(ROW(INDEX(CurrentListing,MATCH('Category Set A by Basis of Exit'!AB19,CurrentListing,0),1)),25),AP19),HYPERLINK(\"#'Exiting (FS009)'!\"&\"$AA$10\",AP19))","v":"MC"},{"$f":"IF(SUM(B19:M19)>=0, SUM(B19:M19), \"\")","v":0},null,null,"ID14TRANN","HI14TRANN","SLI14TRANN","VI14TRANN","EMN14TRANN","OI14TRANN","OHI14TRANN","SLD14TRANN","DB14TRANN","MD14TRANN","AUT14TRANN","TBI14TRANN",null,14,{"$f":"IFERROR(IF(INDEX(StudCntC009,MATCH(Q19,CurrentListing,0))=\"\",\"No Data\",INDEX(StudCntC009,MATCH(Q19,CurrentListing,0))),\"MC\")","v":"MC"},{"$f":"IFERROR(IF(INDEX(StudCntC009,MATCH(R19,CurrentListing,0))=\"\",\"No Data\",INDEX(StudCntC009,MATCH(R19,CurrentListing,0))),\"MC\")","v":"MC"},"MC","MC","MC","MC","MC","MC","MC","MC","MC","MC",{"$f":"SUM(AE19:AP19)","v":0}]
[15,{"$f":"IFERROR(HYPERLINK(\"#'Exiting (FS009)'!\"&ADDRESS(ROW(INDEX(CurrentListing,MATCH('Category Set A by Basis of Exit'!Q20,CurrentListing,0),1)),25),AE20),HYPERLINK(\"#'Exiting (FS009)'!\"&\"$AA$10\",AE20))","v":"MC"},{"$f":"IFERROR(HYPERLINK(\"#'Exiting (FS009)'!\"&ADDRESS(ROW(INDEX(CurrentListing,MATCH('Category Set A by Basis of Exit'!R20,CurrentListing,0),1)),25),AF20),HYPERLINK(\"#'Exiting (FS009)'!\"&\"$AA$10\",AF20))","v":"MC"},{"$f":"IFERROR(HYPERLINK(\"#'Exiting (FS009)'!\"&ADDRESS(ROW(INDEX(CurrentListing,MATCH('Category Set A by Basis of Exit'!S20,CurrentListing,0),1)),25),AG20),HYPERLINK(\"#'Exiting (FS009)'!\"&\"$AA$10\",AG20))","v":"MC"},{"$f":"IFERROR(HYPERLINK(\"#'Exiting (FS009)'!\"&ADDRESS(ROW(INDEX(CurrentListing,MATCH('Category Set A by Basis of Exit'!T20,CurrentListing,0),1)),25),AH20),HYPERLINK(\"#'Exiting (FS009)'!\"&\"$AA$10\",AH20))","v":"MC"},{"$f":"IFERROR(HYPERLINK(\"#'Exiting (FS009)'!\"&ADDRESS(ROW(INDEX(CurrentListing,MATCH('Category Set A by Basis of Exit'!U20,CurrentListing,0),1)),25),AI20),HYPERLINK(\"#'Exiting (FS009)'!\"&\"$AA$10\",AI20))","v":"MC"},{"$f":"IFERROR(HYPERLINK(\"#'Exiting (FS009)'!\"&ADDRESS(ROW(INDEX(CurrentListing,MATCH('Category Set A by Basis of Exit'!V20,CurrentListing,0),1)),25),AJ20),HYPERLINK(\"#'Exiting (FS009)'!\"&\"$AA$10\",AJ20))","v":"MC"},{"$f":"IFERROR(HYPERLINK(\"#'Exiting (FS009)'!\"&ADDRESS(ROW(INDEX(CurrentListing,MATCH('Category Set A by Basis of Exit'!W20,CurrentListing,0),1)),25),AK20),HYPERLINK(\"#'Exiting (FS009)'!\"&\"$AA$10\",AK20))","v":"MC"},{"$f":"IFERROR(HYPERLINK(\"#'Exiting (FS009)'!\"&ADDRESS(ROW(INDEX(CurrentListing,MATCH('Category Set A by Basis of Exit'!X20,CurrentListing,0),1)),25),AL20),HYPERLINK(\"#'Exiting (FS009)'!\"&\"$AA$10\",AL20))","v":"MC"},{"$f":"IFERROR(HYPERLINK(\"#'Exiting (FS009)'!\"&ADDRESS(ROW(INDEX(CurrentListing,MATCH('Category Set A by Basis of Exit'!Y20,CurrentListing,0),1)),25),AM20),HYPERLINK(\"#'Exiting (FS009)'!\"&\"$AA$10\",AM20))","v":"MC"},{"$f":"IFERROR(HYPERLINK(\"#'Exiting (FS009)'!\"&ADDRESS(ROW(INDEX(CurrentListing,MATCH('Category Set A by Basis of Exit'!Z20,CurrentListing,0),1)),25),AN20),HYPERLINK(\"#'Exiting (FS009)'!\"&\"$AA$10\",AN20))","v":"MC"},{"$f":"IFERROR(HYPERLINK(\"#'Exiting (FS009)'!\"&ADDRESS(ROW(INDEX(CurrentListing,MATCH('Category Set A by Basis of Exit'!AA20,CurrentListing,0),1)),25),AO20),HYPERLINK(\"#'Exiting (FS009)'!\"&\"$AA$10\",AO20))","v":"MC"},{"$f":"IFERROR(HYPERLINK(\"#'Exiting (FS009)'!\"&ADDRESS(ROW(INDEX(CurrentListing,MATCH('Category Set A by Basis of Exit'!AB20,CurrentListing,0),1)),25),AP20),HYPERLINK(\"#'Exiting (FS009)'!\"&\"$AA$10\",AP20))","v":"MC"},{"$f":"IF(SUM(B20:M20)>=0, SUM(B20:M20), \"\")","v":0},null,null,"ID15TRANN","HI15TRANN","SLI15TRANN","VI15TRANN","EMN15TRANN","OI15TRANN","OHI15TRANN","SLD15TRANN","DB15TRANN","MD15TRANN","AUT15TRANN","TBI15TRANN",null,15,"MC","MC","MC","MC","MC","MC","MC","MC","MC","MC","MC","MC",{"$f":"SUM(AE20:AP20)","v":0}]
[16,{"$f":"IFERROR(HYPERLINK(\"#'Exiting (FS009)'!\"&ADDRESS(ROW(INDEX(CurrentListing,MATCH('Category Set A by Basis of Exit'!Q21,CurrentListing,0),1)),25),AE21),HYPERLINK(\"#'Exiting (FS009)'!\"&\"$AA$10\",AE21))","v":"MC"},{"$f":"IFERROR(HYPERLINK(\"#'Exiting (FS009)'!\"&ADDRESS(ROW(INDEX(CurrentListing,MATCH('Category Set A by Basis of Exit'!R21,CurrentListing,0),1)),25),AF21),HYPERLINK(\"#'Exiting (FS009)'!\"&\"$AA$10\",AF21))","v":"MC"},{"$f":"IFERROR(HYPERLINK(\"#'Exiting (FS009)'!\"&ADDRESS(ROW(INDEX(CurrentListing,MATCH('Category Set A by Basis of Exit'!S21,CurrentListing,0),1)),25),AG21),HYPERLINK(\"#'Exiting (FS009)'!\"&\"$AA$10\",AG21))","v":"MC"},{"$f":"IFERROR(HYPERLINK(\"#'Exiting (FS009)'!\"&ADDRESS(ROW(INDEX(CurrentListing,MATCH('Category Set A by Basis of Exit'!T21,CurrentListing,0),1)),25),AH21),HYPERLINK(\"#'Exiting (FS009)'!\"&\"$AA$10\",AH21))","v":"MC"},{"$f":"IFERROR(HYPERLINK(\"#'Exiting (FS009)'!\"&ADDRESS(ROW(INDEX(CurrentListing,MATCH('Category Set A by Basis of Exit'!U21,CurrentListing,0),1)),25),AI21),HYPERLINK(\"#'Exiting (FS009)'!\"&\"$AA$10\",AI21))","v":"MC"},{"$f":"IFERROR(HYPERLINK(\"#'Exiting (FS009)'!\"&ADDRESS(ROW(INDEX(CurrentListing,MATCH('Category Set A by Basis of Exit'!V21,CurrentListing,0),1)),25),AJ21),HYPERLINK(\"#'Exiting (FS009)'!\"&\"$AA$10\",AJ21))","v":"MC"},{"$f":"IFERROR(HYPERLINK(\"#'Exiting (FS009)'!\"&ADDRESS(ROW(INDEX(CurrentListing,MATCH('Category Set A by Basis of Exit'!W21,CurrentListing,0),1)),25),AK21),HYPERLINK(\"#'Exiting (FS009)'!\"&\"$AA$10\",AK21))","v":"MC"},{"$f":"IFERROR(HYPERLINK(\"#'Exiting (FS009)'!\"&ADDRESS(ROW(INDEX(CurrentListing,MATCH('Category Set A by Basis of Exit'!X21,CurrentListing,0),1)),25),AL21),HYPERLINK(\"#'Exiting (FS009)'!\"&\"$AA$10\",AL21))","v":"MC"},{"$f":"IFERROR(HYPERLINK(\"#'Exiting (FS009)'!\"&ADDRESS(ROW(INDEX(CurrentListing,MATCH('Category Set A by Basis of Exit'!Y21,CurrentListing,0),1)),25),AM21),HYPERLINK(\"#'Exiting (FS009)'!\"&\"$AA$10\",AM21))","v":"MC"},{"$f":"IFERROR(HYPERLINK(\"#'Exiting (FS009)'!\"&ADDRESS(ROW(INDEX(CurrentListing,MATCH('Category Set A by Basis of Exit'!Z21,CurrentListing,0),1)),25),AN21),HYPERLINK(\"#'Exiting (FS009)'!\"&\"$AA$10\",AN21))","v":"MC"},{"$f":"IFERROR(HYPERLINK(\"#'Exiting (FS009)'!\"&ADDRESS(ROW(INDEX(CurrentListing,MATCH('Category Set A by Basis of Exit'!AA21,CurrentListing,0),1)),25),AO21),HYPERLINK(\"#'Exiting (FS009)'!\"&\"$AA$10\",AO21))","v":"MC"},{"$f":"IFERROR(HYPERLINK(\"#'Exiting (FS009)'!\"&ADDRESS(ROW(INDEX(CurrentListing,MATCH('Category Set A by Basis of Exit'!AB21,CurrentListing,0),1)),25),AP21),HYPERLINK(\"#'Exiting (FS009)'!\"&\"$AA$10\",AP21))","v":"MC"},0,null,null,"ID16TRANN","HI16TRANN","SLI16TRANN","VI16TRANN","EMN16TRANN","OI16TRANN","OHI16TRANN","SLD16TRANN","DB16TRANN","MD16TRANN","AUT16TRANN","TBI16TRANN",null,16,"MC","MC","MC","MC","MC","MC","MC","MC","MC","MC","MC","MC",0]
[17,{"$f":"IFERROR(HYPERLINK(\"#'Exiting (FS009)'!\"&ADDRESS(ROW(INDEX(CurrentListing,MATCH('Category Set A by Basis of Exit'!Q22,CurrentListing,0),1)),25),AE22),HYPERLINK(\"#'Exiting (FS009)'!\"&\"$AA$10\",AE22))","v":"MC"},{"$f":"IFERROR(HYPERLINK(\"#'Exiting (FS009)'!\"&ADDRESS(ROW(INDEX(CurrentListing,MATCH('Category Set A by Basis of Exit'!R22,CurrentListing,0),1)),25),AF22),HYPERLINK(\"#'Exiting (FS009)'!\"&\"$AA$10\",AF22))","v":"MC"},{"$f":"IFERROR(HYPERLINK(\"#'Exiting (FS009)'!\"&ADDRESS(ROW(INDEX(CurrentListing,MATCH('Category Set A by Basis of Exit'!S22,CurrentListing,0),1)),25),AG22),HYPERLINK(\"#'Exiting (FS009)'!\"&\"$AA$10\",AG22))","v":"MC"},{"$f":"IFERROR(HYPERLINK(\"#'Exiting (FS009)'!\"&ADDRESS(ROW(INDEX(CurrentListing,MATCH('Category Set A by Basis of Exit'!T22,CurrentListing,0),1)),25),AH22),HYPERLINK(\"#'Exiting (FS009)'!\"&\"$AA$10\",AH22))","v":"MC"},{"$f":"IFERROR(HYPERLINK(\"#'Exiting (FS009)'!\"&ADDRESS(ROW(INDEX(CurrentListing,MATCH('Category Set A by Basis of Exit'!U22,CurrentListing,0),1)),25),AI22),HYPERLINK(\"#'Exiting (FS009)'!\"&\"$AA$10\",AI22))","v":"MC"},{"$f":"IFERROR(HYPERLINK(\"#'Exiting (FS009)'!\"&ADDRESS(ROW(INDEX(CurrentListing,MATCH('Category Set A by Basis of Exit'!V22,CurrentListing,0),1)),25),AJ22),HYPERLINK(\"#'Exiting (FS009)'!\"&\"$AA$10\",AJ22))","v":"MC"},{"$f":"IFERROR(HYPERLINK(\"#'Exiting (FS009)'!\"&ADDRESS(ROW(INDEX(CurrentListing,MATCH('Category Set A by Basis of Exit'!W22,CurrentListing,0),1)),25),AK22),HYPERLINK(\"#'Exiting (FS009)'!\"&\"$AA$10\",AK22))","v":"MC"},{"$f":"IFERROR(HYPERLINK(\"#'Exiting (FS009)'!\"&ADDRESS(ROW(INDEX(CurrentListing,MATCH('Category Set A by Basis of Exit'!X22,CurrentListing,0),1)),25),AL22),HYPERLINK(\"#'Exiting (FS009)'!\"&\"$AA$10\",AL22))","v":"MC"},{"$f":"IFERROR(HYPERLINK(\"#'Exiting (FS009)'!\"&ADDRESS(ROW(INDEX(CurrentListing,MATCH('Category Set A by Basis of Exit'!Y22,CurrentListing,0),1)),25),AM22),HYPERLINK(\"#'Exiting (FS009)'!\"&\"$AA$10\",AM22))","v":"MC"},{"$f":"IFERROR(HYPERLINK(\"#'Exiting (FS009)'!\"&ADDRESS(ROW(INDEX(CurrentListing,MATCH('Category Set A by Basis of Exit'!Z22,CurrentListing,0),1)),25),AN22),HYPERLINK(\"#'Exiting (FS009)'!\"&\"$AA$10\",AN22))","v":"MC"},{"$f":"IFERROR(HYPERLINK(\"#'Exiting (FS009)'!\"&ADDRESS(ROW(INDEX(CurrentListing,MATCH('Category Set A by Basis of Exit'!AA22,CurrentListing,0),1)),25),AO22),HYPERLINK(\"#'Exiting (FS009)'!\"&\"$AA$10\",AO22))","v":"MC"},{"$f":"IFERROR(HYPERLINK(\"#'Exiting (FS009)'!\"&ADDRESS(ROW(INDEX(CurrentListing,MATCH('Category Set A by Basis of Exit'!AB22,CurrentListing,0),1)),25),AP22),HYPERLINK(\"#'Exiting (FS009)'!\"&\"$AA$10\",AP22))","v":"MC"},0,null,null,"ID17TRANN","HI17TRANN","SLI17TRANN","VI17TRANN","EMN17TRANN","OI17TRANN","OHI17TRANN","SLD17TRANN","DB17TRANN","MD17TRANN","AUT17TRANN","TBI17TRANN",null,17,"MC","MC","MC","MC","MC","MC","MC","MC","MC","MC","MC","MC",0]
[18,{"$f":"IFERROR(HYPERLINK(\"#'Exiting (FS009)'!\"&ADDRESS(ROW(INDEX(CurrentListing,MATCH('Category Set A by Basis of Exit'!Q23,CurrentListing,0),1)),25),AE23),HYPERLINK(\"#'Exiting (FS009)'!\"&\"$AA$10\",AE23))","v":"MC"},{"$f":"IFERROR(HYPERLINK(\"#'Exiting (FS009)'!\"&ADDRESS(ROW(INDEX(CurrentListing,MATCH('Category Set A by Basis of Exit'!R23,CurrentListing,0),1)),25),AF23),HYPERLINK(\"#'Exiting (FS009)'!\"&\"$AA$10\",AF23))","v":"MC"},{"$f":"IFERROR(HYPERLINK(\"#'Exiting (FS009)'!\"&ADDRESS(ROW(INDEX(CurrentListing,MATCH('Category Set A by Basis of Exit'!S23,CurrentListing,0),1)),25),AG23),HYPERLINK(\"#'Exiting (FS009)'!\"&\"$AA$10\",AG23))","v":"MC"},{"$f":"IFERROR(HYPERLINK(\"#'Exiting (FS009)'!\"&ADDRESS(ROW(INDEX(CurrentListing,MATCH('Category Set A by Basis of Exit'!T23,CurrentListing,0),1)),25),AH23),HYPERLINK(\"#'Exiting (FS009)'!\"&\"$AA$10\",AH23))","v":"MC"},{"$f":"IFERROR(HYPERLINK(\"#'Exiting (FS009)'!\"&ADDRESS(ROW(INDEX(CurrentListing,MATCH('Category Set A by Basis of Exit'!U23,CurrentListing,0),1)),25),AI23),HYPERLINK(\"#'Exiting (FS009)'!\"&\"$AA$10\",AI23))","v":"MC"},{"$f":"IFERROR(HYPERLINK(\"#'Exiting (FS009)'!\"&ADDRESS(ROW(INDEX(CurrentListing,MATCH('Category Set A by Basis of Exit'!V23,CurrentListing,0),1)),25),AJ23),HYPERLINK(\"#'Exiting (FS009)'!\"&\"$AA$10\",AJ23))","v":"MC"},{"$f":"IFERROR(HYPERLINK(\"#'Exiting (FS009)'!\"&ADDRESS(ROW(INDEX(CurrentListing,MATCH('Category Set A by Basis of Exit'!W23,CurrentListing,0),1)),25),AK23),HYPERLINK(\"#'Exiting (FS009)'!\"&\"$AA$10\",AK23))","v":"MC"},{"$f":"IFERROR(HYPERLINK(\"#'Exiting (FS009)'!\"&ADDRESS(ROW(INDEX(CurrentListing,MATCH('Category Set A by Basis of Exit'!X23,CurrentListing,0),1)),25),AL23),HYPERLINK(\"#'Exiting (FS009)'!\"&\"$AA$10\",AL23))","v":"MC"},{"$f":"IFERROR(HYPERLINK(\"#'Exiting (FS009)'!\"&ADDRESS(ROW(INDEX(CurrentListing,MATCH('Category Set A by Basis of Exit'!Y23,CurrentListing,0),1)),25),AM23),HYPERLINK(\"#'Exiting (FS009)'!\"&\"$AA$10\",AM23))","v":"MC"},{"$f":"IFERROR(HYPERLINK(\"#'Exiting (FS009)'!\"&ADDRESS(ROW(INDEX(CurrentListing,MATCH('Category Set A by Basis of Exit'!Z23,CurrentListing,0),1)),25),AN23),HYPERLINK(\"#'Exiting (FS009)'!\"&\"$AA$10\",AN23))","v":"MC"},{"$f":"IFERROR(HYPERLINK(\"#'Exiting (FS009)'!\"&ADDRESS(ROW(INDEX(CurrentListing,MATCH('Category Set A by Basis of Exit'!AA23,CurrentListing,0),1)),25),AO23),HYPERLINK(\"#'Exiting (FS009)'!\"&\"$AA$10\",AO23))","v":"MC"},{"$f":"IFERROR(HYPERLINK(\"#'Exiting (FS009)'!\"&ADDRESS(ROW(INDEX(CurrentListing,MATCH('Category Set A by Basis of Exit'!AB23,CurrentListing,0),1)),25),AP23),HYPERLINK(\"#'Exiting (FS009)'!\"&\"$AA$10\",AP23))","v":"MC"},0,null,null,"ID18TRANN","HI18TRANN","SLI18TRANN","VI18TRANN","EMN18TRANN","OI18TRANN","OHI18TRANN","SLD18TRANN","DB18TRANN","MD18TRANN","AUT18TRANN","TBI18TRANN",null,18,"MC","MC","MC","MC","MC","MC","MC","MC","MC","MC","MC","MC",0]
[19,{"$f":"IFERROR(HYPERLINK(\"#'Exiting (FS009)'!\"&ADDRESS(ROW(INDEX(CurrentListing,MATCH('Category Set A by Basis of Exit'!Q24,CurrentListing,0),1)),25),AE24),HYPERLINK(\"#'Exiting (FS009)'!\"&\"$AA$10\",AE24))","v":"MC"},{"$f":"IFERROR(HYPERLINK(\"#'Exiting (FS009)'!\"&ADDRESS(ROW(INDEX(CurrentListing,MATCH('Category Set A by Basis of Exit'!R24,CurrentListing,0),1)),25),AF24),HYPERLINK(\"#'Exiting (FS009)'!\"&\"$AA$10\",AF24))","v":"MC"},{"$f":"IFERROR(HYPERLINK(\"#'Exiting (FS009)'!\"&ADDRESS(ROW(INDEX(CurrentListing,MATCH('Category Set A by Basis of Exit'!S24,CurrentListing,0),1)),25),AG24),HYPERLINK(\"#'Exiting (FS009)'!\"&\"$AA$10\",AG24))","v":"MC"},{"$f":"IFERROR(HYPERLINK(\"#'Exiting (FS009)'!\"&ADDRESS(ROW(INDEX(CurrentListing,MATCH('Category Set A by Basis of Exit'!T24,CurrentListing,0),1)),25),AH24),HYPERLINK(\"#'Exiting (FS009)'!\"&\"$AA$10\",AH24))","v":"MC"},{"$f":"IFERROR(HYPERLINK(\"#'Exiting (FS009)'!\"&ADDRESS(ROW(INDEX(CurrentListing,MATCH('Category Set A by Basis of Exit'!U24,CurrentListing,0),1)),25),AI24),HYPERLINK(\"#'Exiting (FS009)'!\"&\"$AA$10\",AI24))","v":"MC"},{"$f":"IFERROR(HYPERLINK(\"#'Exiting (FS009)'!\"&ADDRESS(ROW(INDEX(CurrentListing,MATCH('Category Set A by Basis of Exit'!V24,CurrentListing,0),1)),25),AJ24),HYPERLINK(\"#'Exiting (FS009)'!\"&\"$AA$10\",AJ24))","v":"MC"},{"$f":"IFERROR(HYPERLINK(\"#'Exiting (FS009)'!\"&ADDRESS(ROW(INDEX(CurrentListing,MATCH('Category Set A by Basis of Exit'!W24,CurrentListing,0),1)),25),AK24),HYPERLINK(\"#'Exiting (FS009)'!\"&\"$AA$10\",AK24))","v":"MC"},{"$f":"IFERROR(HYPERLINK(\"#'Exiting (FS009)'!\"&ADDRESS(ROW(INDEX(CurrentListing,MATCH('Category Set A by Basis of Exit'!X24,CurrentListing,0),1)),25),AL24),HYPERLINK(\"#'Exiting (FS009)'!\"&\"$AA$10\",AL24))","v":"MC"},{"$f":"IFERROR(HYPERLINK(\"#'Exiting (FS009)'!\"&ADDRESS(ROW(INDEX(CurrentListing,MATCH('Category Set A by Basis of Exit'!Y24,CurrentListing,0),1)),25),AM24),HYPERLINK(\"#'Exiting (FS009)'!\"&\"$AA$10\",AM24))","v":"MC"},{"$f":"IFERROR(HYPERLINK(\"#'Exiting (FS009)'!\"&ADDRESS(ROW(INDEX(CurrentListing,MATCH('Category Set A by Basis of Exit'!Z24,CurrentListing,0),1)),25),AN24),HYPERLINK(\"#'Exiting (FS009)'!\"&\"$AA$10\",AN24))","v":"MC"},{"$f":"IFERROR(HYPERLINK(\"#'Exiting (FS009)'!\"&ADDRESS(ROW(INDEX(CurrentListing,MATCH('Category Set A by Basis of Exit'!AA24,CurrentListing,0),1)),25),AO24),HYPERLINK(\"#'Exiting (FS009)'!\"&\"$AA$10\",AO24))","v":"MC"},{"$f":"IFERROR(HYPERLINK(\"#'Exiting (FS009)'!\"&ADDRESS(ROW(INDEX(CurrentListing,MATCH('Category Set A by Basis of Exit'!AB24,CurrentListing,0),1)),25),AP24),HYPERLINK(\"#'Exiting (FS009)'!\"&\"$AA$10\",AP24))","v":"MC"},0,null,null,"ID19TRANN","HI19TRANN","SLI19TRANN","VI19TRANN","EMN19TRANN","OI19TRANN","OHI19TRANN","SLD19TRANN","DB19TRANN","MD19TRANN","AUT19TRANN","TBI19TRANN",null,19,"MC","MC","MC","MC","MC","MC","MC","MC","MC","MC","MC","MC",0]
[20,{"$f":"IFERROR(HYPERLINK(\"#'Exiting (FS009)'!\"&ADDRESS(ROW(INDEX(CurrentListing,MATCH('Category Set A by Basis of Exit'!Q25,CurrentListing,0),1)),25),AE25),HYPERLINK(\"#'Exiting (FS009)'!\"&\"$AA$10\",AE25))","v":"MC"},{"$f":"IFERROR(HYPERLINK(\"#'Exiting (FS009)'!\"&ADDRESS(ROW(INDEX(CurrentListing,MATCH('Category Set A by Basis of Exit'!R25,CurrentListing,0),1)),25),AF25),HYPERLINK(\"#'Exiting (FS009)'!\"&\"$AA$10\",AF25))","v":"MC"},{"$f":"IFERROR(HYPERLINK(\"#'Exiting (FS009)'!\"&ADDRESS(ROW(INDEX(CurrentListing,MATCH('Category Set A by Basis of Exit'!S25,CurrentListing,0),1)),25),AG25),HYPERLINK(\"#'Exiting (FS009)'!\"&\"$AA$10\",AG25))","v":"MC"},{"$f":"IFERROR(HYPERLINK(\"#'Exiting (FS009)'!\"&ADDRESS(ROW(INDEX(CurrentListing,MATCH('Category Set A by Basis of Exit'!T25,CurrentListing,0),1)),25),AH25),HYPERLINK(\"#'Exiting (FS009)'!\"&\"$AA$10\",AH25))","v":"MC"},{"$f":"IFERROR(HYPERLINK(\"#'Exiting (FS009)'!\"&ADDRESS(ROW(INDEX(CurrentListing,MATCH('Category Set A by Basis of Exit'!U25,CurrentListing,0),1)),25),AI25),HYPERLINK(\"#'Exiting (FS009)'!\"&\"$AA$10\",AI25))","v":"MC"},{"$f":"IFERROR(HYPERLINK(\"#'Exiting (FS009)'!\"&ADDRESS(ROW(INDEX(CurrentListing,MATCH('Category Set A by Basis of Exit'!V25,CurrentListing,0),1)),25),AJ25),HYPERLINK(\"#'Exiting (FS009)'!\"&\"$AA$10\",AJ25))","v":"MC"},{"$f":"IFERROR(HYPERLINK(\"#'Exiting (FS009)'!\"&ADDRESS(ROW(INDEX(CurrentListing,MATCH('Category Set A by Basis of Exit'!W25,CurrentListing,0),1)),25),AK25),HYPERLINK(\"#'Exiting (FS009)'!\"&\"$AA$10\",AK25))","v":"MC"},{"$f":"IFERROR(HYPERLINK(\"#'Exiting (FS009)'!\"&ADDRESS(ROW(INDEX(CurrentListing,MATCH('Category Set A by Basis of Exit'!X25,CurrentListing,0),1)),25),AL25),HYPERLINK(\"#'Exiting (FS009)'!\"&\"$AA$10\",AL25))","v":"MC"},{"$f":"IFERROR(HYPERLINK(\"#'Exiting (FS009)'!\"&ADDRESS(ROW(INDEX(CurrentListing,MATCH('Category Set A by Basis of Exit'!Y25,CurrentListing,0),1)),25),AM25),HYPERLINK(\"#'Exiting (FS009)'!\"&\"$AA$10\",AM25))","v":"MC"},{"$f":"IFERROR(HYPERLINK(\"#'Exiting (FS009)'!\"&ADDRESS(ROW(INDEX(CurrentListing,MATCH('Category Set A by Basis of Exit'!Z25,CurrentListing,0),1)),25),AN25),HYPERLINK(\"#'Exiting (FS009)'!\"&\"$AA$10\",AN25))","v":"MC"},{"$f":"IFERROR(HYPERLINK(\"#'Exiting (FS009)'!\"&ADDRESS(ROW(INDEX(CurrentListing,MATCH('Category Set A by Basis of Exit'!AA25,CurrentListing,0),1)),25),AO25),HYPERLINK(\"#'Exiting (FS009)'!\"&\"$AA$10\",AO25))","v":"MC"},{"$f":"IFERROR(HYPERLINK(\"#'Exiting (FS009)'!\"&ADDRESS(ROW(INDEX(CurrentListing,MATCH('Category Set A by Basis of Exit'!AB25,CurrentListing,0),1)),25),AP25),HYPERLINK(\"#'Exiting (FS009)'!\"&\"$AA$10\",AP25))","v":"MC"},0,null,null,"ID20TRANN","HI20TRANN","SLI20TRANN","VI20TRANN","EMN20TRANN","OI20TRANN","OHI20TRANN","SLD20TRANN","DB20TRANN","MD20TRANN","AUT20TRANN","TBI20TRANN",null,20,"MC","MC","MC","MC","MC","MC","MC","MC","MC","MC","MC","MC",0]
[21,{"$f":"IFERROR(HYPERLINK(\"#'Exiting (FS009)'!\"&ADDRESS(ROW(INDEX(CurrentListing,MATCH('Category Set A by Basis of Exit'!Q26,CurrentListing,0),1)),25),AE26),HYPERLINK(\"#'Exiting (FS009)'!\"&\"$AA$10\",AE26))","v":"MC"},{"$f":"IFERROR(HYPERLINK(\"#'Exiting (FS009)'!\"&ADDRESS(ROW(INDEX(CurrentListing,MATCH('Category Set A by Basis of Exit'!R26,CurrentListing,0),1)),25),AF26),HYPERLINK(\"#'Exiting (FS009)'!\"&\"$AA$10\",AF26))","v":"MC"},{"$f":"IFERROR(HYPERLINK(\"#'Exiting (FS009)'!\"&ADDRESS(ROW(INDEX(CurrentListing,MATCH('Category Set A by Basis of Exit'!S26,CurrentListing,0),1)),25),AG26),HYPERLINK(\"#'Exiting (FS009)'!\"&\"$AA$10\",AG26))","v":"MC"},{"$f":"IFERROR(HYPERLINK(\"#'Exiting (FS009)'!\"&ADDRESS(ROW(INDEX(CurrentListing,MATCH('Category Set A by Basis of Exit'!T26,CurrentListing,0),1)),25),AH26),HYPERLINK(\"#'Exiting (FS009)'!\"&\"$AA$10\",AH26))","v":"MC"},{"$f":"IFERROR(HYPERLINK(\"#'Exiting (FS009)'!\"&ADDRESS(ROW(INDEX(CurrentListing,MATCH('Category Set A by Basis of Exit'!U26,CurrentListing,0),1)),25),AI26),HYPERLINK(\"#'Exiting (FS009)'!\"&\"$AA$10\",AI26))","v":"MC"},{"$f":"IFERROR(HYPERLINK(\"#'Exiting (FS009)'!\"&ADDRESS(ROW(INDEX(CurrentListing,MATCH('Category Set A by Basis of Exit'!V26,CurrentListing,0),1)),25),AJ26),HYPERLINK(\"#'Exiting (FS009)'!\"&\"$AA$10\",AJ26))","v":"MC"},{"$f":"IFERROR(HYPERLINK(\"#'Exiting (FS009)'!\"&ADDRESS(ROW(INDEX(CurrentListing,MATCH('Category Set A by Basis of Exit'!W26,CurrentListing,0),1)),25),AK26),HYPERLINK(\"#'Exiting (FS009)'!\"&\"$AA$10\",AK26))","v":"MC"},{"$f":"IFERROR(HYPERLINK(\"#'Exiting (FS009)'!\"&ADDRESS(ROW(INDEX(CurrentListing,MATCH('Category Set A by Basis of Exit'!X26,CurrentListing,0),1)),25),AL26),HYPERLINK(\"#'Exiting (FS009)'!\"&\"$AA$10\",AL26))","v":"MC"},{"$f":"IFERROR(HYPERLINK(\"#'Exiting (FS009)'!\"&ADDRESS(ROW(INDEX(CurrentListing,MATCH('Category Set A by Basis of Exit'!Y26,CurrentListing,0),1)),25),AM26),HYPERLINK(\"#'Exiting (FS009)'!\"&\"$AA$10\",AM26))","v":"MC"},{"$f":"IFERROR(HYPERLINK(\"#'Exiting (FS009)'!\"&ADDRESS(ROW(INDEX(CurrentListing,MATCH('Category Set A by Basis of Exit'!Z26,CurrentListing,0),1)),25),AN26),HYPERLINK(\"#'Exiting (FS009)'!\"&\"$AA$10\",AN26))","v":"MC"},{"$f":"IFERROR(HYPERLINK(\"#'Exiting (FS009)'!\"&ADDRESS(ROW(INDEX(CurrentListing,MATCH('Category Set A by Basis of Exit'!AA26,CurrentListing,0),1)),25),AO26),HYPERLINK(\"#'Exiting (FS009)'!\"&\"$AA$10\",AO26))","v":"MC"},{"$f":"IFERROR(HYPERLINK(\"#'Exiting (FS009)'!\"&ADDRESS(ROW(INDEX(CurrentListing,MATCH('Category Set A by Basis of Exit'!AB26,CurrentListing,0),1)),25),AP26),HYPERLINK(\"#'Exiting (FS009)'!\"&\"$AA$10\",AP26))","v":"MC"},0,null,null,"ID21TRANN","HI21TRANN","SLI21TRANN","VI21TRANN","EMN21TRANN","OI21TRANN","OHI21TRANN","SLD21TRANN","DB21TRANN","MD21TRANN","AUT21TRANN","TBI21TRANN",null,21,"MC","MC","MC","MC","MC","MC","MC","MC","MC","MC","MC","MC",0]
["Total",{"$f":"IF(SUM(B19:B26)>=0, SUM(B19:B26), \"\")","v":0},{"$f":"IF(SUM(C19:C26)>=0, SUM(C19:C26), \"\")","v":0},0,0,0,0,0,0,0,0,0,0,{"$f":"IF(AND(N4=\"MC\",N5=\"MC\",N6=\"MC\",N7=\"MC\",N8=\"MC\",N9=\"MC\",N10=\"MC\",N11=\"MC\", N14=\"MC\"),\"\",SUM(B19:M26))","v":""},null,null,null,null,null,null,null,null,null,null,null,null,null,null,"TRANY","Total",{"$f":"SUM(AE19:AE26)","v":0},{"$f":"SUM(AF19:AF26)","v":0},0,0,0,0,0,0,0,0,0,0,{"$f":"IFERROR(IF(INDEX(StudCntC009,MATCH(AC27,CurrentListing,0))=\"\",\"No Data\",INDEX(StudCntC009,MATCH(AC27,CurrentListing,0))),\"MC\")","v":"MC"}]
[]
["Percent by age","Transferred to regular education"]
[null,"Intellectual\ndisability\n(percent)","Hearing\nimpairment\n(percent)","Speech or\nlanguage\nimpairment\n(percent)","Visual\nimpairment\n(percent)","Emotional\ndisturbance\n(percent)","Orthopedic\nimpairment\n(percent)","Other\nhealth\nimpairment\n(percent)","Specific\nlearning\ndisability\n(percent)","Deaf-\nblindness\n(percent)","Multiple\ndisabilities\n(percent)","Autism\n(percent)","Traumatic\nbrain\ninjury\n(percent)","Total\n(percent)"]
[14,{"$f":"IF(ISERROR(B19/$N19),IF(B19=\"MC\", \"\",0), B19/$N19)","v":""},"","","","","","","","","","","",{"$f":"SUM(B31:M31)","v":0}]
[15,{"$f":"IF(ISERROR(B20/$N20),IF(B20=\"MC\", \"\",0), B20/$N20)","v":""},"","","","","","","","","","","",{"$f":"SUM(B32:M32)","v":0}]
[16,{"$f":"IF(ISERROR(B21/$N21),IF(B21=\"MC\", \"\",0), B21/$N21)","v":""},"","","","","","","","","","","",0]
[17,{"$f":"IF(ISERROR(B22/$N22),IF(B22=\"MC\", \"\",0), B22/$N22)","v":""},"","","","","","","","","","","",0]
[18,{"$f":"IF(ISERROR(B23/$N23),IF(B23=\"MC\", \"\",0), B23/$N23)","v":""},"","","","","","","","","","","",0]
[19,{"$f":"IF(ISERROR(B24/$N24),IF(B24=\"MC\", \"\",0), B24/$N24)","v":""},"","","","","","","","","","","",0]
[20,{"$f":"IF(ISERROR(B25/$N25),IF(B25=\"MC\", \"\",0), B25/$N25)","v":""},"","","","","","","","","","","",0]
[21,{"$f":"IF(ISERROR(B26/$N26),IF(B26=\"MC\", \"\",0), B26/$N26)","v":""},"","","","","","","","","","","",0]
["Total",{"$f":"IFERROR(IF($N27<>0,B27/$N27,0),\"\")","v":""},"","","","","","","","","","","",0]
[]
["Category Set A – Children with disabilities (IDEA) exiting special education, by basis of exit, disability category, and age",null,null,null,null,null,null,null,null,null,null,null,null,null,null,null,"Graduated with regular high school certificate"]
["Student count by age","Graduated with regular high school diploma",null,null,null,null,null,null,null,null,null,null,null,null,null,null,null,null,null,null,null,null,null,null,null,null,null,null,null,"Student counts by age",{"$f":"B42","v":"Graduated with regular high school diploma"}]
[null,"Intellectual\ndisability","Hearing\nimpairment","Speech or\nlanguage\nimpairment","Visual\nimpairment","Emotional\ndisturbance","Orthopedic\nimpairment","Other\nhealth\nimpairment","Specific\nlearning\ndisability","Deaf-\nblindness","Multiple\ndisabilities","Autism","Traumatic\nbrain\ninjury","Total",null,null,null,null,null,null,null,null,null,null,null,null,null,null,null,null,"Intellectual\nDisability","Hearing\nImpairments","Speech or\nLanguage\nImpairments","Visual\nImpairments","Emotional\nDisturbance","Orthopedic\nImpairments","Other\nHealth\nImpairments","Specific\nLearning\nDisabilities","Deaf-\nBlindness","Multiple\nDisabilities","Autism","Traumatic\nBrain\nInjury","Total"]
[14,{"$f":"IFERROR(HYPERLINK(\"#'Exiting (FS009)'!\"&ADDRESS(ROW(INDEX(CurrentListing,MATCH('Category Set A by Basis of Exit'!Q44,CurrentListing,0),1)),25),AE44),HYPERLINK(\"#'Exiting (FS009)'!\"&\"$AA$10\",AE44))","v":"MC"},{"$f":"IFERROR(HYPERLINK(\"#'Exiting (FS009)'!\"&ADDRESS(ROW(INDEX(CurrentListing,MATCH('Category Set A by Basis of Exit'!R44,CurrentListing,0),1)),25),AF44),HYPERLINK(\"#'Exiting (FS009)'!\"&\"$AA$10\",AF44))","v":"MC"},{"$f":"IFERROR(HYPERLINK(\"#'Exiting (FS009)'!\"&ADDRESS(ROW(INDEX(CurrentListing,MATCH('Category Set A by Basis of Exit'!S44,CurrentListing,0),1)),25),AG44),HYPERLINK(\"#'Exiting (FS009)'!\"&\"$AA$10\",AG44))","v":"MC"},{"$f":"IFERROR(HYPERLINK(\"#'Exiting (FS009)'!\"&ADDRESS(ROW(INDEX(CurrentListing,MATCH('Category Set A by Basis of Exit'!T44,CurrentListing,0),1)),25),AH44),HYPERLINK(\"#'Exiting (FS009)'!\"&\"$AA$10\",AH44))","v":"MC"},{"$f":"IFERROR(HYPERLINK(\"#'Exiting (FS009)'!\"&ADDRESS(ROW(INDEX(CurrentListing,MATCH('Category Set A by Basis of Exit'!U44,CurrentListing,0),1)),25),AI44),HYPERLINK(\"#'Exiting (FS009)'!\"&\"$AA$10\",AI44))","v":"MC"},{"$f":"IFERROR(HYPERLINK(\"#'Exiting (FS009)'!\"&ADDRESS(ROW(INDEX(CurrentListing,MATCH('Category Set A by Basis of Exit'!V44,CurrentListing,0),1)),25),AJ44),HYPERLINK(\"#'Exiting (FS009)'!\"&\"$AA$10\",AJ44))","v":"MC"},{"$f":"IFERROR(HYPERLINK(\"#'Exiting (FS009)'!\"&ADDRESS(ROW(INDEX(CurrentListing,MATCH('Category Set A by Basis of Exit'!W44,CurrentListing,0),1)),25),AK44),HYPERLINK(\"#'Exiting (FS009)'!\"&\"$AA$10\",AK44))","v":"MC"},{"$f":"IFERROR(HYPERLINK(\"#'Exiting (FS009)'!\"&ADDRESS(ROW(INDEX(CurrentListing,MATCH('Category Set A by Basis of Exit'!X44,CurrentListing,0),1)),25),AL44),HYPERLINK(\"#'Exiting (FS009)'!\"&\"$AA$10\",AL44))","v":"MC"},{"$f":"IFERROR(HYPERLINK(\"#'Exiting (FS009)'!\"&ADDRESS(ROW(INDEX(CurrentListing,MATCH('Category Set A by Basis of Exit'!Y44,CurrentListing,0),1)),25),AM44),HYPERLINK(\"#'Exiting (FS009)'!\"&\"$AA$10\",AM44))","v":"MC"},{"$f":"IFERROR(HYPERLINK(\"#'Exiting (FS009)'!\"&ADDRESS(ROW(INDEX(CurrentListing,MATCH('Category Set A by Basis of Exit'!Z44,CurrentListing,0),1)),25),AN44),HYPERLINK(\"#'Exiting (FS009)'!\"&\"$AA$10\",AN44))","v":"MC"},{"$f":"IFERROR(HYPERLINK(\"#'Exiting (FS009)'!\"&ADDRESS(ROW(INDEX(CurrentListing,MATCH('Category Set A by Basis of Exit'!AA44,CurrentListing,0),1)),25),AO44),HYPERLINK(\"#'Exiting (FS009)'!\"&\"$AA$10\",AO44))","v":"MC"},{"$f":"IFERROR(HYPERLINK(\"#'Exiting (FS009)'!\"&ADDRESS(ROW(INDEX(CurrentListing,MATCH('Category Set A by Basis of Exit'!AB44,CurrentListing,0),1)),25),AP44),HYPERLINK(\"#'Exiting (FS009)'!\"&\"$AA$10\",AP44))","v":"MC"},{"$f":"IF(SUM(B44:M44)>=0, SUM(B44:M44), \"\")","v":0},null,null,"ID14GHSN","HI14GHSN","SLI14GHSN","VI14GHSN","EMN14GHSN","OI14GHSN","OHI14GHSN","SLD14GHSN","DB14GHSN","MD14GHSN","AUT14GHSN","TBI14GHSN",null,14,{"$f":"IFERROR(IF(INDEX(StudCntC009,MATCH(Q44,CurrentListing,0))=\"\",\"No Data\",INDEX(StudCntC009,MATCH(Q44,CurrentListing,0))),\"MC\")","v":"MC"},"MC","MC","MC","MC","MC","MC","MC","MC","MC","MC","MC",{"$f":"SUM(AE44:AP44)","v":0}]
[15,{"$f":"IFERROR(HYPERLINK(\"#'Exiting (FS009)'!\"&ADDRESS(ROW(INDEX(CurrentListing,MATCH('Category Set A by Basis of Exit'!Q45,CurrentListing,0),1)),25),AE45),HYPERLINK(\"#'Exiting (FS009)'!\"&\"$AA$10\",AE45))","v":"MC"},{"$f":"IFERROR(HYPERLINK(\"#'Exiting (FS009)'!\"&ADDRESS(ROW(INDEX(CurrentListing,MATCH('Category Set A by Basis of Exit'!R45,CurrentListing,0),1)),25),AF45),HYPERLINK(\"#'Exiting (FS009)'!\"&\"$AA$10\",AF45))","v":"MC"},{"$f":"IFERROR(HYPERLINK(\"#'Exiting (FS009)'!\"&ADDRESS(ROW(INDEX(CurrentListing,MATCH('Category Set A by Basis of Exit'!S45,CurrentListing,0),1)),25),AG45),HYPERLINK(\"#'Exiting (FS009)'!\"&\"$AA$10\",AG45))","v":"MC"},{"$f":"IFERROR(HYPERLINK(\"#'Exiting (FS009)'!\"&ADDRESS(ROW(INDEX(CurrentListing,MATCH('Category Set A by Basis of Exit'!T45,CurrentListing,0),1)),25),AH45),HYPERLINK(\"#'Exiting (FS009)'!\"&\"$AA$10\",AH45))","v":"MC"},{"$f":"IFERROR(HYPERLINK(\"#'Exiting (FS009)'!\"&ADDRESS(ROW(INDEX(CurrentListing,MATCH('Category Set A by Basis of Exit'!U45,CurrentListing,0),1)),25),AI45),HYPERLINK(\"#'Exiting (FS009)'!\"&\"$AA$10\",AI45))","v":"MC"},{"$f":"IFERROR(HYPERLINK(\"#'Exiting (FS009)'!\"&ADDRESS(ROW(INDEX(CurrentListing,MATCH('Category Set A by Basis of Exit'!V45,CurrentListing,0),1)),25),AJ45),HYPERLINK(\"#'Exiting (FS009)'!\"&\"$AA$10\",AJ45))","v":"MC"},{"$f":"IFERROR(HYPERLINK(\"#'Exiting (FS009)'!\"&ADDRESS(ROW(INDEX(CurrentListing,MATCH('Category Set A by Basis of Exit'!W45,CurrentListing,0),1)),25),AK45),HYPERLINK(\"#'Exiting (FS009)'!\"&\"$AA$10\",AK45))","v":"MC"},{"$f":"IFERROR(HYPERLINK(\"#'Exiting (FS009)'!\"&ADDRESS(ROW(INDEX(CurrentListing,MATCH('Category Set A by Basis of Exit'!X45,CurrentListing,0),1)),25),AL45),HYPERLINK(\"#'Exiting (FS009)'!\"&\"$AA$10\",AL45))","v":"MC"},{"$f":"IFERROR(HYPERLINK(\"#'Exiting (FS009)'!\"&ADDRESS(ROW(INDEX(CurrentListing,MATCH('Category Set A by Basis of Exit'!Y45,CurrentListing,0),1)),25),AM45),HYPERLINK(\"#'Exiting (FS009)'!\"&\"$AA$10\",AM45))","v":"MC"},{"$f":"IFERROR(HYPERLINK(\"#'Exiting (FS009)'!\"&ADDRESS(ROW(INDEX(CurrentListing,MATCH('Category Set A by Basis of Exit'!Z45,CurrentListing,0),1)),25),AN45),HYPERLINK(\"#'Exiting (FS009)'!\"&\"$AA$10\",AN45))","v":"MC"},{"$f":"IFERROR(HYPERLINK(\"#'Exiting (FS009)'!\"&ADDRESS(ROW(INDEX(CurrentListing,MATCH('Category Set A by Basis of Exit'!AA45,CurrentListing,0),1)),25),AO45),HYPERLINK(\"#'Exiting (FS009)'!\"&\"$AA$10\",AO45))","v":"MC"},{"$f":"IFERROR(HYPERLINK(\"#'Exiting (FS009)'!\"&ADDRESS(ROW(INDEX(CurrentListing,MATCH('Category Set A by Basis of Exit'!AB45,CurrentListing,0),1)),25),AP45),HYPERLINK(\"#'Exiting (FS009)'!\"&\"$AA$10\",AP45))","v":"MC"},0,null,null,"ID15GHSN","HI15GHSN","SLI15GHSN","VI15GHSN","EMN15GHSN","OI15GHSN","OHI15GHSN","SLD15GHSN","DB15GHSN","MD15GHSN","AUT15GHSN","TBI15GHSN",null,15,"MC","MC","MC","MC","MC","MC","MC","MC","MC","MC","MC","MC",{"$f":"SUM(AE45:AP45)","v":0}]
[16,{"$f":"IFERROR(HYPERLINK(\"#'Exiting (FS009)'!\"&ADDRESS(ROW(INDEX(CurrentListing,MATCH('Category Set A by Basis of Exit'!Q46,CurrentListing,0),1)),25),AE46),HYPERLINK(\"#'Exiting (FS009)'!\"&\"$AA$10\",AE46))","v":"MC"},{"$f":"IFERROR(HYPERLINK(\"#'Exiting (FS009)'!\"&ADDRESS(ROW(INDEX(CurrentListing,MATCH('Category Set A by Basis of Exit'!R46,CurrentListing,0),1)),25),AF46),HYPERLINK(\"#'Exiting (FS009)'!\"&\"$AA$10\",AF46))","v":"MC"},{"$f":"IFERROR(HYPERLINK(\"#'Exiting (FS009)'!\"&ADDRESS(ROW(INDEX(CurrentListing,MATCH('Category Set A by Basis of Exit'!S46,CurrentListing,0),1)),25),AG46),HYPERLINK(\"#'Exiting (FS009)'!\"&\"$AA$10\",AG46))","v":"MC"},{"$f":"IFERROR(HYPERLINK(\"#'Exiting (FS009)'!\"&ADDRESS(ROW(INDEX(CurrentListing,MATCH('Category Set A by Basis of Exit'!T46,CurrentListing,0),1)),25),AH46),HYPERLINK(\"#'Exiting (FS009)'!\"&\"$AA$10\",AH46))","v":"MC"},{"$f":"IFERROR(HYPERLINK(\"#'Exiting (FS009)'!\"&ADDRESS(ROW(INDEX(CurrentListing,MATCH('Category Set A by Basis of Exit'!U46,CurrentListing,0),1)),25),AI46),HYPERLINK(\"#'Exiting (FS009)'!\"&\"$AA$10\",AI46))","v":"MC"},{"$f":"IFERROR(HYPERLINK(\"#'Exiting (FS009)'!\"&ADDRESS(ROW(INDEX(CurrentListing,MATCH('Category Set A by Basis of Exit'!V46,CurrentListing,0),1)),25),AJ46),HYPERLINK(\"#'Exiting (FS009)'!\"&\"$AA$10\",AJ46))","v":"MC"},{"$f":"IFERROR(HYPERLINK(\"#'Exiting (FS009)'!\"&ADDRESS(ROW(INDEX(CurrentListing,MATCH('Category Set A by Basis of Exit'!W46,CurrentListing,0),1)),25),AK46),HYPERLINK(\"#'Exiting (FS009)'!\"&\"$AA$10\",AK46))","v":"MC"},{"$f":"IFERROR(HYPERLINK(\"#'Exiting (FS009)'!\"&ADDRESS(ROW(INDEX(CurrentListing,MATCH('Category Set A by Basis of Exit'!X46,CurrentListing,0),1)),25),AL46),HYPERLINK(\"#'Exiting (FS009)'!\"&\"$AA$10\",AL46))","v":"MC"},{"$f":"IFERROR(HYPERLINK(\"#'Exiting (FS009)'!\"&ADDRESS(ROW(INDEX(CurrentListing,MATCH('Category Set A by Basis of Exit'!Y46,CurrentListing,0),1)),25),AM46),HYPERLINK(\"#'Exiting (FS009)'!\"&\"$AA$10\",AM46))","v":"MC"},{"$f":"IFERROR(HYPERLINK(\"#'Exiting (FS009)'!\"&ADDRESS(ROW(INDEX(CurrentListing,MATCH('Category Set A by Basis of Exit'!Z46,CurrentListing,0),1)),25),AN46),HYPERLINK(\"#'Exiting (FS009)'!\"&\"$AA$10\",AN46))","v":"MC"},{"$f":"IFERROR(HYPERLINK(\"#'Exiting (FS009)'!\"&ADDRESS(ROW(INDEX(CurrentListing,MATCH('Category Set A by Basis of Exit'!AA46,CurrentListing,0),1)),25),AO46),HYPERLINK(\"#'Exiting (FS009)'!\"&\"$AA$10\",AO46))","v":"MC"},{"$f":"IFERROR(HYPERLINK(\"#'Exiting (FS009)'!\"&ADDRESS(ROW(INDEX(CurrentListing,MATCH('Category Set A by Basis of Exit'!AB46,CurrentListing,0),1)),25),AP46),HYPERLINK(\"#'Exiting (FS009)'!\"&\"$AA$10\",AP46))","v":"MC"},0,null,null,"ID16GHSN","HI16GHSN","SLI16GHSN","VI16GHSN","EMN16GHSN","OI16GHSN","OHI16GHSN","SLD16GHSN","DB16GHSN","MD16GHSN","AUT16GHSN","TBI16GHSN",null,16,"MC","MC","MC","MC","MC","MC","MC","MC","MC","MC","MC","MC",0]
[17,{"$f":"IFERROR(HYPERLINK(\"#'Exiting (FS009)'!\"&ADDRESS(ROW(INDEX(CurrentListing,MATCH('Category Set A by Basis of Exit'!Q47,CurrentListing,0),1)),25),AE47),HYPERLINK(\"#'Exiting (FS009)'!\"&\"$AA$10\",AE47))","v":"MC"},{"$f":"IFERROR(HYPERLINK(\"#'Exiting (FS009)'!\"&ADDRESS(ROW(INDEX(CurrentListing,MATCH('Category Set A by Basis of Exit'!R47,CurrentListing,0),1)),25),AF47),HYPERLINK(\"#'Exiting (FS009)'!\"&\"$AA$10\",AF47))","v":"MC"},{"$f":"IFERROR(HYPERLINK(\"#'Exiting (FS009)'!\"&ADDRESS(ROW(INDEX(CurrentListing,MATCH('Category Set A by Basis of Exit'!S47,CurrentListing,0),1)),25),AG47),HYPERLINK(\"#'Exiting (FS009)'!\"&\"$AA$10\",AG47))","v":"MC"},{"$f":"IFERROR(HYPERLINK(\"#'Exiting (FS009)'!\"&ADDRESS(ROW(INDEX(CurrentListing,MATCH('Category Set A by Basis of Exit'!T47,CurrentListing,0),1)),25),AH47),HYPERLINK(\"#'Exiting (FS009)'!\"&\"$AA$10\",AH47))","v":"MC"},{"$f":"IFERROR(HYPERLINK(\"#'Exiting (FS009)'!\"&ADDRESS(ROW(INDEX(CurrentListing,MATCH('Category Set A by Basis of Exit'!U47,CurrentListing,0),1)),25),AI47),HYPERLINK(\"#'Exiting (FS009)'!\"&\"$AA$10\",AI47))","v":"MC"},{"$f":"IFERROR(HYPERLINK(\"#'Exiting (FS009)'!\"&ADDRESS(ROW(INDEX(CurrentListing,MATCH('Category Set A by Basis of Exit'!V47,CurrentListing,0),1)),25),AJ47),HYPERLINK(\"#'Exiting (FS009)'!\"&\"$AA$10\",AJ47))","v":"MC"},{"$f":"IFERROR(HYPERLINK(\"#'Exiting (FS009)'!\"&ADDRESS(ROW(INDEX(CurrentListing,MATCH('Category Set A by Basis of Exit'!W47,CurrentListing,0),1)),25),AK47),HYPERLINK(\"#'Exiting (FS009)'!\"&\"$AA$10\",AK47))","v":"MC"},{"$f":"IFERROR(HYPERLINK(\"#'Exiting (FS009)'!\"&ADDRESS(ROW(INDEX(CurrentListing,MATCH('Category Set A by Basis of Exit'!X47,CurrentListing,0),1)),25),AL47),HYPERLINK(\"#'Exiting (FS009)'!\"&\"$AA$10\",AL47))","v":"MC"},{"$f":"IFERROR(HYPERLINK(\"#'Exiting (FS009)'!\"&ADDRESS(ROW(INDEX(CurrentListing,MATCH('Category Set A by Basis of Exit'!Y47,CurrentListing,0),1)),25),AM47),HYPERLINK(\"#'Exiting (FS009)'!\"&\"$AA$10\",AM47))","v":"MC"},{"$f":"IFERROR(HYPERLINK(\"#'Exiting (FS009)'!\"&ADDRESS(ROW(INDEX(CurrentListing,MATCH('Category Set A by Basis of Exit'!Z47,CurrentListing,0),1)),25),AN47),HYPERLINK(\"#'Exiting (FS009)'!\"&\"$AA$10\",AN47))","v":"MC"},{"$f":"IFERROR(HYPERLINK(\"#'Exiting (FS009)'!\"&ADDRESS(ROW(INDEX(CurrentListing,MATCH('Category Set A by Basis of Exit'!AA47,CurrentListing,0),1)),25),AO47),HYPERLINK(\"#'Exiting (FS009)'!\"&\"$AA$10\",AO47))","v":"MC"},{"$f":"IFERROR(HYPERLINK(\"#'Exiting (FS009)'!\"&ADDRESS(ROW(INDEX(CurrentListing,MATCH('Category Set A by Basis of Exit'!AB47,CurrentListing,0),1)),25),AP47),HYPERLINK(\"#'Exiting (FS009)'!\"&\"$AA$10\",AP47))","v":"MC"},0,null,null,"ID17GHSN","HI17GHSN","SLI17GHSN","VI17GHSN","EMN17GHSN","OI17GHSN","OHI17GHSN","SLD17GHSN","DB17GHSN","MD17GHSN","AUT17GHSN","TBI17GHSN",null,17,"MC","MC","MC","MC","MC","MC","MC","MC","MC","MC","MC","MC",0]
[18,{"$f":"IFERROR(HYPERLINK(\"#'Exiting (FS009)'!\"&ADDRESS(ROW(INDEX(CurrentListing,MATCH('Category Set A by Basis of Exit'!Q48,CurrentListing,0),1)),25),AE48),HYPERLINK(\"#'Exiting (FS009)'!\"&\"$AA$10\",AE48))","v":"MC"},{"$f":"IFERROR(HYPERLINK(\"#'Exiting (FS009)'!\"&ADDRESS(ROW(INDEX(CurrentListing,MATCH('Category Set A by Basis of Exit'!R48,CurrentListing,0),1)),25),AF48),HYPERLINK(\"#'Exiting (FS009)'!\"&\"$AA$10\",AF48))","v":"MC"},{"$f":"IFERROR(HYPERLINK(\"#'Exiting (FS009)'!\"&ADDRESS(ROW(INDEX(CurrentListing,MATCH('Category Set A by Basis of Exit'!S48,CurrentListing,0),1)),25),AG48),HYPERLINK(\"#'Exiting (FS009)'!\"&\"$AA$10\",AG48))","v":"MC"},{"$f":"IFERROR(HYPERLINK(\"#'Exiting (FS009)'!\"&ADDRESS(ROW(INDEX(CurrentListing,MATCH('Category Set A by Basis of Exit'!T48,CurrentListing,0),1)),25),AH48),HYPERLINK(\"#'Exiting (FS009)'!\"&\"$AA$10\",AH48))","v":"MC"},{"$f":"IFERROR(HYPERLINK(\"#'Exiting (FS009)'!\"&ADDRESS(ROW(INDEX(CurrentListing,MATCH('Category Set A by Basis of Exit'!U48,CurrentListing,0),1)),25),AI48),HYPERLINK(\"#'Exiting (FS009)'!\"&\"$AA$10\",AI48))","v":"MC"},{"$f":"IFERROR(HYPERLINK(\"#'Exiting (FS009)'!\"&ADDRESS(ROW(INDEX(CurrentListing,MATCH('Category Set A by Basis of Exit'!V48,CurrentListing,0),1)),25),AJ48),HYPERLINK(\"#'Exiting (FS009)'!\"&\"$AA$10\",AJ48))","v":"MC"},{"$f":"IFERROR(HYPERLINK(\"#'Exiting (FS009)'!\"&ADDRESS(ROW(INDEX(CurrentListing,MATCH('Category Set A by Basis of Exit'!W48,CurrentListing,0),1)),25),AK48),HYPERLINK(\"#'Exiting (FS009)'!\"&\"$AA$10\",AK48))","v":"MC"},{"$f":"IFERROR(HYPERLINK(\"#'Exiting (FS009)'!\"&ADDRESS(ROW(INDEX(CurrentListing,MATCH('Category Set A by Basis of Exit'!X48,CurrentListing,0),1)),25),AL48),HYPERLINK(\"#'Exiting (FS009)'!\"&\"$AA$10\",AL48))","v":"MC"},{"$f":"IFERROR(HYPERLINK(\"#'Exiting (FS009)'!\"&ADDRESS(ROW(INDEX(CurrentListing,MATCH('Category Set A by Basis of Exit'!Y48,CurrentListing,0),1)),25),AM48),HYPERLINK(\"#'Exiting (FS009)'!\"&\"$AA$10\",AM48))","v":"MC"},{"$f":"IFERROR(HYPERLINK(\"#'Exiting (FS009)'!\"&ADDRESS(ROW(INDEX(CurrentListing,MATCH('Category Set A by Basis of Exit'!Z48,CurrentListing,0),1)),25),AN48),HYPERLINK(\"#'Exiting (FS009)'!\"&\"$AA$10\",AN48))","v":"MC"},{"$f":"IFERROR(HYPERLINK(\"#'Exiting (FS009)'!\"&ADDRESS(ROW(INDEX(CurrentListing,MATCH('Category Set A by Basis of Exit'!AA48,CurrentListing,0),1)),25),AO48),HYPERLINK(\"#'Exiting (FS009)'!\"&\"$AA$10\",AO48))","v":"MC"},{"$f":"IFERROR(HYPERLINK(\"#'Exiting (FS009)'!\"&ADDRESS(ROW(INDEX(CurrentListing,MATCH('Category Set A by Basis of Exit'!AB48,CurrentListing,0),1)),25),AP48),HYPERLINK(\"#'Exiting (FS009)'!\"&\"$AA$10\",AP48))","v":"MC"},0,null,null,"ID18GHSN","HI18GHSN","SLI18GHSN","VI18GHSN","EMN18GHSN","OI18GHSN","OHI18GHSN","SLD18GHSN","DB18GHSN","MD18GHSN","AUT18GHSN","TBI18GHSN",null,18,"MC","MC","MC","MC","MC","MC","MC","MC","MC","MC","MC","MC",0]
[19,{"$f":"IFERROR(HYPERLINK(\"#'Exiting (FS009)'!\"&ADDRESS(ROW(INDEX(CurrentListing,MATCH('Category Set A by Basis of Exit'!Q49,CurrentListing,0),1)),25),AE49),HYPERLINK(\"#'Exiting (FS009)'!\"&\"$AA$10\",AE49))","v":"MC"},{"$f":"IFERROR(HYPERLINK(\"#'Exiting (FS009)'!\"&ADDRESS(ROW(INDEX(CurrentListing,MATCH('Category Set A by Basis of Exit'!R49,CurrentListing,0),1)),25),AF49),HYPERLINK(\"#'Exiting (FS009)'!\"&\"$AA$10\",AF49))","v":"MC"},{"$f":"IFERROR(HYPERLINK(\"#'Exiting (FS009)'!\"&ADDRESS(ROW(INDEX(CurrentListing,MATCH('Category Set A by Basis of Exit'!S49,CurrentListing,0),1)),25),AG49),HYPERLINK(\"#'Exiting (FS009)'!\"&\"$AA$10\",AG49))","v":"MC"},{"$f":"IFERROR(HYPERLINK(\"#'Exiting (FS009)'!\"&ADDRESS(ROW(INDEX(CurrentListing,MATCH('Category Set A by Basis of Exit'!T49,CurrentListing,0),1)),25),AH49),HYPERLINK(\"#'Exiting (FS009)'!\"&\"$AA$10\",AH49))","v":"MC"},{"$f":"IFERROR(HYPERLINK(\"#'Exiting (FS009)'!\"&ADDRESS(ROW(INDEX(CurrentListing,MATCH('Category Set A by Basis of Exit'!U49,CurrentListing,0),1)),25),AI49),HYPERLINK(\"#'Exiting (FS009)'!\"&\"$AA$10\",AI49))","v":"MC"},{"$f":"IFERROR(HYPERLINK(\"#'Exiting (FS009)'!\"&ADDRESS(ROW(INDEX(CurrentListing,MATCH('Category Set A by Basis of Exit'!V49,CurrentListing,0),1)),25),AJ49),HYPERLINK(\"#'Exiting (FS009)'!\"&\"$AA$10\",AJ49))","v":"MC"},{"$f":"IFERROR(HYPERLINK(\"#'Exiting (FS009)'!\"&ADDRESS(ROW(INDEX(CurrentListing,MATCH('Category Set A by Basis of Exit'!W49,CurrentListing,0),1)),25),AK49),HYPERLINK(\"#'Exiting (FS009)'!\"&\"$AA$10\",AK49))","v":"MC"},{"$f":"IFERROR(HYPERLINK(\"#'Exiting (FS009)'!\"&ADDRESS(ROW(INDEX(CurrentListing,MATCH('Category Set A by Basis of Exit'!X49,CurrentListing,0),1)),25),AL49),HYPERLINK(\"#'Exiting (FS009)'!\"&\"$AA$10\",AL49))","v":"MC"},{"$f":"IFERROR(HYPERLINK(\"#'Exiting (FS009)'!\"&ADDRESS(ROW(INDEX(CurrentListing,MATCH('Category Set A by Basis of Exit'!Y49,CurrentListing,0),1)),25),AM49),HYPERLINK(\"#'Exiting (FS009)'!\"&\"$AA$10\",AM49))","v":"MC"},{"$f":"IFERROR(HYPERLINK(\"#'Exiting (FS009)'!\"&ADDRESS(ROW(INDEX(CurrentListing,MATCH('Category Set A by Basis of Exit'!Z49,CurrentListing,0),1)),25),AN49),HYPERLINK(\"#'Exiting (FS009)'!\"&\"$AA$10\",AN49))","v":"MC"},{"$f":"IFERROR(HYPERLINK(\"#'Exiting (FS009)'!\"&ADDRESS(ROW(INDEX(CurrentListing,MATCH('Category Set A by Basis of Exit'!AA49,CurrentListing,0),1)),25),AO49),HYPERLINK(\"#'Exiting (FS009)'!\"&\"$AA$10\",AO49))","v":"MC"},{"$f":"IFERROR(HYPERLINK(\"#'Exiting (FS009)'!\"&ADDRESS(ROW(INDEX(CurrentListing,MATCH('Category Set A by Basis of Exit'!AB49,CurrentListing,0),1)),25),AP49),HYPERLINK(\"#'Exiting (FS009)'!\"&\"$AA$10\",AP49))","v":"MC"},0,null,null,"ID19GHSN","HI19GHSN","SLI19GHSN","VI19GHSN","EMN19GHSN","OI19GHSN","OHI19GHSN","SLD19GHSN","DB19GHSN","MD19GHSN","AUT19GHSN","TBI19GHSN",null,19,"MC","MC","MC","MC","MC","MC","MC","MC","MC","MC","MC","MC",0]
[20,{"$f":"IFERROR(HYPERLINK(\"#'Exiting (FS009)'!\"&ADDRESS(ROW(INDEX(CurrentListing,MATCH('Category Set A by Basis of Exit'!Q50,CurrentListing,0),1)),25),AE50),HYPERLINK(\"#'Exiting (FS009)'!\"&\"$AA$10\",AE50))","v":"MC"},{"$f":"IFERROR(HYPERLINK(\"#'Exiting (FS009)'!\"&ADDRESS(ROW(INDEX(CurrentListing,MATCH('Category Set A by Basis of Exit'!R50,CurrentListing,0),1)),25),AF50),HYPERLINK(\"#'Exiting (FS009)'!\"&\"$AA$10\",AF50))","v":"MC"},{"$f":"IFERROR(HYPERLINK(\"#'Exiting (FS009)'!\"&ADDRESS(ROW(INDEX(CurrentListing,MATCH('Category Set A by Basis of Exit'!S50,CurrentListing,0),1)),25),AG50),HYPERLINK(\"#'Exiting (FS009)'!\"&\"$AA$10\",AG50))","v":"MC"},{"$f":"IFERROR(HYPERLINK(\"#'Exiting (FS009)'!\"&ADDRESS(ROW(INDEX(CurrentListing,MATCH('Category Set A by Basis of Exit'!T50,CurrentListing,0),1)),25),AH50),HYPERLINK(\"#'Exiting (FS009)'!\"&\"$AA$10\",AH50))","v":"MC"},{"$f":"IFERROR(HYPERLINK(\"#'Exiting (FS009)'!\"&ADDRESS(ROW(INDEX(CurrentListing,MATCH('Category Set A by Basis of Exit'!U50,CurrentListing,0),1)),25),AI50),HYPERLINK(\"#'Exiting (FS009)'!\"&\"$AA$10\",AI50))","v":"MC"},{"$f":"IFERROR(HYPERLINK(\"#'Exiting (FS009)'!\"&ADDRESS(ROW(INDEX(CurrentListing,MATCH('Category Set A by Basis of Exit'!V50,CurrentListing,0),1)),25),AJ50),HYPERLINK(\"#'Exiting (FS009)'!\"&\"$AA$10\",AJ50))","v":"MC"},{"$f":"IFERROR(HYPERLINK(\"#'Exiting (FS009)'!\"&ADDRESS(ROW(INDEX(CurrentListing,MATCH('Category Set A by Basis of Exit'!W50,CurrentListing,0),1)),25),AK50),HYPERLINK(\"#'Exiting (FS009)'!\"&\"$AA$10\",AK50))","v":"MC"},{"$f":"IFERROR(HYPERLINK(\"#'Exiting (FS009)'!\"&ADDRESS(ROW(INDEX(CurrentListing,MATCH('Category Set A by Basis of Exit'!X50,CurrentListing,0),1)),25),AL50),HYPERLINK(\"#'Exiting (FS009)'!\"&\"$AA$10\",AL50))","v":"MC"},{"$f":"IFERROR(HYPERLINK(\"#'Exiting (FS009)'!\"&ADDRESS(ROW(INDEX(CurrentListing,MATCH('Category Set A by Basis of Exit'!Y50,CurrentListing,0),1)),25),AM50),HYPERLINK(\"#'Exiting (FS009)'!\"&\"$AA$10\",AM50))","v":"MC"},{"$f":"IFERROR(HYPERLINK(\"#'Exiting (FS009)'!\"&ADDRESS(ROW(INDEX(CurrentListing,MATCH('Category Set A by Basis of Exit'!Z50,CurrentListing,0),1)),25),AN50),HYPERLINK(\"#'Exiting (FS009)'!\"&\"$AA$10\",AN50))","v":"MC"},{"$f":"IFERROR(HYPERLINK(\"#'Exiting (FS009)'!\"&ADDRESS(ROW(INDEX(CurrentListing,MATCH('Category Set A by Basis of Exit'!AA50,CurrentListing,0),1)),25),AO50),HYPERLINK(\"#'Exiting (FS009)'!\"&\"$AA$10\",AO50))","v":"MC"},{"$f":"IFERROR(HYPERLINK(\"#'Exiting (FS009)'!\"&ADDRESS(ROW(INDEX(CurrentListing,MATCH('Category Set A by Basis of Exit'!AB50,CurrentListing,0),1)),25),AP50),HYPERLINK(\"#'Exiting (FS009)'!\"&\"$AA$10\",AP50))","v":"MC"},0,null,null,"ID20GHSN","HI20GHSN","SLI20GHSN","VI20GHSN","EMN20GHSN","OI20GHSN","OHI20GHSN","SLD20GHSN","DB20GHSN","MD20GHSN","AUT20GHSN","TBI20GHSN",null,20,"MC","MC","MC","MC","MC","MC","MC","MC","MC","MC","MC","MC",0]
[21,{"$f":"IFERROR(HYPERLINK(\"#'Exiting (FS009)'!\"&ADDRESS(ROW(INDEX(CurrentListing,MATCH('Category Set A by Basis of Exit'!Q51,CurrentListing,0),1)),25),AE51),HYPERLINK(\"#'Exiting (FS009)'!\"&\"$AA$10\",AE51))","v":"MC"},{"$f":"IFERROR(HYPERLINK(\"#'Exiting (FS009)'!\"&ADDRESS(ROW(INDEX(CurrentListing,MATCH('Category Set A by Basis of Exit'!R51,CurrentListing,0),1)),25),AF51),HYPERLINK(\"#'Exiting (FS009)'!\"&\"$AA$10\",AF51))","v":"MC"},{"$f":"IFERROR(HYPERLINK(\"#'Exiting (FS009)'!\"&ADDRESS(ROW(INDEX(CurrentListing,MATCH('Category Set A by Basis of Exit'!S51,CurrentListing,0),1)),25),AG51),HYPERLINK(\"#'Exiting (FS009)'!\"&\"$AA$10\",AG51))","v":"MC"},{"$f":"IFERROR(HYPERLINK(\"#'Exiting (FS009)'!\"&ADDRESS(ROW(INDEX(CurrentListing,MATCH('Category Set A by Basis of Exit'!T51,CurrentListing,0),1)),25),AH51),HYPERLINK(\"#'Exiting (FS009)'!\"&\"$AA$10\",AH51))","v":"MC"},{"$f":"IFERROR(HYPERLINK(\"#'Exiting (FS009)'!\"&ADDRESS(ROW(INDEX(CurrentListing,MATCH('Category Set A by Basis of Exit'!U51,CurrentListing,0),1)),25),AI51),HYPERLINK(\"#'Exiting (FS009)'!\"&\"$AA$10\",AI51))","v":"MC"},{"$f":"IFERROR(HYPERLINK(\"#'Exiting (FS009)'!\"&ADDRESS(ROW(INDEX(CurrentListing,MATCH('Category Set A by Basis of Exit'!V51,CurrentListing,0),1)),25),AJ51),HYPERLINK(\"#'Exiting (FS009)'!\"&\"$AA$10\",AJ51))","v":"MC"},{"$f":"IFERROR(HYPERLINK(\"#'Exiting (FS009)'!\"&ADDRESS(ROW(INDEX(CurrentListing,MATCH('Category Set A by Basis of Exit'!W51,CurrentListing,0),1)),25),AK51),HYPERLINK(\"#'Exiting (FS009)'!\"&\"$AA$10\",AK51))","v":"MC"},{"$f":"IFERROR(HYPERLINK(\"#'Exiting (FS009)'!\"&ADDRESS(ROW(INDEX(CurrentListing,MATCH('Category Set A by Basis of Exit'!X51,CurrentListing,0),1)),25),AL51),HYPERLINK(\"#'Exiting (FS009)'!\"&\"$AA$10\",AL51))","v":"MC"},{"$f":"IFERROR(HYPERLINK(\"#'Exiting (FS009)'!\"&ADDRESS(ROW(INDEX(CurrentListing,MATCH('Category Set A by Basis of Exit'!Y51,CurrentListing,0),1)),25),AM51),HYPERLINK(\"#'Exiting (FS009)'!\"&\"$AA$10\",AM51))","v":"MC"},{"$f":"IFERROR(HYPERLINK(\"#'Exiting (FS009)'!\"&ADDRESS(ROW(INDEX(CurrentListing,MATCH('Category Set A by Basis of Exit'!Z51,CurrentListing,0),1)),25),AN51),HYPERLINK(\"#'Exiting (FS009)'!\"&\"$AA$10\",AN51))","v":"MC"},{"$f":"IFERROR(HYPERLINK(\"#'Exiting (FS009)'!\"&ADDRESS(ROW(INDEX(CurrentListing,MATCH('Category Set A by Basis of Exit'!AA51,CurrentListing,0),1)),25),AO51),HYPERLINK(\"#'Exiting (FS009)'!\"&\"$AA$10\",AO51))","v":"MC"},{"$f":"IFERROR(HYPERLINK(\"#'Exiting (FS009)'!\"&ADDRESS(ROW(INDEX(CurrentListing,MATCH('Category Set A by Basis of Exit'!AB51,CurrentListing,0),1)),25),AP51),HYPERLINK(\"#'Exiting (FS009)'!\"&\"$AA$10\",AP51))","v":"MC"},0,null,null,"ID21GHSN","HI21GHSN","SLI21GHSN","VI21GHSN","EMN21GHSN","OI21GHSN","OHI21GHSN","SLD21GHSN","DB21GHSN","MD21GHSN","AUT21GHSN","TBI21GHSN",null,21,"MC","MC","MC","MC","MC","MC","MC","MC","MC","MC","MC","MC",0]
["Total",{"$f":"IF(SUM(B44:B51)>=0, SUM(B44:B51), \"\")","v":0},{"$f":"IF(SUM(C44:C51)>=0, SUM(C44:C51), \"\")","v":0},0,0,0,0,0,0,0,0,0,0,{"$f":"IF(AND(N4=\"MC\",N5=\"MC\",N6=\"MC\",N7=\"MC\",N8=\"MC\",N9=\"MC\",N10=\"MC\",N11=\"MC\", N14=\"MC\"),\"\",SUM(B44:M51))","v":""},null,null,null,null,null,null,null,null,null,null,null,null,null,null,"GHSY","Total",{"$f":"SUM(AE44:AE51)","v":0},{"$f":"SUM(AF44:AF51)","v":0},0,0,0,0,0,0,0,0,0,0,{"$f":"IFERROR(IF(INDEX(StudCntC009,MATCH(AC52,CurrentListing,0))=\"\",\"No Data\",INDEX(StudCntC009,MATCH(AC52,CurrentListing,0))),\"MC\")","v":"MC"}]
[]
["Percent by age","Graduated with regular high school diploma"]
[null,"Intellectual\ndisability\n(percent)","Hearing\nimpairment\n(percent)","Speech or\nlanguage\nimpairment\n(percent)","Visual\nimpairment\n(percent)","Emotional\ndisturbance\n(percent)","Orthopedic\nimpairment\n(percent)","Other\nhealth\nimpairment\n(percent)","Specific\nlearning\ndisability\n(percent)","Deaf-\nblindness\n(percent)","Multiple\ndisabilities\n(percent)","Autism\n(percent)","Traumatic\nbrain\ninjury\n(percent)","Total\n(percent)"]
[14,{"$f":"IF(ISERROR(B44/$N44),IF(B44=\"MC\", \"\",0), B44/$N44)","v":""},{"$f":"IF(ISERROR(C44/$N44),IF(C44=\"MC\", \"\",0), C44/$N44)","v":""},"","","","","","","","","","",{"$f":"SUM(B56:M56)","v":0}]
[15,{"$f":"IF(ISERROR(B45/$N45),IF(B45=\"MC\", \"\",0), B45/$N45)","v":""},"","","","","","","","","","","",{"$f":"SUM(B57:M57)","v":0}]
[16,{"$f":"IF(ISERROR(B46/$N46),IF(B46=\"MC\", \"\",0), B46/$N46)","v":""},"","","","","","","","","","","",0]
[17,{"$f":"IF(ISERROR(B47/$N47),IF(B47=\"MC\", \"\",0), B47/$N47)","v":""},"","","","","","","","","","","",0]
[18,{"$f":"IF(ISERROR(B48/$N48),IF(B48=\"MC\", \"\",0), B48/$N48)","v":""},"","","","","","","","","","","",0]
[19,{"$f":"IF(ISERROR(B49/$N49),IF(B49=\"MC\", \"\",0), B49/$N49)","v":""},"","","","","","","","","","","",0]
[20,{"$f":"IF(ISERROR(B50/$N50),IF(B50=\"MC\", \"\",0), B50/$N50)","v":""},"","","","","","","","","","","",0]
[21,{"$f":"IF(ISERROR(B51/$N51),IF(B51=\"MC\", \"\",0), B51/$N51)","v":""},"","","","","","","","","","","",0]
["Total",{"$f":"IFERROR(IF($N52<>0,B52/$N52,0),\"\")","v":""},{"$f":"IFERROR(IF($N52<>0,C52/$N52,0),\"\")","v":""},"","","","","","","","","","",0]
[]
["Category Set A – Children with disabilities (IDEA) exiting special education, by basis of exit, disability category, and age",null,null,null,null,null,null,null,null,null,null,null,null,null,null,null,"Graduated with an alternate diploma"]
["Student count by age","Graduated with an alternate diploma",null,null,null,null,null,null,null,null,null,null,null,null,null,null,null,null,null,null,null,null,null,null,null,null,null,null,null,"Student counts by age",{"$f":"B67","v":"Graduated with an alternate diploma"}]
[null,"Intellectual\ndisability","Hearing\nimpairment","Speech or\nlanguage\nimpairment","Visual\nimpairment","Emotional\ndisturbance","Orthopedic\nimpairment","Other\nhealth\nimpairment","Specific\nlearning\ndisability","Deaf-\nblindness","Multiple\ndisabilities","Autism","Traumatic\nbrain\ninjury","Total",null,null,null,null,null,null,null,null,null,null,null,null,null,null,null,null,"Intellectual\nDisability","Hearing\nImpairments","Speech or\nLanguage\nImpairments","Visual\nImpairments","Emotional\nDisturbance","Orthopedic\nImpairments","Other\nHealth\nImpairments","Specific\nLearning\nDisabilities","Deaf-\nBlindness","Multiple\nDisabilities","Autism","Traumatic\nBrain\nInjury","Total"]
[14,{"$f":"IFERROR(HYPERLINK(\"#'Exiting (FS009)'!\"&ADDRESS(ROW(INDEX(CurrentListing,MATCH('Category Set A by Basis of Exit'!Q69,CurrentListing,0),1)),25),AE69),HYPERLINK(\"#'Exiting (FS009)'!\"&\"$AA$10\",AE69))","v":"MC"},{"$f":"IFERROR(HYPERLINK(\"#'Exiting (FS009)'!\"&ADDRESS(ROW(INDEX(CurrentListing,MATCH('Category Set A by Basis of Exit'!R69,CurrentListing,0),1)),25),AF69),HYPERLINK(\"#'Exiting (FS009)'!\"&\"$AA$10\",AF69))","v":"MC"},{"$f":"IFERROR(HYPERLINK(\"#'Exiting (FS009)'!\"&ADDRESS(ROW(INDEX(CurrentListing,MATCH('Category Set A by Basis of Exit'!S69,CurrentListing,0),1)),25),AG69),HYPERLINK(\"#'Exiting (FS009)'!\"&\"$AA$10\",AG69))","v":"MC"},{"$f":"IFERROR(HYPERLINK(\"#'Exiting (FS009)'!\"&ADDRESS(ROW(INDEX(CurrentListing,MATCH('Category Set A by Basis of Exit'!T69,CurrentListing,0),1)),25),AH69),HYPERLINK(\"#'Exiting (FS009)'!\"&\"$AA$10\",AH69))","v":"MC"},{"$f":"IFERROR(HYPERLINK(\"#'Exiting (FS009)'!\"&ADDRESS(ROW(INDEX(CurrentListing,MATCH('Category Set A by Basis of Exit'!U69,CurrentListing,0),1)),25),AI69),HYPERLINK(\"#'Exiting (FS009)'!\"&\"$AA$10\",AI69))","v":"MC"},{"$f":"IFERROR(HYPERLINK(\"#'Exiting (FS009)'!\"&ADDRESS(ROW(INDEX(CurrentListing,MATCH('Category Set A by Basis of Exit'!V69,CurrentListing,0),1)),25),AJ69),HYPERLINK(\"#'Exiting (FS009)'!\"&\"$AA$10\",AJ69))","v":"MC"},{"$f":"IFERROR(HYPERLINK(\"#'Exiting (FS009)'!\"&ADDRESS(ROW(INDEX(CurrentListing,MATCH('Category Set A by Basis of Exit'!W69,CurrentListing,0),1)),25),AK69),HYPERLINK(\"#'Exiting (FS009)'!\"&\"$AA$10\",AK69))","v":"MC"},{"$f":"IFERROR(HYPERLINK(\"#'Exiting (FS009)'!\"&ADDRESS(ROW(INDEX(CurrentListing,MATCH('Category Set A by Basis of Exit'!X69,CurrentListing,0),1)),25),AL69),HYPERLINK(\"#'Exiting (FS009)'!\"&\"$AA$10\",AL69))","v":"MC"},{"$f":"IFERROR(HYPERLINK(\"#'Exiting (FS009)'!\"&ADDRESS(ROW(INDEX(CurrentListing,MATCH('Category Set A by Basis of Exit'!Y69,CurrentListing,0),1)),25),AM69),HYPERLINK(\"#'Exiting (FS009)'!\"&\"$AA$10\",AM69))","v":"MC"},{"$f":"IFERROR(HYPERLINK(\"#'Exiting (FS009)'!\"&ADDRESS(ROW(INDEX(CurrentListing,MATCH('Category Set A by Basis of Exit'!Z69,CurrentListing,0),1)),25),AN69),HYPERLINK(\"#'Exiting (FS009)'!\"&\"$AA$10\",AN69))","v":"MC"},{"$f":"IFERROR(HYPERLINK(\"#'Exiting (FS009)'!\"&ADDRESS(ROW(INDEX(CurrentListing,MATCH('Category Set A by Basis of Exit'!AA69,CurrentListing,0),1)),25),AO69),HYPERLINK(\"#'Exiting (FS009)'!\"&\"$AA$10\",AO69))","v":"MC"},{"$f":"IFERROR(HYPERLINK(\"#'Exiting (FS009)'!\"&ADDRESS(ROW(INDEX(CurrentListing,MATCH('Category Set A by Basis of Exit'!AB69,CurrentListing,0),1)),25),AP69),HYPERLINK(\"#'Exiting (FS009)'!\"&\"$AA$10\",AP69))","v":"MC"},{"$f":"IF(SUM(B69:M69)>=0, SUM(B69:M69), \"\")","v":0},null,null,"ID14GRADALTDPLN","HI14GRADALTDPLN","SLI14GRADALTDPLN","VI14GRADALTDPLN","EMN14GRADALTDPLN","OI14GRADALTDPLN","OHI14GRADALTDPLN","SLD14GRADALTDPLN","DB14GRADALTDPLN","MD14GRADALTDPLN","AUT14GRADALTDPLN","TBI14GRADALTDPLN",null,14,{"$f":"IFERROR(IF(INDEX(StudCntC009,MATCH(Q69,CurrentListing,0))=\"\",\"No Data\",INDEX(StudCntC009,MATCH(Q69,CurrentListing,0))),\"MC\")","v":"MC"},{"$f":"IFERROR(IF(INDEX(StudCntC009,MATCH(R69,CurrentListing,0))=\"\",\"No Data\",INDEX(StudCntC009,MATCH(R69,CurrentListing,0))),\"MC\")","v":"MC"},{"$f":"IFERROR(IF(INDEX(StudCntC009,MATCH(S69,CurrentListing,0))=\"\",\"No Data\",INDEX(StudCntC009,MATCH(S69,CurrentListing,0))),\"MC\")","v":"MC"},{"$f":"IFERROR(IF(INDEX(StudCntC009,MATCH(T69,CurrentListing,0))=\"\",\"No Data\",INDEX(StudCntC009,MATCH(T69,CurrentListing,0))),\"MC\")","v":"MC"},{"$f":"IFERROR(IF(INDEX(StudCntC009,MATCH(U69,CurrentListing,0))=\"\",\"No Data\",INDEX(StudCntC009,MATCH(U69,CurrentListing,0))),\"MC\")","v":"MC"},{"$f":"IFERROR(IF(INDEX(StudCntC009,MATCH(V69,CurrentListing,0))=\"\",\"No Data\",INDEX(StudCntC009,MATCH(V69,CurrentListing,0))),\"MC\")","v":"MC"},{"$f":"IFERROR(IF(INDEX(StudCntC009,MATCH(W69,CurrentListing,0))=\"\",\"No Data\",INDEX(StudCntC009,MATCH(W69,CurrentListing,0))),\"MC\")","v":"MC"},{"$f":"IFERROR(IF(INDEX(StudCntC009,MATCH(X69,CurrentListing,0))=\"\",\"No Data\",INDEX(StudCntC009,MATCH(X69,CurrentListing,0))),\"MC\")","v":"MC"},{"$f":"IFERROR(IF(INDEX(StudCntC009,MATCH(Y69,CurrentListing,0))=\"\",\"No Data\",INDEX(StudCntC009,MATCH(Y69,CurrentListing,0))),\"MC\")","v":"MC"},{"$f":"IFERROR(IF(INDEX(StudCntC009,MATCH(Z69,CurrentListing,0))=\"\",\"No Data\",INDEX(StudCntC009,MATCH(Z69,CurrentListing,0))),\"MC\")","v":"MC"},{"$f":"IFERROR(IF(INDEX(StudCntC009,MATCH(AA69,CurrentListing,0))=\"\",\"No Data\",INDEX(StudCntC009,MATCH(AA69,CurrentListing,0))),\"MC\")","v":"MC"},{"$f":"IFERROR(IF(INDEX(StudCntC009,MATCH(AB69,CurrentListing,0))=\"\",\"No Data\",INDEX(StudCntC009,MATCH(AB69,CurrentListing,0))),\"MC\")","v":"MC"},{"$f":"SUM(AE69:AP69)","v":0}]
[15,{"$f":"IFERROR(HYPERLINK(\"#'Exiting (FS009)'!\"&ADDRESS(ROW(INDEX(CurrentListing,MATCH('Category Set A by Basis of Exit'!Q70,CurrentListing,0),1)),25),AE70),HYPERLINK(\"#'Exiting (FS009)'!\"&\"$AA$10\",AE70))","v":"MC"},{"$f":"IFERROR(HYPERLINK(\"#'Exiting (FS009)'!\"&ADDRESS(ROW(INDEX(CurrentListing,MATCH('Category Set A by Basis of Exit'!R70,CurrentListing,0),1)),25),AF70),HYPERLINK(\"#'Exiting (FS009)'!\"&\"$AA$10\",AF70))","v":"MC"},{"$f":"IFERROR(HYPERLINK(\"#'Exiting (FS009)'!\"&ADDRESS(ROW(INDEX(CurrentListing,MATCH('Category Set A by Basis of Exit'!S70,CurrentListing,0),1)),25),AG70),HYPERLINK(\"#'Exiting (FS009)'!\"&\"$AA$10\",AG70))","v":"MC"},{"$f":"IFERROR(HYPERLINK(\"#'Exiting (FS009)'!\"&ADDRESS(ROW(INDEX(CurrentListing,MATCH('Category Set A by Basis of Exit'!T70,CurrentListing,0),1)),25),AH70),HYPERLINK(\"#'Exiting (FS009)'!\"&\"$AA$10\",AH70))","v":"MC"},{"$f":"IFERROR(HYPERLINK(\"#'Exiting (FS009)'!\"&ADDRESS(ROW(INDEX(CurrentListing,MATCH('Category Set A by Basis of Exit'!U70,CurrentListing,0),1)),25),AI70),HYPERLINK(\"#'Exiting (FS009)'!\"&\"$AA$10\",AI70))","v":"MC"},{"$f":"IFERROR(HYPERLINK(\"#'Exiting (FS009)'!\"&ADDRESS(ROW(INDEX(CurrentListing,MATCH('Category Set A by Basis of Exit'!V70,CurrentListing,0),1)),25),AJ70),HYPERLINK(\"#'Exiting (FS009)'!\"&\"$AA$10\",AJ70))","v":"MC"},{"$f":"IFERROR(HYPERLINK(\"#'Exiting (FS009)'!\"&ADDRESS(ROW(INDEX(CurrentListing,MATCH('Category Set A by Basis of Exit'!W70,CurrentListing,0),1)),25),AK70),HYPERLINK(\"#'Exiting (FS009)'!\"&\"$AA$10\",AK70))","v":"MC"},{"$f":"IFERROR(HYPERLINK(\"#'Exiting (FS009)'!\"&ADDRESS(ROW(INDEX(CurrentListing,MATCH('Category Set A by Basis of Exit'!X70,CurrentListing,0),1)),25),AL70),HYPERLINK(\"#'Exiting (FS009)'!\"&\"$AA$10\",AL70))","v":"MC"},{"$f":"IFERROR(HYPERLINK(\"#'Exiting (FS009)'!\"&ADDRESS(ROW(INDEX(CurrentListing,MATCH('Category Set A by Basis of Exit'!Y70,CurrentListing,0),1)),25),AM70),HYPERLINK(\"#'Exiting (FS009)'!\"&\"$AA$10\",AM70))","v":"MC"},{"$f":"IFERROR(HYPERLINK(\"#'Exiting (FS009)'!\"&ADDRESS(ROW(INDEX(CurrentListing,MATCH('Category Set A by Basis of Exit'!Z70,CurrentListing,0),1)),25),AN70),HYPERLINK(\"#'Exiting (FS009)'!\"&\"$AA$10\",AN70))","v":"MC"},{"$f":"IFERROR(HYPERLINK(\"#'Exiting (FS009)'!\"&ADDRESS(ROW(INDEX(CurrentListing,MATCH('Category Set A by Basis of Exit'!AA70,CurrentListing,0),1)),25),AO70),HYPERLINK(\"#'Exiting (FS009)'!\"&\"$AA$10\",AO70))","v":"MC"},{"$f":"IFERROR(HYPERLINK(\"#'Exiting (FS009)'!\"&ADDRESS(ROW(INDEX(CurrentListing,MATCH('Category Set A by Basis of Exit'!AB70,CurrentListing,0),1)),25),AP70),HYPERLINK(\"#'Exiting (FS009)'!\"&\"$AA$10\",AP70))","v":"MC"},0,null,null,"ID15GRADALTDPLN","HI15GRADALTDPLN","SLI15GRADALTDPLN","VI15GRADALTDPLN","EMN15GRADALTDPLN","OI15GRADALTDPLN","OHI15GRADALTDPLN","SLD15GRADALTDPLN","DB15GRADALTDPLN","MD15GRADALTDPLN","AUT15GRADALTDPLN","TBI15GRADALTDPLN",null,15,"MC","MC","MC","MC","MC","MC","MC","MC","MC","MC","MC","MC",{"$f":"SUM(AE70:AP70)","v":0}]
[16,{"$f":"IFERROR(HYPERLINK(\"#'Exiting (FS009)'!\"&ADDRESS(ROW(INDEX(CurrentListing,MATCH('Category Set A by Basis of Exit'!Q71,CurrentListing,0),1)),25),AE71),HYPERLINK(\"#'Exiting (FS009)'!\"&\"$AA$10\",AE71))","v":"MC"},{"$f":"IFERROR(HYPERLINK(\"#'Exiting (FS009)'!\"&ADDRESS(ROW(INDEX(CurrentListing,MATCH('Category Set A by Basis of Exit'!R71,CurrentListing,0),1)),25),AF71),HYPERLINK(\"#'Exiting (FS009)'!\"&\"$AA$10\",AF71))","v":"MC"},{"$f":"IFERROR(HYPERLINK(\"#'Exiting (FS009)'!\"&ADDRESS(ROW(INDEX(CurrentListing,MATCH('Category Set A by Basis of Exit'!S71,CurrentListing,0),1)),25),AG71),HYPERLINK(\"#'Exiting (FS009)'!\"&\"$AA$10\",AG71))","v":"MC"},{"$f":"IFERROR(HYPERLINK(\"#'Exiting (FS009)'!\"&ADDRESS(ROW(INDEX(CurrentListing,MATCH('Category Set A by Basis of Exit'!T71,CurrentListing,0),1)),25),AH71),HYPERLINK(\"#'Exiting (FS009)'!\"&\"$AA$10\",AH71))","v":"MC"},{"$f":"IFERROR(HYPERLINK(\"#'Exiting (FS009)'!\"&ADDRESS(ROW(INDEX(CurrentListing,MATCH('Category Set A by Basis of Exit'!U71,CurrentListing,0),1)),25),AI71),HYPERLINK(\"#'Exiting (FS009)'!\"&\"$AA$10\",AI71))","v":"MC"},{"$f":"IFERROR(HYPERLINK(\"#'Exiting (FS009)'!\"&ADDRESS(ROW(INDEX(CurrentListing,MATCH('Category Set A by Basis of Exit'!V71,CurrentListing,0),1)),25),AJ71),HYPERLINK(\"#'Exiting (FS009)'!\"&\"$AA$10\",AJ71))","v":"MC"},{"$f":"IFERROR(HYPERLINK(\"#'Exiting (FS009)'!\"&ADDRESS(ROW(INDEX(CurrentListing,MATCH('Category Set A by Basis of Exit'!W71,CurrentListing,0),1)),25),AK71),HYPERLINK(\"#'Exiting (FS009)'!\"&\"$AA$10\",AK71))","v":"MC"},{"$f":"IFERROR(HYPERLINK(\"#'Exiting (FS009)'!\"&ADDRESS(ROW(INDEX(CurrentListing,MATCH('Category Set A by Basis of Exit'!X71,CurrentListing,0),1)),25),AL71),HYPERLINK(\"#'Exiting (FS009)'!\"&\"$AA$10\",AL71))","v":"MC"},{"$f":"IFERROR(HYPERLINK(\"#'Exiting (FS009)'!\"&ADDRESS(ROW(INDEX(CurrentListing,MATCH('Category Set A by Basis of Exit'!Y71,CurrentListing,0),1)),25),AM71),HYPERLINK(\"#'Exiting (FS009)'!\"&\"$AA$10\",AM71))","v":"MC"},{"$f":"IFERROR(HYPERLINK(\"#'Exiting (FS009)'!\"&ADDRESS(ROW(INDEX(CurrentListing,MATCH('Category Set A by Basis of Exit'!Z71,CurrentListing,0),1)),25),AN71),HYPERLINK(\"#'Exiting (FS009)'!\"&\"$AA$10\",AN71))","v":"MC"},{"$f":"IFERROR(HYPERLINK(\"#'Exiting (FS009)'!\"&ADDRESS(ROW(INDEX(CurrentListing,MATCH('Category Set A by Basis of Exit'!AA71,CurrentListing,0),1)),25),AO71),HYPERLINK(\"#'Exiting (FS009)'!\"&\"$AA$10\",AO71))","v":"MC"},{"$f":"IFERROR(HYPERLINK(\"#'Exiting (FS009)'!\"&ADDRESS(ROW(INDEX(CurrentListing,MATCH('Category Set A by Basis of Exit'!AB71,CurrentListing,0),1)),25),AP71),HYPERLINK(\"#'Exiting (FS009)'!\"&\"$AA$10\",AP71))","v":"MC"},0,null,null,"ID16GRADALTDPLN","HI16GRADALTDPLN","SLI16GRADALTDPLN","VI16GRADALTDPLN","EMN16GRADALTDPLN","OI16GRADALTDPLN","OHI16GRADALTDPLN","SLD16GRADALTDPLN","DB16GRADALTDPLN","MD16GRADALTDPLN","AUT16GRADALTDPLN","TBI16GRADALTDPLN",null,16,"MC","MC","MC","MC","MC","MC","MC","MC","MC","MC","MC","MC",0]
[17,{"$f":"IFERROR(HYPERLINK(\"#'Exiting (FS009)'!\"&ADDRESS(ROW(INDEX(CurrentListing,MATCH('Category Set A by Basis of Exit'!Q72,CurrentListing,0),1)),25),AE72),HYPERLINK(\"#'Exiting (FS009)'!\"&\"$AA$10\",AE72))","v":"MC"},{"$f":"IFERROR(HYPERLINK(\"#'Exiting (FS009)'!\"&ADDRESS(ROW(INDEX(CurrentListing,MATCH('Category Set A by Basis of Exit'!R72,CurrentListing,0),1)),25),AF72),HYPERLINK(\"#'Exiting (FS009)'!\"&\"$AA$10\",AF72))","v":"MC"},{"$f":"IFERROR(HYPERLINK(\"#'Exiting (FS009)'!\"&ADDRESS(ROW(INDEX(CurrentListing,MATCH('Category Set A by Basis of Exit'!S72,CurrentListing,0),1)),25),AG72),HYPERLINK(\"#'Exiting (FS009)'!\"&\"$AA$10\",AG72))","v":"MC"},{"$f":"IFERROR(HYPERLINK(\"#'Exiting (FS009)'!\"&ADDRESS(ROW(INDEX(CurrentListing,MATCH('Category Set A by Basis of Exit'!T72,CurrentListing,0),1)),25),AH72),HYPERLINK(\"#'Exiting (FS009)'!\"&\"$AA$10\",AH72))","v":"MC"},{"$f":"IFERROR(HYPERLINK(\"#'Exiting (FS009)'!\"&ADDRESS(ROW(INDEX(CurrentListing,MATCH('Category Set A by Basis of Exit'!U72,CurrentListing,0),1)),25),AI72),HYPERLINK(\"#'Exiting (FS009)'!\"&\"$AA$10\",AI72))","v":"MC"},{"$f":"IFERROR(HYPERLINK(\"#'Exiting (FS009)'!\"&ADDRESS(ROW(INDEX(CurrentListing,MATCH('Category Set A by Basis of Exit'!V72,CurrentListing,0),1)),25),AJ72),HYPERLINK(\"#'Exiting (FS009)'!\"&\"$AA$10\",AJ72))","v":"MC"},{"$f":"IFERROR(HYPERLINK(\"#'Exiting (FS009)'!\"&ADDRESS(ROW(INDEX(CurrentListing,MATCH('Category Set A by Basis of Exit'!W72,CurrentListing,0),1)),25),AK72),HYPERLINK(\"#'Exiting (FS009)'!\"&\"$AA$10\",AK72))","v":"MC"},{"$f":"IFERROR(HYPERLINK(\"#'Exiting (FS009)'!\"&ADDRESS(ROW(INDEX(CurrentListing,MATCH('Category Set A by Basis of Exit'!X72,CurrentListing,0),1)),25),AL72),HYPERLINK(\"#'Exiting (FS009)'!\"&\"$AA$10\",AL72))","v":"MC"},{"$f":"IFERROR(HYPERLINK(\"#'Exiting (FS009)'!\"&ADDRESS(ROW(INDEX(CurrentListing,MATCH('Category Set A by Basis of Exit'!Y72,CurrentListing,0),1)),25),AM72),HYPERLINK(\"#'Exiting (FS009)'!\"&\"$AA$10\",AM72))","v":"MC"},{"$f":"IFERROR(HYPERLINK(\"#'Exiting (FS009)'!\"&ADDRESS(ROW(INDEX(CurrentListing,MATCH('Category Set A by Basis of Exit'!Z72,CurrentListing,0),1)),25),AN72),HYPERLINK(\"#'Exiting (FS009)'!\"&\"$AA$10\",AN72))","v":"MC"},{"$f":"IFERROR(HYPERLINK(\"#'Exiting (FS009)'!\"&ADDRESS(ROW(INDEX(CurrentListing,MATCH('Category Set A by Basis of Exit'!AA72,CurrentListing,0),1)),25),AO72),HYPERLINK(\"#'Exiting (FS009)'!\"&\"$AA$10\",AO72))","v":"MC"},{"$f":"IFERROR(HYPERLINK(\"#'Exiting (FS009)'!\"&ADDRESS(ROW(INDEX(CurrentListing,MATCH('Category Set A by Basis of Exit'!AB72,CurrentListing,0),1)),25),AP72),HYPERLINK(\"#'Exiting (FS009)'!\"&\"$AA$10\",AP72))","v":"MC"},0,null,null,"ID17GRADALTDPLN","HI17GRADALTDPLN","SLI17GRADALTDPLN","VI17GRADALTDPLN","EMN17GRADALTDPLN","OI17GRADALTDPLN","OHI17GRADALTDPLN","SLD17GRADALTDPLN","DB17GRADALTDPLN","MD17GRADALTDPLN","AUT17GRADALTDPLN","TBI17GRADALTDPLN",null,17,"MC","MC","MC","MC","MC","MC","MC","MC","MC","MC","MC","MC",0]
[18,{"$f":"IFERROR(HYPERLINK(\"#'Exiting (FS009)'!\"&ADDRESS(ROW(INDEX(CurrentListing,MATCH('Category Set A by Basis of Exit'!Q73,CurrentListing,0),1)),25),AE73),HYPERLINK(\"#'Exiting (FS009)'!\"&\"$AA$10\",AE73))","v":"MC"},{"$f":"IFERROR(HYPERLINK(\"#'Exiting (FS009)'!\"&ADDRESS(ROW(INDEX(CurrentListing,MATCH('Category Set A by Basis of Exit'!R73,CurrentListing,0),1)),25),AF73),HYPERLINK(\"#'Exiting (FS009)'!\"&\"$AA$10\",AF73))","v":"MC"},{"$f":"IFERROR(HYPERLINK(\"#'Exiting (FS009)'!\"&ADDRESS(ROW(INDEX(CurrentListing,MATCH('Category Set A by Basis of Exit'!S73,CurrentListing,0),1)),25),AG73),HYPERLINK(\"#'Exiting (FS009)'!\"&\"$AA$10\",AG73))","v":"MC"},{"$f":"IFERROR(HYPERLINK(\"#'Exiting (FS009)'!\"&ADDRESS(ROW(INDEX(CurrentListing,MATCH('Category Set A by Basis of Exit'!T73,CurrentListing,0),1)),25),AH73),HYPERLINK(\"#'Exiting (FS009)'!\"&\"$AA$10\",AH73))","v":"MC"},{"$f":"IFERROR(HYPERLINK(\"#'Exiting (FS009)'!\"&ADDRESS(ROW(INDEX(CurrentListing,MATCH('Category Set A by Basis of Exit'!U73,CurrentListing,0),1)),25),AI73),HYPERLINK(\"#'Exiting (FS009)'!\"&\"$AA$10\",AI73))","v":"MC"},{"$f":"IFERROR(HYPERLINK(\"#'Exiting (FS009)'!\"&ADDRESS(ROW(INDEX(CurrentListing,MATCH('Category Set A by Basis of Exit'!V73,CurrentListing,0),1)),25),AJ73),HYPERLINK(\"#'Exiting (FS009)'!\"&\"$AA$10\",AJ73))","v":"MC"},{"$f":"IFERROR(HYPERLINK(\"#'Exiting (FS009)'!\"&ADDRESS(ROW(INDEX(CurrentListing,MATCH('Category Set A by Basis of Exit'!W73,CurrentListing,0),1)),25),AK73),HYPERLINK(\"#'Exiting (FS009)'!\"&\"$AA$10\",AK73))","v":"MC"},{"$f":"IFERROR(HYPERLINK(\"#'Exiting (FS009)'!\"&ADDRESS(ROW(INDEX(CurrentListing,MATCH('Category Set A by Basis of Exit'!X73,CurrentListing,0),1)),25),AL73),HYPERLINK(\"#'Exiting (FS009)'!\"&\"$AA$10\",AL73))","v":"MC"},{"$f":"IFERROR(HYPERLINK(\"#'Exiting (FS009)'!\"&ADDRESS(ROW(INDEX(CurrentListing,MATCH('Category Set A by Basis of Exit'!Y73,CurrentListing,0),1)),25),AM73),HYPERLINK(\"#'Exiting (FS009)'!\"&\"$AA$10\",AM73))","v":"MC"},{"$f":"IFERROR(HYPERLINK(\"#'Exiting (FS009)'!\"&ADDRESS(ROW(INDEX(CurrentListing,MATCH('Category Set A by Basis of Exit'!Z73,CurrentListing,0),1)),25),AN73),HYPERLINK(\"#'Exiting (FS009)'!\"&\"$AA$10\",AN73))","v":"MC"},{"$f":"IFERROR(HYPERLINK(\"#'Exiting (FS009)'!\"&ADDRESS(ROW(INDEX(CurrentListing,MATCH('Category Set A by Basis of Exit'!AA73,CurrentListing,0),1)),25),AO73),HYPERLINK(\"#'Exiting (FS009)'!\"&\"$AA$10\",AO73))","v":"MC"},{"$f":"IFERROR(HYPERLINK(\"#'Exiting (FS009)'!\"&ADDRESS(ROW(INDEX(CurrentListing,MATCH('Category Set A by Basis of Exit'!AB73,CurrentListing,0),1)),25),AP73),HYPERLINK(\"#'Exiting (FS009)'!\"&\"$AA$10\",AP73))","v":"MC"},0,null,null,"ID18GRADALTDPLN","HI18GRADALTDPLN","SLI18GRADALTDPLN","VI18GRADALTDPLN","EMN18GRADALTDPLN","OI18GRADALTDPLN","OHI18GRADALTDPLN","SLD18GRADALTDPLN","DB18GRADALTDPLN","MD18GRADALTDPLN","AUT18GRADALTDPLN","TBI18GRADALTDPLN",null,18,"MC","MC","MC","MC","MC","MC","MC","MC","MC","MC","MC","MC",0]
[19,{"$f":"IFERROR(HYPERLINK(\"#'Exiting (FS009)'!\"&ADDRESS(ROW(INDEX(CurrentListing,MATCH('Category Set A by Basis of Exit'!Q74,CurrentListing,0),1)),25),AE74),HYPERLINK(\"#'Exiting (FS009)'!\"&\"$AA$10\",AE74))","v":"MC"},{"$f":"IFERROR(HYPERLINK(\"#'Exiting (FS009)'!\"&ADDRESS(ROW(INDEX(CurrentListing,MATCH('Category Set A by Basis of Exit'!R74,CurrentListing,0),1)),25),AF74),HYPERLINK(\"#'Exiting (FS009)'!\"&\"$AA$10\",AF74))","v":"MC"},{"$f":"IFERROR(HYPERLINK(\"#'Exiting (FS009)'!\"&ADDRESS(ROW(INDEX(CurrentListing,MATCH('Category Set A by Basis of Exit'!S74,CurrentListing,0),1)),25),AG74),HYPERLINK(\"#'Exiting (FS009)'!\"&\"$AA$10\",AG74))","v":"MC"},{"$f":"IFERROR(HYPERLINK(\"#'Exiting (FS009)'!\"&ADDRESS(ROW(INDEX(CurrentListing,MATCH('Category Set A by Basis of Exit'!T74,CurrentListing,0),1)),25),AH74),HYPERLINK(\"#'Exiting (FS009)'!\"&\"$AA$10\",AH74))","v":"MC"},{"$f":"IFERROR(HYPERLINK(\"#'Exiting (FS009)'!\"&ADDRESS(ROW(INDEX(CurrentListing,MATCH('Category Set A by Basis of Exit'!U74,CurrentListing,0),1)),25),AI74),HYPERLINK(\"#'Exiting (FS009)'!\"&\"$AA$10\",AI74))","v":"MC"},{"$f":"IFERROR(HYPERLINK(\"#'Exiting (FS009)'!\"&ADDRESS(ROW(INDEX(CurrentListing,MATCH('Category Set A by Basis of Exit'!V74,CurrentListing,0),1)),25),AJ74),HYPERLINK(\"#'Exiting (FS009)'!\"&\"$AA$10\",AJ74))","v":"MC"},{"$f":"IFERROR(HYPERLINK(\"#'Exiting (FS009)'!\"&ADDRESS(ROW(INDEX(CurrentListing,MATCH('Category Set A by Basis of Exit'!W74,CurrentListing,0),1)),25),AK74),HYPERLINK(\"#'Exiting (FS009)'!\"&\"$AA$10\",AK74))","v":"MC"},{"$f":"IFERROR(HYPERLINK(\"#'Exiting (FS009)'!\"&ADDRESS(ROW(INDEX(CurrentListing,MATCH('Category Set A by Basis of Exit'!X74,CurrentListing,0),1)),25),AL74),HYPERLINK(\"#'Exiting (FS009)'!\"&\"$AA$10\",AL74))","v":"MC"},{"$f":"IFERROR(HYPERLINK(\"#'Exiting (FS009)'!\"&ADDRESS(ROW(INDEX(CurrentListing,MATCH('Category Set A by Basis of Exit'!Y74,CurrentListing,0),1)),25),AM74),HYPERLINK(\"#'Exiting (FS009)'!\"&\"$AA$10\",AM74))","v":"MC"},{"$f":"IFERROR(HYPERLINK(\"#'Exiting (FS009)'!\"&ADDRESS(ROW(INDEX(CurrentListing,MATCH('Category Set A by Basis of Exit'!Z74,CurrentListing,0),1)),25),AN74),HYPERLINK(\"#'Exiting (FS009)'!\"&\"$AA$10\",AN74))","v":"MC"},{"$f":"IFERROR(HYPERLINK(\"#'Exiting (FS009)'!\"&ADDRESS(ROW(INDEX(CurrentListing,MATCH('Category Set A by Basis of Exit'!AA74,CurrentListing,0),1)),25),AO74),HYPERLINK(\"#'Exiting (FS009)'!\"&\"$AA$10\",AO74))","v":"MC"},{"$f":"IFERROR(HYPERLINK(\"#'Exiting (FS009)'!\"&ADDRESS(ROW(INDEX(CurrentListing,MATCH('Category Set A by Basis of Exit'!AB74,CurrentListing,0),1)),25),AP74),HYPERLINK(\"#'Exiting (FS009)'!\"&\"$AA$10\",AP74))","v":"MC"},0,null,null,"ID19GRADALTDPLN","HI19GRADALTDPLN","SLI19GRADALTDPLN","VI19GRADALTDPLN","EMN19GRADALTDPLN","OI19GRADALTDPLN","OHI19GRADALTDPLN","SLD19GRADALTDPLN","DB19GRADALTDPLN","MD19GRADALTDPLN","AUT19GRADALTDPLN","TBI19GRADALTDPLN",null,19,"MC","MC","MC","MC","MC","MC","MC","MC","MC","MC","MC","MC",0]
[20,{"$f":"IFERROR(HYPERLINK(\"#'Exiting (FS009)'!\"&ADDRESS(ROW(INDEX(CurrentListing,MATCH('Category Set A by Basis of Exit'!Q75,CurrentListing,0),1)),25),AE75),HYPERLINK(\"#'Exiting (FS009)'!\"&\"$AA$10\",AE75))","v":"MC"},{"$f":"IFERROR(HYPERLINK(\"#'Exiting (FS009)'!\"&ADDRESS(ROW(INDEX(CurrentListing,MATCH('Category Set A by Basis of Exit'!R75,CurrentListing,0),1)),25),AF75),HYPERLINK(\"#'Exiting (FS009)'!\"&\"$AA$10\",AF75))","v":"MC"},{"$f":"IFERROR(HYPERLINK(\"#'Exiting (FS009)'!\"&ADDRESS(ROW(INDEX(CurrentListing,MATCH('Category Set A by Basis of Exit'!S75,CurrentListing,0),1)),25),AG75),HYPERLINK(\"#'Exiting (FS009)'!\"&\"$AA$10\",AG75))","v":"MC"},{"$f":"IFERROR(HYPERLINK(\"#'Exiting (FS009)'!\"&ADDRESS(ROW(INDEX(CurrentListing,MATCH('Category Set A by Basis of Exit'!T75,CurrentListing,0),1)),25),AH75),HYPERLINK(\"#'Exiting (FS009)'!\"&\"$AA$10\",AH75))","v":"MC"},{"$f":"IFERROR(HYPERLINK(\"#'Exiting (FS009)'!\"&ADDRESS(ROW(INDEX(CurrentListing,MATCH('Category Set A by Basis of Exit'!U75,CurrentListing,0),1)),25),AI75),HYPERLINK(\"#'Exiting (FS009)'!\"&\"$AA$10\",AI75))","v":"MC"},{"$f":"IFERROR(HYPERLINK(\"#'Exiting (FS009)'!\"&ADDRESS(ROW(INDEX(CurrentListing,MATCH('Category Set A by Basis of Exit'!V75,CurrentListing,0),1)),25),AJ75),HYPERLINK(\"#'Exiting (FS009)'!\"&\"$AA$10\",AJ75))","v":"MC"},{"$f":"IFERROR(HYPERLINK(\"#'Exiting (FS009)'!\"&ADDRESS(ROW(INDEX(CurrentListing,MATCH('Category Set A by Basis of Exit'!W75,CurrentListing,0),1)),25),AK75),HYPERLINK(\"#'Exiting (FS009)'!\"&\"$AA$10\",AK75))","v":"MC"},{"$f":"IFERROR(HYPERLINK(\"#'Exiting (FS009)'!\"&ADDRESS(ROW(INDEX(CurrentListing,MATCH('Category Set A by Basis of Exit'!X75,CurrentListing,0),1)),25),AL75),HYPERLINK(\"#'Exiting (FS009)'!\"&\"$AA$10\",AL75))","v":"MC"},{"$f":"IFERROR(HYPERLINK(\"#'Exiting (FS009)'!\"&ADDRESS(ROW(INDEX(CurrentListing,MATCH('Category Set A by Basis of Exit'!Y75,CurrentListing,0),1)),25),AM75),HYPERLINK(\"#'Exiting (FS009)'!\"&\"$AA$10\",AM75))","v":"MC"},{"$f":"IFERROR(HYPERLINK(\"#'Exiting (FS009)'!\"&ADDRESS(ROW(INDEX(CurrentListing,MATCH('Category Set A by Basis of Exit'!Z75,CurrentListing,0),1)),25),AN75),HYPERLINK(\"#'Exiting (FS009)'!\"&\"$AA$10\",AN75))","v":"MC"},{"$f":"IFERROR(HYPERLINK(\"#'Exiting (FS009)'!\"&ADDRESS(ROW(INDEX(CurrentListing,MATCH('Category Set A by Basis of Exit'!AA75,CurrentListing,0),1)),25),AO75),HYPERLINK(\"#'Exiting (FS009)'!\"&\"$AA$10\",AO75))","v":"MC"},{"$f":"IFERROR(HYPERLINK(\"#'Exiting (FS009)'!\"&ADDRESS(ROW(INDEX(CurrentListing,MATCH('Category Set A by Basis of Exit'!AB75,CurrentListing,0),1)),25),AP75),HYPERLINK(\"#'Exiting (FS009)'!\"&\"$AA$10\",AP75))","v":"MC"},0,null,null,"ID20GRADALTDPLN","HI20GRADALTDPLN","SLI20GRADALTDPLN","VI20GRADALTDPLN","EMN20GRADALTDPLN","OI20GRADALTDPLN","OHI20GRADALTDPLN","SLD20GRADALTDPLN","DB20GRADALTDPLN","MD20GRADALTDPLN","AUT20GRADALTDPLN","TBI20GRADALTDPLN",null,20,"MC","MC","MC","MC","MC","MC","MC","MC","MC","MC","MC","MC",0]
[21,{"$f":"IFERROR(HYPERLINK(\"#'Exiting (FS009)'!\"&ADDRESS(ROW(INDEX(CurrentListing,MATCH('Category Set A by Basis of Exit'!Q76,CurrentListing,0),1)),25),AE76),HYPERLINK(\"#'Exiting (FS009)'!\"&\"$AA$10\",AE76))","v":"MC"},{"$f":"IFERROR(HYPERLINK(\"#'Exiting (FS009)'!\"&ADDRESS(ROW(INDEX(CurrentListing,MATCH('Category Set A by Basis of Exit'!R76,CurrentListing,0),1)),25),AF76),HYPERLINK(\"#'Exiting (FS009)'!\"&\"$AA$10\",AF76))","v":"MC"},{"$f":"IFERROR(HYPERLINK(\"#'Exiting (FS009)'!\"&ADDRESS(ROW(INDEX(CurrentListing,MATCH('Category Set A by Basis of Exit'!S76,CurrentListing,0),1)),25),AG76),HYPERLINK(\"#'Exiting (FS009)'!\"&\"$AA$10\",AG76))","v":"MC"},{"$f":"IFERROR(HYPERLINK(\"#'Exiting (FS009)'!\"&ADDRESS(ROW(INDEX(CurrentListing,MATCH('Category Set A by Basis of Exit'!T76,CurrentListing,0),1)),25),AH76),HYPERLINK(\"#'Exiting (FS009)'!\"&\"$AA$10\",AH76))","v":"MC"},{"$f":"IFERROR(HYPERLINK(\"#'Exiting (FS009)'!\"&ADDRESS(ROW(INDEX(CurrentListing,MATCH('Category Set A by Basis of Exit'!U76,CurrentListing,0),1)),25),AI76),HYPERLINK(\"#'Exiting (FS009)'!\"&\"$AA$10\",AI76))","v":"MC"},{"$f":"IFERROR(HYPERLINK(\"#'Exiting (FS009)'!\"&ADDRESS(ROW(INDEX(CurrentListing,MATCH('Category Set A by Basis of Exit'!V76,CurrentListing,0),1)),25),AJ76),HYPERLINK(\"#'Exiting (FS009)'!\"&\"$AA$10\",AJ76))","v":"MC"},{"$f":"IFERROR(HYPERLINK(\"#'Exiting (FS009)'!\"&ADDRESS(ROW(INDEX(CurrentListing,MATCH('Category Set A by Basis of Exit'!W76,CurrentListing,0),1)),25),AK76),HYPERLINK(\"#'Exiting (FS009)'!\"&\"$AA$10\",AK76))","v":"MC"},{"$f":"IFERROR(HYPERLINK(\"#'Exiting (FS009)'!\"&ADDRESS(ROW(INDEX(CurrentListing,MATCH('Category Set A by Basis of Exit'!X76,CurrentListing,0),1)),25),AL76),HYPERLINK(\"#'Exiting (FS009)'!\"&\"$AA$10\",AL76))","v":"MC"},{"$f":"IFERROR(HYPERLINK(\"#'Exiting (FS009)'!\"&ADDRESS(ROW(INDEX(CurrentListing,MATCH('Category Set A by Basis of Exit'!Y76,CurrentListing,0),1)),25),AM76),HYPERLINK(\"#'Exiting (FS009)'!\"&\"$AA$10\",AM76))","v":"MC"},{"$f":"IFERROR(HYPERLINK(\"#'Exiting (FS009)'!\"&ADDRESS(ROW(INDEX(CurrentListing,MATCH('Category Set A by Basis of Exit'!Z76,CurrentListing,0),1)),25),AN76),HYPERLINK(\"#'Exiting (FS009)'!\"&\"$AA$10\",AN76))","v":"MC"},{"$f":"IFERROR(HYPERLINK(\"#'Exiting (FS009)'!\"&ADDRESS(ROW(INDEX(CurrentListing,MATCH('Category Set A by Basis of Exit'!AA76,CurrentListing,0),1)),25),AO76),HYPERLINK(\"#'Exiting (FS009)'!\"&\"$AA$10\",AO76))","v":"MC"},{"$f":"IFERROR(HYPERLINK(\"#'Exiting (FS009)'!\"&ADDRESS(ROW(INDEX(CurrentListing,MATCH('Category Set A by Basis of Exit'!AB76,CurrentListing,0),1)),25),AP76),HYPERLINK(\"#'Exiting (FS009)'!\"&\"$AA$10\",AP76))","v":"MC"},0,null,null,"ID21GRADALTDPLN","HI21GRADALTDPLN","SLI21GRADALTDPLN","VI21GRADALTDPLN","EMN21GRADALTDPLN","OI21GRADALTDPLN","OHI21GRADALTDPLN","SLD21GRADALTDPLN","DB21GRADALTDPLN","MD21GRADALTDPLN","AUT21GRADALTDPLN","TBI21GRADALTDPLN",null,21,"MC","MC","MC","MC","MC","MC","MC","MC","MC","MC","MC","MC",0]
["Total",{"$f":"IF(SUM(B69:B76)>=0, SUM(B69:B76), \"\")","v":0},{"$f":"IF(SUM(C69:C76)>=0, SUM(C69:C76), \"\")","v":0},0,0,0,0,0,0,0,0,0,0,{"$f":"IF(AND(N4=\"MC\",N5=\"MC\",N6=\"MC\",N7=\"MC\",N8=\"MC\",N9=\"MC\",N10=\"MC\",N11=\"MC\", N14=\"MC\"),\"\",SUM(B69:M76))","v":""},null,null,null,null,null,null,null,null,null,null,null,null,null,null,"GRADALTDPLY","Total",{"$f":"SUM(AE69:AE76)","v":0},{"$f":"SUM(AF69:AF76)","v":0},0,0,0,0,0,0,0,0,0,0,{"$f":"IFERROR(IF(INDEX(StudCntC009,MATCH(AC77,CurrentListing,0))=\"\",\"No Data\",INDEX(StudCntC009,MATCH(AC77,CurrentListing,0))),\"MC\")","v":"MC"}]
[]
["Percent by age","Graduated with an alternate diploma"]
[null,"Intellectual\ndisability\n(percent)","Hearing\nimpairment\n(percent)","Speech or\nlanguage\nimpairment\n(percent)","Visual\nimpairment\n(percent)","Emotional\ndisturbance\n(percent)","Orthopedic\nimpairment\n(percent)","Other\nhealth\nimpairment\n(percent)","Specific\nlearning\ndisability\n(percent)","Deaf-\nblindness\n(percent)","Multiple\ndisabilities\n(percent)","Autism\n(percent)","Traumatic\nbrain\ninjury\n(percent)","Total\n(percent)"]
[14,{"$f":"IF(ISERROR(B69/$N69),IF(B69=\"MC\", \"\",0), B69/$N69)","v":""},{"$f":"IF(ISERROR(C69/$N69),IF(C69=\"MC\", \"\",0), C69/$N69)","v":""},"","","","","","","","","","",{"$f":"SUM(B81:M81)","v":0}]
[15,{"$f":"IF(ISERROR(B70/$N70),IF(B70=\"MC\", \"\",0), B70/$N70)","v":""},"","","","","","","","","","","",{"$f":"SUM(B82:M82)","v":0}]
[16,{"$f":"IF(ISERROR(B71/$N71),IF(B71=\"MC\", \"\",0), B71/$N71)","v":""},"","","","","","","","","","","",0]
[17,{"$f":"IF(ISERROR(B72/$N72),IF(B72=\"MC\", \"\",0), B72/$N72)","v":""},"","","","","","","","","","","",0]
[18,{"$f":"IF(ISERROR(B73/$N73),IF(B73=\"MC\", \"\",0), B73/$N73)","v":""},"","","","","","","","","","","",0]
[19,{"$f":"IF(ISERROR(B74/$N74),IF(B74=\"MC\", \"\",0), B74/$N74)","v":""},"","","","","","","","","","","",0]
[20,{"$f":"IF(ISERROR(B75/$N75),IF(B75=\"MC\", \"\",0), B75/$N75)","v":""},"","","","","","","","","","","",0]
[21,{"$f":"IF(ISERROR(B76/$N76),IF(B76=\"MC\", \"\",0), B76/$N76)","v":""},"","","","","","","","","","","",0]
["Total",{"$f":"IFERROR(IF($N77<>0,B77/$N77,0),\"\")","v":""},{"$f":"IFERROR(IF($N77<>0,C77/$N77,0),\"\")","v":""},"","","","","","","","","","",0]
[]
["Category Set A – Children with disabilities (IDEA) exiting special education, by basis of exit, disability category, and age",null,null,null,null,null,null,null,null,null,null,null,null,null,null,null,"Received a certificate"]
["Student count by age","Received a certificate",null,null,null,null,null,null,null,null,null,null,null,null,null,null,null,null,null,null,null,null,null,null,null,null,null,null,null,"Student counts by age",{"$f":"B92","v":"Received a certificate"}]
[null,"Intellectual\ndisability","Hearing\nimpairment","Speech or\nlanguage\nimpairment","Visual\nimpairment","Emotional\ndisturbance","Orthopedic\nimpairment","Other\nhealth\nimpairment","Specific\nlearning\ndisability","Deaf-\nblindness","Multiple\ndisabilities","Autism","Traumatic\nbrain\ninjury","Total",null,null,null,null,null,null,null,null,null,null,null,null,null,null,null,null,"Intellectual\nDisability","Hearing\nImpairments","Speech or\nLanguage\nImpairments","Visual\nImpairments","Emotional\nDisturbance","Orthopedic\nImpairments","Other\nHealth\nImpairments","Specific\nLearning\nDisabilities","Deaf-\nBlindness","Multiple\nDisabilities","Autism","Traumatic\nBrain\nInjury","Total"]
[14,{"$f":"IFERROR(HYPERLINK(\"#'Exiting (FS009)'!\"&ADDRESS(ROW(INDEX(CurrentListing,MATCH('Category Set A by Basis of Exit'!Q94,CurrentListing,0),1)),25),AE94),HYPERLINK(\"#'Exiting (FS009)'!\"&\"$AA$10\",AE94))","v":"MC"},{"$f":"IFERROR(HYPERLINK(\"#'Exiting (FS009)'!\"&ADDRESS(ROW(INDEX(CurrentListing,MATCH('Category Set A by Basis of Exit'!R94,CurrentListing,0),1)),25),AF94),HYPERLINK(\"#'Exiting (FS009)'!\"&\"$AA$10\",AF94))","v":"MC"},{"$f":"IFERROR(HYPERLINK(\"#'Exiting (FS009)'!\"&ADDRESS(ROW(INDEX(CurrentListing,MATCH('Category Set A by Basis of Exit'!S94,CurrentListing,0),1)),25),AG94),HYPERLINK(\"#'Exiting (FS009)'!\"&\"$AA$10\",AG94))","v":"MC"},{"$f":"IFERROR(HYPERLINK(\"#'Exiting (FS009)'!\"&ADDRESS(ROW(INDEX(CurrentListing,MATCH('Category Set A by Basis of Exit'!T94,CurrentListing,0),1)),25),AH94),HYPERLINK(\"#'Exiting (FS009)'!\"&\"$AA$10\",AH94))","v":"MC"},{"$f":"IFERROR(HYPERLINK(\"#'Exiting (FS009)'!\"&ADDRESS(ROW(INDEX(CurrentListing,MATCH('Category Set A by Basis of Exit'!U94,CurrentListing,0),1)),25),AI94),HYPERLINK(\"#'Exiting (FS009)'!\"&\"$AA$10\",AI94))","v":"MC"},{"$f":"IFERROR(HYPERLINK(\"#'Exiting (FS009)'!\"&ADDRESS(ROW(INDEX(CurrentListing,MATCH('Category Set A by Basis of Exit'!V94,CurrentListing,0),1)),25),AJ94),HYPERLINK(\"#'Exiting (FS009)'!\"&\"$AA$10\",AJ94))","v":"MC"},{"$f":"IFERROR(HYPERLINK(\"#'Exiting (FS009)'!\"&ADDRESS(ROW(INDEX(CurrentListing,MATCH('Category Set A by Basis of Exit'!W94,CurrentListing,0),1)),25),AK94),HYPERLINK(\"#'Exiting (FS009)'!\"&\"$AA$10\",AK94))","v":"MC"},{"$f":"IFERROR(HYPERLINK(\"#'Exiting (FS009)'!\"&ADDRESS(ROW(INDEX(CurrentListing,MATCH('Category Set A by Basis of Exit'!X94,CurrentListing,0),1)),25),AL94),HYPERLINK(\"#'Exiting (FS009)'!\"&\"$AA$10\",AL94))","v":"MC"},{"$f":"IFERROR(HYPERLINK(\"#'Exiting (FS009)'!\"&ADDRESS(ROW(INDEX(CurrentListing,MATCH('Category Set A by Basis of Exit'!Y94,CurrentListing,0),1)),25),AM94),HYPERLINK(\"#'Exiting (FS009)'!\"&\"$AA$10\",AM94))","v":"MC"},{"$f":"IFERROR(HYPERLINK(\"#'Exiting (FS009)'!\"&ADDRESS(ROW(INDEX(CurrentListing,MATCH('Category Set A by Basis of Exit'!Z94,CurrentListing,0),1)),25),AN94),HYPERLINK(\"#'Exiting (FS009)'!\"&\"$AA$10\",AN94))","v":"MC"},{"$f":"IFERROR(HYPERLINK(\"#'Exiting (FS009)'!\"&ADDRESS(ROW(INDEX(CurrentListing,MATCH('Category Set A by Basis of Exit'!AA94,CurrentListing,0),1)),25),AO94),HYPERLINK(\"#'Exiting (FS009)'!\"&\"$AA$10\",AO94))","v":"MC"},{"$f":"IFERROR(HYPERLINK(\"#'Exiting (FS009)'!\"&ADDRESS(ROW(INDEX(CurrentListing,MATCH('Category Set A by Basis of Exit'!AB94,CurrentListing,0),1)),25),AP94),HYPERLINK(\"#'Exiting (FS009)'!\"&\"$AA$10\",AP94))","v":"MC"},{"$f":"IF(SUM(B94:M94)>=0, SUM(B94:M94),\"\")","v":0},null,null,"ID14RCN","HI14RCN","SLI14RCN","VI14RCN","EMN14RCN","OI14RCN","OHI14RCN","SLD14RCN","DB14RCN","MD14RCN","AUT14RCN","TBI14RCN",null,14,{"$f":"IFERROR(IF(INDEX(StudCntC009,MATCH(Q94,CurrentListing,0))=\"\",\"No Data\",INDEX(StudCntC009,MATCH(Q94,CurrentListing,0))),\"MC\")","v":"MC"},"MC","MC","MC","MC","MC","MC","MC","MC","MC","MC","MC",{"$f":"SUM(AE94:AP94)","v":0}]
[15,{"$f":"IFERROR(HYPERLINK(\"#'Exiting (FS009)'!\"&ADDRESS(ROW(INDEX(CurrentListing,MATCH('Category Set A by Basis of Exit'!Q95,CurrentListing,0),1)),25),AE95),HYPERLINK(\"#'Exiting (FS009)'!\"&\"$AA$10\",AE95))","v":"MC"},{"$f":"IFERROR(HYPERLINK(\"#'Exiting (FS009)'!\"&ADDRESS(ROW(INDEX(CurrentListing,MATCH('Category Set A by Basis of Exit'!R95,CurrentListing,0),1)),25),AF95),HYPERLINK(\"#'Exiting (FS009)'!\"&\"$AA$10\",AF95))","v":"MC"},{"$f":"IFERROR(HYPERLINK(\"#'Exiting (FS009)'!\"&ADDRESS(ROW(INDEX(CurrentListing,MATCH('Category Set A by Basis of Exit'!S95,CurrentListing,0),1)),25),AG95),HYPERLINK(\"#'Exiting (FS009)'!\"&\"$AA$10\",AG95))","v":"MC"},{"$f":"IFERROR(HYPERLINK(\"#'Exiting (FS009)'!\"&ADDRESS(ROW(INDEX(CurrentListing,MATCH('Category Set A by Basis of Exit'!T95,CurrentListing,0),1)),25),AH95),HYPERLINK(\"#'Exiting (FS009)'!\"&\"$AA$10\",AH95))","v":"MC"},{"$f":"IFERROR(HYPERLINK(\"#'Exiting (FS009)'!\"&ADDRESS(ROW(INDEX(CurrentListing,MATCH('Category Set A by Basis of Exit'!U95,CurrentListing,0),1)),25),AI95),HYPERLINK(\"#'Exiting (FS009)'!\"&\"$AA$10\",AI95))","v":"MC"},{"$f":"IFERROR(HYPERLINK(\"#'Exiting (FS009)'!\"&ADDRESS(ROW(INDEX(CurrentListing,MATCH('Category Set A by Basis of Exit'!V95,CurrentListing,0),1)),25),AJ95),HYPERLINK(\"#'Exiting (FS009)'!\"&\"$AA$10\",AJ95))","v":"MC"},{"$f":"IFERROR(HYPERLINK(\"#'Exiting (FS009)'!\"&ADDRESS(ROW(INDEX(CurrentListing,MATCH('Category Set A by Basis of Exit'!W95,CurrentListing,0),1)),25),AK95),HYPERLINK(\"#'Exiting (FS009)'!\"&\"$AA$10\",AK95))","v":"MC"},{"$f":"IFERROR(HYPERLINK(\"#'Exiting (FS009)'!\"&ADDRESS(ROW(INDEX(CurrentListing,MATCH('Category Set A by Basis of Exit'!X95,CurrentListing,0),1)),25),AL95),HYPERLINK(\"#'Exiting (FS009)'!\"&\"$AA$10\",AL95))","v":"MC"},{"$f":"IFERROR(HYPERLINK(\"#'Exiting (FS009)'!\"&ADDRESS(ROW(INDEX(CurrentListing,MATCH('Category Set A by Basis of Exit'!Y95,CurrentListing,0),1)),25),AM95),HYPERLINK(\"#'Exiting (FS009)'!\"&\"$AA$10\",AM95))","v":"MC"},{"$f":"IFERROR(HYPERLINK(\"#'Exiting (FS009)'!\"&ADDRESS(ROW(INDEX(CurrentListing,MATCH('Category Set A by Basis of Exit'!Z95,CurrentListing,0),1)),25),AN95),HYPERLINK(\"#'Exiting (FS009)'!\"&\"$AA$10\",AN95))","v":"MC"},{"$f":"IFERROR(HYPERLINK(\"#'Exiting (FS009)'!\"&ADDRESS(ROW(INDEX(CurrentListing,MATCH('Category Set A by Basis of Exit'!AA95,CurrentListing,0),1)),25),AO95),HYPERLINK(\"#'Exiting (FS009)'!\"&\"$AA$10\",AO95))","v":"MC"},{"$f":"IFERROR(HYPERLINK(\"#'Exiting (FS009)'!\"&ADDRESS(ROW(INDEX(CurrentListing,MATCH('Category Set A by Basis of Exit'!AB95,CurrentListing,0),1)),25),AP95),HYPERLINK(\"#'Exiting (FS009)'!\"&\"$AA$10\",AP95))","v":"MC"},0,null,null,"ID15RCN","HI15RCN","SLI15RCN","VI15RCN","EMN15RCN","OI15RCN","OHI15RCN","SLD15RCN","DB15RCN","MD15RCN","AUT15RCN","TBI15RCN",null,15,"MC","MC","MC","MC","MC","MC","MC","MC","MC","MC","MC","MC",{"$f":"SUM(AE95:AP95)","v":0}]
[16,{"$f":"IFERROR(HYPERLINK(\"#'Exiting (FS009)'!\"&ADDRESS(ROW(INDEX(CurrentListing,MATCH('Category Set A by Basis of Exit'!Q96,CurrentListing,0),1)),25),AE96),HYPERLINK(\"#'Exiting (FS009)'!\"&\"$AA$10\",AE96))","v":"MC"},{"$f":"IFERROR(HYPERLINK(\"#'Exiting (FS009)'!\"&ADDRESS(ROW(INDEX(CurrentListing,MATCH('Category Set A by Basis of Exit'!R96,CurrentListing,0),1)),25),AF96),HYPERLINK(\"#'Exiting (FS009)'!\"&\"$AA$10\",AF96))","v":"MC"},{"$f":"IFERROR(HYPERLINK(\"#'Exiting (FS009)'!\"&ADDRESS(ROW(INDEX(CurrentListing,MATCH('Category Set A by Basis of Exit'!S96,CurrentListing,0),1)),25),AG96),HYPERLINK(\"#'Exiting (FS009)'!\"&\"$AA$10\",AG96))","v":"MC"},{"$f":"IFERROR(HYPERLINK(\"#'Exiting (FS009)'!\"&ADDRESS(ROW(INDEX(CurrentListing,MATCH('Category Set A by Basis of Exit'!T96,CurrentListing,0),1)),25),AH96),HYPERLINK(\"#'Exiting (FS009)'!\"&\"$AA$10\",AH96))","v":"MC"},{"$f":"IFERROR(HYPERLINK(\"#'Exiting (FS009)'!\"&ADDRESS(ROW(INDEX(CurrentListing,MATCH('Category Set A by Basis of Exit'!U96,CurrentListing,0),1)),25),AI96),HYPERLINK(\"#'Exiting (FS009)'!\"&\"$AA$10\",AI96))","v":"MC"},{"$f":"IFERROR(HYPERLINK(\"#'Exiting (FS009)'!\"&ADDRESS(ROW(INDEX(CurrentListing,MATCH('Category Set A by Basis of Exit'!V96,CurrentListing,0),1)),25),AJ96),HYPERLINK(\"#'Exiting (FS009)'!\"&\"$AA$10\",AJ96))","v":"MC"},{"$f":"IFERROR(HYPERLINK(\"#'Exiting (FS009)'!\"&ADDRESS(ROW(INDEX(CurrentListing,MATCH('Category Set A by Basis of Exit'!W96,CurrentListing,0),1)),25),AK96),HYPERLINK(\"#'Exiting (FS009)'!\"&\"$AA$10\",AK96))","v":"MC"},{"$f":"IFERROR(HYPERLINK(\"#'Exiting (FS009)'!\"&ADDRESS(ROW(INDEX(CurrentListing,MATCH('Category Set A by Basis of Exit'!X96,CurrentListing,0),1)),25),AL96),HYPERLINK(\"#'Exiting (FS009)'!\"&\"$AA$10\",AL96))","v":"MC"},{"$f":"IFERROR(HYPERLINK(\"#'Exiting (FS009)'!\"&ADDRESS(ROW(INDEX(CurrentListing,MATCH('Category Set A by Basis of Exit'!Y96,CurrentListing,0),1)),25),AM96),HYPERLINK(\"#'Exiting (FS009)'!\"&\"$AA$10\",AM96))","v":"MC"},{"$f":"IFERROR(HYPERLINK(\"#'Exiting (FS009)'!\"&ADDRESS(ROW(INDEX(CurrentListing,MATCH('Category Set A by Basis of Exit'!Z96,CurrentListing,0),1)),25),AN96),HYPERLINK(\"#'Exiting (FS009)'!\"&\"$AA$10\",AN96))","v":"MC"},{"$f":"IFERROR(HYPERLINK(\"#'Exiting (FS009)'!\"&ADDRESS(ROW(INDEX(CurrentListing,MATCH('Category Set A by Basis of Exit'!AA96,CurrentListing,0),1)),25),AO96),HYPERLINK(\"#'Exiting (FS009)'!\"&\"$AA$10\",AO96))","v":"MC"},{"$f":"IFERROR(HYPERLINK(\"#'Exiting (FS009)'!\"&ADDRESS(ROW(INDEX(CurrentListing,MATCH('Category Set A by Basis of Exit'!AB96,CurrentListing,0),1)),25),AP96),HYPERLINK(\"#'Exiting (FS009)'!\"&\"$AA$10\",AP96))","v":"MC"},0,null,null,"ID16RCN","HI16RCN","SLI16RCN","VI16RCN","EMN16RCN","OI16RCN","OHI16RCN","SLD16RCN","DB16RCN","MD16RCN","AUT16RCN","TBI16RCN",null,16,"MC","MC","MC","MC","MC","MC","MC","MC","MC","MC","MC","MC",0]
[17,{"$f":"IFERROR(HYPERLINK(\"#'Exiting (FS009)'!\"&ADDRESS(ROW(INDEX(CurrentListing,MATCH('Category Set A by Basis of Exit'!Q97,CurrentListing,0),1)),25),AE97),HYPERLINK(\"#'Exiting (FS009)'!\"&\"$AA$10\",AE97))","v":"MC"},{"$f":"IFERROR(HYPERLINK(\"#'Exiting (FS009)'!\"&ADDRESS(ROW(INDEX(CurrentListing,MATCH('Category Set A by Basis of Exit'!R97,CurrentListing,0),1)),25),AF97),HYPERLINK(\"#'Exiting (FS009)'!\"&\"$AA$10\",AF97))","v":"MC"},{"$f":"IFERROR(HYPERLINK(\"#'Exiting (FS009)'!\"&ADDRESS(ROW(INDEX(CurrentListing,MATCH('Category Set A by Basis of Exit'!S97,CurrentListing,0),1)),25),AG97),HYPERLINK(\"#'Exiting (FS009)'!\"&\"$AA$10\",AG97))","v":"MC"},{"$f":"IFERROR(HYPERLINK(\"#'Exiting (FS009)'!\"&ADDRESS(ROW(INDEX(CurrentListing,MATCH('Category Set A by Basis of Exit'!T97,CurrentListing,0),1)),25),AH97),HYPERLINK(\"#'Exiting (FS009)'!\"&\"$AA$10\",AH97))","v":"MC"},{"$f":"IFERROR(HYPERLINK(\"#'Exiting (FS009)'!\"&ADDRESS(ROW(INDEX(CurrentListing,MATCH('Category Set A by Basis of Exit'!U97,CurrentListing,0),1)),25),AI97),HYPERLINK(\"#'Exiting (FS009)'!\"&\"$AA$10\",AI97))","v":"MC"},{"$f":"IFERROR(HYPERLINK(\"#'Exiting (FS009)'!\"&ADDRESS(ROW(INDEX(CurrentListing,MATCH('Category Set A by Basis of Exit'!V97,CurrentListing,0),1)),25),AJ97),HYPERLINK(\"#'Exiting (FS009)'!\"&\"$AA$10\",AJ97))","v":"MC"},{"$f":"IFERROR(HYPERLINK(\"#'Exiting (FS009)'!\"&ADDRESS(ROW(INDEX(CurrentListing,MATCH('Category Set A by Basis of Exit'!W97,CurrentListing,0),1)),25),AK97),HYPERLINK(\"#'Exiting (FS009)'!\"&\"$AA$10\",AK97))","v":"MC"},{"$f":"IFERROR(HYPERLINK(\"#'Exiting (FS009)'!\"&ADDRESS(ROW(INDEX(CurrentListing,MATCH('Category Set A by Basis of Exit'!X97,CurrentListing,0),1)),25),AL97),HYPERLINK(\"#'Exiting (FS009)'!\"&\"$AA$10\",AL97))","v":"MC"},{"$f":"IFERROR(HYPERLINK(\"#'Exiting (FS009)'!\"&ADDRESS(ROW(INDEX(CurrentListing,MATCH('Category Set A by Basis of Exit'!Y97,CurrentListing,0),1)),25),AM97),HYPERLINK(\"#'Exiting (FS009)'!\"&\"$AA$10\",AM97))","v":"MC"},{"$f":"IFERROR(HYPERLINK(\"#'Exiting (FS009)'!\"&ADDRESS(ROW(INDEX(CurrentListing,MATCH('Category Set A by Basis of Exit'!Z97,CurrentListing,0),1)),25),AN97),HYPERLINK(\"#'Exiting (FS009)'!\"&\"$AA$10\",AN97))","v":"MC"},{"$f":"IFERROR(HYPERLINK(\"#'Exiting (FS009)'!\"&ADDRESS(ROW(INDEX(CurrentListing,MATCH('Category Set A by Basis of Exit'!AA97,CurrentListing,0),1)),25),AO97),HYPERLINK(\"#'Exiting (FS009)'!\"&\"$AA$10\",AO97))","v":"MC"},{"$f":"IFERROR(HYPERLINK(\"#'Exiting (FS009)'!\"&ADDRESS(ROW(INDEX(CurrentListing,MATCH('Category Set A by Basis of Exit'!AB97,CurrentListing,0),1)),25),AP97),HYPERLINK(\"#'Exiting (FS009)'!\"&\"$AA$10\",AP97))","v":"MC"},0,null,null,"ID17RCN","HI17RCN","SLI17RCN","VI17RCN","EMN17RCN","OI17RCN","OHI17RCN","SLD17RCN","DB17RCN","MD17RCN","AUT17RCN","TBI17RCN",null,17,"MC","MC","MC","MC","MC","MC","MC","MC","MC","MC","MC","MC",0]
[18,{"$f":"IFERROR(HYPERLINK(\"#'Exiting (FS009)'!\"&ADDRESS(ROW(INDEX(CurrentListing,MATCH('Category Set A by Basis of Exit'!Q98,CurrentListing,0),1)),25),AE98),HYPERLINK(\"#'Exiting (FS009)'!\"&\"$AA$10\",AE98))","v":"MC"},{"$f":"IFERROR(HYPERLINK(\"#'Exiting (FS009)'!\"&ADDRESS(ROW(INDEX(CurrentListing,MATCH('Category Set A by Basis of Exit'!R98,CurrentListing,0),1)),25),AF98),HYPERLINK(\"#'Exiting (FS009)'!\"&\"$AA$10\",AF98))","v":"MC"},{"$f":"IFERROR(HYPERLINK(\"#'Exiting (FS009)'!\"&ADDRESS(ROW(INDEX(CurrentListing,MATCH('Category Set A by Basis of Exit'!S98,CurrentListing,0),1)),25),AG98),HYPERLINK(\"#'Exiting (FS009)'!\"&\"$AA$10\",AG98))","v":"MC"},{"$f":"IFERROR(HYPERLINK(\"#'Exiting (FS009)'!\"&ADDRESS(ROW(INDEX(CurrentListing,MATCH('Category Set A by Basis of Exit'!T98,CurrentListing,0),1)),25),AH98),HYPERLINK(\"#'Exiting (FS009)'!\"&\"$AA$10\",AH98))","v":"MC"},{"$f":"IFERROR(HYPERLINK(\"#'Exiting (FS009)'!\"&ADDRESS(ROW(INDEX(CurrentListing,MATCH('Category Set A by Basis of Exit'!U98,CurrentListing,0),1)),25),AI98),HYPERLINK(\"#'Exiting (FS009)'!\"&\"$AA$10\",AI98))","v":"MC"},{"$f":"IFERROR(HYPERLINK(\"#'Exiting (FS009)'!\"&ADDRESS(ROW(INDEX(CurrentListing,MATCH('Category Set A by Basis of Exit'!V98,CurrentListing,0),1)),25),AJ98),HYPERLINK(\"#'Exiting (FS009)'!\"&\"$AA$10\",AJ98))","v":"MC"},{"$f":"IFERROR(HYPERLINK(\"#'Exiting (FS009)'!\"&ADDRESS(ROW(INDEX(CurrentListing,MATCH('Category Set A by Basis of Exit'!W98,CurrentListing,0),1)),25),AK98),HYPERLINK(\"#'Exiting (FS009)'!\"&\"$AA$10\",AK98))","v":"MC"},{"$f":"IFERROR(HYPERLINK(\"#'Exiting (FS009)'!\"&ADDRESS(ROW(INDEX(CurrentListing,MATCH('Category Set A by Basis of Exit'!X98,CurrentListing,0),1)),25),AL98),HYPERLINK(\"#'Exiting (FS009)'!\"&\"$AA$10\",AL98))","v":"MC"},{"$f":"IFERROR(HYPERLINK(\"#'Exiting (FS009)'!\"&ADDRESS(ROW(INDEX(CurrentListing,MATCH('Category Set A by Basis of Exit'!Y98,CurrentListing,0),1)),25),AM98),HYPERLINK(\"#'Exiting (FS009)'!\"&\"$AA$10\",AM98))","v":"MC"},{"$f":"IFERROR(HYPERLINK(\"#'Exiting (FS009)'!\"&ADDRESS(ROW(INDEX(CurrentListing,MATCH('Category Set A by Basis of Exit'!Z98,CurrentListing,0),1)),25),AN98),HYPERLINK(\"#'Exiting (FS009)'!\"&\"$AA$10\",AN98))","v":"MC"},{"$f":"IFERROR(HYPERLINK(\"#'Exiting (FS009)'!\"&ADDRESS(ROW(INDEX(CurrentListing,MATCH('Category Set A by Basis of Exit'!AA98,CurrentListing,0),1)),25),AO98),HYPERLINK(\"#'Exiting (FS009)'!\"&\"$AA$10\",AO98))","v":"MC"},{"$f":"IFERROR(HYPERLINK(\"#'Exiting (FS009)'!\"&ADDRESS(ROW(INDEX(CurrentListing,MATCH('Category Set A by Basis of Exit'!AB98,CurrentListing,0),1)),25),AP98),HYPERLINK(\"#'Exiting (FS009)'!\"&\"$AA$10\",AP98))","v":"MC"},0,null,null,"ID18RCN","HI18RCN","SLI18RCN","VI18RCN","EMN18RCN","OI18RCN","OHI18RCN","SLD18RCN","DB18RCN","MD18RCN","AUT18RCN","TBI18RCN",null,18,"MC","MC","MC","MC","MC","MC","MC","MC","MC","MC","MC","MC",0]
[19,{"$f":"IFERROR(HYPERLINK(\"#'Exiting (FS009)'!\"&ADDRESS(ROW(INDEX(CurrentListing,MATCH('Category Set A by Basis of Exit'!Q99,CurrentListing,0),1)),25),AE99),HYPERLINK(\"#'Exiting (FS009)'!\"&\"$AA$10\",AE99))","v":"MC"},{"$f":"IFERROR(HYPERLINK(\"#'Exiting (FS009)'!\"&ADDRESS(ROW(INDEX(CurrentListing,MATCH('Category Set A by Basis of Exit'!R99,CurrentListing,0),1)),25),AF99),HYPERLINK(\"#'Exiting (FS009)'!\"&\"$AA$10\",AF99))","v":"MC"},{"$f":"IFERROR(HYPERLINK(\"#'Exiting (FS009)'!\"&ADDRESS(ROW(INDEX(CurrentListing,MATCH('Category Set A by Basis of Exit'!S99,CurrentListing,0),1)),25),AG99),HYPERLINK(\"#'Exiting (FS009)'!\"&\"$AA$10\",AG99))","v":"MC"},{"$f":"IFERROR(HYPERLINK(\"#'Exiting (FS009)'!\"&ADDRESS(ROW(INDEX(CurrentListing,MATCH('Category Set A by Basis of Exit'!T99,CurrentListing,0),1)),25),AH99),HYPERLINK(\"#'Exiting (FS009)'!\"&\"$AA$10\",AH99))","v":"MC"},{"$f":"IFERROR(HYPERLINK(\"#'Exiting (FS009)'!\"&ADDRESS(ROW(INDEX(CurrentListing,MATCH('Category Set A by Basis of Exit'!U99,CurrentListing,0),1)),25),AI99),HYPERLINK(\"#'Exiting (FS009)'!\"&\"$AA$10\",AI99))","v":"MC"},{"$f":"IFERROR(HYPERLINK(\"#'Exiting (FS009)'!\"&ADDRESS(ROW(INDEX(CurrentListing,MATCH('Category Set A by Basis of Exit'!V99,CurrentListing,0),1)),25),AJ99),HYPERLINK(\"#'Exiting (FS009)'!\"&\"$AA$10\",AJ99))","v":"MC"},{"$f":"IFERROR(HYPERLINK(\"#'Exiting (FS009)'!\"&ADDRESS(ROW(INDEX(CurrentListing,MATCH('Category Set A by Basis of Exit'!W99,CurrentListing,0),1)),25),AK99),HYPERLINK(\"#'Exiting (FS009)'!\"&\"$AA$10\",AK99))","v":"MC"},{"$f":"IFERROR(HYPERLINK(\"#'Exiting (FS009)'!\"&ADDRESS(ROW(INDEX(CurrentListing,MATCH('Category Set A by Basis of Exit'!X99,CurrentListing,0),1)),25),AL99),HYPERLINK(\"#'Exiting (FS009)'!\"&\"$AA$10\",AL99))","v":"MC"},{"$f":"IFERROR(HYPERLINK(\"#'Exiting (FS009)'!\"&ADDRESS(ROW(INDEX(CurrentListing,MATCH('Category Set A by Basis of Exit'!Y99,CurrentListing,0),1)),25),AM99),HYPERLINK(\"#'Exiting (FS009)'!\"&\"$AA$10\",AM99))","v":"MC"},{"$f":"IFERROR(HYPERLINK(\"#'Exiting (FS009)'!\"&ADDRESS(ROW(INDEX(CurrentListing,MATCH('Category Set A by Basis of Exit'!Z99,CurrentListing,0),1)),25),AN99),HYPERLINK(\"#'Exiting (FS009)'!\"&\"$AA$10\",AN99))","v":"MC"},{"$f":"IFERROR(HYPERLINK(\"#'Exiting (FS009)'!\"&ADDRESS(ROW(INDEX(CurrentListing,MATCH('Category Set A by Basis of Exit'!AA99,CurrentListing,0),1)),25),AO99),HYPERLINK(\"#'Exiting (FS009)'!\"&\"$AA$10\",AO99))","v":"MC"},{"$f":"IFERROR(HYPERLINK(\"#'Exiting (FS009)'!\"&ADDRESS(ROW(INDEX(CurrentListing,MATCH('Category Set A by Basis of Exit'!AB99,CurrentListing,0),1)),25),AP99),HYPERLINK(\"#'Exiting (FS009)'!\"&\"$AA$10\",AP99))","v":"MC"},0,null,null,"ID19RCN","HI19RCN","SLI19RCN","VI19RCN","EMN19RCN","OI19RCN","OHI19RCN","SLD19RCN","DB19RCN","MD19RCN","AUT19RCN","TBI19RCN",null,19,"MC","MC","MC","MC","MC","MC","MC","MC","MC","MC","MC","MC",0]
[20,{"$f":"IFERROR(HYPERLINK(\"#'Exiting (FS009)'!\"&ADDRESS(ROW(INDEX(CurrentListing,MATCH('Category Set A by Basis of Exit'!Q100,CurrentListing,0),1)),25),AE100),HYPERLINK(\"#'Exiting (FS009)'!\"&\"$AA$10\",AE100))","v":"MC"},{"$f":"IFERROR(HYPERLINK(\"#'Exiting (FS009)'!\"&ADDRESS(ROW(INDEX(CurrentListing,MATCH('Category Set A by Basis of Exit'!R100,CurrentListing,0),1)),25),AF100),HYPERLINK(\"#'Exiting (FS009)'!\"&\"$AA$10\",AF100))","v":"MC"},{"$f":"IFERROR(HYPERLINK(\"#'Exiting (FS009)'!\"&ADDRESS(ROW(INDEX(CurrentListing,MATCH('Category Set A by Basis of Exit'!S100,CurrentListing,0),1)),25),AG100),HYPERLINK(\"#'Exiting (FS009)'!\"&\"$AA$10\",AG100))","v":"MC"},{"$f":"IFERROR(HYPERLINK(\"#'Exiting (FS009)'!\"&ADDRESS(ROW(INDEX(CurrentListing,MATCH('Category Set A by Basis of Exit'!T100,CurrentListing,0),1)),25),AH100),HYPERLINK(\"#'Exiting (FS009)'!\"&\"$AA$10\",AH100))","v":"MC"},{"$f":"IFERROR(HYPERLINK(\"#'Exiting (FS009)'!\"&ADDRESS(ROW(INDEX(CurrentListing,MATCH('Category Set A by Basis of Exit'!U100,CurrentListing,0),1)),25),AI100),HYPERLINK(\"#'Exiting (FS009)'!\"&\"$AA$10\",AI100))","v":"MC"},{"$f":"IFERROR(HYPERLINK(\"#'Exiting (FS009)'!\"&ADDRESS(ROW(INDEX(CurrentListing,MATCH('Category Set A by Basis of Exit'!V100,CurrentListing,0),1)),25),AJ100),HYPERLINK(\"#'Exiting (FS009)'!\"&\"$AA$10\",AJ100))","v":"MC"},{"$f":"IFERROR(HYPERLINK(\"#'Exiting (FS009)'!\"&ADDRESS(ROW(INDEX(CurrentListing,MATCH('Category Set A by Basis of Exit'!W100,CurrentListing,0),1)),25),AK100),HYPERLINK(\"#'Exiting (FS009)'!\"&\"$AA$10\",AK100))","v":"MC"},{"$f":"IFERROR(HYPERLINK(\"#'Exiting (FS009)'!\"&ADDRESS(ROW(INDEX(CurrentListing,MATCH('Category Set A by Basis of Exit'!X100,CurrentListing,0),1)),25),AL100),HYPERLINK(\"#'Exiting (FS009)'!\"&\"$AA$10\",AL100))","v":"MC"},{"$f":"IFERROR(HYPERLINK(\"#'Exiting (FS009)'!\"&ADDRESS(ROW(INDEX(CurrentListing,MATCH('Category Set A by Basis of Exit'!Y100,CurrentListing,0),1)),25),AM100),HYPERLINK(\"#'Exiting (FS009)'!\"&\"$AA$10\",AM100))","v":"MC"},{"$f":"IFERROR(HYPERLINK(\"#'Exiting (FS009)'!\"&ADDRESS(ROW(INDEX(CurrentListing,MATCH('Category Set A by Basis of Exit'!Z100,CurrentListing,0),1)),25),AN100),HYPERLINK(\"#'Exiting (FS009)'!\"&\"$AA$10\",AN100))","v":"MC"},{"$f":"IFERROR(HYPERLINK(\"#'Exiting (FS009)'!\"&ADDRESS(ROW(INDEX(CurrentListing,MATCH('Category Set A by Basis of Exit'!AA100,CurrentListing,0),1)),25),AO100),HYPERLINK(\"#'Exiting (FS009)'!\"&\"$AA$10\",AO100))","v":"MC"},{"$f":"IFERROR(HYPERLINK(\"#'Exiting (FS009)'!\"&ADDRESS(ROW(INDEX(CurrentListing,MATCH('Category Set A by Basis of Exit'!AB100,CurrentListing,0),1)),25),AP100),HYPERLINK(\"#'Exiting (FS009)'!\"&\"$AA$10\",AP100))","v":"MC"},0,null,null,"ID20RCN","HI20RCN","SLI20RCN","VI20RCN","EMN20RCN","OI20RCN","OHI20RCN","SLD20RCN","DB20RCN","MD20RCN","AUT20RCN","TBI20RCN",null,20,"MC","MC","MC","MC","MC","MC","MC","MC","MC","MC","MC","MC",0]
[21,{"$f":"IFERROR(HYPERLINK(\"#'Exiting (FS009)'!\"&ADDRESS(ROW(INDEX(CurrentListing,MATCH('Category Set A by Basis of Exit'!Q101,CurrentListing,0),1)),25),AE101),HYPERLINK(\"#'Exiting (FS009)'!\"&\"$AA$10\",AE101))","v":"MC"},{"$f":"IFERROR(HYPERLINK(\"#'Exiting (FS009)'!\"&ADDRESS(ROW(INDEX(CurrentListing,MATCH('Category Set A by Basis of Exit'!R101,CurrentListing,0),1)),25),AF101),HYPERLINK(\"#'Exiting (FS009)'!\"&\"$AA$10\",AF101))","v":"MC"},{"$f":"IFERROR(HYPERLINK(\"#'Exiting (FS009)'!\"&ADDRESS(ROW(INDEX(CurrentListing,MATCH('Category Set A by Basis of Exit'!S101,CurrentListing,0),1)),25),AG101),HYPERLINK(\"#'Exiting (FS009)'!\"&\"$AA$10\",AG101))","v":"MC"},{"$f":"IFERROR(HYPERLINK(\"#'Exiting (FS009)'!\"&ADDRESS(ROW(INDEX(CurrentListing,MATCH('Category Set A by Basis of Exit'!T101,CurrentListing,0),1)),25),AH101),HYPERLINK(\"#'Exiting (FS009)'!\"&\"$AA$10\",AH101))","v":"MC"},{"$f":"IFERROR(HYPERLINK(\"#'Exiting (FS009)'!\"&ADDRESS(ROW(INDEX(CurrentListing,MATCH('Category Set A by Basis of Exit'!U101,CurrentListing,0),1)),25),AI101),HYPERLINK(\"#'Exiting (FS009)'!\"&\"$AA$10\",AI101))","v":"MC"},{"$f":"IFERROR(HYPERLINK(\"#'Exiting (FS009)'!\"&ADDRESS(ROW(INDEX(CurrentListing,MATCH('Category Set A by Basis of Exit'!V101,CurrentListing,0),1)),25),AJ101),HYPERLINK(\"#'Exiting (FS009)'!\"&\"$AA$10\",AJ101))","v":"MC"},{"$f":"IFERROR(HYPERLINK(\"#'Exiting (FS009)'!\"&ADDRESS(ROW(INDEX(CurrentListing,MATCH('Category Set A by Basis of Exit'!W101,CurrentListing,0),1)),25),AK101),HYPERLINK(\"#'Exiting (FS009)'!\"&\"$AA$10\",AK101))","v":"MC"},{"$f":"IFERROR(HYPERLINK(\"#'Exiting (FS009)'!\"&ADDRESS(ROW(INDEX(CurrentListing,MATCH('Category Set A by Basis of Exit'!X101,CurrentListing,0),1)),25),AL101),HYPERLINK(\"#'Exiting (FS009)'!\"&\"$AA$10\",AL101))","v":"MC"},{"$f":"IFERROR(HYPERLINK(\"#'Exiting (FS009)'!\"&ADDRESS(ROW(INDEX(CurrentListing,MATCH('Category Set A by Basis of Exit'!Y101,CurrentListing,0),1)),25),AM101),HYPERLINK(\"#'Exiting (FS009)'!\"&\"$AA$10\",AM101))","v":"MC"},{"$f":"IFERROR(HYPERLINK(\"#'Exiting (FS009)'!\"&ADDRESS(ROW(INDEX(CurrentListing,MATCH('Category Set A by Basis of Exit'!Z101,CurrentListing,0),1)),25),AN101),HYPERLINK(\"#'Exiting (FS009)'!\"&\"$AA$10\",AN101))","v":"MC"},{"$f":"IFERROR(HYPERLINK(\"#'Exiting (FS009)'!\"&ADDRESS(ROW(INDEX(CurrentListing,MATCH('Category Set A by Basis of Exit'!AA101,CurrentListing,0),1)),25),AO101),HYPERLINK(\"#'Exiting (FS009)'!\"&\"$AA$10\",AO101))","v":"MC"},{"$f":"IFERROR(HYPERLINK(\"#'Exiting (FS009)'!\"&ADDRESS(ROW(INDEX(CurrentListing,MATCH('Category Set A by Basis of Exit'!AB101,CurrentListing,0),1)),25),AP101),HYPERLINK(\"#'Exiting (FS009)'!\"&\"$AA$10\",AP101))","v":"MC"},0,null,null,"ID21RCN","HI21RCN","SLI21RCN","VI21RCN","EMN21RCN","OI21RCN","OHI21RCN","SLD21RCN","DB21RCN","MD21RCN","AUT21RCN","TBI21RCN",null,21,"MC","MC","MC","MC","MC","MC","MC","MC","MC","MC","MC","MC",0]
["Total",{"$f":"IF(SUM(B94:B101)>=0, SUM(B94:B101), \"\")","v":0},{"$f":"IF(SUM(C94:C101)>=0, SUM(C94:C101), \"\")","v":0},0,0,0,0,0,0,0,0,0,0,{"$f":"IF(AND(N4=\"MC\",N5=\"MC\",N6=\"MC\",N7=\"MC\",N8=\"MC\",N9=\"MC\",N10=\"MC\",N11=\"MC\", N14=\"MC\"),\"\",SUM(B94:M101))","v":""},null,null,null,null,null,null,null,null,null,null,null,null,null,null,"RCY","Total",{"$f":"SUM(AE94:AE101)","v":0},{"$f":"SUM(AF94:AF101)","v":0},0,0,0,0,0,0,0,0,0,0,{"$f":"IFERROR(IF(INDEX(StudCntC009,MATCH(AC102,CurrentListing,0))=\"\",\"No Data\",INDEX(StudCntC009,MATCH(AC102,CurrentListing,0))),\"MC\")","v":"MC"}]
[]
["Percent by age","Received a certificate"]
[null,"Intellectual\ndisability\n(percent)","Hearing\nimpairment\n(percent)","Speech or\nlanguage\nimpairment\n(percent)","Visual\nimpairment\n(percent)","Emotional\ndisturbance\n(percent)","Orthopedic\nimpairment\n(percent)","Other\nhealth\nimpairment\n(percent)","Specific\nlearning\ndisability\n(percent)","Deaf-\nblindness\n(percent)","Multiple\ndisabilities\n(percent)","Autism\n(percent)","Traumatic\nbrain\ninjury\n(percent)","Total\n(percent)"]
[14,{"$f":"IF(ISERROR(B94/$N94),IF(B94=\"MC\", \"\",0), B94/$N94)","v":""},{"$f":"IF(ISERROR(C94/$N94),IF(C94=\"MC\", \"\",0), C94/$N94)","v":""},"","","","","","","","","","",{"$f":"SUM(B106:M106)","v":0}]
[15,{"$f":"IF(ISERROR(B95/$N95),IF(B95=\"MC\", \"\",0), B95/$N95)","v":""},"","","","","","","","","","","",{"$f":"SUM(B107:M107)","v":0}]
[16,{"$f":"IF(ISERROR(B96/$N96),IF(B96=\"MC\", \"\",0), B96/$N96)","v":""},"","","","","","","","","","","",0]
[17,{"$f":"IF(ISERROR(B97/$N97),IF(B97=\"MC\", \"\",0), B97/$N97)","v":""},"","","","","","","","","","","",0]
[18,{"$f":"IF(ISERROR(B98/$N98),IF(B98=\"MC\", \"\",0), B98/$N98)","v":""},"","","","","","","","","","","",0]
[19,{"$f":"IF(ISERROR(B99/$N99),IF(B99=\"MC\", \"\",0), B99/$N99)","v":""},"","","","","","","","","","","",0]
[20,{"$f":"IF(ISERROR(B100/$N100),IF(B100=\"MC\", \"\",0), B100/$N100)","v":""},"","","","","","","","","","","",0]
[21,{"$f":"IF(ISERROR(B101/$N101),IF(B101=\"MC\", \"\",0), B101/$N101)","v":""},"","","","","","","","","","","",0]
["Total",{"$f":"IFERROR(IF($N102<>0,B102/$N102,0),\"\")","v":""},{"$f":"IFERROR(IF($N102<>0,C102/$N102,0),\"\")","v":""},"","","","","","","","","","",0]
[]
["Category Set A – Children with disabilities (IDEA) exiting special education, by basis of exit, disability category, and age",null,null,null,null,null,null,null,null,null,null,null,null,null,null,null,"Reached maximum age"]
["Student count by age","Reached maximum age",null,null,null,null,null,null,null,null,null,null,null,null,null,null,null,null,null,null,null,null,null,null,null,null,null,null,null,"Student counts by age",{"$f":"B117","v":"Reached maximum age"}]
[null,"Intellectual\ndisability","Hearing\nimpairment","Speech or\nlanguage\nimpairment","Visual\nimpairment","Emotional\ndisturbance","Orthopedic\nimpairment","Other\nhealth\nimpairment","Specific\nlearning\ndisability","Deaf-\nblindness","Multiple\ndisabilities","Autism","Traumatic\nbrain\ninjury","Total",null,null,null,null,null,null,null,null,null,null,null,null,null,null,null,null,"Intellectual\nDisability","Hearing\nImpairments","Speech or\nLanguage\nImpairments","Visual\nImpairments","Emotional\nDisturbance","Orthopedic\nImpairments","Other\nHealth\nImpairments","Specific\nLearning\nDisabilities","Deaf-\nBlindness","Multiple\nDisabilities","Autism","Traumatic\nBrain\nInjury","Total"]
[14,{"$f":"IFERROR(HYPERLINK(\"#'Exiting (FS009)'!\"&ADDRESS(ROW(INDEX(CurrentListing,MATCH('Category Set A by Basis of Exit'!Q119,CurrentListing,0),1)),25),AE119),HYPERLINK(\"#'Exiting (FS009)'!\"&\"$AA$10\",AE119))","v":"MC"},{"$f":"IFERROR(HYPERLINK(\"#'Exiting (FS009)'!\"&ADDRESS(ROW(INDEX(CurrentListing,MATCH('Category Set A by Basis of Exit'!R119,CurrentListing,0),1)),25),AF119),HYPERLINK(\"#'Exiting (FS009)'!\"&\"$AA$10\",AF119))","v":"MC"},{"$f":"IFERROR(HYPERLINK(\"#'Exiting (FS009)'!\"&ADDRESS(ROW(INDEX(CurrentListing,MATCH('Category Set A by Basis of Exit'!S119,CurrentListing,0),1)),25),AG119),HYPERLINK(\"#'Exiting (FS009)'!\"&\"$AA$10\",AG119))","v":"MC"},{"$f":"IFERROR(HYPERLINK(\"#'Exiting (FS009)'!\"&ADDRESS(ROW(INDEX(CurrentListing,MATCH('Category Set A by Basis of Exit'!T119,CurrentListing,0),1)),25),AH119),HYPERLINK(\"#'Exiting (FS009)'!\"&\"$AA$10\",AH119))","v":"MC"},{"$f":"IFERROR(HYPERLINK(\"#'Exiting (FS009)'!\"&ADDRESS(ROW(INDEX(CurrentListing,MATCH('Category Set A by Basis of Exit'!U119,CurrentListing,0),1)),25),AI119),HYPERLINK(\"#'Exiting (FS009)'!\"&\"$AA$10\",AI119))","v":"MC"},{"$f":"IFERROR(HYPERLINK(\"#'Exiting (FS009)'!\"&ADDRESS(ROW(INDEX(CurrentListing,MATCH('Category Set A by Basis of Exit'!V119,CurrentListing,0),1)),25),AJ119),HYPERLINK(\"#'Exiting (FS009)'!\"&\"$AA$10\",AJ119))","v":"MC"},{"$f":"IFERROR(HYPERLINK(\"#'Exiting (FS009)'!\"&ADDRESS(ROW(INDEX(CurrentListing,MATCH('Category Set A by Basis of Exit'!W119,CurrentListing,0),1)),25),AK119),HYPERLINK(\"#'Exiting (FS009)'!\"&\"$AA$10\",AK119))","v":"MC"},{"$f":"IFERROR(HYPERLINK(\"#'Exiting (FS009)'!\"&ADDRESS(ROW(INDEX(CurrentListing,MATCH('Category Set A by Basis of Exit'!X119,CurrentListing,0),1)),25),AL119),HYPERLINK(\"#'Exiting (FS009)'!\"&\"$AA$10\",AL119))","v":"MC"},{"$f":"IFERROR(HYPERLINK(\"#'Exiting (FS009)'!\"&ADDRESS(ROW(INDEX(CurrentListing,MATCH('Category Set A by Basis of Exit'!Y119,CurrentListing,0),1)),25),AM119),HYPERLINK(\"#'Exiting (FS009)'!\"&\"$AA$10\",AM119))","v":"MC"},{"$f":"IFERROR(HYPERLINK(\"#'Exiting (FS009)'!\"&ADDRESS(ROW(INDEX(CurrentListing,MATCH('Category Set A by Basis of Exit'!Z119,CurrentListing,0),1)),25),AN119),HYPERLINK(\"#'Exiting (FS009)'!\"&\"$AA$10\",AN119))","v":"MC"},{"$f":"IFERROR(HYPERLINK(\"#'Exiting (FS009)'!\"&ADDRESS(ROW(INDEX(CurrentListing,MATCH('Category Set A by Basis of Exit'!AA119,CurrentListing,0),1)),25),AO119),HYPERLINK(\"#'Exiting (FS009)'!\"&\"$AA$10\",AO119))","v":"MC"},{"$f":"IFERROR(HYPERLINK(\"#'Exiting (FS009)'!\"&ADDRESS(ROW(INDEX(CurrentListing,MATCH('Category Set A by Basis of Exit'!AB119,CurrentListing,0),1)),25),AP119),HYPERLINK(\"#'Exiting (FS009)'!\"&\"$AA$10\",AP119))","v":"MC"},{"$f":"IF(SUM(B119:M119)>=0, SUM(B119:M119),\"\")","v":0},null,null,"ID14RMAN","HI14RMAN","SLI14RMAN","VI14RMAN","EMN14RMAN","OI14RMAN","OHI14RMAN","SLD14RMAN","DB14RMAN","MD14RMAN","AUT14RMAN","TBI14RMAN",null,14,{"$f":"IFERROR(IF(INDEX(StudCntC009,MATCH(Q119,CurrentListing,0))=\"\",\"No Data\",INDEX(StudCntC009,MATCH(Q119,CurrentListing,0))),\"MC\")","v":"MC"},"MC","MC","MC","MC","MC","MC","MC","MC","MC","MC","MC",{"$f":"SUM(AE119:AP119)","v":0}]
[15,{"$f":"IFERROR(HYPERLINK(\"#'Exiting (FS009)'!\"&ADDRESS(ROW(INDEX(CurrentListing,MATCH('Category Set A by Basis of Exit'!Q120,CurrentListing,0),1)),25),AE120),HYPERLINK(\"#'Exiting (FS009)'!\"&\"$AA$10\",AE120))","v":"MC"},{"$f":"IFERROR(HYPERLINK(\"#'Exiting (FS009)'!\"&ADDRESS(ROW(INDEX(CurrentListing,MATCH('Category Set A by Basis of Exit'!R120,CurrentListing,0),1)),25),AF120),HYPERLINK(\"#'Exiting (FS009)'!\"&\"$AA$10\",AF120))","v":"MC"},{"$f":"IFERROR(HYPERLINK(\"#'Exiting (FS009)'!\"&ADDRESS(ROW(INDEX(CurrentListing,MATCH('Category Set A by Basis of Exit'!S120,CurrentListing,0),1)),25),AG120),HYPERLINK(\"#'Exiting (FS009)'!\"&\"$AA$10\",AG120))","v":"MC"},{"$f":"IFERROR(HYPERLINK(\"#'Exiting (FS009)'!\"&ADDRESS(ROW(INDEX(CurrentListing,MATCH('Category Set A by Basis of Exit'!T120,CurrentListing,0),1)),25),AH120),HYPERLINK(\"#'Exiting (FS009)'!\"&\"$AA$10\",AH120))","v":"MC"},{"$f":"IFERROR(HYPERLINK(\"#'Exiting (FS009)'!\"&ADDRESS(ROW(INDEX(CurrentListing,MATCH('Category Set A by Basis of Exit'!U120,CurrentListing,0),1)),25),AI120),HYPERLINK(\"#'Exiting (FS009)'!\"&\"$AA$10\",AI120))","v":"MC"},{"$f":"IFERROR(HYPERLINK(\"#'Exiting (FS009)'!\"&ADDRESS(ROW(INDEX(CurrentListing,MATCH('Category Set A by Basis of Exit'!V120,CurrentListing,0),1)),25),AJ120),HYPERLINK(\"#'Exiting (FS009)'!\"&\"$AA$10\",AJ120))","v":"MC"},{"$f":"IFERROR(HYPERLINK(\"#'Exiting (FS009)'!\"&ADDRESS(ROW(INDEX(CurrentListing,MATCH('Category Set A by Basis of Exit'!W120,CurrentListing,0),1)),25),AK120),HYPERLINK(\"#'Exiting (FS009)'!\"&\"$AA$10\",AK120))","v":"MC"},{"$f":"IFERROR(HYPERLINK(\"#'Exiting (FS009)'!\"&ADDRESS(ROW(INDEX(CurrentListing,MATCH('Category Set A by Basis of Exit'!X120,CurrentListing,0),1)),25),AL120),HYPERLINK(\"#'Exiting (FS009)'!\"&\"$AA$10\",AL120))","v":"MC"},{"$f":"IFERROR(HYPERLINK(\"#'Exiting (FS009)'!\"&ADDRESS(ROW(INDEX(CurrentListing,MATCH('Category Set A by Basis of Exit'!Y120,CurrentListing,0),1)),25),AM120),HYPERLINK(\"#'Exiting (FS009)'!\"&\"$AA$10\",AM120))","v":"MC"},{"$f":"IFERROR(HYPERLINK(\"#'Exiting (FS009)'!\"&ADDRESS(ROW(INDEX(CurrentListing,MATCH('Category Set A by Basis of Exit'!Z120,CurrentListing,0),1)),25),AN120),HYPERLINK(\"#'Exiting (FS009)'!\"&\"$AA$10\",AN120))","v":"MC"},{"$f":"IFERROR(HYPERLINK(\"#'Exiting (FS009)'!\"&ADDRESS(ROW(INDEX(CurrentListing,MATCH('Category Set A by Basis of Exit'!AA120,CurrentListing,0),1)),25),AO120),HYPERLINK(\"#'Exiting (FS009)'!\"&\"$AA$10\",AO120))","v":"MC"},{"$f":"IFERROR(HYPERLINK(\"#'Exiting (FS009)'!\"&ADDRESS(ROW(INDEX(CurrentListing,MATCH('Category Set A by Basis of Exit'!AB120,CurrentListing,0),1)),25),AP120),HYPERLINK(\"#'Exiting (FS009)'!\"&\"$AA$10\",AP120))","v":"MC"},0,null,null,"ID15RMAN","HI15RMAN","SLI15RMAN","VI15RMAN","EMN15RMAN","OI15RMAN","OHI15RMAN","SLD15RMAN","DB15RMAN","MD15RMAN","AUT15RMAN","TBI15RMAN",null,15,"MC","MC","MC","MC","MC","MC","MC","MC","MC","MC","MC","MC",{"$f":"SUM(AE120:AP120)","v":0}]
[16,{"$f":"IFERROR(HYPERLINK(\"#'Exiting (FS009)'!\"&ADDRESS(ROW(INDEX(CurrentListing,MATCH('Category Set A by Basis of Exit'!Q121,CurrentListing,0),1)),25),AE121),HYPERLINK(\"#'Exiting (FS009)'!\"&\"$AA$10\",AE121))","v":"MC"},{"$f":"IFERROR(HYPERLINK(\"#'Exiting (FS009)'!\"&ADDRESS(ROW(INDEX(CurrentListing,MATCH('Category Set A by Basis of Exit'!R121,CurrentListing,0),1)),25),AF121),HYPERLINK(\"#'Exiting (FS009)'!\"&\"$AA$10\",AF121))","v":"MC"},{"$f":"IFERROR(HYPERLINK(\"#'Exiting (FS009)'!\"&ADDRESS(ROW(INDEX(CurrentListing,MATCH('Category Set A by Basis of Exit'!S121,CurrentListing,0),1)),25),AG121),HYPERLINK(\"#'Exiting (FS009)'!\"&\"$AA$10\",AG121))","v":"MC"},{"$f":"IFERROR(HYPERLINK(\"#'Exiting (FS009)'!\"&ADDRESS(ROW(INDEX(CurrentListing,MATCH('Category Set A by Basis of Exit'!T121,CurrentListing,0),1)),25),AH121),HYPERLINK(\"#'Exiting (FS009)'!\"&\"$AA$10\",AH121))","v":"MC"},{"$f":"IFERROR(HYPERLINK(\"#'Exiting (FS009)'!\"&ADDRESS(ROW(INDEX(CurrentListing,MATCH('Category Set A by Basis of Exit'!U121,CurrentListing,0),1)),25),AI121),HYPERLINK(\"#'Exiting (FS009)'!\"&\"$AA$10\",AI121))","v":"MC"},{"$f":"IFERROR(HYPERLINK(\"#'Exiting (FS009)'!\"&ADDRESS(ROW(INDEX(CurrentListing,MATCH('Category Set A by Basis of Exit'!V121,CurrentListing,0),1)),25),AJ121),HYPERLINK(\"#'Exiting (FS009)'!\"&\"$AA$10\",AJ121))","v":"MC"},{"$f":"IFERROR(HYPERLINK(\"#'Exiting (FS009)'!\"&ADDRESS(ROW(INDEX(CurrentListing,MATCH('Category Set A by Basis of Exit'!W121,CurrentListing,0),1)),25),AK121),HYPERLINK(\"#'Exiting (FS009)'!\"&\"$AA$10\",AK121))","v":"MC"},{"$f":"IFERROR(HYPERLINK(\"#'Exiting (FS009)'!\"&ADDRESS(ROW(INDEX(CurrentListing,MATCH('Category Set A by Basis of Exit'!X121,CurrentListing,0),1)),25),AL121),HYPERLINK(\"#'Exiting (FS009)'!\"&\"$AA$10\",AL121))","v":"MC"},{"$f":"IFERROR(HYPERLINK(\"#'Exiting (FS009)'!\"&ADDRESS(ROW(INDEX(CurrentListing,MATCH('Category Set A by Basis of Exit'!Y121,CurrentListing,0),1)),25),AM121),HYPERLINK(\"#'Exiting (FS009)'!\"&\"$AA$10\",AM121))","v":"MC"},{"$f":"IFERROR(HYPERLINK(\"#'Exiting (FS009)'!\"&ADDRESS(ROW(INDEX(CurrentListing,MATCH('Category Set A by Basis of Exit'!Z121,CurrentListing,0),1)),25),AN121),HYPERLINK(\"#'Exiting (FS009)'!\"&\"$AA$10\",AN121))","v":"MC"},{"$f":"IFERROR(HYPERLINK(\"#'Exiting (FS009)'!\"&ADDRESS(ROW(INDEX(CurrentListing,MATCH('Category Set A by Basis of Exit'!AA121,CurrentListing,0),1)),25),AO121),HYPERLINK(\"#'Exiting (FS009)'!\"&\"$AA$10\",AO121))","v":"MC"},{"$f":"IFERROR(HYPERLINK(\"#'Exiting (FS009)'!\"&ADDRESS(ROW(INDEX(CurrentListing,MATCH('Category Set A by Basis of Exit'!AB121,CurrentListing,0),1)),25),AP121),HYPERLINK(\"#'Exiting (FS009)'!\"&\"$AA$10\",AP121))","v":"MC"},0,null,null,"ID16RMAN","HI16RMAN","SLI16RMAN","VI16RMAN","EMN16RMAN","OI16RMAN","OHI16RMAN","SLD16RMAN","DB16RMAN","MD16RMAN","AUT16RMAN","TBI16RMAN",null,16,"MC","MC","MC","MC","MC","MC","MC","MC","MC","MC","MC","MC",0]
[17,{"$f":"IFERROR(HYPERLINK(\"#'Exiting (FS009)'!\"&ADDRESS(ROW(INDEX(CurrentListing,MATCH('Category Set A by Basis of Exit'!Q122,CurrentListing,0),1)),25),AE122),HYPERLINK(\"#'Exiting (FS009)'!\"&\"$AA$10\",AE122))","v":"MC"},{"$f":"IFERROR(HYPERLINK(\"#'Exiting (FS009)'!\"&ADDRESS(ROW(INDEX(CurrentListing,MATCH('Category Set A by Basis of Exit'!R122,CurrentListing,0),1)),25),AF122),HYPERLINK(\"#'Exiting (FS009)'!\"&\"$AA$10\",AF122))","v":"MC"},{"$f":"IFERROR(HYPERLINK(\"#'Exiting (FS009)'!\"&ADDRESS(ROW(INDEX(CurrentListing,MATCH('Category Set A by Basis of Exit'!S122,CurrentListing,0),1)),25),AG122),HYPERLINK(\"#'Exiting (FS009)'!\"&\"$AA$10\",AG122))","v":"MC"},{"$f":"IFERROR(HYPERLINK(\"#'Exiting (FS009)'!\"&ADDRESS(ROW(INDEX(CurrentListing,MATCH('Category Set A by Basis of Exit'!T122,CurrentListing,0),1)),25),AH122),HYPERLINK(\"#'Exiting (FS009)'!\"&\"$AA$10\",AH122))","v":"MC"},{"$f":"IFERROR(HYPERLINK(\"#'Exiting (FS009)'!\"&ADDRESS(ROW(INDEX(CurrentListing,MATCH('Category Set A by Basis of Exit'!U122,CurrentListing,0),1)),25),AI122),HYPERLINK(\"#'Exiting (FS009)'!\"&\"$AA$10\",AI122))","v":"MC"},{"$f":"IFERROR(HYPERLINK(\"#'Exiting (FS009)'!\"&ADDRESS(ROW(INDEX(CurrentListing,MATCH('Category Set A by Basis of Exit'!V122,CurrentListing,0),1)),25),AJ122),HYPERLINK(\"#'Exiting (FS009)'!\"&\"$AA$10\",AJ122))","v":"MC"},{"$f":"IFERROR(HYPERLINK(\"#'Exiting (FS009)'!\"&ADDRESS(ROW(INDEX(CurrentListing,MATCH('Category Set A by Basis of Exit'!W122,CurrentListing,0),1)),25),AK122),HYPERLINK(\"#'Exiting (FS009)'!\"&\"$AA$10\",AK122))","v":"MC"},{"$f":"IFERROR(HYPERLINK(\"#'Exiting (FS009)'!\"&ADDRESS(ROW(INDEX(CurrentListing,MATCH('Category Set A by Basis of Exit'!X122,CurrentListing,0),1)),25),AL122),HYPERLINK(\"#'Exiting (FS009)'!\"&\"$AA$10\",AL122))","v":"MC"},{"$f":"IFERROR(HYPERLINK(\"#'Exiting (FS009)'!\"&ADDRESS(ROW(INDEX(CurrentListing,MATCH('Category Set A by Basis of Exit'!Y122,CurrentListing,0),1)),25),AM122),HYPERLINK(\"#'Exiting (FS009)'!\"&\"$AA$10\",AM122))","v":"MC"},{"$f":"IFERROR(HYPERLINK(\"#'Exiting (FS009)'!\"&ADDRESS(ROW(INDEX(CurrentListing,MATCH('Category Set A by Basis of Exit'!Z122,CurrentListing,0),1)),25),AN122),HYPERLINK(\"#'Exiting (FS009)'!\"&\"$AA$10\",AN122))","v":"MC"},{"$f":"IFERROR(HYPERLINK(\"#'Exiting (FS009)'!\"&ADDRESS(ROW(INDEX(CurrentListing,MATCH('Category Set A by Basis of Exit'!AA122,CurrentListing,0),1)),25),AO122),HYPERLINK(\"#'Exiting (FS009)'!\"&\"$AA$10\",AO122))","v":"MC"},{"$f":"IFERROR(HYPERLINK(\"#'Exiting (FS009)'!\"&ADDRESS(ROW(INDEX(CurrentListing,MATCH('Category Set A by Basis of Exit'!AB122,CurrentListing,0),1)),25),AP122),HYPERLINK(\"#'Exiting (FS009)'!\"&\"$AA$10\",AP122))","v":"MC"},0,null,null,"ID17RMAN","HI17RMAN","SLI17RMAN","VI17RMAN","EMN17RMAN","OI17RMAN","OHI17RMAN","SLD17RMAN","DB17RMAN","MD17RMAN","AUT17RMAN","TBI17RMAN",null,17,"MC","MC","MC","MC","MC","MC","MC","MC","MC","MC","MC","MC",0]
[18,{"$f":"IFERROR(HYPERLINK(\"#'Exiting (FS009)'!\"&ADDRESS(ROW(INDEX(CurrentListing,MATCH('Category Set A by Basis of Exit'!Q123,CurrentListing,0),1)),25),AE123),HYPERLINK(\"#'Exiting (FS009)'!\"&\"$AA$10\",AE123))","v":"MC"},{"$f":"IFERROR(HYPERLINK(\"#'Exiting (FS009)'!\"&ADDRESS(ROW(INDEX(CurrentListing,MATCH('Category Set A by Basis of Exit'!R123,CurrentListing,0),1)),25),AF123),HYPERLINK(\"#'Exiting (FS009)'!\"&\"$AA$10\",AF123))","v":"MC"},{"$f":"IFERROR(HYPERLINK(\"#'Exiting (FS009)'!\"&ADDRESS(ROW(INDEX(CurrentListing,MATCH('Category Set A by Basis of Exit'!S123,CurrentListing,0),1)),25),AG123),HYPERLINK(\"#'Exiting (FS009)'!\"&\"$AA$10\",AG123))","v":"MC"},{"$f":"IFERROR(HYPERLINK(\"#'Exiting (FS009)'!\"&ADDRESS(ROW(INDEX(CurrentListing,MATCH('Category Set A by Basis of Exit'!T123,CurrentListing,0),1)),25),AH123),HYPERLINK(\"#'Exiting (FS009)'!\"&\"$AA$10\",AH123))","v":"MC"},{"$f":"IFERROR(HYPERLINK(\"#'Exiting (FS009)'!\"&ADDRESS(ROW(INDEX(CurrentListing,MATCH('Category Set A by Basis of Exit'!U123,CurrentListing,0),1)),25),AI123),HYPERLINK(\"#'Exiting (FS009)'!\"&\"$AA$10\",AI123))","v":"MC"},{"$f":"IFERROR(HYPERLINK(\"#'Exiting (FS009)'!\"&ADDRESS(ROW(INDEX(CurrentListing,MATCH('Category Set A by Basis of Exit'!V123,CurrentListing,0),1)),25),AJ123),HYPERLINK(\"#'Exiting (FS009)'!\"&\"$AA$10\",AJ123))","v":"MC"},{"$f":"IFERROR(HYPERLINK(\"#'Exiting (FS009)'!\"&ADDRESS(ROW(INDEX(CurrentListing,MATCH('Category Set A by Basis of Exit'!W123,CurrentListing,0),1)),25),AK123),HYPERLINK(\"#'Exiting (FS009)'!\"&\"$AA$10\",AK123))","v":"MC"},{"$f":"IFERROR(HYPERLINK(\"#'Exiting (FS009)'!\"&ADDRESS(ROW(INDEX(CurrentListing,MATCH('Category Set A by Basis of Exit'!X123,CurrentListing,0),1)),25),AL123),HYPERLINK(\"#'Exiting (FS009)'!\"&\"$AA$10\",AL123))","v":"MC"},{"$f":"IFERROR(HYPERLINK(\"#'Exiting (FS009)'!\"&ADDRESS(ROW(INDEX(CurrentListing,MATCH('Category Set A by Basis of Exit'!Y123,CurrentListing,0),1)),25),AM123),HYPERLINK(\"#'Exiting (FS009)'!\"&\"$AA$10\",AM123))","v":"MC"},{"$f":"IFERROR(HYPERLINK(\"#'Exiting (FS009)'!\"&ADDRESS(ROW(INDEX(CurrentListing,MATCH('Category Set A by Basis of Exit'!Z123,CurrentListing,0),1)),25),AN123),HYPERLINK(\"#'Exiting (FS009)'!\"&\"$AA$10\",AN123))","v":"MC"},{"$f":"IFERROR(HYPERLINK(\"#'Exiting (FS009)'!\"&ADDRESS(ROW(INDEX(CurrentListing,MATCH('Category Set A by Basis of Exit'!AA123,CurrentListing,0),1)),25),AO123),HYPERLINK(\"#'Exiting (FS009)'!\"&\"$AA$10\",AO123))","v":"MC"},{"$f":"IFERROR(HYPERLINK(\"#'Exiting (FS009)'!\"&ADDRESS(ROW(INDEX(CurrentListing,MATCH('Category Set A by Basis of Exit'!AB123,CurrentListing,0),1)),25),AP123),HYPERLINK(\"#'Exiting (FS009)'!\"&\"$AA$10\",AP123))","v":"MC"},0,null,null,"ID18RMAN","HI18RMAN","SLI18RMAN","VI18RMAN","EMN18RMAN","OI18RMAN","OHI18RMAN","SLD18RMAN","DB18RMAN","MD18RMAN","AUT18RMAN","TBI18RMAN",null,18,"MC","MC","MC","MC","MC","MC","MC","MC","MC","MC","MC","MC",0]
[19,{"$f":"IFERROR(HYPERLINK(\"#'Exiting (FS009)'!\"&ADDRESS(ROW(INDEX(CurrentListing,MATCH('Category Set A by Basis of Exit'!Q124,CurrentListing,0),1)),25),AE124),HYPERLINK(\"#'Exiting (FS009)'!\"&\"$AA$10\",AE124))","v":"MC"},{"$f":"IFERROR(HYPERLINK(\"#'Exiting (FS009)'!\"&ADDRESS(ROW(INDEX(CurrentListing,MATCH('Category Set A by Basis of Exit'!R124,CurrentListing,0),1)),25),AF124),HYPERLINK(\"#'Exiting (FS009)'!\"&\"$AA$10\",AF124))","v":"MC"},{"$f":"IFERROR(HYPERLINK(\"#'Exiting (FS009)'!\"&ADDRESS(ROW(INDEX(CurrentListing,MATCH('Category Set A by Basis of Exit'!S124,CurrentListing,0),1)),25),AG124),HYPERLINK(\"#'Exiting (FS009)'!\"&\"$AA$10\",AG124))","v":"MC"},{"$f":"IFERROR(HYPERLINK(\"#'Exiting (FS009)'!\"&ADDRESS(ROW(INDEX(CurrentListing,MATCH('Category Set A by Basis of Exit'!T124,CurrentListing,0),1)),25),AH124),HYPERLINK(\"#'Exiting (FS009)'!\"&\"$AA$10\",AH124))","v":"MC"},{"$f":"IFERROR(HYPERLINK(\"#'Exiting (FS009)'!\"&ADDRESS(ROW(INDEX(CurrentListing,MATCH('Category Set A by Basis of Exit'!U124,CurrentListing,0),1)),25),AI124),HYPERLINK(\"#'Exiting (FS009)'!\"&\"$AA$10\",AI124))","v":"MC"},{"$f":"IFERROR(HYPERLINK(\"#'Exiting (FS009)'!\"&ADDRESS(ROW(INDEX(CurrentListing,MATCH('Category Set A by Basis of Exit'!V124,CurrentListing,0),1)),25),AJ124),HYPERLINK(\"#'Exiting (FS009)'!\"&\"$AA$10\",AJ124))","v":"MC"},{"$f":"IFERROR(HYPERLINK(\"#'Exiting (FS009)'!\"&ADDRESS(ROW(INDEX(CurrentListing,MATCH('Category Set A by Basis of Exit'!W124,CurrentListing,0),1)),25),AK124),HYPERLINK(\"#'Exiting (FS009)'!\"&\"$AA$10\",AK124))","v":"MC"},{"$f":"IFERROR(HYPERLINK(\"#'Exiting (FS009)'!\"&ADDRESS(ROW(INDEX(CurrentListing,MATCH('Category Set A by Basis of Exit'!X124,CurrentListing,0),1)),25),AL124),HYPERLINK(\"#'Exiting (FS009)'!\"&\"$AA$10\",AL124))","v":"MC"},{"$f":"IFERROR(HYPERLINK(\"#'Exiting (FS009)'!\"&ADDRESS(ROW(INDEX(CurrentListing,MATCH('Category Set A by Basis of Exit'!Y124,CurrentListing,0),1)),25),AM124),HYPERLINK(\"#'Exiting (FS009)'!\"&\"$AA$10\",AM124))","v":"MC"},{"$f":"IFERROR(HYPERLINK(\"#'Exiting (FS009)'!\"&ADDRESS(ROW(INDEX(CurrentListing,MATCH('Category Set A by Basis of Exit'!Z124,CurrentListing,0),1)),25),AN124),HYPERLINK(\"#'Exiting (FS009)'!\"&\"$AA$10\",AN124))","v":"MC"},{"$f":"IFERROR(HYPERLINK(\"#'Exiting (FS009)'!\"&ADDRESS(ROW(INDEX(CurrentListing,MATCH('Category Set A by Basis of Exit'!AA124,CurrentListing,0),1)),25),AO124),HYPERLINK(\"#'Exiting (FS009)'!\"&\"$AA$10\",AO124))","v":"MC"},{"$f":"IFERROR(HYPERLINK(\"#'Exiting (FS009)'!\"&ADDRESS(ROW(INDEX(CurrentListing,MATCH('Category Set A by Basis of Exit'!AB124,CurrentListing,0),1)),25),AP124),HYPERLINK(\"#'Exiting (FS009)'!\"&\"$AA$10\",AP124))","v":"MC"},0,null,null,"ID19RMAN","HI19RMAN","SLI19RMAN","VI19RMAN","EMN19RMAN","OI19RMAN","OHI19RMAN","SLD19RMAN","DB19RMAN","MD19RMAN","AUT19RMAN","TBI19RMAN",null,19,"MC","MC","MC","MC","MC","MC","MC","MC","MC","MC","MC","MC",0]
[20,{"$f":"IFERROR(HYPERLINK(\"#'Exiting (FS009)'!\"&ADDRESS(ROW(INDEX(CurrentListing,MATCH('Category Set A by Basis of Exit'!Q125,CurrentListing,0),1)),25),AE125),HYPERLINK(\"#'Exiting (FS009)'!\"&\"$AA$10\",AE125))","v":"MC"},{"$f":"IFERROR(HYPERLINK(\"#'Exiting (FS009)'!\"&ADDRESS(ROW(INDEX(CurrentListing,MATCH('Category Set A by Basis of Exit'!R125,CurrentListing,0),1)),25),AF125),HYPERLINK(\"#'Exiting (FS009)'!\"&\"$AA$10\",AF125))","v":"MC"},{"$f":"IFERROR(HYPERLINK(\"#'Exiting (FS009)'!\"&ADDRESS(ROW(INDEX(CurrentListing,MATCH('Category Set A by Basis of Exit'!S125,CurrentListing,0),1)),25),AG125),HYPERLINK(\"#'Exiting (FS009)'!\"&\"$AA$10\",AG125))","v":"MC"},{"$f":"IFERROR(HYPERLINK(\"#'Exiting (FS009)'!\"&ADDRESS(ROW(INDEX(CurrentListing,MATCH('Category Set A by Basis of Exit'!T125,CurrentListing,0),1)),25),AH125),HYPERLINK(\"#'Exiting (FS009)'!\"&\"$AA$10\",AH125))","v":"MC"},{"$f":"IFERROR(HYPERLINK(\"#'Exiting (FS009)'!\"&ADDRESS(ROW(INDEX(CurrentListing,MATCH('Category Set A by Basis of Exit'!U125,CurrentListing,0),1)),25),AI125),HYPERLINK(\"#'Exiting (FS009)'!\"&\"$AA$10\",AI125))","v":"MC"},{"$f":"IFERROR(HYPERLINK(\"#'Exiting (FS009)'!\"&ADDRESS(ROW(INDEX(CurrentListing,MATCH('Category Set A by Basis of Exit'!V125,CurrentListing,0),1)),25),AJ125),HYPERLINK(\"#'Exiting (FS009)'!\"&\"$AA$10\",AJ125))","v":"MC"},{"$f":"IFERROR(HYPERLINK(\"#'Exiting (FS009)'!\"&ADDRESS(ROW(INDEX(CurrentListing,MATCH('Category Set A by Basis of Exit'!W125,CurrentListing,0),1)),25),AK125),HYPERLINK(\"#'Exiting (FS009)'!\"&\"$AA$10\",AK125))","v":"MC"},{"$f":"IFERROR(HYPERLINK(\"#'Exiting (FS009)'!\"&ADDRESS(ROW(INDEX(CurrentListing,MATCH('Category Set A by Basis of Exit'!X125,CurrentListing,0),1)),25),AL125),HYPERLINK(\"#'Exiting (FS009)'!\"&\"$AA$10\",AL125))","v":"MC"},{"$f":"IFERROR(HYPERLINK(\"#'Exiting (FS009)'!\"&ADDRESS(ROW(INDEX(CurrentListing,MATCH('Category Set A by Basis of Exit'!Y125,CurrentListing,0),1)),25),AM125),HYPERLINK(\"#'Exiting (FS009)'!\"&\"$AA$10\",AM125))","v":"MC"},{"$f":"IFERROR(HYPERLINK(\"#'Exiting (FS009)'!\"&ADDRESS(ROW(INDEX(CurrentListing,MATCH('Category Set A by Basis of Exit'!Z125,CurrentListing,0),1)),25),AN125),HYPERLINK(\"#'Exiting (FS009)'!\"&\"$AA$10\",AN125))","v":"MC"},{"$f":"IFERROR(HYPERLINK(\"#'Exiting (FS009)'!\"&ADDRESS(ROW(INDEX(CurrentListing,MATCH('Category Set A by Basis of Exit'!AA125,CurrentListing,0),1)),25),AO125),HYPERLINK(\"#'Exiting (FS009)'!\"&\"$AA$10\",AO125))","v":"MC"},{"$f":"IFERROR(HYPERLINK(\"#'Exiting (FS009)'!\"&ADDRESS(ROW(INDEX(CurrentListing,MATCH('Category Set A by Basis of Exit'!AB125,CurrentListing,0),1)),25),AP125),HYPERLINK(\"#'Exiting (FS009)'!\"&\"$AA$10\",AP125))","v":"MC"},0,null,null,"ID20RMAN","HI20RMAN","SLI20RMAN","VI20RMAN","EMN20RMAN","OI20RMAN","OHI20RMAN","SLD20RMAN","DB20RMAN","MD20RMAN","AUT20RMAN","TBI20RMAN",null,20,"MC","MC","MC","MC","MC","MC","MC","MC","MC","MC","MC","MC",0]
[21,{"$f":"IFERROR(HYPERLINK(\"#'Exiting (FS009)'!\"&ADDRESS(ROW(INDEX(CurrentListing,MATCH('Category Set A by Basis of Exit'!Q126,CurrentListing,0),1)),25),AE126),HYPERLINK(\"#'Exiting (FS009)'!\"&\"$AA$10\",AE126))","v":"MC"},{"$f":"IFERROR(HYPERLINK(\"#'Exiting (FS009)'!\"&ADDRESS(ROW(INDEX(CurrentListing,MATCH('Category Set A by Basis of Exit'!R126,CurrentListing,0),1)),25),AF126),HYPERLINK(\"#'Exiting (FS009)'!\"&\"$AA$10\",AF126))","v":"MC"},{"$f":"IFERROR(HYPERLINK(\"#'Exiting (FS009)'!\"&ADDRESS(ROW(INDEX(CurrentListing,MATCH('Category Set A by Basis of Exit'!S126,CurrentListing,0),1)),25),AG126),HYPERLINK(\"#'Exiting (FS009)'!\"&\"$AA$10\",AG126))","v":"MC"},{"$f":"IFERROR(HYPERLINK(\"#'Exiting (FS009)'!\"&ADDRESS(ROW(INDEX(CurrentListing,MATCH('Category Set A by Basis of Exit'!T126,CurrentListing,0),1)),25),AH126),HYPERLINK(\"#'Exiting (FS009)'!\"&\"$AA$10\",AH126))","v":"MC"},{"$f":"IFERROR(HYPERLINK(\"#'Exiting (FS009)'!\"&ADDRESS(ROW(INDEX(CurrentListing,MATCH('Category Set A by Basis of Exit'!U126,CurrentListing,0),1)),25),AI126),HYPERLINK(\"#'Exiting (FS009)'!\"&\"$AA$10\",AI126))","v":"MC"},{"$f":"IFERROR(HYPERLINK(\"#'Exiting (FS009)'!\"&ADDRESS(ROW(INDEX(CurrentListing,MATCH('Category Set A by Basis of Exit'!V126,CurrentListing,0),1)),25),AJ126),HYPERLINK(\"#'Exiting (FS009)'!\"&\"$AA$10\",AJ126))","v":"MC"},{"$f":"IFERROR(HYPERLINK(\"#'Exiting (FS009)'!\"&ADDRESS(ROW(INDEX(CurrentListing,MATCH('Category Set A by Basis of Exit'!W126,CurrentListing,0),1)),25),AK126),HYPERLINK(\"#'Exiting (FS009)'!\"&\"$AA$10\",AK126))","v":"MC"},{"$f":"IFERROR(HYPERLINK(\"#'Exiting (FS009)'!\"&ADDRESS(ROW(INDEX(CurrentListing,MATCH('Category Set A by Basis of Exit'!X126,CurrentListing,0),1)),25),AL126),HYPERLINK(\"#'Exiting (FS009)'!\"&\"$AA$10\",AL126))","v":"MC"},{"$f":"IFERROR(HYPERLINK(\"#'Exiting (FS009)'!\"&ADDRESS(ROW(INDEX(CurrentListing,MATCH('Category Set A by Basis of Exit'!Y126,CurrentListing,0),1)),25),AM126),HYPERLINK(\"#'Exiting (FS009)'!\"&\"$AA$10\",AM126))","v":"MC"},{"$f":"IFERROR(HYPERLINK(\"#'Exiting (FS009)'!\"&ADDRESS(ROW(INDEX(CurrentListing,MATCH('Category Set A by Basis of Exit'!Z126,CurrentListing,0),1)),25),AN126),HYPERLINK(\"#'Exiting (FS009)'!\"&\"$AA$10\",AN126))","v":"MC"},{"$f":"IFERROR(HYPERLINK(\"#'Exiting (FS009)'!\"&ADDRESS(ROW(INDEX(CurrentListing,MATCH('Category Set A by Basis of Exit'!AA126,CurrentListing,0),1)),25),AO126),HYPERLINK(\"#'Exiting (FS009)'!\"&\"$AA$10\",AO126))","v":"MC"},{"$f":"IFERROR(HYPERLINK(\"#'Exiting (FS009)'!\"&ADDRESS(ROW(INDEX(CurrentListing,MATCH('Category Set A by Basis of Exit'!AB126,CurrentListing,0),1)),25),AP126),HYPERLINK(\"#'Exiting (FS009)'!\"&\"$AA$10\",AP126))","v":"MC"},{"$f":"IF(SUM(B126:M126)>=0, SUM(B126:M126),\"\")","v":0},null,null,"ID21RMAN","HI21RMAN","SLI21RMAN","VI21RMAN","EMN21RMAN","OI21RMAN","OHI21RMAN","SLD21RMAN","DB21RMAN","MD21RMAN","AUT21RMAN","TBI21RMAN",null,21,"MC","MC","MC","MC","MC","MC","MC","MC","MC","MC","MC","MC",0]
["Total",{"$f":"IF(SUM(B119:B126)>=0,SUM(B119:B126),\"\")","v":0},{"$f":"IF(SUM(C119:C126)>=0,SUM(C119:C126),\"\")","v":0},0,0,0,0,0,0,0,0,0,0,{"$f":"IF(AND(N4=\"MC\",N5=\"MC\",N6=\"MC\",N7=\"MC\",N8=\"MC\",N9=\"MC\",N10=\"MC\",N11=\"MC\", N14=\"MC\"),\"\",SUM(B119:M126))","v":""},null,null,null,null,null,null,null,null,null,null,null,null,null,null,"RMAY","Total",{"$f":"SUM(AE119:AE126)","v":0},{"$f":"SUM(AF119:AF126)","v":0},0,0,0,0,0,0,0,0,0,0,{"$f":"IFERROR(IF(INDEX(StudCntC009,MATCH(AC127,CurrentListing,0))=\"\",\"No Data\",INDEX(StudCntC009,MATCH(AC127,CurrentListing,0))),\"MC\")","v":"MC"}]
[]
["Percent by age","Reached maximum age"]
[null,"Intellectual\ndisability\n(percent)","Hearing\nimpairment\n(percent)","Speech or\nlanguage\nimpairment\n(percent)","Visual\nimpairment\n(percent)","Emotional\ndisturbance\n(percent)","Orthopedic\nimpairment\n(percent)","Other\nhealth\nimpairment\n(percent)","Specific\nlearning\ndisability\n(percent)","Deaf-\nblindness\n(percent)","Multiple\ndisabilities\n(percent)","Autism\n(percent)","Traumatic\nbrain\ninjury\n(percent)","Total\n(percent)"]
[14,{"$f":"IF(ISERROR(B119/$N119),IF(B119=\"MC\", \"\",0), B119/$N119)","v":""},{"$f":"IF(ISERROR(C119/$N119),IF(C119=\"MC\", \"\",0), C119/$N119)","v":""},"","","","","","","","","","",{"$f":"SUM(B131:M131)","v":0}]
[15,{"$f":"IF(ISERROR(B120/$N120),IF(B120=\"MC\", \"\",0), B120/$N120)","v":""},"","","","","","","","","","","",{"$f":"SUM(B132:M132)","v":0}]
[16,"","","","","","","","","","","","",0]
[17,"","","","","","","","","","","","",0]
[18,"","","","","","","","","","","","",0]
[19,"","","","","","","","","","","","",0]
[20,"","","","","","","","","","","","",0]
[21,"","","","","","","","","","","","",0]
["Total",{"$f":"IFERROR(IF($N127<>0,B127/$N127,0),\"\")","v":""},{"$f":"IFERROR(IF($N127<>0,C127/$N127,0),\"\")","v":""},"","","","","","","","","","",0]
[]
["Category Set A – Children with disabilities (IDEA) exiting special education, by basis of exit, disability category, and age",null,null,null,null,null,null,null,null,null,null,null,null,null,null,null,"Died"]
["Student count by age","Died",null,null,null,null,null,null,null,null,null,null,null,null,null,null,null,null,null,null,null,null,null,null,null,null,null,null,null,"Student counts by age",{"$f":"B142","v":"Died"}]
[null,"Intellectual\ndisability","Hearing\nimpairment","Speech or\nlanguage\nimpairment","Visual\nimpairment","Emotional\ndisturbance","Orthopedic\nimpairment","Other\nhealth\nimpairment","Specific\nlearning\ndisability","Deaf-\nblindness","Multiple\ndisabilities","Autism","Traumatic\nbrain\ninjury","Total",null,null,null,null,null,null,null,null,null,null,null,null,null,null,null,null,"Intellectual\nDisability","Hearing\nImpairments","Speech or\nLanguage\nImpairments","Visual\nImpairments","Emotional\nDisturbance","Orthopedic\nImpairments","Other\nHealth\nImpairments","Specific\nLearning\nDisabilities","Deaf-\nBlindness","Multiple\nDisabilities","Autism","Traumatic\nBrain\nInjury","Total"]
[14,{"$f":"IFERROR(HYPERLINK(\"#'Exiting (FS009)'!\"&ADDRESS(ROW(INDEX(CurrentListing,MATCH('Category Set A by Basis of Exit'!Q144,CurrentListing,0),1)),25),AE144),HYPERLINK(\"#'Exiting (FS009)'!\"&\"$AA$10\",AE144))","v":"MC"},{"$f":"IFERROR(HYPERLINK(\"#'Exiting (FS009)'!\"&ADDRESS(ROW(INDEX(CurrentListing,MATCH('Category Set A by Basis of Exit'!R144,CurrentListing,0),1)),25),AF144),HYPERLINK(\"#'Exiting (FS009)'!\"&\"$AA$10\",AF144))","v":"MC"},{"$f":"IFERROR(HYPERLINK(\"#'Exiting (FS009)'!\"&ADDRESS(ROW(INDEX(CurrentListing,MATCH('Category Set A by Basis of Exit'!S144,CurrentListing,0),1)),25),AG144),HYPERLINK(\"#'Exiting (FS009)'!\"&\"$AA$10\",AG144))","v":"MC"},{"$f":"IFERROR(HYPERLINK(\"#'Exiting (FS009)'!\"&ADDRESS(ROW(INDEX(CurrentListing,MATCH('Category Set A by Basis of Exit'!T144,CurrentListing,0),1)),25),AH144),HYPERLINK(\"#'Exiting (FS009)'!\"&\"$AA$10\",AH144))","v":"MC"},{"$f":"IFERROR(HYPERLINK(\"#'Exiting (FS009)'!\"&ADDRESS(ROW(INDEX(CurrentListing,MATCH('Category Set A by Basis of Exit'!U144,CurrentListing,0),1)),25),AI144),HYPERLINK(\"#'Exiting (FS009)'!\"&\"$AA$10\",AI144))","v":"MC"},{"$f":"IFERROR(HYPERLINK(\"#'Exiting (FS009)'!\"&ADDRESS(ROW(INDEX(CurrentListing,MATCH('Category Set A by Basis of Exit'!V144,CurrentListing,0),1)),25),AJ144),HYPERLINK(\"#'Exiting (FS009)'!\"&\"$AA$10\",AJ144))","v":"MC"},{"$f":"IFERROR(HYPERLINK(\"#'Exiting (FS009)'!\"&ADDRESS(ROW(INDEX(CurrentListing,MATCH('Category Set A by Basis of Exit'!W144,CurrentListing,0),1)),25),AK144),HYPERLINK(\"#'Exiting (FS009)'!\"&\"$AA$10\",AK144))","v":"MC"},{"$f":"IFERROR(HYPERLINK(\"#'Exiting (FS009)'!\"&ADDRESS(ROW(INDEX(CurrentListing,MATCH('Category Set A by Basis of Exit'!X144,CurrentListing,0),1)),25),AL144),HYPERLINK(\"#'Exiting (FS009)'!\"&\"$AA$10\",AL144))","v":"MC"},{"$f":"IFERROR(HYPERLINK(\"#'Exiting (FS009)'!\"&ADDRESS(ROW(INDEX(CurrentListing,MATCH('Category Set A by Basis of Exit'!Y144,CurrentListing,0),1)),25),AM144),HYPERLINK(\"#'Exiting (FS009)'!\"&\"$AA$10\",AM144))","v":"MC"},{"$f":"IFERROR(HYPERLINK(\"#'Exiting (FS009)'!\"&ADDRESS(ROW(INDEX(CurrentListing,MATCH('Category Set A by Basis of Exit'!Z144,CurrentListing,0),1)),25),AN144),HYPERLINK(\"#'Exiting (FS009)'!\"&\"$AA$10\",AN144))","v":"MC"},{"$f":"IFERROR(HYPERLINK(\"#'Exiting (FS009)'!\"&ADDRESS(ROW(INDEX(CurrentListing,MATCH('Category Set A by Basis of Exit'!AA144,CurrentListing,0),1)),25),AO144),HYPERLINK(\"#'Exiting (FS009)'!\"&\"$AA$10\",AO144))","v":"MC"},{"$f":"IFERROR(HYPERLINK(\"#'Exiting (FS009)'!\"&ADDRESS(ROW(INDEX(CurrentListing,MATCH('Category Set A by Basis of Exit'!AB144,CurrentListing,0),1)),25),AP144),HYPERLINK(\"#'Exiting (FS009)'!\"&\"$AA$10\",AP144))","v":"MC"},{"$f":"IF(SUM(B144:M144)>=0, SUM(B144:M144), \"\")","v":0},null,null,"ID14DN","HI14DN","SLI14DN","VI14DN","EMN14DN","OI14DN","OHI14DN","SLD14DN","DB14DN","MD14DN","AUT14DN","TBI14DN",null,14,{"$f":"IFERROR(IF(INDEX(StudCntC009,MATCH(Q144,CurrentListing,0))=\"\",\"No Data\",INDEX(StudCntC009,MATCH(Q144,CurrentListing,0))),\"MC\")","v":"MC"},"MC","MC","MC","MC","MC","MC","MC","MC","MC","MC","MC",{"$f":"SUM(AE144:AP144)","v":0}]
[15,{"$f":"IFERROR(HYPERLINK(\"#'Exiting (FS009)'!\"&ADDRESS(ROW(INDEX(CurrentListing,MATCH('Category Set A by Basis of Exit'!Q145,CurrentListing,0),1)),25),AE145),HYPERLINK(\"#'Exiting (FS009)'!\"&\"$AA$10\",AE145))","v":"MC"},{"$f":"IFERROR(HYPERLINK(\"#'Exiting (FS009)'!\"&ADDRESS(ROW(INDEX(CurrentListing,MATCH('Category Set A by Basis of Exit'!R145,CurrentListing,0),1)),25),AF145),HYPERLINK(\"#'Exiting (FS009)'!\"&\"$AA$10\",AF145))","v":"MC"},{"$f":"IFERROR(HYPERLINK(\"#'Exiting (FS009)'!\"&ADDRESS(ROW(INDEX(CurrentListing,MATCH('Category Set A by Basis of Exit'!S145,CurrentListing,0),1)),25),AG145),HYPERLINK(\"#'Exiting (FS009)'!\"&\"$AA$10\",AG145))","v":"MC"},{"$f":"IFERROR(HYPERLINK(\"#'Exiting (FS009)'!\"&ADDRESS(ROW(INDEX(CurrentListing,MATCH('Category Set A by Basis of Exit'!T145,CurrentListing,0),1)),25),AH145),HYPERLINK(\"#'Exiting (FS009)'!\"&\"$AA$10\",AH145))","v":"MC"},{"$f":"IFERROR(HYPERLINK(\"#'Exiting (FS009)'!\"&ADDRESS(ROW(INDEX(CurrentListing,MATCH('Category Set A by Basis of Exit'!U145,CurrentListing,0),1)),25),AI145),HYPERLINK(\"#'Exiting (FS009)'!\"&\"$AA$10\",AI145))","v":"MC"},{"$f":"IFERROR(HYPERLINK(\"#'Exiting (FS009)'!\"&ADDRESS(ROW(INDEX(CurrentListing,MATCH('Category Set A by Basis of Exit'!V145,CurrentListing,0),1)),25),AJ145),HYPERLINK(\"#'Exiting (FS009)'!\"&\"$AA$10\",AJ145))","v":"MC"},{"$f":"IFERROR(HYPERLINK(\"#'Exiting (FS009)'!\"&ADDRESS(ROW(INDEX(CurrentListing,MATCH('Category Set A by Basis of Exit'!W145,CurrentListing,0),1)),25),AK145),HYPERLINK(\"#'Exiting (FS009)'!\"&\"$AA$10\",AK145))","v":"MC"},{"$f":"IFERROR(HYPERLINK(\"#'Exiting (FS009)'!\"&ADDRESS(ROW(INDEX(CurrentListing,MATCH('Category Set A by Basis of Exit'!X145,CurrentListing,0),1)),25),AL145),HYPERLINK(\"#'Exiting (FS009)'!\"&\"$AA$10\",AL145))","v":"MC"},{"$f":"IFERROR(HYPERLINK(\"#'Exiting (FS009)'!\"&ADDRESS(ROW(INDEX(CurrentListing,MATCH('Category Set A by Basis of Exit'!Y145,CurrentListing,0),1)),25),AM145),HYPERLINK(\"#'Exiting (FS009)'!\"&\"$AA$10\",AM145))","v":"MC"},{"$f":"IFERROR(HYPERLINK(\"#'Exiting (FS009)'!\"&ADDRESS(ROW(INDEX(CurrentListing,MATCH('Category Set A by Basis of Exit'!Z145,CurrentListing,0),1)),25),AN145),HYPERLINK(\"#'Exiting (FS009)'!\"&\"$AA$10\",AN145))","v":"MC"},{"$f":"IFERROR(HYPERLINK(\"#'Exiting (FS009)'!\"&ADDRESS(ROW(INDEX(CurrentListing,MATCH('Category Set A by Basis of Exit'!AA145,CurrentListing,0),1)),25),AO145),HYPERLINK(\"#'Exiting (FS009)'!\"&\"$AA$10\",AO145))","v":"MC"},{"$f":"IFERROR(HYPERLINK(\"#'Exiting (FS009)'!\"&ADDRESS(ROW(INDEX(CurrentListing,MATCH('Category Set A by Basis of Exit'!AB145,CurrentListing,0),1)),25),AP145),HYPERLINK(\"#'Exiting (FS009)'!\"&\"$AA$10\",AP145))","v":"MC"},{"$f":"IF(SUM(B145:M145)>=0, SUM(B145:M145), \"\")","v":0},null,null,"ID15DN","HI15DN","SLI15DN","VI15DN","EMN15DN","OI15DN","OHI15DN","SLD15DN","DB15DN","MD15DN","AUT15DN","TBI15DN",null,15,"MC","MC","MC","MC","MC","MC","MC","MC","MC","MC","MC","MC",{"$f":"SUM(AE145:AP145)","v":0}]
[16,{"$f":"IFERROR(HYPERLINK(\"#'Exiting (FS009)'!\"&ADDRESS(ROW(INDEX(CurrentListing,MATCH('Category Set A by Basis of Exit'!Q146,CurrentListing,0),1)),25),AE146),HYPERLINK(\"#'Exiting (FS009)'!\"&\"$AA$10\",AE146))","v":"MC"},{"$f":"IFERROR(HYPERLINK(\"#'Exiting (FS009)'!\"&ADDRESS(ROW(INDEX(CurrentListing,MATCH('Category Set A by Basis of Exit'!R146,CurrentListing,0),1)),25),AF146),HYPERLINK(\"#'Exiting (FS009)'!\"&\"$AA$10\",AF146))","v":"MC"},{"$f":"IFERROR(HYPERLINK(\"#'Exiting (FS009)'!\"&ADDRESS(ROW(INDEX(CurrentListing,MATCH('Category Set A by Basis of Exit'!S146,CurrentListing,0),1)),25),AG146),HYPERLINK(\"#'Exiting (FS009)'!\"&\"$AA$10\",AG146))","v":"MC"},{"$f":"IFERROR(HYPERLINK(\"#'Exiting (FS009)'!\"&ADDRESS(ROW(INDEX(CurrentListing,MATCH('Category Set A by Basis of Exit'!T146,CurrentListing,0),1)),25),AH146),HYPERLINK(\"#'Exiting (FS009)'!\"&\"$AA$10\",AH146))","v":"MC"},{"$f":"IFERROR(HYPERLINK(\"#'Exiting (FS009)'!\"&ADDRESS(ROW(INDEX(CurrentListing,MATCH('Category Set A by Basis of Exit'!U146,CurrentListing,0),1)),25),AI146),HYPERLINK(\"#'Exiting (FS009)'!\"&\"$AA$10\",AI146))","v":"MC"},{"$f":"IFERROR(HYPERLINK(\"#'Exiting (FS009)'!\"&ADDRESS(ROW(INDEX(CurrentListing,MATCH('Category Set A by Basis of Exit'!V146,CurrentListing,0),1)),25),AJ146),HYPERLINK(\"#'Exiting (FS009)'!\"&\"$AA$10\",AJ146))","v":"MC"},{"$f":"IFERROR(HYPERLINK(\"#'Exiting (FS009)'!\"&ADDRESS(ROW(INDEX(CurrentListing,MATCH('Category Set A by Basis of Exit'!W146,CurrentListing,0),1)),25),AK146),HYPERLINK(\"#'Exiting (FS009)'!\"&\"$AA$10\",AK146))","v":"MC"},{"$f":"IFERROR(HYPERLINK(\"#'Exiting (FS009)'!\"&ADDRESS(ROW(INDEX(CurrentListing,MATCH('Category Set A by Basis of Exit'!X146,CurrentListing,0),1)),25),AL146),HYPERLINK(\"#'Exiting (FS009)'!\"&\"$AA$10\",AL146))","v":"MC"},{"$f":"IFERROR(HYPERLINK(\"#'Exiting (FS009)'!\"&ADDRESS(ROW(INDEX(CurrentListing,MATCH('Category Set A by Basis of Exit'!Y146,CurrentListing,0),1)),25),AM146),HYPERLINK(\"#'Exiting (FS009)'!\"&\"$AA$10\",AM146))","v":"MC"},{"$f":"IFERROR(HYPERLINK(\"#'Exiting (FS009)'!\"&ADDRESS(ROW(INDEX(CurrentListing,MATCH('Category Set A by Basis of Exit'!Z146,CurrentListing,0),1)),25),AN146),HYPERLINK(\"#'Exiting (FS009)'!\"&\"$AA$10\",AN146))","v":"MC"},{"$f":"IFERROR(HYPERLINK(\"#'Exiting (FS009)'!\"&ADDRESS(ROW(INDEX(CurrentListing,MATCH('Category Set A by Basis of Exit'!AA146,CurrentListing,0),1)),25),AO146),HYPERLINK(\"#'Exiting (FS009)'!\"&\"$AA$10\",AO146))","v":"MC"},{"$f":"IFERROR(HYPERLINK(\"#'Exiting (FS009)'!\"&ADDRESS(ROW(INDEX(CurrentListing,MATCH('Category Set A by Basis of Exit'!AB146,CurrentListing,0),1)),25),AP146),HYPERLINK(\"#'Exiting (FS009)'!\"&\"$AA$10\",AP146))","v":"MC"},0,null,null,"ID16DN","HI16DN","SLI16DN","VI16DN","EMN16DN","OI16DN","OHI16DN","SLD16DN","DB16DN","MD16DN","AUT16DN","TBI16DN",null,16,"MC","MC","MC","MC","MC","MC","MC","MC","MC","MC","MC","MC",0]
[17,{"$f":"IFERROR(HYPERLINK(\"#'Exiting (FS009)'!\"&ADDRESS(ROW(INDEX(CurrentListing,MATCH('Category Set A by Basis of Exit'!Q147,CurrentListing,0),1)),25),AE147),HYPERLINK(\"#'Exiting (FS009)'!\"&\"$AA$10\",AE147))","v":"MC"},{"$f":"IFERROR(HYPERLINK(\"#'Exiting (FS009)'!\"&ADDRESS(ROW(INDEX(CurrentListing,MATCH('Category Set A by Basis of Exit'!R147,CurrentListing,0),1)),25),AF147),HYPERLINK(\"#'Exiting (FS009)'!\"&\"$AA$10\",AF147))","v":"MC"},{"$f":"IFERROR(HYPERLINK(\"#'Exiting (FS009)'!\"&ADDRESS(ROW(INDEX(CurrentListing,MATCH('Category Set A by Basis of Exit'!S147,CurrentListing,0),1)),25),AG147),HYPERLINK(\"#'Exiting (FS009)'!\"&\"$AA$10\",AG147))","v":"MC"},{"$f":"IFERROR(HYPERLINK(\"#'Exiting (FS009)'!\"&ADDRESS(ROW(INDEX(CurrentListing,MATCH('Category Set A by Basis of Exit'!T147,CurrentListing,0),1)),25),AH147),HYPERLINK(\"#'Exiting (FS009)'!\"&\"$AA$10\",AH147))","v":"MC"},{"$f":"IFERROR(HYPERLINK(\"#'Exiting (FS009)'!\"&ADDRESS(ROW(INDEX(CurrentListing,MATCH('Category Set A by Basis of Exit'!U147,CurrentListing,0),1)),25),AI147),HYPERLINK(\"#'Exiting (FS009)'!\"&\"$AA$10\",AI147))","v":"MC"},{"$f":"IFERROR(HYPERLINK(\"#'Exiting (FS009)'!\"&ADDRESS(ROW(INDEX(CurrentListing,MATCH('Category Set A by Basis of Exit'!V147,CurrentListing,0),1)),25),AJ147),HYPERLINK(\"#'Exiting (FS009)'!\"&\"$AA$10\",AJ147))","v":"MC"},{"$f":"IFERROR(HYPERLINK(\"#'Exiting (FS009)'!\"&ADDRESS(ROW(INDEX(CurrentListing,MATCH('Category Set A by Basis of Exit'!W147,CurrentListing,0),1)),25),AK147),HYPERLINK(\"#'Exiting (FS009)'!\"&\"$AA$10\",AK147))","v":"MC"},{"$f":"IFERROR(HYPERLINK(\"#'Exiting (FS009)'!\"&ADDRESS(ROW(INDEX(CurrentListing,MATCH('Category Set A by Basis of Exit'!X147,CurrentListing,0),1)),25),AL147),HYPERLINK(\"#'Exiting (FS009)'!\"&\"$AA$10\",AL147))","v":"MC"},{"$f":"IFERROR(HYPERLINK(\"#'Exiting (FS009)'!\"&ADDRESS(ROW(INDEX(CurrentListing,MATCH('Category Set A by Basis of Exit'!Y147,CurrentListing,0),1)),25),AM147),HYPERLINK(\"#'Exiting (FS009)'!\"&\"$AA$10\",AM147))","v":"MC"},{"$f":"IFERROR(HYPERLINK(\"#'Exiting (FS009)'!\"&ADDRESS(ROW(INDEX(CurrentListing,MATCH('Category Set A by Basis of Exit'!Z147,CurrentListing,0),1)),25),AN147),HYPERLINK(\"#'Exiting (FS009)'!\"&\"$AA$10\",AN147))","v":"MC"},{"$f":"IFERROR(HYPERLINK(\"#'Exiting (FS009)'!\"&ADDRESS(ROW(INDEX(CurrentListing,MATCH('Category Set A by Basis of Exit'!AA147,CurrentListing,0),1)),25),AO147),HYPERLINK(\"#'Exiting (FS009)'!\"&\"$AA$10\",AO147))","v":"MC"},{"$f":"IFERROR(HYPERLINK(\"#'Exiting (FS009)'!\"&ADDRESS(ROW(INDEX(CurrentListing,MATCH('Category Set A by Basis of Exit'!AB147,CurrentListing,0),1)),25),AP147),HYPERLINK(\"#'Exiting (FS009)'!\"&\"$AA$10\",AP147))","v":"MC"},0,null,null,"ID17DN","HI17DN","SLI17DN","VI17DN","EMN17DN","OI17DN","OHI17DN","SLD17DN","DB17DN","MD17DN","AUT17DN","TBI17DN",null,17,"MC","MC","MC","MC","MC","MC","MC","MC","MC","MC","MC","MC",0]
[18,{"$f":"IFERROR(HYPERLINK(\"#'Exiting (FS009)'!\"&ADDRESS(ROW(INDEX(CurrentListing,MATCH('Category Set A by Basis of Exit'!Q148,CurrentListing,0),1)),25),AE148),HYPERLINK(\"#'Exiting (FS009)'!\"&\"$AA$10\",AE148))","v":"MC"},{"$f":"IFERROR(HYPERLINK(\"#'Exiting (FS009)'!\"&ADDRESS(ROW(INDEX(CurrentListing,MATCH('Category Set A by Basis of Exit'!R148,CurrentListing,0),1)),25),AF148),HYPERLINK(\"#'Exiting (FS009)'!\"&\"$AA$10\",AF148))","v":"MC"},{"$f":"IFERROR(HYPERLINK(\"#'Exiting (FS009)'!\"&ADDRESS(ROW(INDEX(CurrentListing,MATCH('Category Set A by Basis of Exit'!S148,CurrentListing,0),1)),25),AG148),HYPERLINK(\"#'Exiting (FS009)'!\"&\"$AA$10\",AG148))","v":"MC"},{"$f":"IFERROR(HYPERLINK(\"#'Exiting (FS009)'!\"&ADDRESS(ROW(INDEX(CurrentListing,MATCH('Category Set A by Basis of Exit'!T148,CurrentListing,0),1)),25),AH148),HYPERLINK(\"#'Exiting (FS009)'!\"&\"$AA$10\",AH148))","v":"MC"},{"$f":"IFERROR(HYPERLINK(\"#'Exiting (FS009)'!\"&ADDRESS(ROW(INDEX(CurrentListing,MATCH('Category Set A by Basis of Exit'!U148,CurrentListing,0),1)),25),AI148),HYPERLINK(\"#'Exiting (FS009)'!\"&\"$AA$10\",AI148))","v":"MC"},{"$f":"IFERROR(HYPERLINK(\"#'Exiting (FS009)'!\"&ADDRESS(ROW(INDEX(CurrentListing,MATCH('Category Set A by Basis of Exit'!V148,CurrentListing,0),1)),25),AJ148),HYPERLINK(\"#'Exiting (FS009)'!\"&\"$AA$10\",AJ148))","v":"MC"},{"$f":"IFERROR(HYPERLINK(\"#'Exiting (FS009)'!\"&ADDRESS(ROW(INDEX(CurrentListing,MATCH('Category Set A by Basis of Exit'!W148,CurrentListing,0),1)),25),AK148),HYPERLINK(\"#'Exiting (FS009)'!\"&\"$AA$10\",AK148))","v":"MC"},{"$f":"IFERROR(HYPERLINK(\"#'Exiting (FS009)'!\"&ADDRESS(ROW(INDEX(CurrentListing,MATCH('Category Set A by Basis of Exit'!X148,CurrentListing,0),1)),25),AL148),HYPERLINK(\"#'Exiting (FS009)'!\"&\"$AA$10\",AL148))","v":"MC"},{"$f":"IFERROR(HYPERLINK(\"#'Exiting (FS009)'!\"&ADDRESS(ROW(INDEX(CurrentListing,MATCH('Category Set A by Basis of Exit'!Y148,CurrentListing,0),1)),25),AM148),HYPERLINK(\"#'Exiting (FS009)'!\"&\"$AA$10\",AM148))","v":"MC"},{"$f":"IFERROR(HYPERLINK(\"#'Exiting (FS009)'!\"&ADDRESS(ROW(INDEX(CurrentListing,MATCH('Category Set A by Basis of Exit'!Z148,CurrentListing,0),1)),25),AN148),HYPERLINK(\"#'Exiting (FS009)'!\"&\"$AA$10\",AN148))","v":"MC"},{"$f":"IFERROR(HYPERLINK(\"#'Exiting (FS009)'!\"&ADDRESS(ROW(INDEX(CurrentListing,MATCH('Category Set A by Basis of Exit'!AA148,CurrentListing,0),1)),25),AO148),HYPERLINK(\"#'Exiting (FS009)'!\"&\"$AA$10\",AO148))","v":"MC"},{"$f":"IFERROR(HYPERLINK(\"#'Exiting (FS009)'!\"&ADDRESS(ROW(INDEX(CurrentListing,MATCH('Category Set A by Basis of Exit'!AB148,CurrentListing,0),1)),25),AP148),HYPERLINK(\"#'Exiting (FS009)'!\"&\"$AA$10\",AP148))","v":"MC"},0,null,null,"ID18DN","HI18DN","SLI18DN","VI18DN","EMN18DN","OI18DN","OHI18DN","SLD18DN","DB18DN","MD18DN","AUT18DN","TBI18DN",null,18,"MC","MC","MC","MC","MC","MC","MC","MC","MC","MC","MC","MC",0]
[19,{"$f":"IFERROR(HYPERLINK(\"#'Exiting (FS009)'!\"&ADDRESS(ROW(INDEX(CurrentListing,MATCH('Category Set A by Basis of Exit'!Q149,CurrentListing,0),1)),25),AE149),HYPERLINK(\"#'Exiting (FS009)'!\"&\"$AA$10\",AE149))","v":"MC"},{"$f":"IFERROR(HYPERLINK(\"#'Exiting (FS009)'!\"&ADDRESS(ROW(INDEX(CurrentListing,MATCH('Category Set A by Basis of Exit'!R149,CurrentListing,0),1)),25),AF149),HYPERLINK(\"#'Exiting (FS009)'!\"&\"$AA$10\",AF149))","v":"MC"},{"$f":"IFERROR(HYPERLINK(\"#'Exiting (FS009)'!\"&ADDRESS(ROW(INDEX(CurrentListing,MATCH('Category Set A by Basis of Exit'!S149,CurrentListing,0),1)),25),AG149),HYPERLINK(\"#'Exiting (FS009)'!\"&\"$AA$10\",AG149))","v":"MC"},{"$f":"IFERROR(HYPERLINK(\"#'Exiting (FS009)'!\"&ADDRESS(ROW(INDEX(CurrentListing,MATCH('Category Set A by Basis of Exit'!T149,CurrentListing,0),1)),25),AH149),HYPERLINK(\"#'Exiting (FS009)'!\"&\"$AA$10\",AH149))","v":"MC"},{"$f":"IFERROR(HYPERLINK(\"#'Exiting (FS009)'!\"&ADDRESS(ROW(INDEX(CurrentListing,MATCH('Category Set A by Basis of Exit'!U149,CurrentListing,0),1)),25),AI149),HYPERLINK(\"#'Exiting (FS009)'!\"&\"$AA$10\",AI149))","v":"MC"},{"$f":"IFERROR(HYPERLINK(\"#'Exiting (FS009)'!\"&ADDRESS(ROW(INDEX(CurrentListing,MATCH('Category Set A by Basis of Exit'!V149,CurrentListing,0),1)),25),AJ149),HYPERLINK(\"#'Exiting (FS009)'!\"&\"$AA$10\",AJ149))","v":"MC"},{"$f":"IFERROR(HYPERLINK(\"#'Exiting (FS009)'!\"&ADDRESS(ROW(INDEX(CurrentListing,MATCH('Category Set A by Basis of Exit'!W149,CurrentListing,0),1)),25),AK149),HYPERLINK(\"#'Exiting (FS009)'!\"&\"$AA$10\",AK149))","v":"MC"},{"$f":"IFERROR(HYPERLINK(\"#'Exiting (FS009)'!\"&ADDRESS(ROW(INDEX(CurrentListing,MATCH('Category Set A by Basis of Exit'!X149,CurrentListing,0),1)),25),AL149),HYPERLINK(\"#'Exiting (FS009)'!\"&\"$AA$10\",AL149))","v":"MC"},{"$f":"IFERROR(HYPERLINK(\"#'Exiting (FS009)'!\"&ADDRESS(ROW(INDEX(CurrentListing,MATCH('Category Set A by Basis of Exit'!Y149,CurrentListing,0),1)),25),AM149),HYPERLINK(\"#'Exiting (FS009)'!\"&\"$AA$10\",AM149))","v":"MC"},{"$f":"IFERROR(HYPERLINK(\"#'Exiting (FS009)'!\"&ADDRESS(ROW(INDEX(CurrentListing,MATCH('Category Set A by Basis of Exit'!Z149,CurrentListing,0),1)),25),AN149),HYPERLINK(\"#'Exiting (FS009)'!\"&\"$AA$10\",AN149))","v":"MC"},{"$f":"IFERROR(HYPERLINK(\"#'Exiting (FS009)'!\"&ADDRESS(ROW(INDEX(CurrentListing,MATCH('Category Set A by Basis of Exit'!AA149,CurrentListing,0),1)),25),AO149),HYPERLINK(\"#'Exiting (FS009)'!\"&\"$AA$10\",AO149))","v":"MC"},{"$f":"IFERROR(HYPERLINK(\"#'Exiting (FS009)'!\"&ADDRESS(ROW(INDEX(CurrentListing,MATCH('Category Set A by Basis of Exit'!AB149,CurrentListing,0),1)),25),AP149),HYPERLINK(\"#'Exiting (FS009)'!\"&\"$AA$10\",AP149))","v":"MC"},0,null,null,"ID19DN","HI19DN","SLI19DN","VI19DN","EMN19DN","OI19DN","OHI19DN","SLD19DN","DB19DN","MD19DN","AUT19DN","TBI19DN",null,19,"MC","MC","MC","MC","MC","MC","MC","MC","MC","MC","MC","MC",0]
[20,{"$f":"IFERROR(HYPERLINK(\"#'Exiting (FS009)'!\"&ADDRESS(ROW(INDEX(CurrentListing,MATCH('Category Set A by Basis of Exit'!Q150,CurrentListing,0),1)),25),AE150),HYPERLINK(\"#'Exiting (FS009)'!\"&\"$AA$10\",AE150))","v":"MC"},{"$f":"IFERROR(HYPERLINK(\"#'Exiting (FS009)'!\"&ADDRESS(ROW(INDEX(CurrentListing,MATCH('Category Set A by Basis of Exit'!R150,CurrentListing,0),1)),25),AF150),HYPERLINK(\"#'Exiting (FS009)'!\"&\"$AA$10\",AF150))","v":"MC"},{"$f":"IFERROR(HYPERLINK(\"#'Exiting (FS009)'!\"&ADDRESS(ROW(INDEX(CurrentListing,MATCH('Category Set A by Basis of Exit'!S150,CurrentListing,0),1)),25),AG150),HYPERLINK(\"#'Exiting (FS009)'!\"&\"$AA$10\",AG150))","v":"MC"},{"$f":"IFERROR(HYPERLINK(\"#'Exiting (FS009)'!\"&ADDRESS(ROW(INDEX(CurrentListing,MATCH('Category Set A by Basis of Exit'!T150,CurrentListing,0),1)),25),AH150),HYPERLINK(\"#'Exiting (FS009)'!\"&\"$AA$10\",AH150))","v":"MC"},{"$f":"IFERROR(HYPERLINK(\"#'Exiting (FS009)'!\"&ADDRESS(ROW(INDEX(CurrentListing,MATCH('Category Set A by Basis of Exit'!U150,CurrentListing,0),1)),25),AI150),HYPERLINK(\"#'Exiting (FS009)'!\"&\"$AA$10\",AI150))","v":"MC"},{"$f":"IFERROR(HYPERLINK(\"#'Exiting (FS009)'!\"&ADDRESS(ROW(INDEX(CurrentListing,MATCH('Category Set A by Basis of Exit'!V150,CurrentListing,0),1)),25),AJ150),HYPERLINK(\"#'Exiting (FS009)'!\"&\"$AA$10\",AJ150))","v":"MC"},{"$f":"IFERROR(HYPERLINK(\"#'Exiting (FS009)'!\"&ADDRESS(ROW(INDEX(CurrentListing,MATCH('Category Set A by Basis of Exit'!W150,CurrentListing,0),1)),25),AK150),HYPERLINK(\"#'Exiting (FS009)'!\"&\"$AA$10\",AK150))","v":"MC"},{"$f":"IFERROR(HYPERLINK(\"#'Exiting (FS009)'!\"&ADDRESS(ROW(INDEX(CurrentListing,MATCH('Category Set A by Basis of Exit'!X150,CurrentListing,0),1)),25),AL150),HYPERLINK(\"#'Exiting (FS009)'!\"&\"$AA$10\",AL150))","v":"MC"},{"$f":"IFERROR(HYPERLINK(\"#'Exiting (FS009)'!\"&ADDRESS(ROW(INDEX(CurrentListing,MATCH('Category Set A by Basis of Exit'!Y150,CurrentListing,0),1)),25),AM150),HYPERLINK(\"#'Exiting (FS009)'!\"&\"$AA$10\",AM150))","v":"MC"},{"$f":"IFERROR(HYPERLINK(\"#'Exiting (FS009)'!\"&ADDRESS(ROW(INDEX(CurrentListing,MATCH('Category Set A by Basis of Exit'!Z150,CurrentListing,0),1)),25),AN150),HYPERLINK(\"#'Exiting (FS009)'!\"&\"$AA$10\",AN150))","v":"MC"},{"$f":"IFERROR(HYPERLINK(\"#'Exiting (FS009)'!\"&ADDRESS(ROW(INDEX(CurrentListing,MATCH('Category Set A by Basis of Exit'!AA150,CurrentListing,0),1)),25),AO150),HYPERLINK(\"#'Exiting (FS009)'!\"&\"$AA$10\",AO150))","v":"MC"},{"$f":"IFERROR(HYPERLINK(\"#'Exiting (FS009)'!\"&ADDRESS(ROW(INDEX(CurrentListing,MATCH('Category Set A by Basis of Exit'!AB150,CurrentListing,0),1)),25),AP150),HYPERLINK(\"#'Exiting (FS009)'!\"&\"$AA$10\",AP150))","v":"MC"},0,null,null,"ID20DN","HI20DN","SLI20DN","VI20DN","EMN20DN","OI20DN","OHI20DN","SLD20DN","DB20DN","MD20DN","AUT20DN","TBI20DN",null,20,"MC","MC","MC","MC","MC","MC","MC","MC","MC","MC","MC","MC",0]
[21,{"$f":"IFERROR(HYPERLINK(\"#'Exiting (FS009)'!\"&ADDRESS(ROW(INDEX(CurrentListing,MATCH('Category Set A by Basis of Exit'!Q151,CurrentListing,0),1)),25),AE151),HYPERLINK(\"#'Exiting (FS009)'!\"&\"$AA$10\",AE151))","v":"MC"},{"$f":"IFERROR(HYPERLINK(\"#'Exiting (FS009)'!\"&ADDRESS(ROW(INDEX(CurrentListing,MATCH('Category Set A by Basis of Exit'!R151,CurrentListing,0),1)),25),AF151),HYPERLINK(\"#'Exiting (FS009)'!\"&\"$AA$10\",AF151))","v":"MC"},{"$f":"IFERROR(HYPERLINK(\"#'Exiting (FS009)'!\"&ADDRESS(ROW(INDEX(CurrentListing,MATCH('Category Set A by Basis of Exit'!S151,CurrentListing,0),1)),25),AG151),HYPERLINK(\"#'Exiting (FS009)'!\"&\"$AA$10\",AG151))","v":"MC"},{"$f":"IFERROR(HYPERLINK(\"#'Exiting (FS009)'!\"&ADDRESS(ROW(INDEX(CurrentListing,MATCH('Category Set A by Basis of Exit'!T151,CurrentListing,0),1)),25),AH151),HYPERLINK(\"#'Exiting (FS009)'!\"&\"$AA$10\",AH151))","v":"MC"},{"$f":"IFERROR(HYPERLINK(\"#'Exiting (FS009)'!\"&ADDRESS(ROW(INDEX(CurrentListing,MATCH('Category Set A by Basis of Exit'!U151,CurrentListing,0),1)),25),AI151),HYPERLINK(\"#'Exiting (FS009)'!\"&\"$AA$10\",AI151))","v":"MC"},{"$f":"IFERROR(HYPERLINK(\"#'Exiting (FS009)'!\"&ADDRESS(ROW(INDEX(CurrentListing,MATCH('Category Set A by Basis of Exit'!V151,CurrentListing,0),1)),25),AJ151),HYPERLINK(\"#'Exiting (FS009)'!\"&\"$AA$10\",AJ151))","v":"MC"},{"$f":"IFERROR(HYPERLINK(\"#'Exiting (FS009)'!\"&ADDRESS(ROW(INDEX(CurrentListing,MATCH('Category Set A by Basis of Exit'!W151,CurrentListing,0),1)),25),AK151),HYPERLINK(\"#'Exiting (FS009)'!\"&\"$AA$10\",AK151))","v":"MC"},{"$f":"IFERROR(HYPERLINK(\"#'Exiting (FS009)'!\"&ADDRESS(ROW(INDEX(CurrentListing,MATCH('Category Set A by Basis of Exit'!X151,CurrentListing,0),1)),25),AL151),HYPERLINK(\"#'Exiting (FS009)'!\"&\"$AA$10\",AL151))","v":"MC"},{"$f":"IFERROR(HYPERLINK(\"#'Exiting (FS009)'!\"&ADDRESS(ROW(INDEX(CurrentListing,MATCH('Category Set A by Basis of Exit'!Y151,CurrentListing,0),1)),25),AM151),HYPERLINK(\"#'Exiting (FS009)'!\"&\"$AA$10\",AM151))","v":"MC"},{"$f":"IFERROR(HYPERLINK(\"#'Exiting (FS009)'!\"&ADDRESS(ROW(INDEX(CurrentListing,MATCH('Category Set A by Basis of Exit'!Z151,CurrentListing,0),1)),25),AN151),HYPERLINK(\"#'Exiting (FS009)'!\"&\"$AA$10\",AN151))","v":"MC"},{"$f":"IFERROR(HYPERLINK(\"#'Exiting (FS009)'!\"&ADDRESS(ROW(INDEX(CurrentListing,MATCH('Category Set A by Basis of Exit'!AA151,CurrentListing,0),1)),25),AO151),HYPERLINK(\"#'Exiting (FS009)'!\"&\"$AA$10\",AO151))","v":"MC"},{"$f":"IFERROR(HYPERLINK(\"#'Exiting (FS009)'!\"&ADDRESS(ROW(INDEX(CurrentListing,MATCH('Category Set A by Basis of Exit'!AB151,CurrentListing,0),1)),25),AP151),HYPERLINK(\"#'Exiting (FS009)'!\"&\"$AA$10\",AP151))","v":"MC"},0,null,null,"ID21DN","HI21DN","SLI21DN","VI21DN","EMN21DN","OI21DN","OHI21DN","SLD21DN","DB21DN","MD21DN","AUT21DN","TBI21DN",null,21,"MC","MC","MC","MC","MC","MC","MC","MC","MC","MC","MC","MC",0]
["Total",{"$f":"IF(SUM(B144:B151)>=0, SUM(B144:B151), \"\")","v":0},{"$f":"IF(SUM(C144:C151)>=0, SUM(C144:C151), \"\")","v":0},0,0,0,0,0,0,0,0,0,0,{"$f":"IF(AND(N4=\"MC\",N5=\"MC\",N6=\"MC\",N7=\"MC\",N8=\"MC\",N9=\"MC\",N10=\"MC\",N11=\"MC\", N14=\"MC\"),\"\",SUM(B144:M151))","v":""},null,null,null,null,null,null,null,null,null,null,null,null,null,null,"DY","Total",{"$f":"SUM(AE144:AE151)","v":0},{"$f":"SUM(AF144:AF151)","v":0},0,0,0,0,0,0,0,0,0,0,{"$f":"IFERROR(IF(INDEX(StudCntC009,MATCH(AC152,CurrentListing,0))=\"\",\"No Data\",INDEX(StudCntC009,MATCH(AC152,CurrentListing,0))),\"MC\")","v":"MC"}]
[]
["Percent by age","Died"]
[null,"Intellectual\ndisability\n(percent)","Hearing\nimpairment\n(percent)","Speech or\nlanguage\nimpairment\n(percent)","Visual\nimpairment\n(percent)","Emotional\ndisturbance\n(percent)","Orthopedic\nimpairment\n(percent)","Other\nhealth\nimpairment\n(percent)","Specific\nlearning\ndisability\n(percent)","Deaf-\nblindness\n(percent)","Multiple\ndisabilities\n(percent)","Autism\n(percent)","Traumatic\nbrain\ninjury\n(percent)","Total\n(percent)"]
[14,{"$f":"IF(ISERROR(B144/$N144),IF(B144=\"MC\", \"\",0), B144/$N144)","v":""},{"$f":"IF(ISERROR(C144/$N144),IF(C144=\"MC\", \"\",0), C144/$N144)","v":""},"","","","","","","","","","",{"$f":"SUM(B156:M156)","v":0}]
[15,{"$f":"IF(ISERROR(B145/$N145),IF(B145=\"MC\", \"\",0), B145/$N145)","v":""},"","","","","","","","","","","",{"$f":"SUM(B157:M157)","v":0}]
[16,{"$f":"IF(ISERROR(B146/$N146),IF(B146=\"MC\", \"\",0), B146/$N146)","v":""},"","","","","","","","","","","",0]
[17,{"$f":"IF(ISERROR(B147/$N147),IF(B147=\"MC\", \"\",0), B147/$N147)","v":""},"","","","","","","","","","","",0]
[18,{"$f":"IF(ISERROR(B148/$N148),IF(B148=\"MC\", \"\",0), B148/$N148)","v":""},"","","","","","","","","","","",0]
[19,{"$f":"IF(ISERROR(B149/$N149),IF(B149=\"MC\", \"\",0), B149/$N149)","v":""},"","","","","","","","","","","",0]
[20,{"$f":"IF(ISERROR(B150/$N150),IF(B150=\"MC\", \"\",0), B150/$N150)","v":""},"","","","","","","","","","","",0]
[21,{"$f":"IF(ISERROR(B151/$N151),IF(B151=\"MC\", \"\",0), B151/$N151)","v":""},"","","","","","","","","","","",0]
["Total",{"$f":"IFERROR(IF($N152<>0,B152/$N152,0),\"\")","v":""},{"$f":"IFERROR(IF($N152<>0,C152/$N152,0),\"\")","v":""},"","","","","","","","","","",{"$f":"SUM(B164:M164)","v":0}]
[]
["Category Set A – Children with disabilities (IDEA) exiting special education, by basis of exit, disability category, and age",null,null,null,null,null,null,null,null,null,null,null,null,null,null,null,"Moved, known to be continuing"]
["Student count by age","Moved, known to be continuing",null,null,null,null,null,null,null,null,null,null,null,null,null,null,null,null,null,null,null,null,null,null,null,null,null,null,null,"Student counts by age",{"$f":"B167","v":"Moved, known to be continuing"}]
[null,"Intellectual\ndisability","Hearing\nimpairment","Speech or\nlanguage\nimpairment","Visual\nimpairment","Emotional\ndisturbance","Orthopedic\nimpairment","Other\nhealth\nimpairment","Specific\nlearning\ndisability","Deaf-\nblindness","Multiple\ndisabilities","Autism","Traumatic\nbrain\ninjury","Total",null,null,null,null,null,null,null,null,null,null,null,null,null,null,null,null,"Intellectual\nDisability","Hearing\nImpairments","Speech or\nLanguage\nImpairments","Visual\nImpairments","Emotional\nDisturbance","Orthopedic\nImpairments","Other\nHealth\nImpairments","Specific\nLearning\nDisabilities","Deaf-\nBlindness","Multiple\nDisabilities","Autism","Traumatic\nBrain\nInjury","Total"]
[14,{"$f":"IFERROR(HYPERLINK(\"#'Exiting (FS009)'!\"&ADDRESS(ROW(INDEX(CurrentListing,MATCH('Category Set A by Basis of Exit'!Q169,CurrentListing,0),1)),25),AE169),HYPERLINK(\"#'Exiting (FS009)'!\"&\"$AA$10\",AE169))","v":"MC"},{"$f":"IFERROR(HYPERLINK(\"#'Exiting (FS009)'!\"&ADDRESS(ROW(INDEX(CurrentListing,MATCH('Category Set A by Basis of Exit'!R169,CurrentListing,0),1)),25),AF169),HYPERLINK(\"#'Exiting (FS009)'!\"&\"$AA$10\",AF169))","v":"MC"},{"$f":"IFERROR(HYPERLINK(\"#'Exiting (FS009)'!\"&ADDRESS(ROW(INDEX(CurrentListing,MATCH('Category Set A by Basis of Exit'!S169,CurrentListing,0),1)),25),AG169),HYPERLINK(\"#'Exiting (FS009)'!\"&\"$AA$10\",AG169))","v":"MC"},{"$f":"IFERROR(HYPERLINK(\"#'Exiting (FS009)'!\"&ADDRESS(ROW(INDEX(CurrentListing,MATCH('Category Set A by Basis of Exit'!T169,CurrentListing,0),1)),25),AH169),HYPERLINK(\"#'Exiting (FS009)'!\"&\"$AA$10\",AH169))","v":"MC"},{"$f":"IFERROR(HYPERLINK(\"#'Exiting (FS009)'!\"&ADDRESS(ROW(INDEX(CurrentListing,MATCH('Category Set A by Basis of Exit'!U169,CurrentListing,0),1)),25),AI169),HYPERLINK(\"#'Exiting (FS009)'!\"&\"$AA$10\",AI169))","v":"MC"},{"$f":"IFERROR(HYPERLINK(\"#'Exiting (FS009)'!\"&ADDRESS(ROW(INDEX(CurrentListing,MATCH('Category Set A by Basis of Exit'!V169,CurrentListing,0),1)),25),AJ169),HYPERLINK(\"#'Exiting (FS009)'!\"&\"$AA$10\",AJ169))","v":"MC"},{"$f":"IFERROR(HYPERLINK(\"#'Exiting (FS009)'!\"&ADDRESS(ROW(INDEX(CurrentListing,MATCH('Category Set A by Basis of Exit'!W169,CurrentListing,0),1)),25),AK169),HYPERLINK(\"#'Exiting (FS009)'!\"&\"$AA$10\",AK169))","v":"MC"},{"$f":"IFERROR(HYPERLINK(\"#'Exiting (FS009)'!\"&ADDRESS(ROW(INDEX(CurrentListing,MATCH('Category Set A by Basis of Exit'!X169,CurrentListing,0),1)),25),AL169),HYPERLINK(\"#'Exiting (FS009)'!\"&\"$AA$10\",AL169))","v":"MC"},{"$f":"IFERROR(HYPERLINK(\"#'Exiting (FS009)'!\"&ADDRESS(ROW(INDEX(CurrentListing,MATCH('Category Set A by Basis of Exit'!Y169,CurrentListing,0),1)),25),AM169),HYPERLINK(\"#'Exiting (FS009)'!\"&\"$AA$10\",AM169))","v":"MC"},{"$f":"IFERROR(HYPERLINK(\"#'Exiting (FS009)'!\"&ADDRESS(ROW(INDEX(CurrentListing,MATCH('Category Set A by Basis of Exit'!Z169,CurrentListing,0),1)),25),AN169),HYPERLINK(\"#'Exiting (FS009)'!\"&\"$AA$10\",AN169))","v":"MC"},{"$f":"IFERROR(HYPERLINK(\"#'Exiting (FS009)'!\"&ADDRESS(ROW(INDEX(CurrentListing,MATCH('Category Set A by Basis of Exit'!AA169,CurrentListing,0),1)),25),AO169),HYPERLINK(\"#'Exiting (FS009)'!\"&\"$AA$10\",AO169))","v":"MC"},{"$f":"IFERROR(HYPERLINK(\"#'Exiting (FS009)'!\"&ADDRESS(ROW(INDEX(CurrentListing,MATCH('Category Set A by Basis of Exit'!AB169,CurrentListing,0),1)),25),AP169),HYPERLINK(\"#'Exiting (FS009)'!\"&\"$AA$10\",AP169))","v":"MC"},{"$f":"IF(SUM(B169:M169)>=0, SUM(B169:M169), \"\")","v":0},null,null,"ID14MKCN","HI14MKCN","SLI14MKCN","VI14MKCN","EMN14MKCN","OI14MKCN","OHI14MKCN","SLD14MKCN","DB14MKCN","MD14MKCN","AUT14MKCN","TBI14MKCN",null,14,{"$f":"IFERROR(IF(INDEX(StudCntC009,MATCH(Q169,CurrentListing,0))=\"\",\"No Data\",INDEX(StudCntC009,MATCH(Q169,CurrentListing,0))),\"MC\")","v":"MC"},"MC","MC","MC","MC","MC","MC","MC","MC","MC","MC","MC",{"$f":"SUM(AE169:AP169)","v":0}]
[15,{"$f":"IFERROR(HYPERLINK(\"#'Exiting (FS009)'!\"&ADDRESS(ROW(INDEX(CurrentListing,MATCH('Category Set A by Basis of Exit'!Q170,CurrentListing,0),1)),25),AE170),HYPERLINK(\"#'Exiting (FS009)'!\"&\"$AA$10\",AE170))","v":"MC"},{"$f":"IFERROR(HYPERLINK(\"#'Exiting (FS009)'!\"&ADDRESS(ROW(INDEX(CurrentListing,MATCH('Category Set A by Basis of Exit'!R170,CurrentListing,0),1)),25),AF170),HYPERLINK(\"#'Exiting (FS009)'!\"&\"$AA$10\",AF170))","v":"MC"},{"$f":"IFERROR(HYPERLINK(\"#'Exiting (FS009)'!\"&ADDRESS(ROW(INDEX(CurrentListing,MATCH('Category Set A by Basis of Exit'!S170,CurrentListing,0),1)),25),AG170),HYPERLINK(\"#'Exiting (FS009)'!\"&\"$AA$10\",AG170))","v":"MC"},{"$f":"IFERROR(HYPERLINK(\"#'Exiting (FS009)'!\"&ADDRESS(ROW(INDEX(CurrentListing,MATCH('Category Set A by Basis of Exit'!T170,CurrentListing,0),1)),25),AH170),HYPERLINK(\"#'Exiting (FS009)'!\"&\"$AA$10\",AH170))","v":"MC"},{"$f":"IFERROR(HYPERLINK(\"#'Exiting (FS009)'!\"&ADDRESS(ROW(INDEX(CurrentListing,MATCH('Category Set A by Basis of Exit'!U170,CurrentListing,0),1)),25),AI170),HYPERLINK(\"#'Exiting (FS009)'!\"&\"$AA$10\",AI170))","v":"MC"},{"$f":"IFERROR(HYPERLINK(\"#'Exiting (FS009)'!\"&ADDRESS(ROW(INDEX(CurrentListing,MATCH('Category Set A by Basis of Exit'!V170,CurrentListing,0),1)),25),AJ170),HYPERLINK(\"#'Exiting (FS009)'!\"&\"$AA$10\",AJ170))","v":"MC"},{"$f":"IFERROR(HYPERLINK(\"#'Exiting (FS009)'!\"&ADDRESS(ROW(INDEX(CurrentListing,MATCH('Category Set A by Basis of Exit'!W170,CurrentListing,0),1)),25),AK170),HYPERLINK(\"#'Exiting (FS009)'!\"&\"$AA$10\",AK170))","v":"MC"},{"$f":"IFERROR(HYPERLINK(\"#'Exiting (FS009)'!\"&ADDRESS(ROW(INDEX(CurrentListing,MATCH('Category Set A by Basis of Exit'!X170,CurrentListing,0),1)),25),AL170),HYPERLINK(\"#'Exiting (FS009)'!\"&\"$AA$10\",AL170))","v":"MC"},{"$f":"IFERROR(HYPERLINK(\"#'Exiting (FS009)'!\"&ADDRESS(ROW(INDEX(CurrentListing,MATCH('Category Set A by Basis of Exit'!Y170,CurrentListing,0),1)),25),AM170),HYPERLINK(\"#'Exiting (FS009)'!\"&\"$AA$10\",AM170))","v":"MC"},{"$f":"IFERROR(HYPERLINK(\"#'Exiting (FS009)'!\"&ADDRESS(ROW(INDEX(CurrentListing,MATCH('Category Set A by Basis of Exit'!Z170,CurrentListing,0),1)),25),AN170),HYPERLINK(\"#'Exiting (FS009)'!\"&\"$AA$10\",AN170))","v":"MC"},{"$f":"IFERROR(HYPERLINK(\"#'Exiting (FS009)'!\"&ADDRESS(ROW(INDEX(CurrentListing,MATCH('Category Set A by Basis of Exit'!AA170,CurrentListing,0),1)),25),AO170),HYPERLINK(\"#'Exiting (FS009)'!\"&\"$AA$10\",AO170))","v":"MC"},{"$f":"IFERROR(HYPERLINK(\"#'Exiting (FS009)'!\"&ADDRESS(ROW(INDEX(CurrentListing,MATCH('Category Set A by Basis of Exit'!AB170,CurrentListing,0),1)),25),AP170),HYPERLINK(\"#'Exiting (FS009)'!\"&\"$AA$10\",AP170))","v":"MC"},{"$f":"IF(SUM(B170:M170)>=0, SUM(B170:M170), \"\")","v":0},null,null,"ID15MKCN","HI15MKCN","SLI15MKCN","VI15MKCN","EMN15MKCN","OI15MKCN","OHI15MKCN","SLD15MKCN","DB15MKCN","MD15MKCN","AUT15MKCN","TBI15MKCN",null,15,"MC","MC","MC","MC","MC","MC","MC","MC","MC","MC","MC","MC",{"$f":"SUM(AE170:AP170)","v":0}]
[16,{"$f":"IFERROR(HYPERLINK(\"#'Exiting (FS009)'!\"&ADDRESS(ROW(INDEX(CurrentListing,MATCH('Category Set A by Basis of Exit'!Q171,CurrentListing,0),1)),25),AE171),HYPERLINK(\"#'Exiting (FS009)'!\"&\"$AA$10\",AE171))","v":"MC"},{"$f":"IFERROR(HYPERLINK(\"#'Exiting (FS009)'!\"&ADDRESS(ROW(INDEX(CurrentListing,MATCH('Category Set A by Basis of Exit'!R171,CurrentListing,0),1)),25),AF171),HYPERLINK(\"#'Exiting (FS009)'!\"&\"$AA$10\",AF171))","v":"MC"},{"$f":"IFERROR(HYPERLINK(\"#'Exiting (FS009)'!\"&ADDRESS(ROW(INDEX(CurrentListing,MATCH('Category Set A by Basis of Exit'!S171,CurrentListing,0),1)),25),AG171),HYPERLINK(\"#'Exiting (FS009)'!\"&\"$AA$10\",AG171))","v":"MC"},{"$f":"IFERROR(HYPERLINK(\"#'Exiting (FS009)'!\"&ADDRESS(ROW(INDEX(CurrentListing,MATCH('Category Set A by Basis of Exit'!T171,CurrentListing,0),1)),25),AH171),HYPERLINK(\"#'Exiting (FS009)'!\"&\"$AA$10\",AH171))","v":"MC"},{"$f":"IFERROR(HYPERLINK(\"#'Exiting (FS009)'!\"&ADDRESS(ROW(INDEX(CurrentListing,MATCH('Category Set A by Basis of Exit'!U171,CurrentListing,0),1)),25),AI171),HYPERLINK(\"#'Exiting (FS009)'!\"&\"$AA$10\",AI171))","v":"MC"},{"$f":"IFERROR(HYPERLINK(\"#'Exiting (FS009)'!\"&ADDRESS(ROW(INDEX(CurrentListing,MATCH('Category Set A by Basis of Exit'!V171,CurrentListing,0),1)),25),AJ171),HYPERLINK(\"#'Exiting (FS009)'!\"&\"$AA$10\",AJ171))","v":"MC"},{"$f":"IFERROR(HYPERLINK(\"#'Exiting (FS009)'!\"&ADDRESS(ROW(INDEX(CurrentListing,MATCH('Category Set A by Basis of Exit'!W171,CurrentListing,0),1)),25),AK171),HYPERLINK(\"#'Exiting (FS009)'!\"&\"$AA$10\",AK171))","v":"MC"},{"$f":"IFERROR(HYPERLINK(\"#'Exiting (FS009)'!\"&ADDRESS(ROW(INDEX(CurrentListing,MATCH('Category Set A by Basis of Exit'!X171,CurrentListing,0),1)),25),AL171),HYPERLINK(\"#'Exiting (FS009)'!\"&\"$AA$10\",AL171))","v":"MC"},{"$f":"IFERROR(HYPERLINK(\"#'Exiting (FS009)'!\"&ADDRESS(ROW(INDEX(CurrentListing,MATCH('Category Set A by Basis of Exit'!Y171,CurrentListing,0),1)),25),AM171),HYPERLINK(\"#'Exiting (FS009)'!\"&\"$AA$10\",AM171))","v":"MC"},{"$f":"IFERROR(HYPERLINK(\"#'Exiting (FS009)'!\"&ADDRESS(ROW(INDEX(CurrentListing,MATCH('Category Set A by Basis of Exit'!Z171,CurrentListing,0),1)),25),AN171),HYPERLINK(\"#'Exiting (FS009)'!\"&\"$AA$10\",AN171))","v":"MC"},{"$f":"IFERROR(HYPERLINK(\"#'Exiting (FS009)'!\"&ADDRESS(ROW(INDEX(CurrentListing,MATCH('Category Set A by Basis of Exit'!AA171,CurrentListing,0),1)),25),AO171),HYPERLINK(\"#'Exiting (FS009)'!\"&\"$AA$10\",AO171))","v":"MC"},{"$f":"IFERROR(HYPERLINK(\"#'Exiting (FS009)'!\"&ADDRESS(ROW(INDEX(CurrentListing,MATCH('Category Set A by Basis of Exit'!AB171,CurrentListing,0),1)),25),AP171),HYPERLINK(\"#'Exiting (FS009)'!\"&\"$AA$10\",AP171))","v":"MC"},0,null,null,"ID16MKCN","HI16MKCN","SLI16MKCN","VI16MKCN","EMN16MKCN","OI16MKCN","OHI16MKCN","SLD16MKCN","DB16MKCN","MD16MKCN","AUT16MKCN","TBI16MKCN",null,16,"MC","MC","MC","MC","MC","MC","MC","MC","MC","MC","MC","MC",0]
[17,{"$f":"IFERROR(HYPERLINK(\"#'Exiting (FS009)'!\"&ADDRESS(ROW(INDEX(CurrentListing,MATCH('Category Set A by Basis of Exit'!Q172,CurrentListing,0),1)),25),AE172),HYPERLINK(\"#'Exiting (FS009)'!\"&\"$AA$10\",AE172))","v":"MC"},{"$f":"IFERROR(HYPERLINK(\"#'Exiting (FS009)'!\"&ADDRESS(ROW(INDEX(CurrentListing,MATCH('Category Set A by Basis of Exit'!R172,CurrentListing,0),1)),25),AF172),HYPERLINK(\"#'Exiting (FS009)'!\"&\"$AA$10\",AF172))","v":"MC"},{"$f":"IFERROR(HYPERLINK(\"#'Exiting (FS009)'!\"&ADDRESS(ROW(INDEX(CurrentListing,MATCH('Category Set A by Basis of Exit'!S172,CurrentListing,0),1)),25),AG172),HYPERLINK(\"#'Exiting (FS009)'!\"&\"$AA$10\",AG172))","v":"MC"},{"$f":"IFERROR(HYPERLINK(\"#'Exiting (FS009)'!\"&ADDRESS(ROW(INDEX(CurrentListing,MATCH('Category Set A by Basis of Exit'!T172,CurrentListing,0),1)),25),AH172),HYPERLINK(\"#'Exiting (FS009)'!\"&\"$AA$10\",AH172))","v":"MC"},{"$f":"IFERROR(HYPERLINK(\"#'Exiting (FS009)'!\"&ADDRESS(ROW(INDEX(CurrentListing,MATCH('Category Set A by Basis of Exit'!U172,CurrentListing,0),1)),25),AI172),HYPERLINK(\"#'Exiting (FS009)'!\"&\"$AA$10\",AI172))","v":"MC"},{"$f":"IFERROR(HYPERLINK(\"#'Exiting (FS009)'!\"&ADDRESS(ROW(INDEX(CurrentListing,MATCH('Category Set A by Basis of Exit'!V172,CurrentListing,0),1)),25),AJ172),HYPERLINK(\"#'Exiting (FS009)'!\"&\"$AA$10\",AJ172))","v":"MC"},{"$f":"IFERROR(HYPERLINK(\"#'Exiting (FS009)'!\"&ADDRESS(ROW(INDEX(CurrentListing,MATCH('Category Set A by Basis of Exit'!W172,CurrentListing,0),1)),25),AK172),HYPERLINK(\"#'Exiting (FS009)'!\"&\"$AA$10\",AK172))","v":"MC"},{"$f":"IFERROR(HYPERLINK(\"#'Exiting (FS009)'!\"&ADDRESS(ROW(INDEX(CurrentListing,MATCH('Category Set A by Basis of Exit'!X172,CurrentListing,0),1)),25),AL172),HYPERLINK(\"#'Exiting (FS009)'!\"&\"$AA$10\",AL172))","v":"MC"},{"$f":"IFERROR(HYPERLINK(\"#'Exiting (FS009)'!\"&ADDRESS(ROW(INDEX(CurrentListing,MATCH('Category Set A by Basis of Exit'!Y172,CurrentListing,0),1)),25),AM172),HYPERLINK(\"#'Exiting (FS009)'!\"&\"$AA$10\",AM172))","v":"MC"},{"$f":"IFERROR(HYPERLINK(\"#'Exiting (FS009)'!\"&ADDRESS(ROW(INDEX(CurrentListing,MATCH('Category Set A by Basis of Exit'!Z172,CurrentListing,0),1)),25),AN172),HYPERLINK(\"#'Exiting (FS009)'!\"&\"$AA$10\",AN172))","v":"MC"},{"$f":"IFERROR(HYPERLINK(\"#'Exiting (FS009)'!\"&ADDRESS(ROW(INDEX(CurrentListing,MATCH('Category Set A by Basis of Exit'!AA172,CurrentListing,0),1)),25),AO172),HYPERLINK(\"#'Exiting (FS009)'!\"&\"$AA$10\",AO172))","v":"MC"},{"$f":"IFERROR(HYPERLINK(\"#'Exiting (FS009)'!\"&ADDRESS(ROW(INDEX(CurrentListing,MATCH('Category Set A by Basis of Exit'!AB172,CurrentListing,0),1)),25),AP172),HYPERLINK(\"#'Exiting (FS009)'!\"&\"$AA$10\",AP172))","v":"MC"},0,null,null,"ID17MKCN","HI17MKCN","SLI17MKCN","VI17MKCN","EMN17MKCN","OI17MKCN","OHI17MKCN","SLD17MKCN","DB17MKCN","MD17MKCN","AUT17MKCN","TBI17MKCN",null,17,"MC","MC","MC","MC","MC","MC","MC","MC","MC","MC","MC","MC",0]
[18,{"$f":"IFERROR(HYPERLINK(\"#'Exiting (FS009)'!\"&ADDRESS(ROW(INDEX(CurrentListing,MATCH('Category Set A by Basis of Exit'!Q173,CurrentListing,0),1)),25),AE173),HYPERLINK(\"#'Exiting (FS009)'!\"&\"$AA$10\",AE173))","v":"MC"},{"$f":"IFERROR(HYPERLINK(\"#'Exiting (FS009)'!\"&ADDRESS(ROW(INDEX(CurrentListing,MATCH('Category Set A by Basis of Exit'!R173,CurrentListing,0),1)),25),AF173),HYPERLINK(\"#'Exiting (FS009)'!\"&\"$AA$10\",AF173))","v":"MC"},{"$f":"IFERROR(HYPERLINK(\"#'Exiting (FS009)'!\"&ADDRESS(ROW(INDEX(CurrentListing,MATCH('Category Set A by Basis of Exit'!S173,CurrentListing,0),1)),25),AG173),HYPERLINK(\"#'Exiting (FS009)'!\"&\"$AA$10\",AG173))","v":"MC"},{"$f":"IFERROR(HYPERLINK(\"#'Exiting (FS009)'!\"&ADDRESS(ROW(INDEX(CurrentListing,MATCH('Category Set A by Basis of Exit'!T173,CurrentListing,0),1)),25),AH173),HYPERLINK(\"#'Exiting (FS009)'!\"&\"$AA$10\",AH173))","v":"MC"},{"$f":"IFERROR(HYPERLINK(\"#'Exiting (FS009)'!\"&ADDRESS(ROW(INDEX(CurrentListing,MATCH('Category Set A by Basis of Exit'!U173,CurrentListing,0),1)),25),AI173),HYPERLINK(\"#'Exiting (FS009)'!\"&\"$AA$10\",AI173))","v":"MC"},{"$f":"IFERROR(HYPERLINK(\"#'Exiting (FS009)'!\"&ADDRESS(ROW(INDEX(CurrentListing,MATCH('Category Set A by Basis of Exit'!V173,CurrentListing,0),1)),25),AJ173),HYPERLINK(\"#'Exiting (FS009)'!\"&\"$AA$10\",AJ173))","v":"MC"},{"$f":"IFERROR(HYPERLINK(\"#'Exiting (FS009)'!\"&ADDRESS(ROW(INDEX(CurrentListing,MATCH('Category Set A by Basis of Exit'!W173,CurrentListing,0),1)),25),AK173),HYPERLINK(\"#'Exiting (FS009)'!\"&\"$AA$10\",AK173))","v":"MC"},{"$f":"IFERROR(HYPERLINK(\"#'Exiting (FS009)'!\"&ADDRESS(ROW(INDEX(CurrentListing,MATCH('Category Set A by Basis of Exit'!X173,CurrentListing,0),1)),25),AL173),HYPERLINK(\"#'Exiting (FS009)'!\"&\"$AA$10\",AL173))","v":"MC"},{"$f":"IFERROR(HYPERLINK(\"#'Exiting (FS009)'!\"&ADDRESS(ROW(INDEX(CurrentListing,MATCH('Category Set A by Basis of Exit'!Y173,CurrentListing,0),1)),25),AM173),HYPERLINK(\"#'Exiting (FS009)'!\"&\"$AA$10\",AM173))","v":"MC"},{"$f":"IFERROR(HYPERLINK(\"#'Exiting (FS009)'!\"&ADDRESS(ROW(INDEX(CurrentListing,MATCH('Category Set A by Basis of Exit'!Z173,CurrentListing,0),1)),25),AN173),HYPERLINK(\"#'Exiting (FS009)'!\"&\"$AA$10\",AN173))","v":"MC"},{"$f":"IFERROR(HYPERLINK(\"#'Exiting (FS009)'!\"&ADDRESS(ROW(INDEX(CurrentListing,MATCH('Category Set A by Basis of Exit'!AA173,CurrentListing,0),1)),25),AO173),HYPERLINK(\"#'Exiting (FS009)'!\"&\"$AA$10\",AO173))","v":"MC"},{"$f":"IFERROR(HYPERLINK(\"#'Exiting (FS009)'!\"&ADDRESS(ROW(INDEX(CurrentListing,MATCH('Category Set A by Basis of Exit'!AB173,CurrentListing,0),1)),25),AP173),HYPERLINK(\"#'Exiting (FS009)'!\"&\"$AA$10\",AP173))","v":"MC"},0,null,null,"ID18MKCN","HI18MKCN","SLI18MKCN","VI18MKCN","EMN18MKCN","OI18MKCN","OHI18MKCN","SLD18MKCN","DB18MKCN","MD18MKCN","AUT18MKCN","TBI18MKCN",null,18,"MC","MC","MC","MC","MC","MC","MC","MC","MC","MC","MC","MC",0]
[19,{"$f":"IFERROR(HYPERLINK(\"#'Exiting (FS009)'!\"&ADDRESS(ROW(INDEX(CurrentListing,MATCH('Category Set A by Basis of Exit'!Q174,CurrentListing,0),1)),25),AE174),HYPERLINK(\"#'Exiting (FS009)'!\"&\"$AA$10\",AE174))","v":"MC"},{"$f":"IFERROR(HYPERLINK(\"#'Exiting (FS009)'!\"&ADDRESS(ROW(INDEX(CurrentListing,MATCH('Category Set A by Basis of Exit'!R174,CurrentListing,0),1)),25),AF174),HYPERLINK(\"#'Exiting (FS009)'!\"&\"$AA$10\",AF174))","v":"MC"},{"$f":"IFERROR(HYPERLINK(\"#'Exiting (FS009)'!\"&ADDRESS(ROW(INDEX(CurrentListing,MATCH('Category Set A by Basis of Exit'!S174,CurrentListing,0),1)),25),AG174),HYPERLINK(\"#'Exiting (FS009)'!\"&\"$AA$10\",AG174))","v":"MC"},{"$f":"IFERROR(HYPERLINK(\"#'Exiting (FS009)'!\"&ADDRESS(ROW(INDEX(CurrentListing,MATCH('Category Set A by Basis of Exit'!T174,CurrentListing,0),1)),25),AH174),HYPERLINK(\"#'Exiting (FS009)'!\"&\"$AA$10\",AH174))","v":"MC"},{"$f":"IFERROR(HYPERLINK(\"#'Exiting (FS009)'!\"&ADDRESS(ROW(INDEX(CurrentListing,MATCH('Category Set A by Basis of Exit'!U174,CurrentListing,0),1)),25),AI174),HYPERLINK(\"#'Exiting (FS009)'!\"&\"$AA$10\",AI174))","v":"MC"},{"$f":"IFERROR(HYPERLINK(\"#'Exiting (FS009)'!\"&ADDRESS(ROW(INDEX(CurrentListing,MATCH('Category Set A by Basis of Exit'!V174,CurrentListing,0),1)),25),AJ174),HYPERLINK(\"#'Exiting (FS009)'!\"&\"$AA$10\",AJ174))","v":"MC"},{"$f":"IFERROR(HYPERLINK(\"#'Exiting (FS009)'!\"&ADDRESS(ROW(INDEX(CurrentListing,MATCH('Category Set A by Basis of Exit'!W174,CurrentListing,0),1)),25),AK174),HYPERLINK(\"#'Exiting (FS009)'!\"&\"$AA$10\",AK174))","v":"MC"},{"$f":"IFERROR(HYPERLINK(\"#'Exiting (FS009)'!\"&ADDRESS(ROW(INDEX(CurrentListing,MATCH('Category Set A by Basis of Exit'!X174,CurrentListing,0),1)),25),AL174),HYPERLINK(\"#'Exiting (FS009)'!\"&\"$AA$10\",AL174))","v":"MC"},{"$f":"IFERROR(HYPERLINK(\"#'Exiting (FS009)'!\"&ADDRESS(ROW(INDEX(CurrentListing,MATCH('Category Set A by Basis of Exit'!Y174,CurrentListing,0),1)),25),AM174),HYPERLINK(\"#'Exiting (FS009)'!\"&\"$AA$10\",AM174))","v":"MC"},{"$f":"IFERROR(HYPERLINK(\"#'Exiting (FS009)'!\"&ADDRESS(ROW(INDEX(CurrentListing,MATCH('Category Set A by Basis of Exit'!Z174,CurrentListing,0),1)),25),AN174),HYPERLINK(\"#'Exiting (FS009)'!\"&\"$AA$10\",AN174))","v":"MC"},{"$f":"IFERROR(HYPERLINK(\"#'Exiting (FS009)'!\"&ADDRESS(ROW(INDEX(CurrentListing,MATCH('Category Set A by Basis of Exit'!AA174,CurrentListing,0),1)),25),AO174),HYPERLINK(\"#'Exiting (FS009)'!\"&\"$AA$10\",AO174))","v":"MC"},{"$f":"IFERROR(HYPERLINK(\"#'Exiting (FS009)'!\"&ADDRESS(ROW(INDEX(CurrentListing,MATCH('Category Set A by Basis of Exit'!AB174,CurrentListing,0),1)),25),AP174),HYPERLINK(\"#'Exiting (FS009)'!\"&\"$AA$10\",AP174))","v":"MC"},0,null,null,"ID19MKCN","HI19MKCN","SLI19MKCN","VI19MKCN","EMN19MKCN","OI19MKCN","OHI19MKCN","SLD19MKCN","DB19MKCN","MD19MKCN","AUT19MKCN","TBI19MKCN",null,19,"MC","MC","MC","MC","MC","MC","MC","MC","MC","MC","MC","MC",0]
[20,{"$f":"IFERROR(HYPERLINK(\"#'Exiting (FS009)'!\"&ADDRESS(ROW(INDEX(CurrentListing,MATCH('Category Set A by Basis of Exit'!Q175,CurrentListing,0),1)),25),AE175),HYPERLINK(\"#'Exiting (FS009)'!\"&\"$AA$10\",AE175))","v":"MC"},{"$f":"IFERROR(HYPERLINK(\"#'Exiting (FS009)'!\"&ADDRESS(ROW(INDEX(CurrentListing,MATCH('Category Set A by Basis of Exit'!R175,CurrentListing,0),1)),25),AF175),HYPERLINK(\"#'Exiting (FS009)'!\"&\"$AA$10\",AF175))","v":"MC"},{"$f":"IFERROR(HYPERLINK(\"#'Exiting (FS009)'!\"&ADDRESS(ROW(INDEX(CurrentListing,MATCH('Category Set A by Basis of Exit'!S175,CurrentListing,0),1)),25),AG175),HYPERLINK(\"#'Exiting (FS009)'!\"&\"$AA$10\",AG175))","v":"MC"},{"$f":"IFERROR(HYPERLINK(\"#'Exiting (FS009)'!\"&ADDRESS(ROW(INDEX(CurrentListing,MATCH('Category Set A by Basis of Exit'!T175,CurrentListing,0),1)),25),AH175),HYPERLINK(\"#'Exiting (FS009)'!\"&\"$AA$10\",AH175))","v":"MC"},{"$f":"IFERROR(HYPERLINK(\"#'Exiting (FS009)'!\"&ADDRESS(ROW(INDEX(CurrentListing,MATCH('Category Set A by Basis of Exit'!U175,CurrentListing,0),1)),25),AI175),HYPERLINK(\"#'Exiting (FS009)'!\"&\"$AA$10\",AI175))","v":"MC"},{"$f":"IFERROR(HYPERLINK(\"#'Exiting (FS009)'!\"&ADDRESS(ROW(INDEX(CurrentListing,MATCH('Category Set A by Basis of Exit'!V175,CurrentListing,0),1)),25),AJ175),HYPERLINK(\"#'Exiting (FS009)'!\"&\"$AA$10\",AJ175))","v":"MC"},{"$f":"IFERROR(HYPERLINK(\"#'Exiting (FS009)'!\"&ADDRESS(ROW(INDEX(CurrentListing,MATCH('Category Set A by Basis of Exit'!W175,CurrentListing,0),1)),25),AK175),HYPERLINK(\"#'Exiting (FS009)'!\"&\"$AA$10\",AK175))","v":"MC"},{"$f":"IFERROR(HYPERLINK(\"#'Exiting (FS009)'!\"&ADDRESS(ROW(INDEX(CurrentListing,MATCH('Category Set A by Basis of Exit'!X175,CurrentListing,0),1)),25),AL175),HYPERLINK(\"#'Exiting (FS009)'!\"&\"$AA$10\",AL175))","v":"MC"},{"$f":"IFERROR(HYPERLINK(\"#'Exiting (FS009)'!\"&ADDRESS(ROW(INDEX(CurrentListing,MATCH('Category Set A by Basis of Exit'!Y175,CurrentListing,0),1)),25),AM175),HYPERLINK(\"#'Exiting (FS009)'!\"&\"$AA$10\",AM175))","v":"MC"},{"$f":"IFERROR(HYPERLINK(\"#'Exiting (FS009)'!\"&ADDRESS(ROW(INDEX(CurrentListing,MATCH('Category Set A by Basis of Exit'!Z175,CurrentListing,0),1)),25),AN175),HYPERLINK(\"#'Exiting (FS009)'!\"&\"$AA$10\",AN175))","v":"MC"},{"$f":"IFERROR(HYPERLINK(\"#'Exiting (FS009)'!\"&ADDRESS(ROW(INDEX(CurrentListing,MATCH('Category Set A by Basis of Exit'!AA175,CurrentListing,0),1)),25),AO175),HYPERLINK(\"#'Exiting (FS009)'!\"&\"$AA$10\",AO175))","v":"MC"},{"$f":"IFERROR(HYPERLINK(\"#'Exiting (FS009)'!\"&ADDRESS(ROW(INDEX(CurrentListing,MATCH('Category Set A by Basis of Exit'!AB175,CurrentListing,0),1)),25),AP175),HYPERLINK(\"#'Exiting (FS009)'!\"&\"$AA$10\",AP175))","v":"MC"},0,null,null,"ID20MKCN","HI20MKCN","SLI20MKCN","VI20MKCN","EMN20MKCN","OI20MKCN","OHI20MKCN","SLD20MKCN","DB20MKCN","MD20MKCN","AUT20MKCN","TBI20MKCN",null,20,"MC","MC","MC","MC","MC","MC","MC","MC","MC","MC","MC","MC",0]
[21,{"$f":"IFERROR(HYPERLINK(\"#'Exiting (FS009)'!\"&ADDRESS(ROW(INDEX(CurrentListing,MATCH('Category Set A by Basis of Exit'!Q176,CurrentListing,0),1)),25),AE176),HYPERLINK(\"#'Exiting (FS009)'!\"&\"$AA$10\",AE176))","v":"MC"},{"$f":"IFERROR(HYPERLINK(\"#'Exiting (FS009)'!\"&ADDRESS(ROW(INDEX(CurrentListing,MATCH('Category Set A by Basis of Exit'!R176,CurrentListing,0),1)),25),AF176),HYPERLINK(\"#'Exiting (FS009)'!\"&\"$AA$10\",AF176))","v":"MC"},{"$f":"IFERROR(HYPERLINK(\"#'Exiting (FS009)'!\"&ADDRESS(ROW(INDEX(CurrentListing,MATCH('Category Set A by Basis of Exit'!S176,CurrentListing,0),1)),25),AG176),HYPERLINK(\"#'Exiting (FS009)'!\"&\"$AA$10\",AG176))","v":"MC"},{"$f":"IFERROR(HYPERLINK(\"#'Exiting (FS009)'!\"&ADDRESS(ROW(INDEX(CurrentListing,MATCH('Category Set A by Basis of Exit'!T176,CurrentListing,0),1)),25),AH176),HYPERLINK(\"#'Exiting (FS009)'!\"&\"$AA$10\",AH176))","v":"MC"},{"$f":"IFERROR(HYPERLINK(\"#'Exiting (FS009)'!\"&ADDRESS(ROW(INDEX(CurrentListing,MATCH('Category Set A by Basis of Exit'!U176,CurrentListing,0),1)),25),AI176),HYPERLINK(\"#'Exiting (FS009)'!\"&\"$AA$10\",AI176))","v":"MC"},{"$f":"IFERROR(HYPERLINK(\"#'Exiting (FS009)'!\"&ADDRESS(ROW(INDEX(CurrentListing,MATCH('Category Set A by Basis of Exit'!V176,CurrentListing,0),1)),25),AJ176),HYPERLINK(\"#'Exiting (FS009)'!\"&\"$AA$10\",AJ176))","v":"MC"},{"$f":"IFERROR(HYPERLINK(\"#'Exiting (FS009)'!\"&ADDRESS(ROW(INDEX(CurrentListing,MATCH('Category Set A by Basis of Exit'!W176,CurrentListing,0),1)),25),AK176),HYPERLINK(\"#'Exiting (FS009)'!\"&\"$AA$10\",AK176))","v":"MC"},{"$f":"IFERROR(HYPERLINK(\"#'Exiting (FS009)'!\"&ADDRESS(ROW(INDEX(CurrentListing,MATCH('Category Set A by Basis of Exit'!X176,CurrentListing,0),1)),25),AL176),HYPERLINK(\"#'Exiting (FS009)'!\"&\"$AA$10\",AL176))","v":"MC"},{"$f":"IFERROR(HYPERLINK(\"#'Exiting (FS009)'!\"&ADDRESS(ROW(INDEX(CurrentListing,MATCH('Category Set A by Basis of Exit'!Y176,CurrentListing,0),1)),25),AM176),HYPERLINK(\"#'Exiting (FS009)'!\"&\"$AA$10\",AM176))","v":"MC"},{"$f":"IFERROR(HYPERLINK(\"#'Exiting (FS009)'!\"&ADDRESS(ROW(INDEX(CurrentListing,MATCH('Category Set A by Basis of Exit'!Z176,CurrentListing,0),1)),25),AN176),HYPERLINK(\"#'Exiting (FS009)'!\"&\"$AA$10\",AN176))","v":"MC"},{"$f":"IFERROR(HYPERLINK(\"#'Exiting (FS009)'!\"&ADDRESS(ROW(INDEX(CurrentListing,MATCH('Category Set A by Basis of Exit'!AA176,CurrentListing,0),1)),25),AO176),HYPERLINK(\"#'Exiting (FS009)'!\"&\"$AA$10\",AO176))","v":"MC"},{"$f":"IFERROR(HYPERLINK(\"#'Exiting (FS009)'!\"&ADDRESS(ROW(INDEX(CurrentListing,MATCH('Category Set A by Basis of Exit'!AB176,CurrentListing,0),1)),25),AP176),HYPERLINK(\"#'Exiting (FS009)'!\"&\"$AA$10\",AP176))","v":"MC"},0,null,null,"ID21MKCN","HI21MKCN","SLI21MKCN","VI21MKCN","EMN21MKCN","OI21MKCN","OHI21MKCN","SLD21MKCN","DB21MKCN","MD21MKCN","AUT21MKCN","TBI21MKCN",null,21,"MC","MC","MC","MC","MC","MC","MC","MC","MC","MC","MC","MC",0]
["Total",{"$f":"IF(SUM(B169:B176)>=0, SUM(B169:B176), \"\")","v":0},{"$f":"IF(SUM(C169:C176)>=0, SUM(C169:C176), \"\")","v":0},0,0,0,0,0,0,0,0,0,0,{"$f":"IF(AND(N4=\"MC\",N5=\"MC\",N6=\"MC\",N7=\"MC\",N8=\"MC\",N9=\"MC\",N10=\"MC\",N11=\"MC\", N14=\"MC\"),\"\",SUM(B169:M176))","v":""},null,null,null,null,null,null,null,null,null,null,null,null,null,null,"MKCY","Total",{"$f":"SUM(AE169:AE176)","v":0},{"$f":"SUM(AF169:AF176)","v":0},0,0,0,0,0,0,0,0,0,0,{"$f":"IFERROR(IF(INDEX(StudCntC009,MATCH(AC177,CurrentListing,0))=\"\",\"No Data\",INDEX(StudCntC009,MATCH(AC177,CurrentListing,0))),\"MC\")","v":"MC"}]
[]
["Percent by age","Moved, known to be continuing"]
[null,"Intellectual\ndisability\n(percent)","Hearing\nimpairment\n(percent)","Speech or\nlanguage\nimpairment\n(percent)","Visual\nimpairment\n(percent)","Emotional\ndisturbance\n(percent)","Orthopedic\nimpairment\n(percent)","Other\nhealth\nimpairment\n(percent)","Specific\nlearning\ndisability\n(percent)","Deaf-\nblindness\n(percent)","Multiple\ndisabilities\n(percent)","Autism\n(percent)","Traumatic\nbrain\ninjury\n(percent)","Total\n(percent)"]
[14,{"$f":"IF(ISERROR(B169/$N169),IF(B169=\"MC\", \"\",0), B169/$N169)","v":""},{"$f":"IF(ISERROR(C169/$N169),IF(C169=\"MC\", \"\",0), C169/$N169)","v":""},"","","","","","","","","","",{"$f":"SUM(B181:M181)","v":0}]
[15,{"$f":"IF(ISERROR(B170/$N170),IF(B170=\"MC\", \"\",0), B170/$N170)","v":""},"","","","","","","","","","","",0]
[16,{"$f":"IF(ISERROR(B171/$N171),IF(B171=\"MC\", \"\",0), B171/$N171)","v":""},"","","","","","","","","","","",0]
[17,{"$f":"IF(ISERROR(B172/$N172),IF(B172=\"MC\", \"\",0), B172/$N172)","v":""},"","","","","","","","","","","",0]
[18,{"$f":"IF(ISERROR(B173/$N173),IF(B173=\"MC\", \"\",0), B173/$N173)","v":""},"","","","","","","","","","","",0]
[19,{"$f":"IF(ISERROR(B174/$N174),IF(B174=\"MC\", \"\",0), B174/$N174)","v":""},"","","","","","","","","","","",0]
[20,{"$f":"IF(ISERROR(B175/$N175),IF(B175=\"MC\", \"\",0), B175/$N175)","v":""},{"$f":"IF(ISERROR(C175/$N175),IF(C175=\"MC\", \"\",0), C175/$N175)","v":""},"","","","","","","","","","",{"$f":"SUM(B187:M187)","v":0}]
[21,{"$f":"IF(ISERROR(B176/$N176),IF(B176=\"MC\", \"\",0), B176/$N176)","v":""},{"$f":"IF(ISERROR(C176/$N176),IF(C176=\"MC\", \"\",0), C176/$N176)","v":""},"","","","","","","","","","",{"$f":"SUM(B188:M188)","v":0}]
["Total",{"$f":"IFERROR(IF($N177<>0,B177/$N177,0),\"\")","v":""},{"$f":"IFERROR(IF($N177<>0,C177/$N177,0),\"\")","v":""},"","","","","","","","","","",{"$f":"SUM(B189:M189)","v":0}]
[]
["Category Set A – Children with disabilities (IDEA) exiting special education, by basis of exit, disability category, and age",null,null,null,null,null,null,null,null,null,null,null,null,null,null,null,"Dropped out"]
["Student count by age","Dropped out",null,null,null,null,null,null,null,null,null,null,null,null,null,null,null,null,null,null,null,null,null,null,null,null,null,null,null,"Student counts by age",{"$f":"B192","v":"Dropped out"}]
[null,"Intellectual\ndisability","Hearing\nimpairment","Speech or\nlanguage\nimpairment","Visual\nimpairment","Emotional\ndisturbance","Orthopedic\nimpairment","Other\nhealth\nimpairment","Specific\nlearning\ndisability","Deaf-\nblindness","Multiple\ndisabilities","Autism","Traumatic\nbrain\ninjury","Total",null,null,null,null,null,null,null,null,null,null,null,null,null,null,null,null,"Intellectual\nDisability","Hearing\nImpairments","Speech or\nLanguage\nImpairments","Visual\nImpairments","Emotional\nDisturbance","Orthopedic\nImpairments","Other\nHealth\nImpairments","Specific\nLearning\nDisabilities","Deaf-\nBlindness","Multiple\nDisabilities","Autism","Traumatic\nBrain\nInjury","Total"]
[14,{"$f":"IFERROR(HYPERLINK(\"#'Exiting (FS009)'!\"&ADDRESS(ROW(INDEX(CurrentListing,MATCH('Category Set A by Basis of Exit'!Q194,CurrentListing,0),1)),25),AE194),HYPERLINK(\"#'Exiting (FS009)'!\"&\"$AA$10\",AE194))","v":"MC"},{"$f":"IFERROR(HYPERLINK(\"#'Exiting (FS009)'!\"&ADDRESS(ROW(INDEX(CurrentListing,MATCH('Category Set A by Basis of Exit'!R194,CurrentListing,0),1)),25),AF194),HYPERLINK(\"#'Exiting (FS009)'!\"&\"$AA$10\",AF194))","v":"MC"},{"$f":"IFERROR(HYPERLINK(\"#'Exiting (FS009)'!\"&ADDRESS(ROW(INDEX(CurrentListing,MATCH('Category Set A by Basis of Exit'!S194,CurrentListing,0),1)),25),AG194),HYPERLINK(\"#'Exiting (FS009)'!\"&\"$AA$10\",AG194))","v":"MC"},{"$f":"IFERROR(HYPERLINK(\"#'Exiting (FS009)'!\"&ADDRESS(ROW(INDEX(CurrentListing,MATCH('Category Set A by Basis of Exit'!T194,CurrentListing,0),1)),25),AH194),HYPERLINK(\"#'Exiting (FS009)'!\"&\"$AA$10\",AH194))","v":"MC"},{"$f":"IFERROR(HYPERLINK(\"#'Exiting (FS009)'!\"&ADDRESS(ROW(INDEX(CurrentListing,MATCH('Category Set A by Basis of Exit'!U194,CurrentListing,0),1)),25),AI194),HYPERLINK(\"#'Exiting (FS009)'!\"&\"$AA$10\",AI194))","v":"MC"},{"$f":"IFERROR(HYPERLINK(\"#'Exiting (FS009)'!\"&ADDRESS(ROW(INDEX(CurrentListing,MATCH('Category Set A by Basis of Exit'!V194,CurrentListing,0),1)),25),AJ194),HYPERLINK(\"#'Exiting (FS009)'!\"&\"$AA$10\",AJ194))","v":"MC"},{"$f":"IFERROR(HYPERLINK(\"#'Exiting (FS009)'!\"&ADDRESS(ROW(INDEX(CurrentListing,MATCH('Category Set A by Basis of Exit'!W194,CurrentListing,0),1)),25),AK194),HYPERLINK(\"#'Exiting (FS009)'!\"&\"$AA$10\",AK194))","v":"MC"},{"$f":"IFERROR(HYPERLINK(\"#'Exiting (FS009)'!\"&ADDRESS(ROW(INDEX(CurrentListing,MATCH('Category Set A by Basis of Exit'!X194,CurrentListing,0),1)),25),AL194),HYPERLINK(\"#'Exiting (FS009)'!\"&\"$AA$10\",AL194))","v":"MC"},{"$f":"IFERROR(HYPERLINK(\"#'Exiting (FS009)'!\"&ADDRESS(ROW(INDEX(CurrentListing,MATCH('Category Set A by Basis of Exit'!Y194,CurrentListing,0),1)),25),AM194),HYPERLINK(\"#'Exiting (FS009)'!\"&\"$AA$10\",AM194))","v":"MC"},{"$f":"IFERROR(HYPERLINK(\"#'Exiting (FS009)'!\"&ADDRESS(ROW(INDEX(CurrentListing,MATCH('Category Set A by Basis of Exit'!Z194,CurrentListing,0),1)),25),AN194),HYPERLINK(\"#'Exiting (FS009)'!\"&\"$AA$10\",AN194))","v":"MC"},{"$f":"IFERROR(HYPERLINK(\"#'Exiting (FS009)'!\"&ADDRESS(ROW(INDEX(CurrentListing,MATCH('Category Set A by Basis of Exit'!AA194,CurrentListing,0),1)),25),AO194),HYPERLINK(\"#'Exiting (FS009)'!\"&\"$AA$10\",AO194))","v":"MC"},{"$f":"IFERROR(HYPERLINK(\"#'Exiting (FS009)'!\"&ADDRESS(ROW(INDEX(CurrentListing,MATCH('Category Set A by Basis of Exit'!AB194,CurrentListing,0),1)),25),AP194),HYPERLINK(\"#'Exiting (FS009)'!\"&\"$AA$10\",AP194))","v":"MC"},{"$f":"IF(SUM(B194:M194)>=0, SUM(B194:M194), \"\")","v":0},null,null,"ID14DROPOUTN","HI14DROPOUTN","SLI14DROPOUTN","VI14DROPOUTN","EMN14DROPOUTN","OI14DROPOUTN","OHI14DROPOUTN","SLD14DROPOUTN","DB14DROPOUTN","MD14DROPOUTN","AUT14DROPOUTN","TBI14DROPOUTN",null,14,{"$f":"IFERROR(IF(INDEX(StudCntC009,MATCH(Q194,CurrentListing,0))=\"\",\"No Data\",INDEX(StudCntC009,MATCH(Q194,CurrentListing,0))),\"MC\")","v":"MC"},"MC","MC","MC","MC","MC","MC","MC","MC","MC","MC","MC",{"$f":"SUM(AE194:AP194)","v":0}]
[15,{"$f":"IFERROR(HYPERLINK(\"#'Exiting (FS009)'!\"&ADDRESS(ROW(INDEX(CurrentListing,MATCH('Category Set A by Basis of Exit'!Q195,CurrentListing,0),1)),25),AE195),HYPERLINK(\"#'Exiting (FS009)'!\"&\"$AA$10\",AE195))","v":"MC"},{"$f":"IFERROR(HYPERLINK(\"#'Exiting (FS009)'!\"&ADDRESS(ROW(INDEX(CurrentListing,MATCH('Category Set A by Basis of Exit'!R195,CurrentListing,0),1)),25),AF195),HYPERLINK(\"#'Exiting (FS009)'!\"&\"$AA$10\",AF195))","v":"MC"},{"$f":"IFERROR(HYPERLINK(\"#'Exiting (FS009)'!\"&ADDRESS(ROW(INDEX(CurrentListing,MATCH('Category Set A by Basis of Exit'!S195,CurrentListing,0),1)),25),AG195),HYPERLINK(\"#'Exiting (FS009)'!\"&\"$AA$10\",AG195))","v":"MC"},{"$f":"IFERROR(HYPERLINK(\"#'Exiting (FS009)'!\"&ADDRESS(ROW(INDEX(CurrentListing,MATCH('Category Set A by Basis of Exit'!T195,CurrentListing,0),1)),25),AH195),HYPERLINK(\"#'Exiting (FS009)'!\"&\"$AA$10\",AH195))","v":"MC"},{"$f":"IFERROR(HYPERLINK(\"#'Exiting (FS009)'!\"&ADDRESS(ROW(INDEX(CurrentListing,MATCH('Category Set A by Basis of Exit'!U195,CurrentListing,0),1)),25),AI195),HYPERLINK(\"#'Exiting (FS009)'!\"&\"$AA$10\",AI195))","v":"MC"},{"$f":"IFERROR(HYPERLINK(\"#'Exiting (FS009)'!\"&ADDRESS(ROW(INDEX(CurrentListing,MATCH('Category Set A by Basis of Exit'!V195,CurrentListing,0),1)),25),AJ195),HYPERLINK(\"#'Exiting (FS009)'!\"&\"$AA$10\",AJ195))","v":"MC"},{"$f":"IFERROR(HYPERLINK(\"#'Exiting (FS009)'!\"&ADDRESS(ROW(INDEX(CurrentListing,MATCH('Category Set A by Basis of Exit'!W195,CurrentListing,0),1)),25),AK195),HYPERLINK(\"#'Exiting (FS009)'!\"&\"$AA$10\",AK195))","v":"MC"},{"$f":"IFERROR(HYPERLINK(\"#'Exiting (FS009)'!\"&ADDRESS(ROW(INDEX(CurrentListing,MATCH('Category Set A by Basis of Exit'!X195,CurrentListing,0),1)),25),AL195),HYPERLINK(\"#'Exiting (FS009)'!\"&\"$AA$10\",AL195))","v":"MC"},{"$f":"IFERROR(HYPERLINK(\"#'Exiting (FS009)'!\"&ADDRESS(ROW(INDEX(CurrentListing,MATCH('Category Set A by Basis of Exit'!Y195,CurrentListing,0),1)),25),AM195),HYPERLINK(\"#'Exiting (FS009)'!\"&\"$AA$10\",AM195))","v":"MC"},{"$f":"IFERROR(HYPERLINK(\"#'Exiting (FS009)'!\"&ADDRESS(ROW(INDEX(CurrentListing,MATCH('Category Set A by Basis of Exit'!Z195,CurrentListing,0),1)),25),AN195),HYPERLINK(\"#'Exiting (FS009)'!\"&\"$AA$10\",AN195))","v":"MC"},{"$f":"IFERROR(HYPERLINK(\"#'Exiting (FS009)'!\"&ADDRESS(ROW(INDEX(CurrentListing,MATCH('Category Set A by Basis of Exit'!AA195,CurrentListing,0),1)),25),AO195),HYPERLINK(\"#'Exiting (FS009)'!\"&\"$AA$10\",AO195))","v":"MC"},{"$f":"IFERROR(HYPERLINK(\"#'Exiting (FS009)'!\"&ADDRESS(ROW(INDEX(CurrentListing,MATCH('Category Set A by Basis of Exit'!AB195,CurrentListing,0),1)),25),AP195),HYPERLINK(\"#'Exiting (FS009)'!\"&\"$AA$10\",AP195))","v":"MC"},0,null,null,"ID15DROPOUTN","HI15DROPOUTN","SLI15DROPOUTN","VI15DROPOUTN","EMN15DROPOUTN","OI15DROPOUTN","OHI15DROPOUTN","SLD15DROPOUTN","DB15DROPOUTN","MD15DROPOUTN","AUT15DROPOUTN","TBI15DROPOUTN",null,15,"MC","MC","MC","MC","MC","MC","MC","MC","MC","MC","MC","MC",{"$f":"SUM(AE195:AP195)","v":0}]
[16,{"$f":"IFERROR(HYPERLINK(\"#'Exiting (FS009)'!\"&ADDRESS(ROW(INDEX(CurrentListing,MATCH('Category Set A by Basis of Exit'!Q196,CurrentListing,0),1)),25),AE196),HYPERLINK(\"#'Exiting (FS009)'!\"&\"$AA$10\",AE196))","v":"MC"},{"$f":"IFERROR(HYPERLINK(\"#'Exiting (FS009)'!\"&ADDRESS(ROW(INDEX(CurrentListing,MATCH('Category Set A by Basis of Exit'!R196,CurrentListing,0),1)),25),AF196),HYPERLINK(\"#'Exiting (FS009)'!\"&\"$AA$10\",AF196))","v":"MC"},{"$f":"IFERROR(HYPERLINK(\"#'Exiting (FS009)'!\"&ADDRESS(ROW(INDEX(CurrentListing,MATCH('Category Set A by Basis of Exit'!S196,CurrentListing,0),1)),25),AG196),HYPERLINK(\"#'Exiting (FS009)'!\"&\"$AA$10\",AG196))","v":"MC"},{"$f":"IFERROR(HYPERLINK(\"#'Exiting (FS009)'!\"&ADDRESS(ROW(INDEX(CurrentListing,MATCH('Category Set A by Basis of Exit'!T196,CurrentListing,0),1)),25),AH196),HYPERLINK(\"#'Exiting (FS009)'!\"&\"$AA$10\",AH196))","v":"MC"},{"$f":"IFERROR(HYPERLINK(\"#'Exiting (FS009)'!\"&ADDRESS(ROW(INDEX(CurrentListing,MATCH('Category Set A by Basis of Exit'!U196,CurrentListing,0),1)),25),AI196),HYPERLINK(\"#'Exiting (FS009)'!\"&\"$AA$10\",AI196))","v":"MC"},{"$f":"IFERROR(HYPERLINK(\"#'Exiting (FS009)'!\"&ADDRESS(ROW(INDEX(CurrentListing,MATCH('Category Set A by Basis of Exit'!V196,CurrentListing,0),1)),25),AJ196),HYPERLINK(\"#'Exiting (FS009)'!\"&\"$AA$10\",AJ196))","v":"MC"},{"$f":"IFERROR(HYPERLINK(\"#'Exiting (FS009)'!\"&ADDRESS(ROW(INDEX(CurrentListing,MATCH('Category Set A by Basis of Exit'!W196,CurrentListing,0),1)),25),AK196),HYPERLINK(\"#'Exiting (FS009)'!\"&\"$AA$10\",AK196))","v":"MC"},{"$f":"IFERROR(HYPERLINK(\"#'Exiting (FS009)'!\"&ADDRESS(ROW(INDEX(CurrentListing,MATCH('Category Set A by Basis of Exit'!X196,CurrentListing,0),1)),25),AL196),HYPERLINK(\"#'Exiting (FS009)'!\"&\"$AA$10\",AL196))","v":"MC"},{"$f":"IFERROR(HYPERLINK(\"#'Exiting (FS009)'!\"&ADDRESS(ROW(INDEX(CurrentListing,MATCH('Category Set A by Basis of Exit'!Y196,CurrentListing,0),1)),25),AM196),HYPERLINK(\"#'Exiting (FS009)'!\"&\"$AA$10\",AM196))","v":"MC"},{"$f":"IFERROR(HYPERLINK(\"#'Exiting (FS009)'!\"&ADDRESS(ROW(INDEX(CurrentListing,MATCH('Category Set A by Basis of Exit'!Z196,CurrentListing,0),1)),25),AN196),HYPERLINK(\"#'Exiting (FS009)'!\"&\"$AA$10\",AN196))","v":"MC"},{"$f":"IFERROR(HYPERLINK(\"#'Exiting (FS009)'!\"&ADDRESS(ROW(INDEX(CurrentListing,MATCH('Category Set A by Basis of Exit'!AA196,CurrentListing,0),1)),25),AO196),HYPERLINK(\"#'Exiting (FS009)'!\"&\"$AA$10\",AO196))","v":"MC"},{"$f":"IFERROR(HYPERLINK(\"#'Exiting (FS009)'!\"&ADDRESS(ROW(INDEX(CurrentListing,MATCH('Category Set A by Basis of Exit'!AB196,CurrentListing,0),1)),25),AP196),HYPERLINK(\"#'Exiting (FS009)'!\"&\"$AA$10\",AP196))","v":"MC"},0,null,null,"ID16DROPOUTN","HI16DROPOUTN","SLI16DROPOUTN","VI16DROPOUTN","EMN16DROPOUTN","OI16DROPOUTN","OHI16DROPOUTN","SLD16DROPOUTN","DB16DROPOUTN","MD16DROPOUTN","AUT16DROPOUTN","TBI16DROPOUTN",null,16,"MC","MC","MC","MC","MC","MC","MC","MC","MC","MC","MC","MC",0]
[17,{"$f":"IFERROR(HYPERLINK(\"#'Exiting (FS009)'!\"&ADDRESS(ROW(INDEX(CurrentListing,MATCH('Category Set A by Basis of Exit'!Q197,CurrentListing,0),1)),25),AE197),HYPERLINK(\"#'Exiting (FS009)'!\"&\"$AA$10\",AE197))","v":"MC"},{"$f":"IFERROR(HYPERLINK(\"#'Exiting (FS009)'!\"&ADDRESS(ROW(INDEX(CurrentListing,MATCH('Category Set A by Basis of Exit'!R197,CurrentListing,0),1)),25),AF197),HYPERLINK(\"#'Exiting (FS009)'!\"&\"$AA$10\",AF197))","v":"MC"},{"$f":"IFERROR(HYPERLINK(\"#'Exiting (FS009)'!\"&ADDRESS(ROW(INDEX(CurrentListing,MATCH('Category Set A by Basis of Exit'!S197,CurrentListing,0),1)),25),AG197),HYPERLINK(\"#'Exiting (FS009)'!\"&\"$AA$10\",AG197))","v":"MC"},{"$f":"IFERROR(HYPERLINK(\"#'Exiting (FS009)'!\"&ADDRESS(ROW(INDEX(CurrentListing,MATCH('Category Set A by Basis of Exit'!T197,CurrentListing,0),1)),25),AH197),HYPERLINK(\"#'Exiting (FS009)'!\"&\"$AA$10\",AH197))","v":"MC"},{"$f":"IFERROR(HYPERLINK(\"#'Exiting (FS009)'!\"&ADDRESS(ROW(INDEX(CurrentListing,MATCH('Category Set A by Basis of Exit'!U197,CurrentListing,0),1)),25),AI197),HYPERLINK(\"#'Exiting (FS009)'!\"&\"$AA$10\",AI197))","v":"MC"},{"$f":"IFERROR(HYPERLINK(\"#'Exiting (FS009)'!\"&ADDRESS(ROW(INDEX(CurrentListing,MATCH('Category Set A by Basis of Exit'!V197,CurrentListing,0),1)),25),AJ197),HYPERLINK(\"#'Exiting (FS009)'!\"&\"$AA$10\",AJ197))","v":"MC"},{"$f":"IFERROR(HYPERLINK(\"#'Exiting (FS009)'!\"&ADDRESS(ROW(INDEX(CurrentListing,MATCH('Category Set A by Basis of Exit'!W197,CurrentListing,0),1)),25),AK197),HYPERLINK(\"#'Exiting (FS009)'!\"&\"$AA$10\",AK197))","v":"MC"},{"$f":"IFERROR(HYPERLINK(\"#'Exiting (FS009)'!\"&ADDRESS(ROW(INDEX(CurrentListing,MATCH('Category Set A by Basis of Exit'!X197,CurrentListing,0),1)),25),AL197),HYPERLINK(\"#'Exiting (FS009)'!\"&\"$AA$10\",AL197))","v":"MC"},{"$f":"IFERROR(HYPERLINK(\"#'Exiting (FS009)'!\"&ADDRESS(ROW(INDEX(CurrentListing,MATCH('Category Set A by Basis of Exit'!Y197,CurrentListing,0),1)),25),AM197),HYPERLINK(\"#'Exiting (FS009)'!\"&\"$AA$10\",AM197))","v":"MC"},{"$f":"IFERROR(HYPERLINK(\"#'Exiting (FS009)'!\"&ADDRESS(ROW(INDEX(CurrentListing,MATCH('Category Set A by Basis of Exit'!Z197,CurrentListing,0),1)),25),AN197),HYPERLINK(\"#'Exiting (FS009)'!\"&\"$AA$10\",AN197))","v":"MC"},{"$f":"IFERROR(HYPERLINK(\"#'Exiting (FS009)'!\"&ADDRESS(ROW(INDEX(CurrentListing,MATCH('Category Set A by Basis of Exit'!AA197,CurrentListing,0),1)),25),AO197),HYPERLINK(\"#'Exiting (FS009)'!\"&\"$AA$10\",AO197))","v":"MC"},{"$f":"IFERROR(HYPERLINK(\"#'Exiting (FS009)'!\"&ADDRESS(ROW(INDEX(CurrentListing,MATCH('Category Set A by Basis of Exit'!AB197,CurrentListing,0),1)),25),AP197),HYPERLINK(\"#'Exiting (FS009)'!\"&\"$AA$10\",AP197))","v":"MC"},0,null,null,"ID17DROPOUTN","HI17DROPOUTN","SLI17DROPOUTN","VI17DROPOUTN","EMN17DROPOUTN","OI17DROPOUTN","OHI17DROPOUTN","SLD17DROPOUTN","DB17DROPOUTN","MD17DROPOUTN","AUT17DROPOUTN","TBI17DROPOUTN",null,17,"MC","MC","MC","MC","MC","MC","MC","MC","MC","MC","MC","MC",0]
[18,{"$f":"IFERROR(HYPERLINK(\"#'Exiting (FS009)'!\"&ADDRESS(ROW(INDEX(CurrentListing,MATCH('Category Set A by Basis of Exit'!Q198,CurrentListing,0),1)),25),AE198),HYPERLINK(\"#'Exiting (FS009)'!\"&\"$AA$10\",AE198))","v":"MC"},{"$f":"IFERROR(HYPERLINK(\"#'Exiting (FS009)'!\"&ADDRESS(ROW(INDEX(CurrentListing,MATCH('Category Set A by Basis of Exit'!R198,CurrentListing,0),1)),25),AF198),HYPERLINK(\"#'Exiting (FS009)'!\"&\"$AA$10\",AF198))","v":"MC"},{"$f":"IFERROR(HYPERLINK(\"#'Exiting (FS009)'!\"&ADDRESS(ROW(INDEX(CurrentListing,MATCH('Category Set A by Basis of Exit'!S198,CurrentListing,0),1)),25),AG198),HYPERLINK(\"#'Exiting (FS009)'!\"&\"$AA$10\",AG198))","v":"MC"},{"$f":"IFERROR(HYPERLINK(\"#'Exiting (FS009)'!\"&ADDRESS(ROW(INDEX(CurrentListing,MATCH('Category Set A by Basis of Exit'!T198,CurrentListing,0),1)),25),AH198),HYPERLINK(\"#'Exiting (FS009)'!\"&\"$AA$10\",AH198))","v":"MC"},{"$f":"IFERROR(HYPERLINK(\"#'Exiting (FS009)'!\"&ADDRESS(ROW(INDEX(CurrentListing,MATCH('Category Set A by Basis of Exit'!U198,CurrentListing,0),1)),25),AI198),HYPERLINK(\"#'Exiting (FS009)'!\"&\"$AA$10\",AI198))","v":"MC"},{"$f":"IFERROR(HYPERLINK(\"#'Exiting (FS009)'!\"&ADDRESS(ROW(INDEX(CurrentListing,MATCH('Category Set A by Basis of Exit'!V198,CurrentListing,0),1)),25),AJ198),HYPERLINK(\"#'Exiting (FS009)'!\"&\"$AA$10\",AJ198))","v":"MC"},{"$f":"IFERROR(HYPERLINK(\"#'Exiting (FS009)'!\"&ADDRESS(ROW(INDEX(CurrentListing,MATCH('Category Set A by Basis of Exit'!W198,CurrentListing,0),1)),25),AK198),HYPERLINK(\"#'Exiting (FS009)'!\"&\"$AA$10\",AK198))","v":"MC"},{"$f":"IFERROR(HYPERLINK(\"#'Exiting (FS009)'!\"&ADDRESS(ROW(INDEX(CurrentListing,MATCH('Category Set A by Basis of Exit'!X198,CurrentListing,0),1)),25),AL198),HYPERLINK(\"#'Exiting (FS009)'!\"&\"$AA$10\",AL198))","v":"MC"},{"$f":"IFERROR(HYPERLINK(\"#'Exiting (FS009)'!\"&ADDRESS(ROW(INDEX(CurrentListing,MATCH('Category Set A by Basis of Exit'!Y198,CurrentListing,0),1)),25),AM198),HYPERLINK(\"#'Exiting (FS009)'!\"&\"$AA$10\",AM198))","v":"MC"},{"$f":"IFERROR(HYPERLINK(\"#'Exiting (FS009)'!\"&ADDRESS(ROW(INDEX(CurrentListing,MATCH('Category Set A by Basis of Exit'!Z198,CurrentListing,0),1)),25),AN198),HYPERLINK(\"#'Exiting (FS009)'!\"&\"$AA$10\",AN198))","v":"MC"},{"$f":"IFERROR(HYPERLINK(\"#'Exiting (FS009)'!\"&ADDRESS(ROW(INDEX(CurrentListing,MATCH('Category Set A by Basis of Exit'!AA198,CurrentListing,0),1)),25),AO198),HYPERLINK(\"#'Exiting (FS009)'!\"&\"$AA$10\",AO198))","v":"MC"},{"$f":"IFERROR(HYPERLINK(\"#'Exiting (FS009)'!\"&ADDRESS(ROW(INDEX(CurrentListing,MATCH('Category Set A by Basis of Exit'!AB198,CurrentListing,0),1)),25),AP198),HYPERLINK(\"#'Exiting (FS009)'!\"&\"$AA$10\",AP198))","v":"MC"},0,null,null,"ID18DROPOUTN","HI18DROPOUTN","SLI18DROPOUTN","VI18DROPOUTN","EMN18DROPOUTN","OI18DROPOUTN","OHI18DROPOUTN","SLD18DROPOUTN","DB18DROPOUTN","MD18DROPOUTN","AUT18DROPOUTN","TBI18DROPOUTN",null,18,"MC","MC","MC","MC","MC","MC","MC","MC","MC","MC","MC","MC",0]
[19,{"$f":"IFERROR(HYPERLINK(\"#'Exiting (FS009)'!\"&ADDRESS(ROW(INDEX(CurrentListing,MATCH('Category Set A by Basis of Exit'!Q199,CurrentListing,0),1)),25),AE199),HYPERLINK(\"#'Exiting (FS009)'!\"&\"$AA$10\",AE199))","v":"MC"},{"$f":"IFERROR(HYPERLINK(\"#'Exiting (FS009)'!\"&ADDRESS(ROW(INDEX(CurrentListing,MATCH('Category Set A by Basis of Exit'!R199,CurrentListing,0),1)),25),AF199),HYPERLINK(\"#'Exiting (FS009)'!\"&\"$AA$10\",AF199))","v":"MC"},{"$f":"IFERROR(HYPERLINK(\"#'Exiting (FS009)'!\"&ADDRESS(ROW(INDEX(CurrentListing,MATCH('Category Set A by Basis of Exit'!S199,CurrentListing,0),1)),25),AG199),HYPERLINK(\"#'Exiting (FS009)'!\"&\"$AA$10\",AG199))","v":"MC"},{"$f":"IFERROR(HYPERLINK(\"#'Exiting (FS009)'!\"&ADDRESS(ROW(INDEX(CurrentListing,MATCH('Category Set A by Basis of Exit'!T199,CurrentListing,0),1)),25),AH199),HYPERLINK(\"#'Exiting (FS009)'!\"&\"$AA$10\",AH199))","v":"MC"},{"$f":"IFERROR(HYPERLINK(\"#'Exiting (FS009)'!\"&ADDRESS(ROW(INDEX(CurrentListing,MATCH('Category Set A by Basis of Exit'!U199,CurrentListing,0),1)),25),AI199),HYPERLINK(\"#'Exiting (FS009)'!\"&\"$AA$10\",AI199))","v":"MC"},{"$f":"IFERROR(HYPERLINK(\"#'Exiting (FS009)'!\"&ADDRESS(ROW(INDEX(CurrentListing,MATCH('Category Set A by Basis of Exit'!V199,CurrentListing,0),1)),25),AJ199),HYPERLINK(\"#'Exiting (FS009)'!\"&\"$AA$10\",AJ199))","v":"MC"},{"$f":"IFERROR(HYPERLINK(\"#'Exiting (FS009)'!\"&ADDRESS(ROW(INDEX(CurrentListing,MATCH('Category Set A by Basis of Exit'!W199,CurrentListing,0),1)),25),AK199),HYPERLINK(\"#'Exiting (FS009)'!\"&\"$AA$10\",AK199))","v":"MC"},{"$f":"IFERROR(HYPERLINK(\"#'Exiting (FS009)'!\"&ADDRESS(ROW(INDEX(CurrentListing,MATCH('Category Set A by Basis of Exit'!X199,CurrentListing,0),1)),25),AL199),HYPERLINK(\"#'Exiting (FS009)'!\"&\"$AA$10\",AL199))","v":"MC"},{"$f":"IFERROR(HYPERLINK(\"#'Exiting (FS009)'!\"&ADDRESS(ROW(INDEX(CurrentListing,MATCH('Category Set A by Basis of Exit'!Y199,CurrentListing,0),1)),25),AM199),HYPERLINK(\"#'Exiting (FS009)'!\"&\"$AA$10\",AM199))","v":"MC"},{"$f":"IFERROR(HYPERLINK(\"#'Exiting (FS009)'!\"&ADDRESS(ROW(INDEX(CurrentListing,MATCH('Category Set A by Basis of Exit'!Z199,CurrentListing,0),1)),25),AN199),HYPERLINK(\"#'Exiting (FS009)'!\"&\"$AA$10\",AN199))","v":"MC"},{"$f":"IFERROR(HYPERLINK(\"#'Exiting (FS009)'!\"&ADDRESS(ROW(INDEX(CurrentListing,MATCH('Category Set A by Basis of Exit'!AA199,CurrentListing,0),1)),25),AO199),HYPERLINK(\"#'Exiting (FS009)'!\"&\"$AA$10\",AO199))","v":"MC"},{"$f":"IFERROR(HYPERLINK(\"#'Exiting (FS009)'!\"&ADDRESS(ROW(INDEX(CurrentListing,MATCH('Category Set A by Basis of Exit'!AB199,CurrentListing,0),1)),25),AP199),HYPERLINK(\"#'Exiting (FS009)'!\"&\"$AA$10\",AP199))","v":"MC"},0,null,null,"ID19DROPOUTN","HI19DROPOUTN","SLI19DROPOUTN","VI19DROPOUTN","EMN19DROPOUTN","OI19DROPOUTN","OHI19DROPOUTN","SLD19DROPOUTN","DB19DROPOUTN","MD19DROPOUTN","AUT19DROPOUTN","TBI19DROPOUTN",null,19,"MC","MC","MC","MC","MC","MC","MC","MC","MC","MC","MC","MC",0]
[20,{"$f":"IFERROR(HYPERLINK(\"#'Exiting (FS009)'!\"&ADDRESS(ROW(INDEX(CurrentListing,MATCH('Category Set A by Basis of Exit'!Q200,CurrentListing,0),1)),25),AE200),HYPERLINK(\"#'Exiting (FS009)'!\"&\"$AA$10\",AE200))","v":"MC"},{"$f":"IFERROR(HYPERLINK(\"#'Exiting (FS009)'!\"&ADDRESS(ROW(INDEX(CurrentListing,MATCH('Category Set A by Basis of Exit'!R200,CurrentListing,0),1)),25),AF200),HYPERLINK(\"#'Exiting (FS009)'!\"&\"$AA$10\",AF200))","v":"MC"},{"$f":"IFERROR(HYPERLINK(\"#'Exiting (FS009)'!\"&ADDRESS(ROW(INDEX(CurrentListing,MATCH('Category Set A by Basis of Exit'!S200,CurrentListing,0),1)),25),AG200),HYPERLINK(\"#'Exiting (FS009)'!\"&\"$AA$10\",AG200))","v":"MC"},{"$f":"IFERROR(HYPERLINK(\"#'Exiting (FS009)'!\"&ADDRESS(ROW(INDEX(CurrentListing,MATCH('Category Set A by Basis of Exit'!T200,CurrentListing,0),1)),25),AH200),HYPERLINK(\"#'Exiting (FS009)'!\"&\"$AA$10\",AH200))","v":"MC"},{"$f":"IFERROR(HYPERLINK(\"#'Exiting (FS009)'!\"&ADDRESS(ROW(INDEX(CurrentListing,MATCH('Category Set A by Basis of Exit'!U200,CurrentListing,0),1)),25),AI200),HYPERLINK(\"#'Exiting (FS009)'!\"&\"$AA$10\",AI200))","v":"MC"},{"$f":"IFERROR(HYPERLINK(\"#'Exiting (FS009)'!\"&ADDRESS(ROW(INDEX(CurrentListing,MATCH('Category Set A by Basis of Exit'!V200,CurrentListing,0),1)),25),AJ200),HYPERLINK(\"#'Exiting (FS009)'!\"&\"$AA$10\",AJ200))","v":"MC"},{"$f":"IFERROR(HYPERLINK(\"#'Exiting (FS009)'!\"&ADDRESS(ROW(INDEX(CurrentListing,MATCH('Category Set A by Basis of Exit'!W200,CurrentListing,0),1)),25),AK200),HYPERLINK(\"#'Exiting (FS009)'!\"&\"$AA$10\",AK200))","v":"MC"},{"$f":"IFERROR(HYPERLINK(\"#'Exiting (FS009)'!\"&ADDRESS(ROW(INDEX(CurrentListing,MATCH('Category Set A by Basis of Exit'!X200,CurrentListing,0),1)),25),AL200),HYPERLINK(\"#'Exiting (FS009)'!\"&\"$AA$10\",AL200))","v":"MC"},{"$f":"IFERROR(HYPERLINK(\"#'Exiting (FS009)'!\"&ADDRESS(ROW(INDEX(CurrentListing,MATCH('Category Set A by Basis of Exit'!Y200,CurrentListing,0),1)),25),AM200),HYPERLINK(\"#'Exiting (FS009)'!\"&\"$AA$10\",AM200))","v":"MC"},{"$f":"IFERROR(HYPERLINK(\"#'Exiting (FS009)'!\"&ADDRESS(ROW(INDEX(CurrentListing,MATCH('Category Set A by Basis of Exit'!Z200,CurrentListing,0),1)),25),AN200),HYPERLINK(\"#'Exiting (FS009)'!\"&\"$AA$10\",AN200))","v":"MC"},{"$f":"IFERROR(HYPERLINK(\"#'Exiting (FS009)'!\"&ADDRESS(ROW(INDEX(CurrentListing,MATCH('Category Set A by Basis of Exit'!AA200,CurrentListing,0),1)),25),AO200),HYPERLINK(\"#'Exiting (FS009)'!\"&\"$AA$10\",AO200))","v":"MC"},{"$f":"IFERROR(HYPERLINK(\"#'Exiting (FS009)'!\"&ADDRESS(ROW(INDEX(CurrentListing,MATCH('Category Set A by Basis of Exit'!AB200,CurrentListing,0),1)),25),AP200),HYPERLINK(\"#'Exiting (FS009)'!\"&\"$AA$10\",AP200))","v":"MC"},0,null,null,"ID20DROPOUTN","HI20DROPOUTN","SLI20DROPOUTN","VI20DROPOUTN","EMN20DROPOUTN","OI20DROPOUTN","OHI20DROPOUTN","SLD20DROPOUTN","DB20DROPOUTN","MD20DROPOUTN","AUT20DROPOUTN","TBI20DROPOUTN",null,20,"MC","MC","MC","MC","MC","MC","MC","MC","MC","MC","MC","MC",0]
[21,{"$f":"IFERROR(HYPERLINK(\"#'Exiting (FS009)'!\"&ADDRESS(ROW(INDEX(CurrentListing,MATCH('Category Set A by Basis of Exit'!Q201,CurrentListing,0),1)),25),AE201),HYPERLINK(\"#'Exiting (FS009)'!\"&\"$AA$10\",AE201))","v":"MC"},{"$f":"IFERROR(HYPERLINK(\"#'Exiting (FS009)'!\"&ADDRESS(ROW(INDEX(CurrentListing,MATCH('Category Set A by Basis of Exit'!R201,CurrentListing,0),1)),25),AF201),HYPERLINK(\"#'Exiting (FS009)'!\"&\"$AA$10\",AF201))","v":"MC"},{"$f":"IFERROR(HYPERLINK(\"#'Exiting (FS009)'!\"&ADDRESS(ROW(INDEX(CurrentListing,MATCH('Category Set A by Basis of Exit'!S201,CurrentListing,0),1)),25),AG201),HYPERLINK(\"#'Exiting (FS009)'!\"&\"$AA$10\",AG201))","v":"MC"},{"$f":"IFERROR(HYPERLINK(\"#'Exiting (FS009)'!\"&ADDRESS(ROW(INDEX(CurrentListing,MATCH('Category Set A by Basis of Exit'!T201,CurrentListing,0),1)),25),AH201),HYPERLINK(\"#'Exiting (FS009)'!\"&\"$AA$10\",AH201))","v":"MC"},{"$f":"IFERROR(HYPERLINK(\"#'Exiting (FS009)'!\"&ADDRESS(ROW(INDEX(CurrentListing,MATCH('Category Set A by Basis of Exit'!U201,CurrentListing,0),1)),25),AI201),HYPERLINK(\"#'Exiting (FS009)'!\"&\"$AA$10\",AI201))","v":"MC"},{"$f":"IFERROR(HYPERLINK(\"#'Exiting (FS009)'!\"&ADDRESS(ROW(INDEX(CurrentListing,MATCH('Category Set A by Basis of Exit'!V201,CurrentListing,0),1)),25),AJ201),HYPERLINK(\"#'Exiting (FS009)'!\"&\"$AA$10\",AJ201))","v":"MC"},{"$f":"IFERROR(HYPERLINK(\"#'Exiting (FS009)'!\"&ADDRESS(ROW(INDEX(CurrentListing,MATCH('Category Set A by Basis of Exit'!W201,CurrentListing,0),1)),25),AK201),HYPERLINK(\"#'Exiting (FS009)'!\"&\"$AA$10\",AK201))","v":"MC"},{"$f":"IFERROR(HYPERLINK(\"#'Exiting (FS009)'!\"&ADDRESS(ROW(INDEX(CurrentListing,MATCH('Category Set A by Basis of Exit'!X201,CurrentListing,0),1)),25),AL201),HYPERLINK(\"#'Exiting (FS009)'!\"&\"$AA$10\",AL201))","v":"MC"},{"$f":"IFERROR(HYPERLINK(\"#'Exiting (FS009)'!\"&ADDRESS(ROW(INDEX(CurrentListing,MATCH('Category Set A by Basis of Exit'!Y201,CurrentListing,0),1)),25),AM201),HYPERLINK(\"#'Exiting (FS009)'!\"&\"$AA$10\",AM201))","v":"MC"},{"$f":"IFERROR(HYPERLINK(\"#'Exiting (FS009)'!\"&ADDRESS(ROW(INDEX(CurrentListing,MATCH('Category Set A by Basis of Exit'!Z201,CurrentListing,0),1)),25),AN201),HYPERLINK(\"#'Exiting (FS009)'!\"&\"$AA$10\",AN201))","v":"MC"},{"$f":"IFERROR(HYPERLINK(\"#'Exiting (FS009)'!\"&ADDRESS(ROW(INDEX(CurrentListing,MATCH('Category Set A by Basis of Exit'!AA201,CurrentListing,0),1)),25),AO201),HYPERLINK(\"#'Exiting (FS009)'!\"&\"$AA$10\",AO201))","v":"MC"},{"$f":"IFERROR(HYPERLINK(\"#'Exiting (FS009)'!\"&ADDRESS(ROW(INDEX(CurrentListing,MATCH('Category Set A by Basis of Exit'!AB201,CurrentListing,0),1)),25),AP201),HYPERLINK(\"#'Exiting (FS009)'!\"&\"$AA$10\",AP201))","v":"MC"},0,null,null,"ID21DROPOUTN","HI21DROPOUTN","SLI21DROPOUTN","VI21DROPOUTN","EMN21DROPOUTN","OI21DROPOUTN","OHI21DROPOUTN","SLD21DROPOUTN","DB21DROPOUTN","MD21DROPOUTN","AUT21DROPOUTN","TBI21DROPOUTN",null,21,"MC","MC","MC","MC","MC","MC","MC","MC","MC","MC","MC","MC",0]
["Total",{"$f":"IF(SUM(B194:B201)>=0,SUM(B194:B201),\"\")","v":0},{"$f":"IF(SUM(C194:C201)>=0,SUM(C194:C201),\"\")","v":0},0,0,0,0,0,0,0,0,0,0,{"$f":"IF(AND(N4=\"MC\",N5=\"MC\",N6=\"MC\",N7=\"MC\",N8=\"MC\",N9=\"MC\",N10=\"MC\",N11=\"MC\", N14=\"MC\"),\"\",SUM(B194:M201))","v":""},null,null,null,null,null,null,null,null,null,null,null,null,null,null,"DROPOUTY","Total",{"$f":"SUM(AE194:AE201)","v":0},{"$f":"SUM(AF194:AF201)","v":0},0,0,0,0,0,0,0,0,0,0,{"$f":"IFERROR(IF(INDEX(StudCntC009,MATCH(AC202,CurrentListing,0))=\"\",\"No Data\",INDEX(StudCntC009,MATCH(AC202,CurrentListing,0))),\"MC\")","v":"MC"}]
[]
["Percent by age","Dropped out"]
[null,"Intellectual\ndisability\n(percent)","Hearing\nimpairment\n(percent)","Speech or\nlanguage\nimpairment\n(percent)","Visual\nimpairment\n(percent)","Emotional\ndisturbance\n(percent)","Orthopedic\nimpairment\n(percent)","Other\nhealth\nimpairment\n(percent)","Specific\nlearning\ndisability\n(percent)","Deaf-\nblindness\n(percent)","Multiple\ndisabilities\n(percent)","Autism\n(percent)","Traumatic\nbrain\ninjury\n(percent)","Total\n(percent)"]
[14,{"$f":"IF(ISERROR(B194/$N194),IF(B194=\"MC\", \"\",0), B194/$N194)","v":""},{"$f":"IF(ISERROR(C194/$N194),IF(C194=\"MC\", \"\",0), C194/$N194)","v":""},"","","","","","","","","","",{"$f":"SUM(B206:M206)","v":0}]
[15,{"$f":"IF(ISERROR(B195/$N195),IF(B195=\"MC\", \"\",0), B195/$N195)","v":""},"","","","","","","","","","","",{"$f":"SUM(B207:M207)","v":0}]
[16,{"$f":"IF(ISERROR(B196/$N196),IF(B196=\"MC\", \"\",0), B196/$N196)","v":""},"","","","","","","","","","","",0]
[17,{"$f":"IF(ISERROR(B197/$N197),IF(B197=\"MC\", \"\",0), B197/$N197)","v":""},"","","","","","","","","","","",0]
[18,{"$f":"IF(ISERROR(B198/$N198),IF(B198=\"MC\", \"\",0), B198/$N198)","v":""},"","","","","","","","","","","",0]
[19,{"$f":"IF(ISERROR(B199/$N199),IF(B199=\"MC\", \"\",0), B199/$N199)","v":""},"","","","","","","","","","","",0]
[20,{"$f":"IF(ISERROR(B200/$N200),IF(B200=\"MC\", \"\",0), B200/$N200)","v":""},"","","","","","","","","","","",0]
[21,{"$f":"IF(ISERROR(B201/$N201),IF(B201=\"MC\", \"\",0), B201/$N201)","v":""},"","","","","","","","","","","",0]
["Total",{"$f":"IFERROR(IF($N202<>0,B202/$N202,0),\"\")","v":""},{"$f":"IFERROR(IF($N202<>0,C202/$N202,0),\"\")","v":""},"","","","","","","","","","",0]
[]
["NOTE: MC = missing category."]
[]
["End of worksheet"]

{"sheet":"Prior Year FS009","index":7,"n_rows":1003,"n_cols":46,"rows_kept":1003,"cut":false,"hidden":false,"merged":[[0,0,0,24],[9,0,9,24]]}
[{"$f":"\"Prior Year IDEA Exiting Data for School Year \"&'Prior Year FS009'!E12","v":"Prior Year IDEA Exiting Data for School Year "},null,null,null,null,null,null,null,null,null,null,null,null,null,null,null,null,null,null,null,null,null,null,null,null,null,null,null,null,"End of worksheet"]
[]
[]
[]
[]
[]
[]
[]
[]
["FS009 — Children With Disabilities (IDEA) Exiting Special Education "]
["File record \nnumber","State code","State agency number","LEA identifier (state)","Filler","Table name","Filler","Racial\nethnic","Sex (membership)","Filler","Filler","Filler","Filler","Filler","Filler","Disability category (IDEA) exiting","Age (exiting)","English learner status (both)","Filler","Filler","Filler","Basis of exit","Total indicator","Explanation","Student count",null,null,null,null,null,"Current\nListing","Student Count","Master\nListing\n(For lookup)","Student Count","Value if \"MC\"",null,null,null,"AGE"]
[null,null,null,null,null,null,null,null,null,null,null,null,null,null,null,null,null,null,null,null,null,null,null,null,null,null,null,null,null,null,null,null,null,null,null,null,null,"Basis of Exit",14,15,16,17,18,19,20,21]
[null,null,null,null,null,null,null,null,null,null,null,null,null,null,null,null,null,null,null,null,null,null,null,null,null,null,null,null,null,null,{"$f":"H13&I13&P13&Q13&R13&V13&W13","v":""},{"$f":"Y13","v":0},"Y",{"$f":"IFERROR(VLOOKUP(AG13,$AE$13:$AF$1000,2,FALSE),\"MC\")","v":"MC"},{"$f":"IF(AH13=\"MC\",0,\"\")","v":0},null,null,"D",{"$f":"SUM(AH49,AH114,AH179,AH244,AH309,AH374,AH439,AH504,AH569,AH634,AH699,AH764)","v":0},{"$f":"SUM(AH57,AH122,AH187,AH252,AH317,AH382,AH447,AH512,AH577,AH642,AH707,AH772)","v":0},{"$f":"SUM(AH65,AH130,AH195,AH260,AH325,AH390,AH455,AH520,AH585,AH650,AH715,AH780)","v":0},{"$f":"SUM(AH73,AH138,AH203,AH268,AH333,AH398,AH463,AH528,AH593,AH658,AH723,AH788)","v":0},{"$f":"SUM(AH81,AH146,AH211,AH276,AH341,AH406,AH471,AH536,AH601,AH666,AH731,AH796)","v":0},{"$f":"SUM(AH89,AH154,AH219,AH284,AH349,AH414,AH479,AH544,AH609,AH674,AH739,AH804)","v":0},{"$f":"SUM(AH97,AH162,AH227,AH292,AH357,AH422,AH487,AH552,AH617,AH682,AH747,AH812)","v":0},{"$f":"SUM(AH105,AH170,AH235,AH300,AH365,AH430,AH495,AH560,AH625,AH690,AH755,AH820)","v":0}]
[null,null,null,null,null,null,null,null,null,null,null,null,null,null,null,null,null,null,null,null,null,null,null,null,null,null,null,null,null,null,"",{"$f":"Y14","v":0},"DY",{"$f":"IFERROR(VLOOKUP(AG14,$AE$13:$AF$1000,2,FALSE),\"MC\")","v":"MC"},{"$f":"IF(AH14=\"MC\",0,\"\")","v":0},null,null,"DROPOUT",{"$f":"SUM(AH50,AH115,AH180,AH245,AH310,AH375,AH440,AH505,AH570,AH635,AH700,AH765)","v":0},0,0,0,0,0,0,0]
[null,null,null,null,null,null,null,null,null,null,null,null,null,null,null,null,null,null,null,null,null,null,null,null,null,null,null,null,null,null,"",0,"DROPOUTY","MC",0,null,null,"GHS",0,0,0,0,0,0,0,0]
[null,null,null,null,null,null,null,null,null,null,null,null,null,null,null,null,null,null,null,null,null,null,null,null,null,null,null,null,null,null,"",0,"GHSY","MC",0,null,null,"GRADALTDPL",0,0,0,0,0,0,0,0]
[null,null,null,null,null,null,null,null,null,null,null,null,null,null,null,null,null,null,null,null,null,null,null,null,null,null,null,null,null,null,"",0,"GRADALTDPLY","MC",0,null,null,"MKC",0,0,0,0,0,0,0,0]
[null,null,null,null,null,null,null,null,null,null,null,null,null,null,null,null,null,null,null,null,null,null,null,null,null,null,null,null,null,null,"",0,"MKCY","MC",0,null,null,"RC",0,0,0,0,0,0,0,0]
[null,null,null,null,null,null,null,null,null,null,null,null,null,null,null,null,null,null,null,null,null,null,null,null,null,null,null,null,null,null,"",0,"RCY","MC",0,null,null,"RMA",0,0,0,0,0,0,0,0]
[null,null,null,null,null,null,null,null,null,null,null,null,null,null,null,null,null,null,null,null,null,null,null,null,null,null,null,null,null,null,"",0,"RMAY","MC",0,null,null,"TRAN",0,0,0,0,0,0,0,0]
[null,null,null,null,null,null,null,null,null,null,null,null,null,null,null,null,null,null,null,null,null,null,null,null,null,null,null,null,null,null,"",0,"TRANY","MC",0]
[null,null,null,null,null,null,null,null,null,null,null,null,null,null,null,null,null,null,null,null,null,null,null,null,null,null,null,null,null,null,"",0,"LEPY","MC",0]
[null,null,null,null,null,null,null,null,null,null,null,null,null,null,null,null,null,null,null,null,null,null,null,null,null,null,null,null,null,null,"",0,"LEPDN","MC",0]
[null,null,null,null,null,null,null,null,null,null,null,null,null,null,null,null,null,null,null,null,null,null,null,null,null,null,null,null,null,null,"",0,"LEPDROPOUTN","MC",0]
[null,null,null,null,null,null,null,null,null,null,null,null,null,null,null,null,null,null,null,null,null,null,null,null,null,null,null,null,null,null,"",0,"LEPGHSN","MC",0]
[null,null,null,null,null,null,null,null,null,null,null,null,null,null,null,null,null,null,null,null,null,null,null,null,null,null,null,null,null,null,"",0,"LEPGRADALTDPLN","MC",0]
[null,null,null,null,null,null,null,null,null,null,null,null,null,null,null,null,null,null,null,null,null,null,null,null,null,null,null,null,null,null,"",0,"LEPMKCN","MC",0]
[null,null,null,null,null,null,null,null,null,null,null,null,null,null,null,null,null,null,null,null,null,null,null,null,null,null,null,null,null,null,"",0,"LEPRCN","MC",0]
[null,null,null,null,null,null,null,null,null,null,null,null,null,null,null,null,null,null,null,null,null,null,null,null,null,null,null,null,null,null,"",0,"LEPRMAN","MC",0]
[null,null,null,null,null,null,null,null,null,null,null,null,null,null,null,null,null,null,null,null,null,null,null,null,null,null,null,null,null,null,"",0,"LEPTRANN","MC",0]
[null,null,null,null,null,null,null,null,null,null,null,null,null,null,null,null,null,null,null,null,null,null,null,null,null,null,null,null,null,null,"",0,"NLEPY","MC",0]
[null,null,null,null,null,null,null,null,null,null,null,null,null,null,null,null,null,null,null,null,null,null,null,null,null,null,null,null,null,null,"",0,"NLEPDN","MC",0]
[null,null,null,null,null,null,null,null,null,null,null,null,null,null,null,null,null,null,null,null,null,null,null,null,null,null,null,null,null,null,"",0,"NLEPDROPOUTN","MC",0]
[null,null,null,null,null,null,null,null,null,null,null,null,null,null,null,null,null,null,null,null,null,null,null,null,null,null,null,null,null,null,"",0,"NLEPGHSN","MC",0]
[null,null,null,null,null,null,null,null,null,null,null,null,null,null,null,null,null,null,null,null,null,null,null,null,null,null,null,null,null,null,"",0,"NLEPGRADALTDPLN","MC",0]
[null,null,null,null,null,null,null,null,null,null,null,null,null,null,null,null,null,null,null,null,null,null,null,null,null,null,null,null,null,null,"",0,"NLEPMKCN","MC",0]
[null,null,null,null,null,null,null,null,null,null,null,null,null,null,null,null,null,null,null,null,null,null,null,null,null,null,null,null,null,null,"",0,"NLEPRCN","MC",0]
[null,null,null,null,null,null,null,null,null,null,null,null,null,null,null,null,null,null,null,null,null,null,null,null,null,null,null,null,null,null,"",0,"NLEPRMAN","MC",0]
[null,null,null,null,null,null,null,null,null,null,null,null,null,null,null,null,null,null,null,null,null,null,null,null,null,null,null,null,null,null,"",0,"NLEPTRANN","MC",0]
[null,null,null,null,null,null,null,null,null,null,null,null,null,null,null,null,null,null,null,null,null,null,null,null,null,null,null,null,null,null,"",0,"14Y","MC",0]
[null,null,null,null,null,null,null,null,null,null,null,null,null,null,null,null,null,null,null,null,null,null,null,null,null,null,null,null,null,null,"",0,"15Y","MC",0]
[null,null,null,null,null,null,null,null,null,null,null,null,null,null,null,null,null,null,null,null,null,null,null,null,null,null,null,null,null,null,"",0,"16Y","MC",0]
[null,null,null,null,null,null,null,null,null,null,null,null,null,null,null,null,null,null,null,null,null,null,null,null,null,null,null,null,null,null,"",0,"17Y","MC",0]
[null,null,null,null,null,null,null,null,null,null,null,null,null,null,null,null,null,null,null,null,null,null,null,null,null,null,null,null,null,null,"",0,"18Y","MC",0]
[null,null,null,null,null,null,null,null,null,null,null,null,null,null,null,null,null,null,null,null,null,null,null,null,null,null,null,null,null,null,"",0,"19Y","MC",0]
[null,null,null,null,null,null,null,null,null,null,null,null,null,null,null,null,null,null,null,null,null,null,null,null,null,null,null,null,null,null,"",0,"20Y","MC",0]
[null,null,null,null,null,null,null,null,null,null,null,null,null,null,null,null,null,null,null,null,null,null,null,null,null,null,null,null,null,null,"",0,"21Y","MC",0]
[null,null,null,null,null,null,null,null,null,null,null,null,null,null,null,null,null,null,null,null,null,null,null,null,null,null,null,null,null,null,"",0,"AUTY","MC",0]
[null,null,null,null,null,null,null,null,null,null,null,null,null,null,null,null,null,null,null,null,null,null,null,null,null,null,null,null,null,null,"",0,"AUT14DN","MC",0]
[null,null,null,null,null,null,null,null,null,null,null,null,null,null,null,null,null,null,null,null,null,null,null,null,null,null,null,null,null,null,"",0,"AUT14DROPOUTN","MC",0]
[null,null,null,null,null,null,null,null,null,null,null,null,null,null,null,null,null,null,null,null,null,null,null,null,null,null,null,null,null,null,"",0,"AUT14GHSN","MC",0]
[null,null,null,null,null,null,null,null,null,null,null,null,null,null,null,null,null,null,null,null,null,null,null,null,null,null,null,null,null,null,"",0,"AUT14GRADALTDPLN","MC",0]
[null,null,null,null,null,null,null,null,null,null,null,null,null,null,null,null,null,null,null,null,null,null,null,null,null,null,null,null,null,null,"",0,"AUT14MKCN","MC",0]
[null,null,null,null,null,null,null,null,null,null,null,null,null,null,null,null,null,null,null,null,null,null,null,null,null,null,null,null,null,null,"",0,"AUT14RCN","MC",0]
[null,null,null,null,null,null,null,null,null,null,null,null,null,null,null,null,null,null,null,null,null,null,null,null,null,null,null,null,null,null,"",0,"AUT14RMAN","MC",0]
[null,null,null,null,null,null,null,null,null,null,null,null,null,null,null,null,null,null,null,null,null,null,null,null,null,null,null,null,null,null,"",0,"AUT14TRANN","MC",0]
[null,null,null,null,null,null,null,null,null,null,null,null,null,null,null,null,null,null,null,null,null,null,null,null,null,null,null,null,null,null,"",0,"AUT15DN","MC",0]
[null,null,null,null,null,null,null,null,null,null,null,null,null,null,null,null,null,null,null,null,null,null,null,null,null,null,null,null,null,null,"",0,"AUT15DROPOUTN","MC",0]
[null,null,null,null,null,null,null,null,null,null,null,null,null,null,null,null,null,null,null,null,null,null,null,null,null,null,null,null,null,null,"",0,"AUT15GHSN","MC",0]
[null,null,null,null,null,null,null,null,null,null,null,null,null,null,null,null,null,null,null,null,null,null,null,null,null,null,null,null,null,null,"",0,"AUT15GRADALTDPLN","MC",0]
[null,null,null,null,null,null,null,null,null,null,null,null,null,null,null,null,null,null,null,null,null,null,null,null,null,null,null,null,null,null,"",0,"AUT15MKCN","MC",0]
[null,null,null,null,null,null,null,null,null,null,null,null,null,null,null,null,null,null,null,null,null,null,null,null,null,null,null,null,null,null,"",0,"AUT15RCN","MC",0]
[null,null,null,null,null,null,null,null,null,null,null,null,null,null,null,null,null,null,null,null,null,null,null,null,null,null,null,null,null,null,"",0,"AUT15RMAN","MC",0]
[null,null,null,null,null,null,null,null,null,null,null,null,null,null,null,null,null,null,null,null,null,null,null,null,null,null,null,null,null,null,"",0,"AUT15TRANN","MC",0]
[null,null,null,null,null,null,null,null,null,null,null,null,null,null,null,null,null,null,null,null,null,null,null,null,null,null,null,null,null,null,"",0,"AUT16DN","MC",0]
[null,null,null,null,null,null,null,null,null,null,null,null,null,null,null,null,null,null,null,null,null,null,null,null,null,null,null,null,null,null,"",0,"AUT16DROPOUTN","MC",0]
[null,null,null,null,null,null,null,null,null,null,null,null,null,null,null,null,null,null,null,null,null,null,null,null,null,null,null,null,null,null,"",0,"AUT16GHSN","MC",0]
[null,null,null,null,null,null,null,null,null,null,null,null,null,null,null,null,null,null,null,null,null,null,null,null,null,null,null,null,null,null,"",0,"AUT16GRADALTDPLN","MC",0]
[null,null,null,null,null,null,null,null,null,null,null,null,null,null,null,null,null,null,null,null,null,null,null,null,null,null,null,null,null,null,"",0,"AUT16MKCN","MC",0]
[null,null,null,null,null,null,null,null,null,null,null,null,null,null,null,null,null,null,null,null,null,null,null,null,null,null,null,null,null,null,"",0,"AUT16RCN","MC",0]
[null,null,null,null,null,null,null,null,null,null,null,null,null,null,null,null,null,null,null,null,null,null,null,null,null,null,null,null,null,null,"",0,"AUT16RMAN","MC",0]
[null,null,null,null,null,null,null,null,null,null,null,null,null,null,null,null,null,null,null,null,null,null,null,null,null,null,null,null,null,null,"",0,"AUT16TRANN","MC",0]
[null,null,null,null,null,null,null,null,null,null,null,null,null,null,null,null,null,null,null,null,null,null,null,null,null,null,null,null,null,null,"",0,"AUT17DN","MC",0]
[null,null,null,null,null,null,null,null,null,null,null,null,null,null,null,null,null,null,null,null,null,null,null,null,null,null,null,null,null,null,"",0,"AUT17DROPOUTN","MC",0]
[null,null,null,null,null,null,null,null,null,null,null,null,null,null,null,null,null,null,null,null,null,null,null,null,null,null,null,null,null,null,"",0,"AUT17GHSN","MC",0]
[null,null,null,null,null,null,null,null,null,null,null,null,null,null,null,null,null,null,null,null,null,null,null,null,null,null,null,null,null,null,"",0,"AUT17GRADALTDPLN","MC",0]
[null,null,null,null,null,null,null,null,null,null,null,null,null,null,null,null,null,null,null,null,null,null,null,null,null,null,null,null,null,null,{"$f":"H77&I77&P77&Q77&R77&V77&W77","v":""},0,"AUT17MKCN","MC",0]
[null,null,null,null,null,null,null,null,null,null,null,null,null,null,null,null,null,null,null,null,null,null,null,null,null,null,null,null,null,null,"",{"$f":"Y78","v":0},"AUT17RCN",{"$f":"IFERROR(VLOOKUP(AG78,$AE$13:$AF$1000,2,FALSE),\"MC\")","v":"MC"},{"$f":"IF(AH78=\"MC\",0,\"\")","v":0}]
[null,null,null,null,null,null,null,null,null,null,null,null,null,null,null,null,null,null,null,null,null,null,null,null,null,null,null,null,null,null,"",0,"AUT17RMAN","MC",0]
[null,null,null,null,null,null,null,null,null,null,null,null,null,null,null,null,null,null,null,null,null,null,null,null,null,null,null,null,null,null,"",0,"AUT17TRANN","MC",0]
[null,null,null,null,null,null,null,null,null,null,null,null,null,null,null,null,null,null,null,null,null,null,null,null,null,null,null,null,null,null,"",0,"AUT18DN","MC",0]
[null,null,null,null,null,null,null,null,null,null,null,null,null,null,null,null,null,null,null,null,null,null,null,null,null,null,null,null,null,null,"",0,"AUT18DROPOUTN","MC",0]
[null,null,null,null,null,null,null,null,null,null,null,null,null,null,null,null,null,null,null,null,null,null,null,null,null,null,null,null,null,null,"",0,"AUT18GHSN","MC",0]
[null,null,null,null,null,null,null,null,null,null,null,null,null,null,null,null,null,null,null,null,null,null,null,null,null,null,null,null,null,null,"",0,"AUT18GRADALTDPLN","MC",0]
[null,null,null,null,null,null,null,null,null,null,null,null,null,null,null,null,null,null,null,null,null,null,null,null,null,null,null,null,null,null,"",0,"AUT18MKCN","MC",0]
[null,null,null,null,null,null,null,null,null,null,null,null,null,null,null,null,null,null,null,null,null,null,null,null,null,null,null,null,null,null,"",0,"AUT18RCN","MC",0]
[null,null,null,null,null,null,null,null,null,null,null,null,null,null,null,null,null,null,null,null,null,null,null,null,null,null,null,null,null,null,"",0,"AUT18RMAN","MC",0]
[null,null,null,null,null,null,null,null,null,null,null,null,null,null,null,null,null,null,null,null,null,null,null,null,null,null,null,null,null,null,"",0,"AUT18TRANN","MC",0]
[null,null,null,null,null,null,null,null,null,null,null,null,null,null,null,null,null,null,null,null,null,null,null,null,null,null,null,null,null,null,"",0,"AUT19DN","MC",0]
[null,null,null,null,null,null,null,null,null,null,null,null,null,null,null,null,null,null,null,null,null,null,null,null,null,null,null,null,null,null,"",0,"AUT19DROPOUTN","MC",0]
[null,null,null,null,null,null,null,null,null,null,null,null,null,null,null,null,null,null,null,null,null,null,null,null,null,null,null,null,null,null,"",0,"AUT19GHSN","MC",0]
[null,null,null,null,null,null,null,null,null,null,null,null,null,null,null,null,null,null,null,null,null,null,null,null,null,null,null,null,null,null,"",0,"AUT19GRADALTDPLN","MC",0]
[null,null,null,null,null,null,null,null,null,null,null,null,null,null,null,null,null,null,null,null,null,null,null,null,null,null,null,null,null,null,"",0,"AUT19MKCN","MC",0]
[null,null,null,null,null,null,null,null,null,null,null,null,null,null,null,null,null,null,null,null,null,null,null,null,null,null,null,null,null,null,"",0,"AUT19RCN","MC",0]
[null,null,null,null,null,null,null,null,null,null,null,null,null,null,null,null,null,null,null,null,null,null,null,null,null,null,null,null,null,null,"",0,"AUT19RMAN","MC",0]
[null,null,null,null,null,null,null,null,null,null,null,null,null,null,null,null,null,null,null,null,null,null,null,null,null,null,null,null,null,null,"",0,"AUT19TRANN","MC",0]
[null,null,null,null,null,null,null,null,null,null,null,null,null,null,null,null,null,null,null,null,null,null,null,null,null,null,null,null,null,null,"",0,"AUT20DN","MC",0]
[null,null,null,null,null,null,null,null,null,null,null,null,null,null,null,null,null,null,null,null,null,null,null,null,null,null,null,null,null,null,"",0,"AUT20DROPOUTN","MC",0]
[null,null,null,null,null,null,null,null,null,null,null,null,null,null,null,null,null,null,null,null,null,null,null,null,null,null,null,null,null,null,"",0,"AUT20GHSN","MC",0]
[null,null,null,null,null,null,null,null,null,null,null,null,null,null,null,null,null,null,null,null,null,null,null,null,null,null,null,null,null,null,"",0,"AUT20GRADALTDPLN","MC",0]
[null,null,null,null,null,null,null,null,null,null,null,null,null,null,null,null,null,null,null,null,null,null,null,null,null,null,null,null,null,null,"",0,"AUT20MKCN","MC",0]
[null,null,null,null,null,null,null,null,null,null,null,null,null,null,null,null,null,null,null,null,null,null,null,null,null,null,null,null,null,null,"",0,"AUT20RCN","MC",0]
[null,null,null,null,null,null,null,null,null,null,null,null,null,null,null,null,null,null,null,null,null,null,null,null,null,null,null,null,null,null,"",0,"AUT20RMAN","MC",0]
[null,null,null,null,null,null,null,null,null,null,null,null,null,null,null,null,null,null,null,null,null,null,null,null,null,null,null,null,null,null,"",0,"AUT20TRANN","MC",0]
[null,null,null,null,null,null,null,null,null,null,null,null,null,null,null,null,null,null,null,null,null,null,null,null,null,null,null,null,null,null,"",0,"AUT21DN","MC",0]
[null,null,null,null,null,null,null,null,null,null,null,null,null,null,null,null,null,null,null,null,null,null,null,null,null,null,null,null,null,null,"",0,"AUT21DROPOUTN","MC",0]
[null,null,null,null,null,null,null,null,null,null,null,null,null,null,null,null,null,null,null,null,null,null,null,null,null,null,null,null,null,null,"",0,"AUT21GHSN","MC",0]
[null,null,null,null,null,null,null,null,null,null,null,null,null,null,null,null,null,null,null,null,null,null,null,null,null,null,null,null,null,null,"",0,"AUT21GRADALTDPLN","MC",0]
[null,null,null,null,null,null,null,null,null,null,null,null,null,null,null,null,null,null,null,null,null,null,null,null,null,null,null,null,null,null,"",0,"AUT21MKCN","MC",0]
[null,null,null,null,null,null,null,null,null,null,null,null,null,null,null,null,null,null,null,null,null,null,null,null,null,null,null,null,null,null,"",0,"AUT21RCN","MC",0]
[null,null,null,null,null,null,null,null,null,null,null,null,null,null,null,null,null,null,null,null,null,null,null,null,null,null,null,null,null,null,"",0,"AUT21RMAN","MC",0]
[null,null,null,null,null,null,null,null,null,null,null,null,null,null,null,null,null,null,null,null,null,null,null,null,null,null,null,null,null,null,"",0,"AUT21TRANN","MC",0]
[null,null,null,null,null,null,null,null,null,null,null,null,null,null,null,null,null,null,null,null,null,null,null,null,null,null,null,null,null,null,"",0,"DBY","MC",0]
[null,null,null,null,null,null,null,null,null,null,null,null,null,null,null,null,null,null,null,null,null,null,null,null,null,null,null,null,null,null,"",0,"DB14DN","MC",0]
[null,null,null,null,null,null,null,null,null,null,null,null,null,null,null,null,null,null,null,null,null,null,null,null,null,null,null,null,null,null,"",0,"DB14DROPOUTN","MC",0]
[null,null,null,null,null,null,null,null,null,null,null,null,null,null,null,null,null,null,null,null,null,null,null,null,null,null,null,null,null,null,"",0,"DB14GHSN","MC",0]
[null,null,null,null,null,null,null,null,null,null,null,null,null,null,null,null,null,null,null,null,null,null,null,null,null,null,null,null,null,null,"",0,"DB14GRADALTDPLN","MC",0]
[null,null,null,null,null,null,null,null,null,null,null,null,null,null,null,null,null,null,null,null,null,null,null,null,null,null,null,null,null,null,"",0,"DB14MKCN","MC",0]
[null,null,null,null,null,null,null,null,null,null,null,null,null,null,null,null,null,null,null,null,null,null,null,null,null,null,null,null,null,null,"",0,"DB14RCN","MC",0]
[null,null,null,null,null,null,null,null,null,null,null,null,null,null,null,null,null,null,null,null,null,null,null,null,null,null,null,null,null,null,"",0,"DB14RMAN","MC",0]
[null,null,null,null,null,null,null,null,null,null,null,null,null,null,null,null,null,null,null,null,null,null,null,null,null,null,null,null,null,null,"",0,"DB14TRANN","MC",0]
[null,null,null,null,null,null,null,null,null,null,null,null,null,null,null,null,null,null,null,null,null,null,null,null,null,null,null,null,null,null,"",0,"DB15DN","MC",0]
[null,null,null,null,null,null,null,null,null,null,null,null,null,null,null,null,null,null,null,null,null,null,null,null,null,null,null,null,null,null,"",0,"DB15DROPOUTN","MC",0]
[null,null,null,null,null,null,null,null,null,null,null,null,null,null,null,null,null,null,null,null,null,null,null,null,null,null,null,null,null,null,"",0,"DB15GHSN","MC",0]
[null,null,null,null,null,null,null,null,null,null,null,null,null,null,null,null,null,null,null,null,null,null,null,null,null,null,null,null,null,null,"",0,"DB15GRADALTDPLN","MC",0]
[null,null,null,null,null,null,null,null,null,null,null,null,null,null,null,null,null,null,null,null,null,null,null,null,null,null,null,null,null,null,"",0,"DB15MKCN","MC",0]
[null,null,null,null,null,null,null,null,null,null,null,null,null,null,null,null,null,null,null,null,null,null,null,null,null,null,null,null,null,null,"",0,"DB15RCN","MC",0]
[null,null,null,null,null,null,null,null,null,null,null,null,null,null,null,null,null,null,null,null,null,null,null,null,null,null,null,null,null,null,"",0,"DB15RMAN","MC",0]
[null,null,null,null,null,null,null,null,null,null,null,null,null,null,null,null,null,null,null,null,null,null,null,null,null,null,null,null,null,null,"",0,"DB15TRANN","MC",0]
[null,null,null,null,null,null,null,null,null,null,null,null,null,null,null,null,null,null,null,null,null,null,null,null,null,null,null,null,null,null,"",0,"DB16DN","MC",0]
[null,null,null,null,null,null,null,null,null,null,null,null,null,null,null,null,null,null,null,null,null,null,null,null,null,null,null,null,null,null,"",0,"DB16DROPOUTN","MC",0]
[null,null,null,null,null,null,null,null,null,null,null,null,null,null,null,null,null,null,null,null,null,null,null,null,null,null,null,null,null,null,"",0,"DB16GHSN","MC",0]
[null,null,null,null,null,null,null,null,null,null,null,null,null,null,null,null,null,null,null,null,null,null,null,null,null,null,null,null,null,null,"",0,"DB16GRADALTDPLN","MC",0]
[null,null,null,null,null,null,null,null,null,null,null,null,null,null,null,null,null,null,null,null,null,null,null,null,null,null,null,null,null,null,"",0,"DB16MKCN","MC",0]
[null,null,null,null,null,null,null,null,null,null,null,null,null,null,null,null,null,null,null,null,null,null,null,null,null,null,null,null,null,null,"",0,"DB16RCN","MC",0]
[null,null,null,null,null,null,null,null,null,null,null,null,null,null,null,null,null,null,null,null,null,null,null,null,null,null,null,null,null,null,"",0,"DB16RMAN","MC",0]
[null,null,null,null,null,null,null,null,null,null,null,null,null,null,null,null,null,null,null,null,null,null,null,null,null,null,null,null,null,null,"",0,"DB16TRANN","MC",0]
[null,null,null,null,null,null,null,null,null,null,null,null,null,null,null,null,null,null,null,null,null,null,null,null,null,null,null,null,null,null,"",0,"DB17DN","MC",0]
[null,null,null,null,null,null,null,null,null,null,null,null,null,null,null,null,null,null,null,null,null,null,null,null,null,null,null,null,null,null,"",0,"DB17DROPOUTN","MC",0]
[null,null,null,null,null,null,null,null,null,null,null,null,null,null,null,null,null,null,null,null,null,null,null,null,null,null,null,null,null,null,"",0,"DB17GHSN","MC",0]
[null,null,null,null,null,null,null,null,null,null,null,null,null,null,null,null,null,null,null,null,null,null,null,null,null,null,null,null,null,null,{"$f":"H141&I141&P141&Q141&R141&V141&W141","v":""},0,"DB17GRADALTDPLN","MC",0]
[null,null,null,null,null,null,null,null,null,null,null,null,null,null,null,null,null,null,null,null,null,null,null,null,null,null,null,null,null,null,"",{"$f":"Y142","v":0},"DB17MKCN",{"$f":"IFERROR(VLOOKUP(AG142,$AE$13:$AF$1000,2,FALSE),\"MC\")","v":"MC"},{"$f":"IF(AH142=\"MC\",0,\"\")","v":0}]
[null,null,null,null,null,null,null,null,null,null,null,null,null,null,null,null,null,null,null,null,null,null,null,null,null,null,null,null,null,null,"",0,"DB17RCN","MC",0]
[null,null,null,null,null,null,null,null,null,null,null,null,null,null,null,null,null,null,null,null,null,null,null,null,null,null,null,null,null,null,"",0,"DB17RMAN","MC",0]
[null,null,null,null,null,null,null,null,null,null,null,null,null,null,null,null,null,null,null,null,null,null,null,null,null,null,null,null,null,null,"",0,"DB17TRANN","MC",0]
[null,null,null,null,null,null,null,null,null,null,null,null,null,null,null,null,null,null,null,null,null,null,null,null,null,null,null,null,null,null,"",0,"DB18DN","MC",0]
[null,null,null,null,null,null,null,null,null,null,null,null,null,null,null,null,null,null,null,null,null,null,null,null,null,null,null,null,null,null,"",0,"DB18DROPOUTN","MC",0]
[null,null,null,null,null,null,null,null,null,null,null,null,null,null,null,null,null,null,null,null,null,null,null,null,null,null,null,null,null,null,"",0,"DB18GHSN","MC",0]
[null,null,null,null,null,null,null,null,null,null,null,null,null,null,null,null,null,null,null,null,null,null,null,null,null,null,null,null,null,null,"",0,"DB18GRADALTDPLN","MC",0]
[null,null,null,null,null,null,null,null,null,null,null,null,null,null,null,null,null,null,null,null,null,null,null,null,null,null,null,null,null,null,"",0,"DB18MKCN","MC",0]
[null,null,null,null,null,null,null,null,null,null,null,null,null,null,null,null,null,null,null,null,null,null,null,null,null,null,null,null,null,null,"",0,"DB18RCN","MC",0]
[null,null,null,null,null,null,null,null,null,null,null,null,null,null,null,null,null,null,null,null,null,null,null,null,null,null,null,null,null,null,"",0,"DB18RMAN","MC",0]
[null,null,null,null,null,null,null,null,null,null,null,null,null,null,null,null,null,null,null,null,null,null,null,null,null,null,null,null,null,null,"",0,"DB18TRANN","MC",0]
[null,null,null,null,null,null,null,null,null,null,null,null,null,null,null,null,null,null,null,null,null,null,null,null,null,null,null,null,null,null,"",0,"DB19DN","MC",0]
[null,null,null,null,null,null,null,null,null,null,null,null,null,null,null,null,null,null,null,null,null,null,null,null,null,null,null,null,null,null,"",0,"DB19DROPOUTN","MC",0]
[null,null,null,null,null,null,null,null,null,null,null,null,null,null,null,null,null,null,null,null,null,null,null,null,null,null,null,null,null,null,"",0,"DB19GHSN","MC",0]
[null,null,null,null,null,null,null,null,null,null,null,null,null,null,null,null,null,null,null,null,null,null,null,null,null,null,null,null,null,null,"",0,"DB19GRADALTDPLN","MC",0]
[null,null,null,null,null,null,null,null,null,null,null,null,null,null,null,null,null,null,null,null,null,null,null,null,null,null,null,null,null,null,"",0,"DB19MKCN","MC",0]
[null,null,null,null,null,null,null,null,null,null,null,null,null,null,null,null,null,null,null,null,null,null,null,null,null,null,null,null,null,null,"",0,"DB19RCN","MC",0]
[null,null,null,null,null,null,null,null,null,null,null,null,null,null,null,null,null,null,null,null,null,null,null,null,null,null,null,null,null,null,"",0,"DB19RMAN","MC",0]
[null,null,null,null,null,null,null,null,null,null,null,null,null,null,null,null,null,null,null,null,null,null,null,null,null,null,null,null,null,null,"",0,"DB19TRANN","MC",0]
[null,null,null,null,null,null,null,null,null,null,null,null,null,null,null,null,null,null,null,null,null,null,null,null,null,null,null,null,null,null,"",0,"DB20DN","MC",0]
[null,null,null,null,null,null,null,null,null,null,null,null,null,null,null,null,null,null,null,null,null,null,null,null,null,null,null,null,null,null,"",0,"DB20DROPOUTN","MC",0]
[null,null,null,null,null,null,null,null,null,null,null,null,null,null,null,null,null,null,null,null,null,null,null,null,null,null,null,null,null,null,"",0,"DB20GHSN","MC",0]
[null,null,null,null,null,null,null,null,null,null,null,null,null,null,null,null,null,null,null,null,null,null,null,null,null,null,null,null,null,null,"",0,"DB20GRADALTDPLN","MC",0]
[null,null,null,null,null,null,null,null,null,null,null,null,null,null,null,null,null,null,null,null,null,null,null,null,null,null,null,null,null,null,"",0,"DB20MKCN","MC",0]
[null,null,null,null,null,null,null,null,null,null,null,null,null,null,null,null,null,null,null,null,null,null,null,null,null,null,null,null,null,null,"",0,"DB20RCN","MC",0]
[null,null,null,null,null,null,null,null,null,null,null,null,null,null,null,null,null,null,null,null,null,null,null,null,null,null,null,null,null,null,"",0,"DB20RMAN","MC",0]
[null,null,null,null,null,null,null,null,null,null,null,null,null,null,null,null,null,null,null,null,null,null,null,null,null,null,null,null,null,null,"",0,"DB20TRANN","MC",0]
[null,null,null,null,null,null,null,null,null,null,null,null,null,null,null,null,null,null,null,null,null,null,null,null,null,null,null,null,null,null,"",0,"DB21DN","MC",0]
[null,null,null,null,null,null,null,null,null,null,null,null,null,null,null,null,null,null,null,null,null,null,null,null,null,null,null,null,null,null,"",0,"DB21DROPOUTN","MC",0]
[null,null,null,null,null,null,null,null,null,null,null,null,null,null,null,null,null,null,null,null,null,null,null,null,null,null,null,null,null,null,"",0,"DB21GHSN","MC",0]
[null,null,null,null,null,null,null,null,null,null,null,null,null,null,null,null,null,null,null,null,null,null,null,null,null,null,null,null,null,null,"",0,"DB21GRADALTDPLN","MC",0]
[null,null,null,null,null,null,null,null,null,null,null,null,null,null,null,null,null,null,null,null,null,null,null,null,null,null,null,null,null,null,"",0,"DB21MKCN","MC",0]
[null,null,null,null,null,null,null,null,null,null,null,null,null,null,null,null,null,null,null,null,null,null,null,null,null,null,null,null,null,null,"",0,"DB21RCN","MC",0]
[null,null,null,null,null,null,null,null,null,null,null,null,null,null,null,null,null,null,null,null,null,null,null,null,null,null,null,null,null,null,"",0,"DB21RMAN","MC",0]
[null,null,null,null,null,null,null,null,null,null,null,null,null,null,null,null,null,null,null,null,null,null,null,null,null,null,null,null,null,null,"",0,"DB21TRANN","MC",0]
[null,null,null,null,null,null,null,null,null,null,null,null,null,null,null,null,null,null,null,null,null,null,null,null,null,null,null,null,null,null,"",0,"EMNY","MC",0]
[null,null,null,null,null,null,null,null,null,null,null,null,null,null,null,null,null,null,null,null,null,null,null,null,null,null,null,null,null,null,"",0,"EMN14DN","MC",0]
[null,null,null,null,null,null,null,null,null,null,null,null,null,null,null,null,null,null,null,null,null,null,null,null,null,null,null,null,null,null,"",0,"EMN14DROPOUTN","MC",0]
[null,null,null,null,null,null,null,null,null,null,null,null,null,null,null,null,null,null,null,null,null,null,null,null,null,null,null,null,null,null,"",0,"EMN14GHSN","MC",0]
[null,null,null,null,null,null,null,null,null,null,null,null,null,null,null,null,null,null,null,null,null,null,null,null,null,null,null,null,null,null,"",0,"EMN14GRADALTDPLN","MC",0]
[null,null,null,null,null,null,null,null,null,null,null,null,null,null,null,null,null,null,null,null,null,null,null,null,null,null,null,null,null,null,"",0,"EMN14MKCN","MC",0]
[null,null,null,null,null,null,null,null,null,null,null,null,null,null,null,null,null,null,null,null,null,null,null,null,null,null,null,null,null,null,"",0,"EMN14RCN","MC",0]
[null,null,null,null,null,null,null,null,null,null,null,null,null,null,null,null,null,null,null,null,null,null,null,null,null,null,null,null,null,null,"",0,"EMN14RMAN","MC",0]
[null,null,null,null,null,null,null,null,null,null,null,null,null,null,null,null,null,null,null,null,null,null,null,null,null,null,null,null,null,null,"",0,"EMN14TRANN","MC",0]
[null,null,null,null,null,null,null,null,null,null,null,null,null,null,null,null,null,null,null,null,null,null,null,null,null,null,null,null,null,null,"",0,"EMN15DN","MC",0]
[null,null,null,null,null,null,null,null,null,null,null,null,null,null,null,null,null,null,null,null,null,null,null,null,null,null,null,null,null,null,"",0,"EMN15DROPOUTN","MC",0]
[null,null,null,null,null,null,null,null,null,null,null,null,null,null,null,null,null,null,null,null,null,null,null,null,null,null,null,null,null,null,"",0,"EMN15GHSN","MC",0]
[null,null,null,null,null,null,null,null,null,null,null,null,null,null,null,null,null,null,null,null,null,null,null,null,null,null,null,null,null,null,"",0,"EMN15GRADALTDPLN","MC",0]
[null,null,null,null,null,null,null,null,null,null,null,null,null,null,null,null,null,null,null,null,null,null,null,null,null,null,null,null,null,null,"",0,"EMN15MKCN","MC",0]
[null,null,null,null,null,null,null,null,null,null,null,null,null,null,null,null,null,null,null,null,null,null,null,null,null,null,null,null,null,null,"",0,"EMN15RCN","MC",0]
[null,null,null,null,null,null,null,null,null,null,null,null,null,null,null,null,null,null,null,null,null,null,null,null,null,null,null,null,null,null,"",0,"EMN15RMAN","MC",0]
[null,null,null,null,null,null,null,null,null,null,null,null,null,null,null,null,null,null,null,null,null,null,null,null,null,null,null,null,null,null,"",0,"EMN15TRANN","MC",0]
[null,null,null,null,null,null,null,null,null,null,null,null,null,null,null,null,null,null,null,null,null,null,null,null,null,null,null,null,null,null,"",0,"EMN16DN","MC",0]
[null,null,null,null,null,null,null,null,null,null,null,null,null,null,null,null,null,null,null,null,null,null,null,null,null,null,null,null,null,null,"",0,"EMN16DROPOUTN","MC",0]
[null,null,null,null,null,null,null,null,null,null,null,null,null,null,null,null,null,null,null,null,null,null,null,null,null,null,null,null,null,null,"",0,"EMN16GHSN","MC",0]
[null,null,null,null,null,null,null,null,null,null,null,null,null,null,null,null,null,null,null,null,null,null,null,null,null,null,null,null,null,null,"",0,"EMN16GRADALTDPLN","MC",0]
[null,null,null,null,null,null,null,null,null,null,null,null,null,null,null,null,null,null,null,null,null,null,null,null,null,null,null,null,null,null,"",0,"EMN16MKCN","MC",0]
[null,null,null,null,null,null,null,null,null,null,null,null,null,null,null,null,null,null,null,null,null,null,null,null,null,null,null,null,null,null,"",0,"EMN16RCN","MC",0]
[null,null,null,null,null,null,null,null,null,null,null,null,null,null,null,null,null,null,null,null,null,null,null,null,null,null,null,null,null,null,"",0,"EMN16RMAN","MC",0]
[null,null,null,null,null,null,null,null,null,null,null,null,null,null,null,null,null,null,null,null,null,null,null,null,null,null,null,null,null,null,"",0,"EMN16TRANN","MC",0]
[null,null,null,null,null,null,null,null,null,null,null,null,null,null,null,null,null,null,null,null,null,null,null,null,null,null,null,null,null,null,"",0,"EMN17DN","MC",0]
[null,null,null,null,null,null,null,null,null,null,null,null,null,null,null,null,null,null,null,null,null,null,null,null,null,null,null,null,null,null,"",0,"EMN17DROPOUTN","MC",0]
[null,null,null,null,null,null,null,null,null,null,null,null,null,null,null,null,null,null,null,null,null,null,null,null,null,null,null,null,null,null,{"$f":"H205&I205&P205&Q205&R205&V205&W205","v":""},0,"EMN17GHSN","MC",0]
[null,null,null,null,null,null,null,null,null,null,null,null,null,null,null,null,null,null,null,null,null,null,null,null,null,null,null,null,null,null,"",{"$f":"Y206","v":0},"EMN17GRADALTDPLN",{"$f":"IFERROR(VLOOKUP(AG206,$AE$13:$AF$1000,2,FALSE),\"MC\")","v":"MC"},{"$f":"IF(AH206=\"MC\",0,\"\")","v":0}]
[null,null,null,null,null,null,null,null,null,null,null,null,null,null,null,null,null,null,null,null,null,null,null,null,null,null,null,null,null,null,"",0,"EMN17MKCN","MC",0]
[null,null,null,null,null,null,null,null,null,null,null,null,null,null,null,null,null,null,null,null,null,null,null,null,null,null,null,null,null,null,"",0,"EMN17RCN","MC",0]
[null,null,null,null,null,null,null,null,null,null,null,null,null,null,null,null,null,null,null,null,null,null,null,null,null,null,null,null,null,null,"",0,"EMN17RMAN","MC",0]
[null,null,null,null,null,null,null,null,null,null,null,null,null,null,null,null,null,null,null,null,null,null,null,null,null,null,null,null,null,null,"",0,"EMN17TRANN","MC",0]
[null,null,null,null,null,null,null,null,null,null,null,null,null,null,null,null,null,null,null,null,null,null,null,null,null,null,null,null,null,null,"",0,"EMN18DN","MC",0]
[null,null,null,null,null,null,null,null,null,null,null,null,null,null,null,null,null,null,null,null,null,null,null,null,null,null,null,null,null,null,"",0,"EMN18DROPOUTN","MC",0]
[null,null,null,null,null,null,null,null,null,null,null,null,null,null,null,null,null,null,null,null,null,null,null,null,null,null,null,null,null,null,"",0,"EMN18GHSN","MC",0]
[null,null,null,null,null,null,null,null,null,null,null,null,null,null,null,null,null,null,null,null,null,null,null,null,null,null,null,null,null,null,"",0,"EMN18GRADALTDPLN","MC",0]
[null,null,null,null,null,null,null,null,null,null,null,null,null,null,null,null,null,null,null,null,null,null,null,null,null,null,null,null,null,null,"",0,"EMN18MKCN","MC",0]
[null,null,null,null,null,null,null,null,null,null,null,null,null,null,null,null,null,null,null,null,null,null,null,null,null,null,null,null,null,null,"",0,"EMN18RCN","MC",0]
[null,null,null,null,null,null,null,null,null,null,null,null,null,null,null,null,null,null,null,null,null,null,null,null,null,null,null,null,null,null,"",0,"EMN18RMAN","MC",0]
[null,null,null,null,null,null,null,null,null,null,null,null,null,null,null,null,null,null,null,null,null,null,null,null,null,null,null,null,null,null,"",0,"EMN18TRANN","MC",0]
[null,null,null,null,null,null,null,null,null,null,null,null,null,null,null,null,null,null,null,null,null,null,null,null,null,null,null,null,null,null,"",0,"EMN19DN","MC",0]
[null,null,null,null,null,null,null,null,null,null,null,null,null,null,null,null,null,null,null,null,null,null,null,null,null,null,null,null,null,null,"",0,"EMN19DROPOUTN","MC",0]
[null,null,null,null,null,null,null,null,null,null,null,null,null,null,null,null,null,null,null,null,null,null,null,null,null,null,null,null,null,null,"",0,"EMN19GHSN","MC",0]
[null,null,null,null,null,null,null,null,null,null,null,null,null,null,null,null,null,null,null,null,null,null,null,null,null,null,null,null,null,null,"",0,"EMN19GRADALTDPLN","MC",0]
[null,null,null,null,null,null,null,null,null,null,null,null,null,null,null,null,null,null,null,null,null,null,null,null,null,null,null,null,null,null,"",0,"EMN19MKCN","MC",0]
[null,null,null,null,null,null,null,null,null,null,null,null,null,null,null,null,null,null,null,null,null,null,null,null,null,null,null,null,null,null,"",0,"EMN19RCN","MC",0]
[null,null,null,null,null,null,null,null,null,null,null,null,null,null,null,null,null,null,null,null,null,null,null,null,null,null,null,null,null,null,"",0,"EMN19RMAN","MC",0]
[null,null,null,null,null,null,null,null,null,null,null,null,null,null,null,null,null,null,null,null,null,null,null,null,null,null,null,null,null,null,"",0,"EMN19TRANN","MC",0]
[null,null,null,null,null,null,null,null,null,null,null,null,null,null,null,null,null,null,null,null,null,null,null,null,null,null,null,null,null,null,"",0,"EMN20DN","MC",0]
[null,null,null,null,null,null,null,null,null,null,null,null,null,null,null,null,null,null,null,null,null,null,null,null,null,null,null,null,null,null,"",0,"EMN20DROPOUTN","MC",0]
[null,null,null,null,null,null,null,null,null,null,null,null,null,null,null,null,null,null,null,null,null,null,null,null,null,null,null,null,null,null,"",0,"EMN20GHSN","MC",0]
[null,null,null,null,null,null,null,null,null,null,null,null,null,null,null,null,null,null,null,null,null,null,null,null,null,null,null,null,null,null,"",0,"EMN20GRADALTDPLN","MC",0]
[null,null,null,null,null,null,null,null,null,null,null,null,null,null,null,null,null,null,null,null,null,null,null,null,null,null,null,null,null,null,"",0,"EMN20MKCN","MC",0]
[null,null,null,null,null,null,null,null,null,null,null,null,null,null,null,null,null,null,null,null,null,null,null,null,null,null,null,null,null,null,"",0,"EMN20RCN","MC",0]
[null,null,null,null,null,null,null,null,null,null,null,null,null,null,null,null,null,null,null,null,null,null,null,null,null,null,null,null,null,null,"",0,"EMN20RMAN","MC",0]
[null,null,null,null,null,null,null,null,null,null,null,null,null,null,null,null,null,null,null,null,null,null,null,null,null,null,null,null,null,null,"",0,"EMN20TRANN","MC",0]
[null,null,null,null,null,null,null,null,null,null,null,null,null,null,null,null,null,null,null,null,null,null,null,null,null,null,null,null,null,null,"",0,"EMN21DN","MC",0]
[null,null,null,null,null,null,null,null,null,null,null,null,null,null,null,null,null,null,null,null,null,null,null,null,null,null,null,null,null,null,"",0,"EMN21DROPOUTN","MC",0]
[null,null,null,null,null,null,null,null,null,null,null,null,null,null,null,null,null,null,null,null,null,null,null,null,null,null,null,null,null,null,"",0,"EMN21GHSN","MC",0]
[null,null,null,null,null,null,null,null,null,null,null,null,null,null,null,null,null,null,null,null,null,null,null,null,null,null,null,null,null,null,"",0,"EMN21GRADALTDPLN","MC",0]
[null,null,null,null,null,null,null,null,null,null,null,null,null,null,null,null,null,null,null,null,null,null,null,null,null,null,null,null,null,null,"",0,"EMN21MKCN","MC",0]
[null,null,null,null,null,null,null,null,null,null,null,null,null,null,null,null,null,null,null,null,null,null,null,null,null,null,null,null,null,null,"",0,"EMN21RCN","MC",0]
[null,null,null,null,null,null,null,null,null,null,null,null,null,null,null,null,null,null,null,null,null,null,null,null,null,null,null,null,null,null,"",0,"EMN21RMAN","MC",0]
[null,null,null,null,null,null,null,null,null,null,null,null,null,null,null,null,null,null,null,null,null,null,null,null,null,null,null,null,null,null,"",0,"EMN21TRANN","MC",0]
[null,null,null,null,null,null,null,null,null,null,null,null,null,null,null,null,null,null,null,null,null,null,null,null,null,null,null,null,null,null,"",0,"HIY","MC",0]
[null,null,null,null,null,null,null,null,null,null,null,null,null,null,null,null,null,null,null,null,null,null,null,null,null,null,null,null,null,null,"",0,"HI14DN","MC",0]
[null,null,null,null,null,null,null,null,null,null,null,null,null,null,null,null,null,null,null,null,null,null,null,null,null,null,null,null,null,null,"",0,"HI14DROPOUTN","MC",0]
[null,null,null,null,null,null,null,null,null,null,null,null,null,null,null,null,null,null,null,null,null,null,null,null,null,null,null,null,null,null,"",0,"HI14GHSN","MC",0]
[null,null,null,null,null,null,null,null,null,null,null,null,null,null,null,null,null,null,null,null,null,null,null,null,null,null,null,null,null,null,"",0,"HI14GRADALTDPLN","MC",0]
[null,null,null,null,null,null,null,null,null,null,null,null,null,null,null,null,null,null,null,null,null,null,null,null,null,null,null,null,null,null,"",0,"HI14MKCN","MC",0]
[null,null,null,null,null,null,null,null,null,null,null,null,null,null,null,null,null,null,null,null,null,null,null,null,null,null,null,null,null,null,"",0,"HI14RCN","MC",0]
[null,null,null,null,null,null,null,null,null,null,null,null,null,null,null,null,null,null,null,null,null,null,null,null,null,null,null,null,null,null,"",0,"HI14RMAN","MC",0]
[null,null,null,null,null,null,null,null,null,null,null,null,null,null,null,null,null,null,null,null,null,null,null,null,null,null,null,null,null,null,"",0,"HI14TRANN","MC",0]
[null,null,null,null,null,null,null,null,null,null,null,null,null,null,null,null,null,null,null,null,null,null,null,null,null,null,null,null,null,null,"",0,"HI15DN","MC",0]
[null,null,null,null,null,null,null,null,null,null,null,null,null,null,null,null,null,null,null,null,null,null,null,null,null,null,null,null,null,null,"",0,"HI15DROPOUTN","MC",0]
[null,null,null,null,null,null,null,null,null,null,null,null,null,null,null,null,null,null,null,null,null,null,null,null,null,null,null,null,null,null,"",0,"HI15GHSN","MC",0]
[null,null,null,null,null,null,null,null,null,null,null,null,null,null,null,null,null,null,null,null,null,null,null,null,null,null,null,null,null,null,"",0,"HI15GRADALTDPLN","MC",0]
[null,null,null,null,null,null,null,null,null,null,null,null,null,null,null,null,null,null,null,null,null,null,null,null,null,null,null,null,null,null,"",0,"HI15MKCN","MC",0]
[null,null,null,null,null,null,null,null,null,null,null,null,null,null,null,null,null,null,null,null,null,null,null,null,null,null,null,null,null,null,"",0,"HI15RCN","MC",0]
[null,null,null,null,null,null,null,null,null,null,null,null,null,null,null,null,null,null,null,null,null,null,null,null,null,null,null,null,null,null,"",0,"HI15RMAN","MC",0]
[null,null,null,null,null,null,null,null,null,null,null,null,null,null,null,null,null,null,null,null,null,null,null,null,null,null,null,null,null,null,"",0,"HI15TRANN","MC",0]
[null,null,null,null,null,null,null,null,null,null,null,null,null,null,null,null,null,null,null,null,null,null,null,null,null,null,null,null,null,null,"",0,"HI16DN","MC",0]
[null,null,null,null,null,null,null,null,null,null,null,null,null,null,null,null,null,null,null,null,null,null,null,null,null,null,null,null,null,null,"",0,"HI16DROPOUTN","MC",0]
[null,null,null,null,null,null,null,null,null,null,null,null,null,null,null,null,null,null,null,null,null,null,null,null,null,null,null,null,null,null,"",0,"HI16GHSN","MC",0]
[null,null,null,null,null,null,null,null,null,null,null,null,null,null,null,null,null,null,null,null,null,null,null,null,null,null,null,null,null,null,"",0,"HI16GRADALTDPLN","MC",0]
[null,null,null,null,null,null,null,null,null,null,null,null,null,null,null,null,null,null,null,null,null,null,null,null,null,null,null,null,null,null,"",0,"HI16MKCN","MC",0]
[null,null,null,null,null,null,null,null,null,null,null,null,null,null,null,null,null,null,null,null,null,null,null,null,null,null,null,null,null,null,"",0,"HI16RCN","MC",0]
[null,null,null,null,null,null,null,null,null,null,null,null,null,null,null,null,null,null,null,null,null,null,null,null,null,null,null,null,null,null,"",0,"HI16RMAN","MC",0]
[null,null,null,null,null,null,null,null,null,null,null,null,null,null,null,null,null,null,null,null,null,null,null,null,null,null,null,null,null,null,"",0,"HI16TRANN","MC",0]
[null,null,null,null,null,null,null,null,null,null,null,null,null,null,null,null,null,null,null,null,null,null,null,null,null,null,null,null,null,null,"",0,"HI17DN","MC",0]
[null,null,null,null,null,null,null,null,null,null,null,null,null,null,null,null,null,null,null,null,null,null,null,null,null,null,null,null,null,null,{"$f":"H269&I269&P269&Q269&R269&V269&W269","v":""},0,"HI17DROPOUTN","MC",0]
[null,null,null,null,null,null,null,null,null,null,null,null,null,null,null,null,null,null,null,null,null,null,null,null,null,null,null,null,null,null,"",{"$f":"Y270","v":0},"HI17GHSN",{"$f":"IFERROR(VLOOKUP(AG270,$AE$13:$AF$1000,2,FALSE),\"MC\")","v":"MC"},{"$f":"IF(AH270=\"MC\",0,\"\")","v":0}]
[null,null,null,null,null,null,null,null,null,null,null,null,null,null,null,null,null,null,null,null,null,null,null,null,null,null,null,null,null,null,"",0,"HI17GRADALTDPLN","MC",0]
[null,null,null,null,null,null,null,null,null,null,null,null,null,null,null,null,null,null,null,null,null,null,null,null,null,null,null,null,null,null,"",0,"HI17MKCN","MC",0]
[null,null,null,null,null,null,null,null,null,null,null,null,null,null,null,null,null,null,null,null,null,null,null,null,null,null,null,null,null,null,"",0,"HI17RCN","MC",0]
[null,null,null,null,null,null,null,null,null,null,null,null,null,null,null,null,null,null,null,null,null,null,null,null,null,null,null,null,null,null,"",0,"HI17RMAN","MC",0]
[null,null,null,null,null,null,null,null,null,null,null,null,null,null,null,null,null,null,null,null,null,null,null,null,null,null,null,null,null,null,"",0,"HI17TRANN","MC",0]
[null,null,null,null,null,null,null,null,null,null,null,null,null,null,null,null,null,null,null,null,null,null,null,null,null,null,null,null,null,null,"",0,"HI18DN","MC",0]
[null,null,null,null,null,null,null,null,null,null,null,null,null,null,null,null,null,null,null,null,null,null,null,null,null,null,null,null,null,null,"",0,"HI18DROPOUTN","MC",0]
[null,null,null,null,null,null,null,null,null,null,null,null,null,null,null,null,null,null,null,null,null,null,null,null,null,null,null,null,null,null,"",0,"HI18GHSN","MC",0]
[null,null,null,null,null,null,null,null,null,null,null,null,null,null,null,null,null,null,null,null,null,null,null,null,null,null,null,null,null,null,"",0,"HI18GRADALTDPLN","MC",0]
[null,null,null,null,null,null,null,null,null,null,null,null,null,null,null,null,null,null,null,null,null,null,null,null,null,null,null,null,null,null,"",0,"HI18MKCN","MC",0]
[null,null,null,null,null,null,null,null,null,null,null,null,null,null,null,null,null,null,null,null,null,null,null,null,null,null,null,null,null,null,"",0,"HI18RCN","MC",0]
[null,null,null,null,null,null,null,null,null,null,null,null,null,null,null,null,null,null,null,null,null,null,null,null,null,null,null,null,null,null,"",0,"HI18RMAN","MC",0]
[null,null,null,null,null,null,null,null,null,null,null,null,null,null,null,null,null,null,null,null,null,null,null,null,null,null,null,null,null,null,"",0,"HI18TRANN","MC",0]
[null,null,null,null,null,null,null,null,null,null,null,null,null,null,null,null,null,null,null,null,null,null,null,null,null,null,null,null,null,null,"",0,"HI19DN","MC",0]
[null,null,null,null,null,null,null,null,null,null,null,null,null,null,null,null,null,null,null,null,null,null,null,null,null,null,null,null,null,null,"",0,"HI19DROPOUTN","MC",0]
[null,null,null,null,null,null,null,null,null,null,null,null,null,null,null,null,null,null,null,null,null,null,null,null,null,null,null,null,null,null,"",0,"HI19GHSN","MC",0]
[null,null,null,null,null,null,null,null,null,null,null,null,null,null,null,null,null,null,null,null,null,null,null,null,null,null,null,null,null,null,"",0,"HI19GRADALTDPLN","MC",0]
[null,null,null,null,null,null,null,null,null,null,null,null,null,null,null,null,null,null,null,null,null,null,null,null,null,null,null,null,null,null,"",0,"HI19MKCN","MC",0]
[null,null,null,null,null,null,null,null,null,null,null,null,null,null,null,null,null,null,null,null,null,null,null,null,null,null,null,null,null,null,"",0,"HI19RCN","MC",0]
[null,null,null,null,null,null,null,null,null,null,null,null,null,null,null,null,null,null,null,null,null,null,null,null,null,null,null,null,null,null,"",0,"HI19RMAN","MC",0]
[null,null,null,null,null,null,null,null,null,null,null,null,null,null,null,null,null,null,null,null,null,null,null,null,null,null,null,null,null,null,"",0,"HI19TRANN","MC",0]
[null,null,null,null,null,null,null,null,null,null,null,null,null,null,null,null,null,null,null,null,null,null,null,null,null,null,null,null,null,null,"",0,"HI20DN","MC",0]
[null,null,null,null,null,null,null,null,null,null,null,null,null,null,null,null,null,null,null,null,null,null,null,null,null,null,null,null,null,null,"",0,"HI20DROPOUTN","MC",0]
[null,null,null,null,null,null,null,null,null,null,null,null,null,null,null,null,null,null,null,null,null,null,null,null,null,null,null,null,null,null,"",0,"HI20GHSN","MC",0]
[null,null,null,null,null,null,null,null,null,null,null,null,null,null,null,null,null,null,null,null,null,null,null,null,null,null,null,null,null,null,"",0,"HI20GRADALTDPLN","MC",0]
[null,null,null,null,null,null,null,null,null,null,null,null,null,null,null,null,null,null,null,null,null,null,null,null,null,null,null,null,null,null,"",0,"HI20MKCN","MC",0]
[null,null,null,null,null,null,null,null,null,null,null,null,null,null,null,null,null,null,null,null,null,null,null,null,null,null,null,null,null,null,"",0,"HI20RCN","MC",0]
[null,null,null,null,null,null,null,null,null,null,null,null,null,null,null,null,null,null,null,null,null,null,null,null,null,null,null,null,null,null,"",0,"HI20RMAN","MC",0]
[null,null,null,null,null,null,null,null,null,null,null,null,null,null,null,null,null,null,null,null,null,null,null,null,null,null,null,null,null,null,"",0,"HI20TRANN","MC",0]
[null,null,null,null,null,null,null,null,null,null,null,null,null,null,null,null,null,null,null,null,null,null,null,null,null,null,null,null,null,null,"",0,"HI21DN","MC",0]
[null,null,null,null,null,null,null,null,null,null,null,null,null,null,null,null,null,null,null,null,null,null,null,null,null,null,null,null,null,null,"",0,"HI21DROPOUTN","MC",0]
[null,null,null,null,null,null,null,null,null,null,null,null,null,null,null,null,null,null,null,null,null,null,null,null,null,null,null,null,null,null,"",0,"HI21GHSN","MC",0]
[null,null,null,null,null,null,null,null,null,null,null,null,null,null,null,null,null,null,null,null,null,null,null,null,null,null,null,null,null,null,"",0,"HI21GRADALTDPLN","MC",0]
[null,null,null,null,null,null,null,null,null,null,null,null,null,null,null,null,null,null,null,null,null,null,null,null,null,null,null,null,null,null,"",0,"HI21MKCN","MC",0]
[null,null,null,null,null,null,null,null,null,null,null,null,null,null,null,null,null,null,null,null,null,null,null,null,null,null,null,null,null,null,"",0,"HI21RCN","MC",0]
[null,null,null,null,null,null,null,null,null,null,null,null,null,null,null,null,null,null,null,null,null,null,null,null,null,null,null,null,null,null,"",0,"HI21RMAN","MC",0]
[null,null,null,null,null,null,null,null,null,null,null,null,null,null,null,null,null,null,null,null,null,null,null,null,null,null,null,null,null,null,"",0,"HI21TRANN","MC",0]
[null,null,null,null,null,null,null,null,null,null,null,null,null,null,null,null,null,null,null,null,null,null,null,null,null,null,null,null,null,null,"",0,"MDY","MC",0]
[null,null,null,null,null,null,null,null,null,null,null,null,null,null,null,null,null,null,null,null,null,null,null,null,null,null,null,null,null,null,"",0,"MD14DN","MC",0]
[null,null,null,null,null,null,null,null,null,null,null,null,null,null,null,null,null,null,null,null,null,null,null,null,null,null,null,null,null,null,"",0,"MD14DROPOUTN","MC",0]
[null,null,null,null,null,null,null,null,null,null,null,null,null,null,null,null,null,null,null,null,null,null,null,null,null,null,null,null,null,null,"",0,"MD14GHSN","MC",0]
[null,null,null,null,null,null,null,null,null,null,null,null,null,null,null,null,null,null,null,null,null,null,null,null,null,null,null,null,null,null,"",0,"MD14GRADALTDPLN","MC",0]
[null,null,null,null,null,null,null,null,null,null,null,null,null,null,null,null,null,null,null,null,null,null,null,null,null,null,null,null,null,null,"",0,"MD14MKCN","MC",0]
[null,null,null,null,null,null,null,null,null,null,null,null,null,null,null,null,null,null,null,null,null,null,null,null,null,null,null,null,null,null,"",0,"MD14RCN","MC",0]
[null,null,null,null,null,null,null,null,null,null,null,null,null,null,null,null,null,null,null,null,null,null,null,null,null,null,null,null,null,null,"",0,"MD14RMAN","MC",0]
[null,null,null,null,null,null,null,null,null,null,null,null,null,null,null,null,null,null,null,null,null,null,null,null,null,null,null,null,null,null,"",0,"MD14TRANN","MC",0]
[null,null,null,null,null,null,null,null,null,null,null,null,null,null,null,null,null,null,null,null,null,null,null,null,null,null,null,null,null,null,"",0,"MD15DN","MC",0]
[null,null,null,null,null,null,null,null,null,null,null,null,null,null,null,null,null,null,null,null,null,null,null,null,null,null,null,null,null,null,"",0,"MD15DROPOUTN","MC",0]
[null,null,null,null,null,null,null,null,null,null,null,null,null,null,null,null,null,null,null,null,null,null,null,null,null,null,null,null,null,null,"",0,"MD15GHSN","MC",0]
[null,null,null,null,null,null,null,null,null,null,null,null,null,null,null,null,null,null,null,null,null,null,null,null,null,null,null,null,null,null,"",0,"MD15GRADALTDPLN","MC",0]
[null,null,null,null,null,null,null,null,null,null,null,null,null,null,null,null,null,null,null,null,null,null,null,null,null,null,null,null,null,null,"",0,"MD15MKCN","MC",0]
[null,null,null,null,null,null,null,null,null,null,null,null,null,null,null,null,null,null,null,null,null,null,null,null,null,null,null,null,null,null,"",0,"MD15RCN","MC",0]
[null,null,null,null,null,null,null,null,null,null,null,null,null,null,null,null,null,null,null,null,null,null,null,null,null,null,null,null,null,null,"",0,"MD15RMAN","MC",0]
[null,null,null,null,null,null,null,null,null,null,null,null,null,null,null,null,null,null,null,null,null,null,null,null,null,null,null,null,null,null,"",0,"MD15TRANN","MC",0]
[null,null,null,null,null,null,null,null,null,null,null,null,null,null,null,null,null,null,null,null,null,null,null,null,null,null,null,null,null,null,"",0,"MD16DN","MC",0]
[null,null,null,null,null,null,null,null,null,null,null,null,null,null,null,null,null,null,null,null,null,null,null,null,null,null,null,null,null,null,"",0,"MD16DROPOUTN","MC",0]
[null,null,null,null,null,null,null,null,null,null,null,null,null,null,null,null,null,null,null,null,null,null,null,null,null,null,null,null,null,null,"",0,"MD16GHSN","MC",0]
[null,null,null,null,null,null,null,null,null,null,null,null,null,null,null,null,null,null,null,null,null,null,null,null,null,null,null,null,null,null,"",0,"MD16GRADALTDPLN","MC",0]
[null,null,null,null,null,null,null,null,null,null,null,null,null,null,null,null,null,null,null,null,null,null,null,null,null,null,null,null,null,null,"",0,"MD16MKCN","MC",0]
[null,null,null,null,null,null,null,null,null,null,null,null,null,null,null,null,null,null,null,null,null,null,null,null,null,null,null,null,null,null,"",0,"MD16RCN","MC",0]
[null,null,null,null,null,null,null,null,null,null,null,null,null,null,null,null,null,null,null,null,null,null,null,null,null,null,null,null,null,null,"",0,"MD16RMAN","MC",0]
[null,null,null,null,null,null,null,null,null,null,null,null,null,null,null,null,null,null,null,null,null,null,null,null,null,null,null,null,null,null,"",0,"MD16TRANN","MC",0]
[null,null,null,null,null,null,null,null,null,null,null,null,null,null,null,null,null,null,null,null,null,null,null,null,null,null,null,null,null,null,{"$f":"H333&I333&P333&Q333&R333&V333&W333","v":""},0,"MD17DN","MC",0]
[null,null,null,null,null,null,null,null,null,null,null,null,null,null,null,null,null,null,null,null,null,null,null,null,null,null,null,null,null,null,"",{"$f":"Y334","v":0},"MD17DROPOUTN",{"$f":"IFERROR(VLOOKUP(AG334,$AE$13:$AF$1000,2,FALSE),\"MC\")","v":"MC"},{"$f":"IF(AH334=\"MC\",0,\"\")","v":0}]
[null,null,null,null,null,null,null,null,null,null,null,null,null,null,null,null,null,null,null,null,null,null,null,null,null,null,null,null,null,null,"",0,"MD17GHSN","MC",0]
[null,null,null,null,null,null,null,null,null,null,null,null,null,null,null,null,null,null,null,null,null,null,null,null,null,null,null,null,null,null,"",0,"MD17GRADALTDPLN","MC",0]
[null,null,null,null,null,null,null,null,null,null,null,null,null,null,null,null,null,null,null,null,null,null,null,null,null,null,null,null,null,null,"",0,"MD17MKCN","MC",0]
[null,null,null,null,null,null,null,null,null,null,null,null,null,null,null,null,null,null,null,null,null,null,null,null,null,null,null,null,null,null,"",0,"MD17RCN","MC",0]
[null,null,null,null,null,null,null,null,null,null,null,null,null,null,null,null,null,null,null,null,null,null,null,null,null,null,null,null,null,null,"",0,"MD17RMAN","MC",0]
[null,null,null,null,null,null,null,null,null,null,null,null,null,null,null,null,null,null,null,null,null,null,null,null,null,null,null,null,null,null,"",0,"MD17TRANN","MC",0]
[null,null,null,null,null,null,null,null,null,null,null,null,null,null,null,null,null,null,null,null,null,null,null,null,null,null,null,null,null,null,"",0,"MD18DN","MC",0]
[null,null,null,null,null,null,null,null,null,null,null,null,null,null,null,null,null,null,null,null,null,null,null,null,null,null,null,null,null,null,"",0,"MD18DROPOUTN","MC",0]
[null,null,null,null,null,null,null,null,null,null,null,null,null,null,null,null,null,null,null,null,null,null,null,null,null,null,null,null,null,null,"",0,"MD18GHSN","MC",0]
[null,null,null,null,null,null,null,null,null,null,null,null,null,null,null,null,null,null,null,null,null,null,null,null,null,null,null,null,null,null,"",0,"MD18GRADALTDPLN","MC",0]
[null,null,null,null,null,null,null,null,null,null,null,null,null,null,null,null,null,null,null,null,null,null,null,null,null,null,null,null,null,null,"",0,"MD18MKCN","MC",0]
[null,null,null,null,null,null,null,null,null,null,null,null,null,null,null,null,null,null,null,null,null,null,null,null,null,null,null,null,null,null,"",0,"MD18RCN","MC",0]
[null,null,null,null,null,null,null,null,null,null,null,null,null,null,null,null,null,null,null,null,null,null,null,null,null,null,null,null,null,null,"",0,"MD18RMAN","MC",0]
[null,null,null,null,null,null,null,null,null,null,null,null,null,null,null,null,null,null,null,null,null,null,null,null,null,null,null,null,null,null,"",0,"MD18TRANN","MC",0]
[null,null,null,null,null,null,null,null,null,null,null,null,null,null,null,null,null,null,null,null,null,null,null,null,null,null,null,null,null,null,"",0,"MD19DN","MC",0]
[null,null,null,null,null,null,null,null,null,null,null,null,null,null,null,null,null,null,null,null,null,null,null,null,null,null,null,null,null,null,"",0,"MD19DROPOUTN","MC",0]
[null,null,null,null,null,null,null,null,null,null,null,null,null,null,null,null,null,null,null,null,null,null,null,null,null,null,null,null,null,null,"",0,"MD19GHSN","MC",0]
[null,null,null,null,null,null,null,null,null,null,null,null,null,null,null,null,null,null,null,null,null,null,null,null,null,null,null,null,null,null,"",0,"MD19GRADALTDPLN","MC",0]
[null,null,null,null,null,null,null,null,null,null,null,null,null,null,null,null,null,null,null,null,null,null,null,null,null,null,null,null,null,null,"",0,"MD19MKCN","MC",0]
[null,null,null,null,null,null,null,null,null,null,null,null,null,null,null,null,null,null,null,null,null,null,null,null,null,null,null,null,null,null,"",0,"MD19RCN","MC",0]
[null,null,null,null,null,null,null,null,null,null,null,null,null,null,null,null,null,null,null,null,null,null,null,null,null,null,null,null,null,null,"",0,"MD19RMAN","MC",0]
[null,null,null,null,null,null,null,null,null,null,null,null,null,null,null,null,null,null,null,null,null,null,null,null,null,null,null,null,null,null,"",0,"MD19TRANN","MC",0]
[null,null,null,null,null,null,null,null,null,null,null,null,null,null,null,null,null,null,null,null,null,null,null,null,null,null,null,null,null,null,"",0,"MD20DN","MC",0]
[null,null,null,null,null,null,null,null,null,null,null,null,null,null,null,null,null,null,null,null,null,null,null,null,null,null,null,null,null,null,"",0,"MD20DROPOUTN","MC",0]
[null,null,null,null,null,null,null,null,null,null,null,null,null,null,null,null,null,null,null,null,null,null,null,null,null,null,null,null,null,null,"",0,"MD20GHSN","MC",0]
[null,null,null,null,null,null,null,null,null,null,null,null,null,null,null,null,null,null,null,null,null,null,null,null,null,null,null,null,null,null,"",0,"MD20GRADALTDPLN","MC",0]
[null,null,null,null,null,null,null,null,null,null,null,null,null,null,null,null,null,null,null,null,null,null,null,null,null,null,null,null,null,null,"",0,"MD20MKCN","MC",0]
[null,null,null,null,null,null,null,null,null,null,null,null,null,null,null,null,null,null,null,null,null,null,null,null,null,null,null,null,null,null,"",0,"MD20RCN","MC",0]
[null,null,null,null,null,null,null,null,null,null,null,null,null,null,null,null,null,null,null,null,null,null,null,null,null,null,null,null,null,null,"",0,"MD20RMAN","MC",0]
[null,null,null,null,null,null,null,null,null,null,null,null,null,null,null,null,null,null,null,null,null,null,null,null,null,null,null,null,null,null,"",0,"MD20TRANN","MC",0]
[null,null,null,null,null,null,null,null,null,null,null,null,null,null,null,null,null,null,null,null,null,null,null,null,null,null,null,null,null,null,"",0,"MD21DN","MC",0]
[null,null,null,null,null,null,null,null,null,null,null,null,null,null,null,null,null,null,null,null,null,null,null,null,null,null,null,null,null,null,"",0,"MD21DROPOUTN","MC",0]
[null,null,null,null,null,null,null,null,null,null,null,null,null,null,null,null,null,null,null,null,null,null,null,null,null,null,null,null,null,null,"",0,"MD21GHSN","MC",0]
[null,null,null,null,null,null,null,null,null,null,null,null,null,null,null,null,null,null,null,null,null,null,null,null,null,null,null,null,null,null,"",0,"MD21GRADALTDPLN","MC",0]
[null,null,null,null,null,null,null,null,null,null,null,null,null,null,null,null,null,null,null,null,null,null,null,null,null,null,null,null,null,null,"",0,"MD21MKCN","MC",0]
[null,null,null,null,null,null,null,null,null,null,null,null,null,null,null,null,null,null,null,null,null,null,null,null,null,null,null,null,null,null,"",0,"MD21RCN","MC",0]
[null,null,null,null,null,null,null,null,null,null,null,null,null,null,null,null,null,null,null,null,null,null,null,null,null,null,null,null,null,null,"",0,"MD21RMAN","MC",0]
[null,null,null,null,null,null,null,null,null,null,null,null,null,null,null,null,null,null,null,null,null,null,null,null,null,null,null,null,null,null,"",0,"MD21TRANN","MC",0]
[null,null,null,null,null,null,null,null,null,null,null,null,null,null,null,null,null,null,null,null,null,null,null,null,null,null,null,null,null,null,"",0,"IDY","MC",0]
[null,null,null,null,null,null,null,null,null,null,null,null,null,null,null,null,null,null,null,null,null,null,null,null,null,null,null,null,null,null,"",0,"ID14DN","MC",0]
[null,null,null,null,null,null,null,null,null,null,null,null,null,null,null,null,null,null,null,null,null,null,null,null,null,null,null,null,null,null,"",0,"ID14DROPOUTN","MC",0]
[null,null,null,null,null,null,null,null,null,null,null,null,null,null,null,null,null,null,null,null,null,null,null,null,null,null,null,null,null,null,"",0,"ID14GHSN","MC",0]
[null,null,null,null,null,null,null,null,null,null,null,null,null,null,null,null,null,null,null,null,null,null,null,null,null,null,null,null,null,null,"",0,"ID14GRADALTDPLN","MC",0]
[null,null,null,null,null,null,null,null,null,null,null,null,null,null,null,null,null,null,null,null,null,null,null,null,null,null,null,null,null,null,"",0,"ID14MKCN","MC",0]
[null,null,null,null,null,null,null,null,null,null,null,null,null,null,null,null,null,null,null,null,null,null,null,null,null,null,null,null,null,null,"",0,"ID14RCN","MC",0]
[null,null,null,null,null,null,null,null,null,null,null,null,null,null,null,null,null,null,null,null,null,null,null,null,null,null,null,null,null,null,"",0,"ID14RMAN","MC",0]
[null,null,null,null,null,null,null,null,null,null,null,null,null,null,null,null,null,null,null,null,null,null,null,null,null,null,null,null,null,null,"",0,"ID14TRANN","MC",0]
[null,null,null,null,null,null,null,null,null,null,null,null,null,null,null,null,null,null,null,null,null,null,null,null,null,null,null,null,null,null,"",0,"ID15DN","MC",0]
[null,null,null,null,null,null,null,null,null,null,null,null,null,null,null,null,null,null,null,null,null,null,null,null,null,null,null,null,null,null,"",0,"ID15DROPOUTN","MC",0]
[null,null,null,null,null,null,null,null,null,null,null,null,null,null,null,null,null,null,null,null,null,null,null,null,null,null,null,null,null,null,"",0,"ID15GHSN","MC",0]
[null,null,null,null,null,null,null,null,null,null,null,null,null,null,null,null,null,null,null,null,null,null,null,null,null,null,null,null,null,null,"",0,"ID15GRADALTDPLN","MC",0]
[null,null,null,null,null,null,null,null,null,null,null,null,null,null,null,null,null,null,null,null,null,null,null,null,null,null,null,null,null,null,"",0,"ID15MKCN","MC",0]
[null,null,null,null,null,null,null,null,null,null,null,null,null,null,null,null,null,null,null,null,null,null,null,null,null,null,null,null,null,null,"",0,"ID15RCN","MC",0]
[null,null,null,null,null,null,null,null,null,null,null,null,null,null,null,null,null,null,null,null,null,null,null,null,null,null,null,null,null,null,"",0,"ID15RMAN","MC",0]
[null,null,null,null,null,null,null,null,null,null,null,null,null,null,null,null,null,null,null,null,null,null,null,null,null,null,null,null,null,null,"",0,"ID15TRANN","MC",0]
[null,null,null,null,null,null,null,null,null,null,null,null,null,null,null,null,null,null,null,null,null,null,null,null,null,null,null,null,null,null,"",0,"ID16DN","MC",0]
[null,null,null,null,null,null,null,null,null,null,null,null,null,null,null,null,null,null,null,null,null,null,null,null,null,null,null,null,null,null,"",0,"ID16DROPOUTN","MC",0]
[null,null,null,null,null,null,null,null,null,null,null,null,null,null,null,null,null,null,null,null,null,null,null,null,null,null,null,null,null,null,"",0,"ID16GHSN","MC",0]
[null,null,null,null,null,null,null,null,null,null,null,null,null,null,null,null,null,null,null,null,null,null,null,null,null,null,null,null,null,null,"",0,"ID16GRADALTDPLN","MC",0]
[null,null,null,null,null,null,null,null,null,null,null,null,null,null,null,null,null,null,null,null,null,null,null,null,null,null,null,null,null,null,"",0,"ID16MKCN","MC",0]
[null,null,null,null,null,null,null,null,null,null,null,null,null,null,null,null,null,null,null,null,null,null,null,null,null,null,null,null,null,null,"",0,"ID16RCN","MC",0]
[null,null,null,null,null,null,null,null,null,null,null,null,null,null,null,null,null,null,null,null,null,null,null,null,null,null,null,null,null,null,"",0,"ID16RMAN","MC",0]
[null,null,null,null,null,null,null,null,null,null,null,null,null,null,null,null,null,null,null,null,null,null,null,null,null,null,null,null,null,null,{"$f":"H397&I397&P397&Q397&R397&V397&W397","v":""},0,"ID16TRANN","MC",0]
[null,null,null,null,null,null,null,null,null,null,null,null,null,null,null,null,null,null,null,null,null,null,null,null,null,null,null,null,null,null,"",{"$f":"Y398","v":0},"ID17DN",{"$f":"IFERROR(VLOOKUP(AG398,$AE$13:$AF$1000,2,FALSE),\"MC\")","v":"MC"},{"$f":"IF(AH398=\"MC\",0,\"\")","v":0}]
[null,null,null,null,null,null,null,null,null,null,null,null,null,null,null,null,null,null,null,null,null,null,null,null,null,null,null,null,null,null,"",0,"ID17DROPOUTN","MC",0]
[null,null,null,null,null,null,null,null,null,null,null,null,null,null,null,null,null,null,null,null,null,null,null,null,null,null,null,null,null,null,"",0,"ID17GHSN","MC",0]
[null,null,null,null,null,null,null,null,null,null,null,null,null,null,null,null,null,null,null,null,null,null,null,null,null,null,null,null,null,null,"",0,"ID17GRADALTDPLN","MC",0]
[null,null,null,null,null,null,null,null,null,null,null,null,null,null,null,null,null,null,null,null,null,null,null,null,null,null,null,null,null,null,"",0,"ID17MKCN","MC",0]
[null,null,null,null,null,null,null,null,null,null,null,null,null,null,null,null,null,null,null,null,null,null,null,null,null,null,null,null,null,null,"",0,"ID17RCN","MC",0]
[null,null,null,null,null,null,null,null,null,null,null,null,null,null,null,null,null,null,null,null,null,null,null,null,null,null,null,null,null,null,"",0,"ID17RMAN","MC",0]
[null,null,null,null,null,null,null,null,null,null,null,null,null,null,null,null,null,null,null,null,null,null,null,null,null,null,null,null,null,null,"",0,"ID17TRANN","MC",0]
[null,null,null,null,null,null,null,null,null,null,null,null,null,null,null,null,null,null,null,null,null,null,null,null,null,null,null,null,null,null,"",0,"ID18DN","MC",0]
[null,null,null,null,null,null,null,null,null,null,null,null,null,null,null,null,null,null,null,null,null,null,null,null,null,null,null,null,null,null,"",0,"ID18DROPOUTN","MC",0]
[null,null,null,null,null,null,null,null,null,null,null,null,null,null,null,null,null,null,null,null,null,null,null,null,null,null,null,null,null,null,"",0,"ID18GHSN","MC",0]
[null,null,null,null,null,null,null,null,null,null,null,null,null,null,null,null,null,null,null,null,null,null,null,null,null,null,null,null,null,null,"",0,"ID18GRADALTDPLN","MC",0]
[null,null,null,null,null,null,null,null,null,null,null,null,null,null,null,null,null,null,null,null,null,null,null,null,null,null,null,null,null,null,"",0,"ID18MKCN","MC",0]
[null,null,null,null,null,null,null,null,null,null,null,null,null,null,null,null,null,null,null,null,null,null,null,null,null,null,null,null,null,null,"",0,"ID18RCN","MC",0]
[null,null,null,null,null,null,null,null,null,null,null,null,null,null,null,null,null,null,null,null,null,null,null,null,null,null,null,null,null,null,"",0,"ID18RMAN","MC",0]
[null,null,null,null,null,null,null,null,null,null,null,null,null,null,null,null,null,null,null,null,null,null,null,null,null,null,null,null,null,null,"",0,"ID18TRANN","MC",0]
[null,null,null,null,null,null,null,null,null,null,null,null,null,null,null,null,null,null,null,null,null,null,null,null,null,null,null,null,null,null,"",0,"ID19DN","MC",0]
[null,null,null,null,null,null,null,null,null,null,null,null,null,null,null,null,null,null,null,null,null,null,null,null,null,null,null,null,null,null,"",0,"ID19DROPOUTN","MC",0]
[null,null,null,null,null,null,null,null,null,null,null,null,null,null,null,null,null,null,null,null,null,null,null,null,null,null,null,null,null,null,"",0,"ID19GHSN","MC",0]
[null,null,null,null,null,null,null,null,null,null,null,null,null,null,null,null,null,null,null,null,null,null,null,null,null,null,null,null,null,null,"",0,"ID19GRADALTDPLN","MC",0]
[null,null,null,null,null,null,null,null,null,null,null,null,null,null,null,null,null,null,null,null,null,null,null,null,null,null,null,null,null,null,"",0,"ID19MKCN","MC",0]
[null,null,null,null,null,null,null,null,null,null,null,null,null,null,null,null,null,null,null,null,null,null,null,null,null,null,null,null,null,null,"",0,"ID19RCN","MC",0]
[null,null,null,null,null,null,null,null,null,null,null,null,null,null,null,null,null,null,null,null,null,null,null,null,null,null,null,null,null,null,"",0,"ID19RMAN","MC",0]
[null,null,null,null,null,null,null,null,null,null,null,null,null,null,null,null,null,null,null,null,null,null,null,null,null,null,null,null,null,null,"",0,"ID19TRANN","MC",0]
[null,null,null,null,null,null,null,null,null,null,null,null,null,null,null,null,null,null,null,null,null,null,null,null,null,null,null,null,null,null,"",0,"ID20DN","MC",0]
[null,null,null,null,null,null,null,null,null,null,null,null,null,null,null,null,null,null,null,null,null,null,null,null,null,null,null,null,null,null,"",0,"ID20DROPOUTN","MC",0]
[null,null,null,null,null,null,null,null,null,null,null,null,null,null,null,null,null,null,null,null,null,null,null,null,null,null,null,null,null,null,"",0,"ID20GHSN","MC",0]
[null,null,null,null,null,null,null,null,null,null,null,null,null,null,null,null,null,null,null,null,null,null,null,null,null,null,null,null,null,null,"",0,"ID20GRADALTDPLN","MC",0]
[null,null,null,null,null,null,null,null,null,null,null,null,null,null,null,null,null,null,null,null,null,null,null,null,null,null,null,null,null,null,"",0,"ID20MKCN","MC",0]
[null,null,null,null,null,null,null,null,null,null,null,null,null,null,null,null,null,null,null,null,null,null,null,null,null,null,null,null,null,null,"",0,"ID20RCN","MC",0]
[null,null,null,null,null,null,null,null,null,null,null,null,null,null,null,null,null,null,null,null,null,null,null,null,null,null,null,null,null,null,"",0,"ID20RMAN","MC",0]
[null,null,null,null,null,null,null,null,null,null,null,null,null,null,null,null,null,null,null,null,null,null,null,null,null,null,null,null,null,null,"",0,"ID20TRANN","MC",0]
[null,null,null,null,null,null,null,null,null,null,null,null,null,null,null,null,null,null,null,null,null,null,null,null,null,null,null,null,null,null,"",0,"ID21DN","MC",0]
[null,null,null,null,null,null,null,null,null,null,null,null,null,null,null,null,null,null,null,null,null,null,null,null,null,null,null,null,null,null,"",0,"ID21DROPOUTN","MC",0]
[null,null,null,null,null,null,null,null,null,null,null,null,null,null,null,null,null,null,null,null,null,null,null,null,null,null,null,null,null,null,"",0,"ID21GHSN","MC",0]
[null,null,null,null,null,null,null,null,null,null,null,null,null,null,null,null,null,null,null,null,null,null,null,null,null,null,null,null,null,null,"",0,"ID21GRADALTDPLN","MC",0]
[null,null,null,null,null,null,null,null,null,null,null,null,null,null,null,null,null,null,null,null,null,null,null,null,null,null,null,null,null,null,"",0,"ID21MKCN","MC",0]
[null,null,null,null,null,null,null,null,null,null,null,null,null,null,null,null,null,null,null,null,null,null,null,null,null,null,null,null,null,null,"",0,"ID21RCN","MC",0]
[null,null,null,null,null,null,null,null,null,null,null,null,null,null,null,null,null,null,null,null,null,null,null,null,null,null,null,null,null,null,"",0,"ID21RMAN","MC",0]
[null,null,null,null,null,null,null,null,null,null,null,null,null,null,null,null,null,null,null,null,null,null,null,null,null,null,null,null,null,null,"",0,"ID21TRANN","MC",0]
[null,null,null,null,null,null,null,null,null,null,null,null,null,null,null,null,null,null,null,null,null,null,null,null,null,null,null,null,null,null,"",0,"OHIY","MC",0]
[null,null,null,null,null,null,null,null,null,null,null,null,null,null,null,null,null,null,null,null,null,null,null,null,null,null,null,null,null,null,"",0,"OHI14DN","MC",0]
[null,null,null,null,null,null,null,null,null,null,null,null,null,null,null,null,null,null,null,null,null,null,null,null,null,null,null,null,null,null,"",0,"OHI14DROPOUTN","MC",0]
[null,null,null,null,null,null,null,null,null,null,null,null,null,null,null,null,null,null,null,null,null,null,null,null,null,null,null,null,null,null,"",0,"OHI14GHSN","MC",0]
[null,null,null,null,null,null,null,null,null,null,null,null,null,null,null,null,null,null,null,null,null,null,null,null,null,null,null,null,null,null,"",0,"OHI14GRADALTDPLN","MC",0]
[null,null,null,null,null,null,null,null,null,null,null,null,null,null,null,null,null,null,null,null,null,null,null,null,null,null,null,null,null,null,"",0,"OHI14MKCN","MC",0]
[null,null,null,null,null,null,null,null,null,null,null,null,null,null,null,null,null,null,null,null,null,null,null,null,null,null,null,null,null,null,"",0,"OHI14RCN","MC",0]
[null,null,null,null,null,null,null,null,null,null,null,null,null,null,null,null,null,null,null,null,null,null,null,null,null,null,null,null,null,null,"",0,"OHI14RMAN","MC",0]
[null,null,null,null,null,null,null,null,null,null,null,null,null,null,null,null,null,null,null,null,null,null,null,null,null,null,null,null,null,null,"",0,"OHI14TRANN","MC",0]
[null,null,null,null,null,null,null,null,null,null,null,null,null,null,null,null,null,null,null,null,null,null,null,null,null,null,null,null,null,null,"",0,"OHI15DN","MC",0]
[null,null,null,null,null,null,null,null,null,null,null,null,null,null,null,null,null,null,null,null,null,null,null,null,null,null,null,null,null,null,"",0,"OHI15DROPOUTN","MC",0]
[null,null,null,null,null,null,null,null,null,null,null,null,null,null,null,null,null,null,null,null,null,null,null,null,null,null,null,null,null,null,"",0,"OHI15GHSN","MC",0]
[null,null,null,null,null,null,null,null,null,null,null,null,null,null,null,null,null,null,null,null,null,null,null,null,null,null,null,null,null,null,"",0,"OHI15GRADALTDPLN","MC",0]
[null,null,null,null,null,null,null,null,null,null,null,null,null,null,null,null,null,null,null,null,null,null,null,null,null,null,null,null,null,null,"",0,"OHI15MKCN","MC",0]
[null,null,null,null,null,null,null,null,null,null,null,null,null,null,null,null,null,null,null,null,null,null,null,null,null,null,null,null,null,null,"",0,"OHI15RCN","MC",0]
[null,null,null,null,null,null,null,null,null,null,null,null,null,null,null,null,null,null,null,null,null,null,null,null,null,null,null,null,null,null,"",0,"OHI15RMAN","MC",0]
[null,null,null,null,null,null,null,null,null,null,null,null,null,null,null,null,null,null,null,null,null,null,null,null,null,null,null,null,null,null,"",0,"OHI15TRANN","MC",0]
[null,null,null,null,null,null,null,null,null,null,null,null,null,null,null,null,null,null,null,null,null,null,null,null,null,null,null,null,null,null,"",0,"OHI16DN","MC",0]
[null,null,null,null,null,null,null,null,null,null,null,null,null,null,null,null,null,null,null,null,null,null,null,null,null,null,null,null,null,null,"",0,"OHI16DROPOUTN","MC",0]
[null,null,null,null,null,null,null,null,null,null,null,null,null,null,null,null,null,null,null,null,null,null,null,null,null,null,null,null,null,null,"",0,"OHI16GHSN","MC",0]
[null,null,null,null,null,null,null,null,null,null,null,null,null,null,null,null,null,null,null,null,null,null,null,null,null,null,null,null,null,null,"",0,"OHI16GRADALTDPLN","MC",0]
[null,null,null,null,null,null,null,null,null,null,null,null,null,null,null,null,null,null,null,null,null,null,null,null,null,null,null,null,null,null,"",0,"OHI16MKCN","MC",0]
[null,null,null,null,null,null,null,null,null,null,null,null,null,null,null,null,null,null,null,null,null,null,null,null,null,null,null,null,null,null,"",0,"OHI16RCN","MC",0]
[null,null,null,null,null,null,null,null,null,null,null,null,null,null,null,null,null,null,null,null,null,null,null,null,null,null,null,null,null,null,{"$f":"H461&I461&P461&Q461&R461&V461&W461","v":""},0,"OHI16RMAN","MC",0]
[null,null,null,null,null,null,null,null,null,null,null,null,null,null,null,null,null,null,null,null,null,null,null,null,null,null,null,null,null,null,"",{"$f":"Y462","v":0},"OHI16TRANN",{"$f":"IFERROR(VLOOKUP(AG462,$AE$13:$AF$1000,2,FALSE),\"MC\")","v":"MC"},{"$f":"IF(AH462=\"MC\",0,\"\")","v":0}]
[null,null,null,null,null,null,null,null,null,null,null,null,null,null,null,null,null,null,null,null,null,null,null,null,null,null,null,null,null,null,"",0,"OHI17DN","MC",0]
[null,null,null,null,null,null,null,null,null,null,null,null,null,null,null,null,null,null,null,null,null,null,null,null,null,null,null,null,null,null,"",0,"OHI17DROPOUTN","MC",0]
[null,null,null,null,null,null,null,null,null,null,null,null,null,null,null,null,null,null,null,null,null,null,null,null,null,null,null,null,null,null,"",0,"OHI17GHSN","MC",0]
[null,null,null,null,null,null,null,null,null,null,null,null,null,null,null,null,null,null,null,null,null,null,null,null,null,null,null,null,null,null,"",0,"OHI17GRADALTDPLN","MC",0]
[null,null,null,null,null,null,null,null,null,null,null,null,null,null,null,null,null,null,null,null,null,null,null,null,null,null,null,null,null,null,"",0,"OHI17MKCN","MC",0]
[null,null,null,null,null,null,null,null,null,null,null,null,null,null,null,null,null,null,null,null,null,null,null,null,null,null,null,null,null,null,"",0,"OHI17RCN","MC",0]
[null,null,null,null,null,null,null,null,null,null,null,null,null,null,null,null,null,null,null,null,null,null,null,null,null,null,null,null,null,null,"",0,"OHI17RMAN","MC",0]
[null,null,null,null,null,null,null,null,null,null,null,null,null,null,null,null,null,null,null,null,null,null,null,null,null,null,null,null,null,null,"",0,"OHI17TRANN","MC",0]
[null,null,null,null,null,null,null,null,null,null,null,null,null,null,null,null,null,null,null,null,null,null,null,null,null,null,null,null,null,null,"",0,"OHI18DN","MC",0]
[null,null,null,null,null,null,null,null,null,null,null,null,null,null,null,null,null,null,null,null,null,null,null,null,null,null,null,null,null,null,"",0,"OHI18DROPOUTN","MC",0]
[null,null,null,null,null,null,null,null,null,null,null,null,null,null,null,null,null,null,null,null,null,null,null,null,null,null,null,null,null,null,"",0,"OHI18GHSN","MC",0]
[null,null,null,null,null,null,null,null,null,null,null,null,null,null,null,null,null,null,null,null,null,null,null,null,null,null,null,null,null,null,"",0,"OHI18GRADALTDPLN","MC",0]
[null,null,null,null,null,null,null,null,null,null,null,null,null,null,null,null,null,null,null,null,null,null,null,null,null,null,null,null,null,null,"",0,"OHI18MKCN","MC",0]
[null,null,null,null,null,null,null,null,null,null,null,null,null,null,null,null,null,null,null,null,null,null,null,null,null,null,null,null,null,null,"",0,"OHI18RCN","MC",0]
[null,null,null,null,null,null,null,null,null,null,null,null,null,null,null,null,null,null,null,null,null,null,null,null,null,null,null,null,null,null,"",0,"OHI18RMAN","MC",0]
[null,null,null,null,null,null,null,null,null,null,null,null,null,null,null,null,null,null,null,null,null,null,null,null,null,null,null,null,null,null,"",0,"OHI18TRANN","MC",0]
[null,null,null,null,null,null,null,null,null,null,null,null,null,null,null,null,null,null,null,null,null,null,null,null,null,null,null,null,null,null,"",0,"OHI19DN","MC",0]
[null,null,null,null,null,null,null,null,null,null,null,null,null,null,null,null,null,null,null,null,null,null,null,null,null,null,null,null,null,null,"",0,"OHI19DROPOUTN","MC",0]
[null,null,null,null,null,null,null,null,null,null,null,null,null,null,null,null,null,null,null,null,null,null,null,null,null,null,null,null,null,null,"",0,"OHI19GHSN","MC",0]
[null,null,null,null,null,null,null,null,null,null,null,null,null,null,null,null,null,null,null,null,null,null,null,null,null,null,null,null,null,null,"",0,"OHI19GRADALTDPLN","MC",0]
[null,null,null,null,null,null,null,null,null,null,null,null,null,null,null,null,null,null,null,null,null,null,null,null,null,null,null,null,null,null,"",0,"OHI19MKCN","MC",0]
[null,null,null,null,null,null,null,null,null,null,null,null,null,null,null,null,null,null,null,null,null,null,null,null,null,null,null,null,null,null,"",0,"OHI19RCN","MC",0]
[null,null,null,null,null,null,null,null,null,null,null,null,null,null,null,null,null,null,null,null,null,null,null,null,null,null,null,null,null,null,"",0,"OHI19RMAN","MC",0]
[null,null,null,null,null,null,null,null,null,null,null,null,null,null,null,null,null,null,null,null,null,null,null,null,null,null,null,null,null,null,"",0,"OHI19TRANN","MC",0]
[null,null,null,null,null,null,null,null,null,null,null,null,null,null,null,null,null,null,null,null,null,null,null,null,null,null,null,null,null,null,"",0,"OHI20DN","MC",0]
[null,null,null,null,null,null,null,null,null,null,null,null,null,null,null,null,null,null,null,null,null,null,null,null,null,null,null,null,null,null,"",0,"OHI20DROPOUTN","MC",0]
[null,null,null,null,null,null,null,null,null,null,null,null,null,null,null,null,null,null,null,null,null,null,null,null,null,null,null,null,null,null,"",0,"OHI20GHSN","MC",0]
[null,null,null,null,null,null,null,null,null,null,null,null,null,null,null,null,null,null,null,null,null,null,null,null,null,null,null,null,null,null,"",0,"OHI20GRADALTDPLN","MC",0]
[null,null,null,null,null,null,null,null,null,null,null,null,null,null,null,null,null,null,null,null,null,null,null,null,null,null,null,null,null,null,"",0,"OHI20MKCN","MC",0]
[null,null,null,null,null,null,null,null,null,null,null,null,null,null,null,null,null,null,null,null,null,null,null,null,null,null,null,null,null,null,"",0,"OHI20RCN","MC",0]
[null,null,null,null,null,null,null,null,null,null,null,null,null,null,null,null,null,null,null,null,null,null,null,null,null,null,null,null,null,null,"",0,"OHI20RMAN","MC",0]
[null,null,null,null,null,null,null,null,null,null,null,null,null,null,null,null,null,null,null,null,null,null,null,null,null,null,null,null,null,null,"",0,"OHI20TRANN","MC",0]
[null,null,null,null,null,null,null,null,null,null,null,null,null,null,null,null,null,null,null,null,null,null,null,null,null,null,null,null,null,null,"",0,"OHI21DN","MC",0]
[null,null,null,null,null,null,null,null,null,null,null,null,null,null,null,null,null,null,null,null,null,null,null,null,null,null,null,null,null,null,"",0,"OHI21DROPOUTN","MC",0]
[null,null,null,null,null,null,null,null,null,null,null,null,null,null,null,null,null,null,null,null,null,null,null,null,null,null,null,null,null,null,"",0,"OHI21GHSN","MC",0]
[null,null,null,null,null,null,null,null,null,null,null,null,null,null,null,null,null,null,null,null,null,null,null,null,null,null,null,null,null,null,"",0,"OHI21GRADALTDPLN","MC",0]
[null,null,null,null,null,null,null,null,null,null,null,null,null,null,null,null,null,null,null,null,null,null,null,null,null,null,null,null,null,null,"",0,"OHI21MKCN","MC",0]
[null,null,null,null,null,null,null,null,null,null,null,null,null,null,null,null,null,null,null,null,null,null,null,null,null,null,null,null,null,null,"",0,"OHI21RCN","MC",0]
[null,null,null,null,null,null,null,null,null,null,null,null,null,null,null,null,null,null,null,null,null,null,null,null,null,null,null,null,null,null,"",0,"OHI21RMAN","MC",0]
[null,null,null,null,null,null,null,null,null,null,null,null,null,null,null,null,null,null,null,null,null,null,null,null,null,null,null,null,null,null,"",0,"OHI21TRANN","MC",0]
[null,null,null,null,null,null,null,null,null,null,null,null,null,null,null,null,null,null,null,null,null,null,null,null,null,null,null,null,null,null,"",0,"OIY","MC",0]
[null,null,null,null,null,null,null,null,null,null,null,null,null,null,null,null,null,null,null,null,null,null,null,null,null,null,null,null,null,null,"",0,"OI14DN","MC",0]
[null,null,null,null,null,null,null,null,null,null,null,null,null,null,null,null,null,null,null,null,null,null,null,null,null,null,null,null,null,null,"",0,"OI14DROPOUTN","MC",0]
[null,null,null,null,null,null,null,null,null,null,null,null,null,null,null,null,null,null,null,null,null,null,null,null,null,null,null,null,null,null,"",0,"OI14GHSN","MC",0]
[null,null,null,null,null,null,null,null,null,null,null,null,null,null,null,null,null,null,null,null,null,null,null,null,null,null,null,null,null,null,"",0,"OI14GRADALTDPLN","MC",0]
[null,null,null,null,null,null,null,null,null,null,null,null,null,null,null,null,null,null,null,null,null,null,null,null,null,null,null,null,null,null,"",0,"OI14MKCN","MC",0]
[null,null,null,null,null,null,null,null,null,null,null,null,null,null,null,null,null,null,null,null,null,null,null,null,null,null,null,null,null,null,"",0,"OI14RCN","MC",0]
[null,null,null,null,null,null,null,null,null,null,null,null,null,null,null,null,null,null,null,null,null,null,null,null,null,null,null,null,null,null,"",0,"OI14RMAN","MC",0]
[null,null,null,null,null,null,null,null,null,null,null,null,null,null,null,null,null,null,null,null,null,null,null,null,null,null,null,null,null,null,"",0,"OI14TRANN","MC",0]
[null,null,null,null,null,null,null,null,null,null,null,null,null,null,null,null,null,null,null,null,null,null,null,null,null,null,null,null,null,null,"",0,"OI15DN","MC",0]
[null,null,null,null,null,null,null,null,null,null,null,null,null,null,null,null,null,null,null,null,null,null,null,null,null,null,null,null,null,null,"",0,"OI15DROPOUTN","MC",0]
[null,null,null,null,null,null,null,null,null,null,null,null,null,null,null,null,null,null,null,null,null,null,null,null,null,null,null,null,null,null,"",0,"OI15GHSN","MC",0]
[null,null,null,null,null,null,null,null,null,null,null,null,null,null,null,null,null,null,null,null,null,null,null,null,null,null,null,null,null,null,"",0,"OI15GRADALTDPLN","MC",0]
[null,null,null,null,null,null,null,null,null,null,null,null,null,null,null,null,null,null,null,null,null,null,null,null,null,null,null,null,null,null,"",0,"OI15MKCN","MC",0]
[null,null,null,null,null,null,null,null,null,null,null,null,null,null,null,null,null,null,null,null,null,null,null,null,null,null,null,null,null,null,"",0,"OI15RCN","MC",0]
[null,null,null,null,null,null,null,null,null,null,null,null,null,null,null,null,null,null,null,null,null,null,null,null,null,null,null,null,null,null,"",0,"OI15RMAN","MC",0]
[null,null,null,null,null,null,null,null,null,null,null,null,null,null,null,null,null,null,null,null,null,null,null,null,null,null,null,null,null,null,"",0,"OI15TRANN","MC",0]
[null,null,null,null,null,null,null,null,null,null,null,null,null,null,null,null,null,null,null,null,null,null,null,null,null,null,null,null,null,null,"",0,"OI16DN","MC",0]
[null,null,null,null,null,null,null,null,null,null,null,null,null,null,null,null,null,null,null,null,null,null,null,null,null,null,null,null,null,null,"",0,"OI16DROPOUTN","MC",0]
[null,null,null,null,null,null,null,null,null,null,null,null,null,null,null,null,null,null,null,null,null,null,null,null,null,null,null,null,null,null,"",0,"OI16GHSN","MC",0]
[null,null,null,null,null,null,null,null,null,null,null,null,null,null,null,null,null,null,null,null,null,null,null,null,null,null,null,null,null,null,"",0,"OI16GRADALTDPLN","MC",0]
[null,null,null,null,null,null,null,null,null,null,null,null,null,null,null,null,null,null,null,null,null,null,null,null,null,null,null,null,null,null,"",0,"OI16MKCN","MC",0]
[null,null,null,null,null,null,null,null,null,null,null,null,null,null,null,null,null,null,null,null,null,null,null,null,null,null,null,null,null,null,{"$f":"H525&I525&P525&Q525&R525&V525&W525","v":""},0,"OI16RCN","MC",0]
[null,null,null,null,null,null,null,null,null,null,null,null,null,null,null,null,null,null,null,null,null,null,null,null,null,null,null,null,null,null,"",{"$f":"Y526","v":0},"OI16RMAN",{"$f":"IFERROR(VLOOKUP(AG526,$AE$13:$AF$1000,2,FALSE),\"MC\")","v":"MC"},{"$f":"IF(AH526=\"MC\",0,\"\")","v":0}]
[null,null,null,null,null,null,null,null,null,null,null,null,null,null,null,null,null,null,null,null,null,null,null,null,null,null,null,null,null,null,"",0,"OI16TRANN","MC",0]
[null,null,null,null,null,null,null,null,null,null,null,null,null,null,null,null,null,null,null,null,null,null,null,null,null,null,null,null,null,null,"",0,"OI17DN","MC",0]
[null,null,null,null,null,null,null,null,null,null,null,null,null,null,null,null,null,null,null,null,null,null,null,null,null,null,null,null,null,null,"",0,"OI17DROPOUTN","MC",0]
[null,null,null,null,null,null,null,null,null,null,null,null,null,null,null,null,null,null,null,null,null,null,null,null,null,null,null,null,null,null,"",0,"OI17GHSN","MC",0]
[null,null,null,null,null,null,null,null,null,null,null,null,null,null,null,null,null,null,null,null,null,null,null,null,null,null,null,null,null,null,"",0,"OI17GRADALTDPLN","MC",0]
[null,null,null,null,null,null,null,null,null,null,null,null,null,null,null,null,null,null,null,null,null,null,null,null,null,null,null,null,null,null,"",0,"OI17MKCN","MC",0]
[null,null,null,null,null,null,null,null,null,null,null,null,null,null,null,null,null,null,null,null,null,null,null,null,null,null,null,null,null,null,"",0,"OI17RCN","MC",0]
[null,null,null,null,null,null,null,null,null,null,null,null,null,null,null,null,null,null,null,null,null,null,null,null,null,null,null,null,null,null,"",0,"OI17RMAN","MC",0]
[null,null,null,null,null,null,null,null,null,null,null,null,null,null,null,null,null,null,null,null,null,null,null,null,null,null,null,null,null,null,"",0,"OI17TRANN","MC",0]
[null,null,null,null,null,null,null,null,null,null,null,null,null,null,null,null,null,null,null,null,null,null,null,null,null,null,null,null,null,null,"",0,"OI18DN","MC",0]
[null,null,null,null,null,null,null,null,null,null,null,null,null,null,null,null,null,null,null,null,null,null,null,null,null,null,null,null,null,null,"",0,"OI18DROPOUTN","MC",0]
[null,null,null,null,null,null,null,null,null,null,null,null,null,null,null,null,null,null,null,null,null,null,null,null,null,null,null,null,null,null,"",0,"OI18GHSN","MC",0]
[null,null,null,null,null,null,null,null,null,null,null,null,null,null,null,null,null,null,null,null,null,null,null,null,null,null,null,null,null,null,"",0,"OI18GRADALTDPLN","MC",0]
[null,null,null,null,null,null,null,null,null,null,null,null,null,null,null,null,null,null,null,null,null,null,null,null,null,null,null,null,null,null,"",0,"OI18MKCN","MC",0]
[null,null,null,null,null,null,null,null,null,null,null,null,null,null,null,null,null,null,null,null,null,null,null,null,null,null,null,null,null,null,"",0,"OI18RCN","MC",0]
[null,null,null,null,null,null,null,null,null,null,null,null,null,null,null,null,null,null,null,null,null,null,null,null,null,null,null,null,null,null,"",0,"OI18RMAN","MC",0]
[null,null,null,null,null,null,null,null,null,null,null,null,null,null,null,null,null,null,null,null,null,null,null,null,null,null,null,null,null,null,"",0,"OI18TRANN","MC",0]
[null,null,null,null,null,null,null,null,null,null,null,null,null,null,null,null,null,null,null,null,null,null,null,null,null,null,null,null,null,null,"",0,"OI19DN","MC",0]
[null,null,null,null,null,null,null,null,null,null,null,null,null,null,null,null,null,null,null,null,null,null,null,null,null,null,null,null,null,null,"",0,"OI19DROPOUTN","MC",0]
[null,null,null,null,null,null,null,null,null,null,null,null,null,null,null,null,null,null,null,null,null,null,null,null,null,null,null,null,null,null,"",0,"OI19GHSN","MC",0]
[null,null,null,null,null,null,null,null,null,null,null,null,null,null,null,null,null,null,null,null,null,null,null,null,null,null,null,null,null,null,"",0,"OI19GRADALTDPLN","MC",0]
[null,null,null,null,null,null,null,null,null,null,null,null,null,null,null,null,null,null,null,null,null,null,null,null,null,null,null,null,null,null,"",0,"OI19MKCN","MC",0]
[null,null,null,null,null,null,null,null,null,null,null,null,null,null,null,null,null,null,null,null,null,null,null,null,null,null,null,null,null,null,"",0,"OI19RCN","MC",0]
[null,null,null,null,null,null,null,null,null,null,null,null,null,null,null,null,null,null,null,null,null,null,null,null,null,null,null,null,null,null,"",0,"OI19RMAN","MC",0]
[null,null,null,null,null,null,null,null,null,null,null,null,null,null,null,null,null,null,null,null,null,null,null,null,null,null,null,null,null,null,"",0,"OI19TRANN","MC",0]
[null,null,null,null,null,null,null,null,null,null,null,null,null,null,null,null,null,null,null,null,null,null,null,null,null,null,null,null,null,null,"",0,"OI20DN","MC",0]
[null,null,null,null,null,null,null,null,null,null,null,null,null,null,null,null,null,null,null,null,null,null,null,null,null,null,null,null,null,null,"",0,"OI20DROPOUTN","MC",0]
[null,null,null,null,null,null,null,null,null,null,null,null,null,null,null,null,null,null,null,null,null,null,null,null,null,null,null,null,null,null,"",0,"OI20GHSN","MC",0]
[null,null,null,null,null,null,null,null,null,null,null,null,null,null,null,null,null,null,null,null,null,null,null,null,null,null,null,null,null,null,"",0,"OI20GRADALTDPLN","MC",0]
[null,null,null,null,null,null,null,null,null,null,null,null,null,null,null,null,null,null,null,null,null,null,null,null,null,null,null,null,null,null,"",0,"OI20MKCN","MC",0]
[null,null,null,null,null,null,null,null,null,null,null,null,null,null,null,null,null,null,null,null,null,null,null,null,null,null,null,null,null,null,"",0,"OI20RCN","MC",0]
[null,null,null,null,null,null,null,null,null,null,null,null,null,null,null,null,null,null,null,null,null,null,null,null,null,null,null,null,null,null,"",0,"OI20RMAN","MC",0]
[null,null,null,null,null,null,null,null,null,null,null,null,null,null,null,null,null,null,null,null,null,null,null,null,null,null,null,null,null,null,"",0,"OI20TRANN","MC",0]
[null,null,null,null,null,null,null,null,null,null,null,null,null,null,null,null,null,null,null,null,null,null,null,null,null,null,null,null,null,null,"",0,"OI21DN","MC",0]
[null,null,null,null,null,null,null,null,null,null,null,null,null,null,null,null,null,null,null,null,null,null,null,null,null,null,null,null,null,null,"",0,"OI21DROPOUTN","MC",0]
[null,null,null,null,null,null,null,null,null,null,null,null,null,null,null,null,null,null,null,null,null,null,null,null,null,null,null,null,null,null,"",0,"OI21GHSN","MC",0]
[null,null,null,null,null,null,null,null,null,null,null,null,null,null,null,null,null,null,null,null,null,null,null,null,null,null,null,null,null,null,"",0,"OI21GRADALTDPLN","MC",0]
[null,null,null,null,null,null,null,null,null,null,null,null,null,null,null,null,null,null,null,null,null,null,null,null,null,null,null,null,null,null,"",0,"OI21MKCN","MC",0]
[null,null,null,null,null,null,null,null,null,null,null,null,null,null,null,null,null,null,null,null,null,null,null,null,null,null,null,null,null,null,"",0,"OI21RCN","MC",0]
[null,null,null,null,null,null,null,null,null,null,null,null,null,null,null,null,null,null,null,null,null,null,null,null,null,null,null,null,null,null,"",0,"OI21RMAN","MC",0]
[null,null,null,null,null,null,null,null,null,null,null,null,null,null,null,null,null,null,null,null,null,null,null,null,null,null,null,null,null,null,"",0,"OI21TRANN","MC",0]
[null,null,null,null,null,null,null,null,null,null,null,null,null,null,null,null,null,null,null,null,null,null,null,null,null,null,null,null,null,null,"",0,"SLDY","MC",0]
[null,null,null,null,null,null,null,null,null,null,null,null,null,null,null,null,null,null,null,null,null,null,null,null,null,null,null,null,null,null,"",0,"SLD14DN","MC",0]
[null,null,null,null,null,null,null,null,null,null,null,null,null,null,null,null,null,null,null,null,null,null,null,null,null,null,null,null,null,null,"",0,"SLD14DROPOUTN","MC",0]
[null,null,null,null,null,null,null,null,null,null,null,null,null,null,null,null,null,null,null,null,null,null,null,null,null,null,null,null,null,null,"",0,"SLD14GHSN","MC",0]
[null,null,null,null,null,null,null,null,null,null,null,null,null,null,null,null,null,null,null,null,null,null,null,null,null,null,null,null,null,null,"",0,"SLD14GRADALTDPLN","MC",0]
[null,null,null,null,null,null,null,null,null,null,null,null,null,null,null,null,null,null,null,null,null,null,null,null,null,null,null,null,null,null,"",0,"SLD14MKCN","MC",0]
[null,null,null,null,null,null,null,null,null,null,null,null,null,null,null,null,null,null,null,null,null,null,null,null,null,null,null,null,null,null,"",0,"SLD14RCN","MC",0]
[null,null,null,null,null,null,null,null,null,null,null,null,null,null,null,null,null,null,null,null,null,null,null,null,null,null,null,null,null,null,"",0,"SLD14RMAN","MC",0]
[null,null,null,null,null,null,null,null,null,null,null,null,null,null,null,null,null,null,null,null,null,null,null,null,null,null,null,null,null,null,"",0,"SLD14TRANN","MC",0]
[null,null,null,null,null,null,null,null,null,null,null,null,null,null,null,null,null,null,null,null,null,null,null,null,null,null,null,null,null,null,"",0,"SLD15DN","MC",0]
[null,null,null,null,null,null,null,null,null,null,null,null,null,null,null,null,null,null,null,null,null,null,null,null,null,null,null,null,null,null,"",0,"SLD15DROPOUTN","MC",0]
[null,null,null,null,null,null,null,null,null,null,null,null,null,null,null,null,null,null,null,null,null,null,null,null,null,null,null,null,null,null,"",0,"SLD15GHSN","MC",0]
[null,null,null,null,null,null,null,null,null,null,null,null,null,null,null,null,null,null,null,null,null,null,null,null,null,null,null,null,null,null,"",0,"SLD15GRADALTDPLN","MC",0]
[null,null,null,null,null,null,null,null,null,null,null,null,null,null,null,null,null,null,null,null,null,null,null,null,null,null,null,null,null,null,"",0,"SLD15MKCN","MC",0]
[null,null,null,null,null,null,null,null,null,null,null,null,null,null,null,null,null,null,null,null,null,null,null,null,null,null,null,null,null,null,"",0,"SLD15RCN","MC",0]
[null,null,null,null,null,null,null,null,null,null,null,null,null,null,null,null,null,null,null,null,null,null,null,null,null,null,null,null,null,null,"",0,"SLD15RMAN","MC",0]
[null,null,null,null,null,null,null,null,null,null,null,null,null,null,null,null,null,null,null,null,null,null,null,null,null,null,null,null,null,null,"",0,"SLD15TRANN","MC",0]
[null,null,null,null,null,null,null,null,null,null,null,null,null,null,null,null,null,null,null,null,null,null,null,null,null,null,null,null,null,null,"",0,"SLD16DN","MC",0]
[null,null,null,null,null,null,null,null,null,null,null,null,null,null,null,null,null,null,null,null,null,null,null,null,null,null,null,null,null,null,"",0,"SLD16DROPOUTN","MC",0]
[null,null,null,null,null,null,null,null,null,null,null,null,null,null,null,null,null,null,null,null,null,null,null,null,null,null,null,null,null,null,"",0,"SLD16GHSN","MC",0]
[null,null,null,null,null,null,null,null,null,null,null,null,null,null,null,null,null,null,null,null,null,null,null,null,null,null,null,null,null,null,"",0,"SLD16GRADALTDPLN","MC",0]
[null,null,null,null,null,null,null,null,null,null,null,null,null,null,null,null,null,null,null,null,null,null,null,null,null,null,null,null,null,null,{"$f":"H589&I589&P589&Q589&R589&V589&W589","v":""},0,"SLD16MKCN","MC",0]
[null,null,null,null,null,null,null,null,null,null,null,null,null,null,null,null,null,null,null,null,null,null,null,null,null,null,null,null,null,null,"",{"$f":"Y590","v":0},"SLD16RCN",{"$f":"IFERROR(VLOOKUP(AG590,$AE$13:$AF$1000,2,FALSE),\"MC\")","v":"MC"},{"$f":"IF(AH590=\"MC\",0,\"\")","v":0}]
[null,null,null,null,null,null,null,null,null,null,null,null,null,null,null,null,null,null,null,null,null,null,null,null,null,null,null,null,null,null,"",0,"SLD16RMAN","MC",0]
[null,null,null,null,null,null,null,null,null,null,null,null,null,null,null,null,null,null,null,null,null,null,null,null,null,null,null,null,null,null,"",0,"SLD16TRANN","MC",0]
[null,null,null,null,null,null,null,null,null,null,null,null,null,null,null,null,null,null,null,null,null,null,null,null,null,null,null,null,null,null,"",0,"SLD17DN","MC",0]
[null,null,null,null,null,null,null,null,null,null,null,null,null,null,null,null,null,null,null,null,null,null,null,null,null,null,null,null,null,null,"",0,"SLD17DROPOUTN","MC",0]
[null,null,null,null,null,null,null,null,null,null,null,null,null,null,null,null,null,null,null,null,null,null,null,null,null,null,null,null,null,null,"",0,"SLD17GHSN","MC",0]
[null,null,null,null,null,null,null,null,null,null,null,null,null,null,null,null,null,null,null,null,null,null,null,null,null,null,null,null,null,null,"",0,"SLD17GRADALTDPLN","MC",0]
[null,null,null,null,null,null,null,null,null,null,null,null,null,null,null,null,null,null,null,null,null,null,null,null,null,null,null,null,null,null,"",0,"SLD17MKCN","MC",0]
[null,null,null,null,null,null,null,null,null,null,null,null,null,null,null,null,null,null,null,null,null,null,null,null,null,null,null,null,null,null,"",0,"SLD17RCN","MC",0]
[null,null,null,null,null,null,null,null,null,null,null,null,null,null,null,null,null,null,null,null,null,null,null,null,null,null,null,null,null,null,"",0,"SLD17RMAN","MC",0]
[null,null,null,null,null,null,null,null,null,null,null,null,null,null,null,null,null,null,null,null,null,null,null,null,null,null,null,null,null,null,"",0,"SLD17TRANN","MC",0]
[null,null,null,null,null,null,null,null,null,null,null,null,null,null,null,null,null,null,null,null,null,null,null,null,null,null,null,null,null,null,"",0,"SLD18DN","MC",0]
[null,null,null,null,null,null,null,null,null,null,null,null,null,null,null,null,null,null,null,null,null,null,null,null,null,null,null,null,null,null,"",0,"SLD18DROPOUTN","MC",0]
[null,null,null,null,null,null,null,null,null,null,null,null,null,null,null,null,null,null,null,null,null,null,null,null,null,null,null,null,null,null,"",0,"SLD18GHSN","MC",0]
[null,null,null,null,null,null,null,null,null,null,null,null,null,null,null,null,null,null,null,null,null,null,null,null,null,null,null,null,null,null,"",0,"SLD18GRADALTDPLN","MC",0]
[null,null,null,null,null,null,null,null,null,null,null,null,null,null,null,null,null,null,null,null,null,null,null,null,null,null,null,null,null,null,"",0,"SLD18MKCN","MC",0]
[null,null,null,null,null,null,null,null,null,null,null,null,null,null,null,null,null,null,null,null,null,null,null,null,null,null,null,null,null,null,"",0,"SLD18RCN","MC",0]
[null,null,null,null,null,null,null,null,null,null,null,null,null,null,null,null,null,null,null,null,null,null,null,null,null,null,null,null,null,null,"",0,"SLD18RMAN","MC",0]
[null,null,null,null,null,null,null,null,null,null,null,null,null,null,null,null,null,null,null,null,null,null,null,null,null,null,null,null,null,null,"",0,"SLD18TRANN","MC",0]
[null,null,null,null,null,null,null,null,null,null,null,null,null,null,null,null,null,null,null,null,null,null,null,null,null,null,null,null,null,null,"",0,"SLD19DN","MC",0]
[null,null,null,null,null,null,null,null,null,null,null,null,null,null,null,null,null,null,null,null,null,null,null,null,null,null,null,null,null,null,"",0,"SLD19DROPOUTN","MC",0]
[null,null,null,null,null,null,null,null,null,null,null,null,null,null,null,null,null,null,null,null,null,null,null,null,null,null,null,null,null,null,"",0,"SLD19GHSN","MC",0]
[null,null,null,null,null,null,null,null,null,null,null,null,null,null,null,null,null,null,null,null,null,null,null,null,null,null,null,null,null,null,"",0,"SLD19GRADALTDPLN","MC",0]
[null,null,null,null,null,null,null,null,null,null,null,null,null,null,null,null,null,null,null,null,null,null,null,null,null,null,null,null,null,null,"",0,"SLD19MKCN","MC",0]
[null,null,null,null,null,null,null,null,null,null,null,null,null,null,null,null,null,null,null,null,null,null,null,null,null,null,null,null,null,null,"",0,"SLD19RCN","MC",0]
[null,null,null,null,null,null,null,null,null,null,null,null,null,null,null,null,null,null,null,null,null,null,null,null,null,null,null,null,null,null,"",0,"SLD19RMAN","MC",0]
[null,null,null,null,null,null,null,null,null,null,null,null,null,null,null,null,null,null,null,null,null,null,null,null,null,null,null,null,null,null,"",0,"SLD19TRANN","MC",0]
[null,null,null,null,null,null,null,null,null,null,null,null,null,null,null,null,null,null,null,null,null,null,null,null,null,null,null,null,null,null,"",0,"SLD20DN","MC",0]
[null,null,null,null,null,null,null,null,null,null,null,null,null,null,null,null,null,null,null,null,null,null,null,null,null,null,null,null,null,null,"",0,"SLD20DROPOUTN","MC",0]
[null,null,null,null,null,null,null,null,null,null,null,null,null,null,null,null,null,null,null,null,null,null,null,null,null,null,null,null,null,null,"",0,"SLD20GHSN","MC",0]
[null,null,null,null,null,null,null,null,null,null,null,null,null,null,null,null,null,null,null,null,null,null,null,null,null,null,null,null,null,null,"",0,"SLD20GRADALTDPLN","MC",0]
[null,null,null,null,null,null,null,null,null,null,null,null,null,null,null,null,null,null,null,null,null,null,null,null,null,null,null,null,null,null,"",0,"SLD20MKCN","MC",0]
[null,null,null,null,null,null,null,null,null,null,null,null,null,null,null,null,null,null,null,null,null,null,null,null,null,null,null,null,null,null,"",0,"SLD20RCN","MC",0]
[null,null,null,null,null,null,null,null,null,null,null,null,null,null,null,null,null,null,null,null,null,null,null,null,null,null,null,null,null,null,"",0,"SLD20RMAN","MC",0]
[null,null,null,null,null,null,null,null,null,null,null,null,null,null,null,null,null,null,null,null,null,null,null,null,null,null,null,null,null,null,"",0,"SLD20TRANN","MC",0]
[null,null,null,null,null,null,null,null,null,null,null,null,null,null,null,null,null,null,null,null,null,null,null,null,null,null,null,null,null,null,"",0,"SLD21DN","MC",0]
[null,null,null,null,null,null,null,null,null,null,null,null,null,null,null,null,null,null,null,null,null,null,null,null,null,null,null,null,null,null,"",0,"SLD21DROPOUTN","MC",0]
[null,null,null,null,null,null,null,null,null,null,null,null,null,null,null,null,null,null,null,null,null,null,null,null,null,null,null,null,null,null,"",0,"SLD21GHSN","MC",0]
[null,null,null,null,null,null,null,null,null,null,null,null,null,null,null,null,null,null,null,null,null,null,null,null,null,null,null,null,null,null,"",0,"SLD21GRADALTDPLN","MC",0]
[null,null,null,null,null,null,null,null,null,null,null,null,null,null,null,null,null,null,null,null,null,null,null,null,null,null,null,null,null,null,"",0,"SLD21MKCN","MC",0]
[null,null,null,null,null,null,null,null,null,null,null,null,null,null,null,null,null,null,null,null,null,null,null,null,null,null,null,null,null,null,"",0,"SLD21RCN","MC",0]
[null,null,null,null,null,null,null,null,null,null,null,null,null,null,null,null,null,null,null,null,null,null,null,null,null,null,null,null,null,null,"",0,"SLD21RMAN","MC",0]
[null,null,null,null,null,null,null,null,null,null,null,null,null,null,null,null,null,null,null,null,null,null,null,null,null,null,null,null,null,null,"",0,"SLD21TRANN","MC",0]
[null,null,null,null,null,null,null,null,null,null,null,null,null,null,null,null,null,null,null,null,null,null,null,null,null,null,null,null,null,null,"",0,"SLIY","MC",0]
[null,null,null,null,null,null,null,null,null,null,null,null,null,null,null,null,null,null,null,null,null,null,null,null,null,null,null,null,null,null,"",0,"SLI14DN","MC",0]
[null,null,null,null,null,null,null,null,null,null,null,null,null,null,null,null,null,null,null,null,null,null,null,null,null,null,null,null,null,null,"",0,"SLI14DROPOUTN","MC",0]
[null,null,null,null,null,null,null,null,null,null,null,null,null,null,null,null,null,null,null,null,null,null,null,null,null,null,null,null,null,null,"",0,"SLI14GHSN","MC",0]
[null,null,null,null,null,null,null,null,null,null,null,null,null,null,null,null,null,null,null,null,null,null,null,null,null,null,null,null,null,null,"",0,"SLI14GRADALTDPLN","MC",0]
[null,null,null,null,null,null,null,null,null,null,null,null,null,null,null,null,null,null,null,null,null,null,null,null,null,null,null,null,null,null,"",0,"SLI14MKCN","MC",0]
[null,null,null,null,null,null,null,null,null,null,null,null,null,null,null,null,null,null,null,null,null,null,null,null,null,null,null,null,null,null,"",0,"SLI14RCN","MC",0]
[null,null,null,null,null,null,null,null,null,null,null,null,null,null,null,null,null,null,null,null,null,null,null,null,null,null,null,null,null,null,"",0,"SLI14RMAN","MC",0]
[null,null,null,null,null,null,null,null,null,null,null,null,null,null,null,null,null,null,null,null,null,null,null,null,null,null,null,null,null,null,"",0,"SLI14TRANN","MC",0]
[null,null,null,null,null,null,null,null,null,null,null,null,null,null,null,null,null,null,null,null,null,null,null,null,null,null,null,null,null,null,"",0,"SLI15DN","MC",0]
[null,null,null,null,null,null,null,null,null,null,null,null,null,null,null,null,null,null,null,null,null,null,null,null,null,null,null,null,null,null,"",0,"SLI15DROPOUTN","MC",0]
[null,null,null,null,null,null,null,null,null,null,null,null,null,null,null,null,null,null,null,null,null,null,null,null,null,null,null,null,null,null,"",0,"SLI15GHSN","MC",0]
[null,null,null,null,null,null,null,null,null,null,null,null,null,null,null,null,null,null,null,null,null,null,null,null,null,null,null,null,null,null,"",0,"SLI15GRADALTDPLN","MC",0]
[null,null,null,null,null,null,null,null,null,null,null,null,null,null,null,null,null,null,null,null,null,null,null,null,null,null,null,null,null,null,"",0,"SLI15MKCN","MC",0]
[null,null,null,null,null,null,null,null,null,null,null,null,null,null,null,null,null,null,null,null,null,null,null,null,null,null,null,null,null,null,"",0,"SLI15RCN","MC",0]
[null,null,null,null,null,null,null,null,null,null,null,null,null,null,null,null,null,null,null,null,null,null,null,null,null,null,null,null,null,null,"",0,"SLI15RMAN","MC",0]
[null,null,null,null,null,null,null,null,null,null,null,null,null,null,null,null,null,null,null,null,null,null,null,null,null,null,null,null,null,null,"",0,"SLI15TRANN","MC",0]
[null,null,null,null,null,null,null,null,null,null,null,null,null,null,null,null,null,null,null,null,null,null,null,null,null,null,null,null,null,null,"",0,"SLI16DN","MC",0]
[null,null,null,null,null,null,null,null,null,null,null,null,null,null,null,null,null,null,null,null,null,null,null,null,null,null,null,null,null,null,"",0,"SLI16DROPOUTN","MC",0]
[null,null,null,null,null,null,null,null,null,null,null,null,null,null,null,null,null,null,null,null,null,null,null,null,null,null,null,null,null,null,"",0,"SLI16GHSN","MC",0]
[null,null,null,null,null,null,null,null,null,null,null,null,null,null,null,null,null,null,null,null,null,null,null,null,null,null,null,null,null,null,{"$f":"H653&I653&P653&Q653&R653&V653&W653","v":""},0,"SLI16GRADALTDPLN","MC",0]
[null,null,null,null,null,null,null,null,null,null,null,null,null,null,null,null,null,null,null,null,null,null,null,null,null,null,null,null,null,null,"",{"$f":"Y654","v":0},"SLI16MKCN",{"$f":"IFERROR(VLOOKUP(AG654,$AE$13:$AF$1000,2,FALSE),\"MC\")","v":"MC"},{"$f":"IF(AH654=\"MC\",0,\"\")","v":0}]
[null,null,null,null,null,null,null,null,null,null,null,null,null,null,null,null,null,null,null,null,null,null,null,null,null,null,null,null,null,null,"",0,"SLI16RCN","MC",0]
[null,null,null,null,null,null,null,null,null,null,null,null,null,null,null,null,null,null,null,null,null,null,null,null,null,null,null,null,null,null,"",0,"SLI16RMAN","MC",0]
[null,null,null,null,null,null,null,null,null,null,null,null,null,null,null,null,null,null,null,null,null,null,null,null,null,null,null,null,null,null,"",0,"SLI16TRANN","MC",0]
[null,null,null,null,null,null,null,null,null,null,null,null,null,null,null,null,null,null,null,null,null,null,null,null,null,null,null,null,null,null,"",0,"SLI17DN","MC",0]
[null,null,null,null,null,null,null,null,null,null,null,null,null,null,null,null,null,null,null,null,null,null,null,null,null,null,null,null,null,null,"",0,"SLI17DROPOUTN","MC",0]
[null,null,null,null,null,null,null,null,null,null,null,null,null,null,null,null,null,null,null,null,null,null,null,null,null,null,null,null,null,null,"",0,"SLI17GHSN","MC",0]
[null,null,null,null,null,null,null,null,null,null,null,null,null,null,null,null,null,null,null,null,null,null,null,null,null,null,null,null,null,null,"",0,"SLI17GRADALTDPLN","MC",0]
[null,null,null,null,null,null,null,null,null,null,null,null,null,null,null,null,null,null,null,null,null,null,null,null,null,null,null,null,null,null,"",0,"SLI17MKCN","MC",0]
[null,null,null,null,null,null,null,null,null,null,null,null,null,null,null,null,null,null,null,null,null,null,null,null,null,null,null,null,null,null,"",0,"SLI17RCN","MC",0]
[null,null,null,null,null,null,null,null,null,null,null,null,null,null,null,null,null,null,null,null,null,null,null,null,null,null,null,null,null,null,"",0,"SLI17RMAN","MC",0]
[null,null,null,null,null,null,null,null,null,null,null,null,null,null,null,null,null,null,null,null,null,null,null,null,null,null,null,null,null,null,"",0,"SLI17TRANN","MC",0]
[null,null,null,null,null,null,null,null,null,null,null,null,null,null,null,null,null,null,null,null,null,null,null,null,null,null,null,null,null,null,"",0,"SLI18DN","MC",0]
[null,null,null,null,null,null,null,null,null,null,null,null,null,null,null,null,null,null,null,null,null,null,null,null,null,null,null,null,null,null,"",0,"SLI18DROPOUTN","MC",0]
[null,null,null,null,null,null,null,null,null,null,null,null,null,null,null,null,null,null,null,null,null,null,null,null,null,null,null,null,null,null,"",0,"SLI18GHSN","MC",0]
[null,null,null,null,null,null,null,null,null,null,null,null,null,null,null,null,null,null,null,null,null,null,null,null,null,null,null,null,null,null,"",0,"SLI18GRADALTDPLN","MC",0]
[null,null,null,null,null,null,null,null,null,null,null,null,null,null,null,null,null,null,null,null,null,null,null,null,null,null,null,null,null,null,"",0,"SLI18MKCN","MC",0]
[null,null,null,null,null,null,null,null,null,null,null,null,null,null,null,null,null,null,null,null,null,null,null,null,null,null,null,null,null,null,"",0,"SLI18RCN","MC",0]
[null,null,null,null,null,null,null,null,null,null,null,null,null,null,null,null,null,null,null,null,null,null,null,null,null,null,null,null,null,null,"",0,"SLI18RMAN","MC",0]
[null,null,null,null,null,null,null,null,null,null,null,null,null,null,null,null,null,null,null,null,null,null,null,null,null,null,null,null,null,null,"",0,"SLI18TRANN","MC",0]
[null,null,null,null,null,null,null,null,null,null,null,null,null,null,null,null,null,null,null,null,null,null,null,null,null,null,null,null,null,null,"",0,"SLI19DN","MC",0]
[null,null,null,null,null,null,null,null,null,null,null,null,null,null,null,null,null,null,null,null,null,null,null,null,null,null,null,null,null,null,"",0,"SLI19DROPOUTN","MC",0]
[null,null,null,null,null,null,null,null,null,null,null,null,null,null,null,null,null,null,null,null,null,null,null,null,null,null,null,null,null,null,"",0,"SLI19GHSN","MC",0]
[null,null,null,null,null,null,null,null,null,null,null,null,null,null,null,null,null,null,null,null,null,null,null,null,null,null,null,null,null,null,"",0,"SLI19GRADALTDPLN","MC",0]
[null,null,null,null,null,null,null,null,null,null,null,null,null,null,null,null,null,null,null,null,null,null,null,null,null,null,null,null,null,null,"",0,"SLI19MKCN","MC",0]
[null,null,null,null,null,null,null,null,null,null,null,null,null,null,null,null,null,null,null,null,null,null,null,null,null,null,null,null,null,null,"",0,"SLI19RCN","MC",0]
[null,null,null,null,null,null,null,null,null,null,null,null,null,null,null,null,null,null,null,null,null,null,null,null,null,null,null,null,null,null,"",0,"SLI19RMAN","MC",0]
[null,null,null,null,null,null,null,null,null,null,null,null,null,null,null,null,null,null,null,null,null,null,null,null,null,null,null,null,null,null,"",0,"SLI19TRANN","MC",0]
[null,null,null,null,null,null,null,null,null,null,null,null,null,null,null,null,null,null,null,null,null,null,null,null,null,null,null,null,null,null,"",0,"SLI20DN","MC",0]
[null,null,null,null,null,null,null,null,null,null,null,null,null,null,null,null,null,null,null,null,null,null,null,null,null,null,null,null,null,null,"",0,"SLI20DROPOUTN","MC",0]
[null,null,null,null,null,null,null,null,null,null,null,null,null,null,null,null,null,null,null,null,null,null,null,null,null,null,null,null,null,null,"",0,"SLI20GHSN","MC",0]
[null,null,null,null,null,null,null,null,null,null,null,null,null,null,null,null,null,null,null,null,null,null,null,null,null,null,null,null,null,null,"",0,"SLI20GRADALTDPLN","MC",0]
[null,null,null,null,null,null,null,null,null,null,null,null,null,null,null,null,null,null,null,null,null,null,null,null,null,null,null,null,null,null,"",0,"SLI20MKCN","MC",0]
[null,null,null,null,null,null,null,null,null,null,null,null,null,null,null,null,null,null,null,null,null,null,null,null,null,null,null,null,null,null,"",0,"SLI20RCN","MC",0]
[null,null,null,null,null,null,null,null,null,null,null,null,null,null,null,null,null,null,null,null,null,null,null,null,null,null,null,null,null,null,"",0,"SLI20RMAN","MC",0]
[null,null,null,null,null,null,null,null,null,null,null,null,null,null,null,null,null,null,null,null,null,null,null,null,null,null,null,null,null,null,"",0,"SLI20TRANN","MC",0]
[null,null,null,null,null,null,null,null,null,null,null,null,null,null,null,null,null,null,null,null,null,null,null,null,null,null,null,null,null,null,"",0,"SLI21DN","MC",0]
[null,null,null,null,null,null,null,null,null,null,null,null,null,null,null,null,null,null,null,null,null,null,null,null,null,null,null,null,null,null,"",0,"SLI21DROPOUTN","MC",0]
[null,null,null,null,null,null,null,null,null,null,null,null,null,null,null,null,null,null,null,null,null,null,null,null,null,null,null,null,null,null,"",0,"SLI21GHSN","MC",0]
[null,null,null,null,null,null,null,null,null,null,null,null,null,null,null,null,null,null,null,null,null,null,null,null,null,null,null,null,null,null,"",0,"SLI21GRADALTDPLN","MC",0]
[null,null,null,null,null,null,null,null,null,null,null,null,null,null,null,null,null,null,null,null,null,null,null,null,null,null,null,null,null,null,"",0,"SLI21MKCN","MC",0]
[null,null,null,null,null,null,null,null,null,null,null,null,null,null,null,null,null,null,null,null,null,null,null,null,null,null,null,null,null,null,"",0,"SLI21RCN","MC",0]
[null,null,null,null,null,null,null,null,null,null,null,null,null,null,null,null,null,null,null,null,null,null,null,null,null,null,null,null,null,null,"",0,"SLI21RMAN","MC",0]
[null,null,null,null,null,null,null,null,null,null,null,null,null,null,null,null,null,null,null,null,null,null,null,null,null,null,null,null,null,null,"",0,"SLI21TRANN","MC",0]
[null,null,null,null,null,null,null,null,null,null,null,null,null,null,null,null,null,null,null,null,null,null,null,null,null,null,null,null,null,null,"",0,"TBIY","MC",0]
[null,null,null,null,null,null,null,null,null,null,null,null,null,null,null,null,null,null,null,null,null,null,null,null,null,null,null,null,null,null,"",0,"TBI14DN","MC",0]
[null,null,null,null,null,null,null,null,null,null,null,null,null,null,null,null,null,null,null,null,null,null,null,null,null,null,null,null,null,null,"",0,"TBI14DROPOUTN","MC",0]
[null,null,null,null,null,null,null,null,null,null,null,null,null,null,null,null,null,null,null,null,null,null,null,null,null,null,null,null,null,null,"",0,"TBI14GHSN","MC",0]
[null,null,null,null,null,null,null,null,null,null,null,null,null,null,null,null,null,null,null,null,null,null,null,null,null,null,null,null,null,null,"",0,"TBI14GRADALTDPLN","MC",0]
[null,null,null,null,null,null,null,null,null,null,null,null,null,null,null,null,null,null,null,null,null,null,null,null,null,null,null,null,null,null,"",0,"TBI14MKCN","MC",0]
[null,null,null,null,null,null,null,null,null,null,null,null,null,null,null,null,null,null,null,null,null,null,null,null,null,null,null,null,null,null,"",0,"TBI14RCN","MC",0]
[null,null,null,null,null,null,null,null,null,null,null,null,null,null,null,null,null,null,null,null,null,null,null,null,null,null,null,null,null,null,"",0,"TBI14RMAN","MC",0]
[null,null,null,null,null,null,null,null,null,null,null,null,null,null,null,null,null,null,null,null,null,null,null,null,null,null,null,null,null,null,"",0,"TBI14TRANN","MC",0]
[null,null,null,null,null,null,null,null,null,null,null,null,null,null,null,null,null,null,null,null,null,null,null,null,null,null,null,null,null,null,"",0,"TBI15DN","MC",0]
[null,null,null,null,null,null,null,null,null,null,null,null,null,null,null,null,null,null,null,null,null,null,null,null,null,null,null,null,null,null,"",0,"TBI15DROPOUTN","MC",0]
[null,null,null,null,null,null,null,null,null,null,null,null,null,null,null,null,null,null,null,null,null,null,null,null,null,null,null,null,null,null,"",0,"TBI15GHSN","MC",0]
[null,null,null,null,null,null,null,null,null,null,null,null,null,null,null,null,null,null,null,null,null,null,null,null,null,null,null,null,null,null,"",0,"TBI15GRADALTDPLN","MC",0]
[null,null,null,null,null,null,null,null,null,null,null,null,null,null,null,null,null,null,null,null,null,null,null,null,null,null,null,null,null,null,"",0,"TBI15MKCN","MC",0]
[null,null,null,null,null,null,null,null,null,null,null,null,null,null,null,null,null,null,null,null,null,null,null,null,null,null,null,null,null,null,"",0,"TBI15RCN","MC",0]
[null,null,null,null,null,null,null,null,null,null,null,null,null,null,null,null,null,null,null,null,null,null,null,null,null,null,null,null,null,null,"",0,"TBI15RMAN","MC",0]
[null,null,null,null,null,null,null,null,null,null,null,null,null,null,null,null,null,null,null,null,null,null,null,null,null,null,null,null,null,null,"",0,"TBI15TRANN","MC",0]
[null,null,null,null,null,null,null,null,null,null,null,null,null,null,null,null,null,null,null,null,null,null,null,null,null,null,null,null,null,null,"",0,"TBI16DN","MC",0]
[null,null,null,null,null,null,null,null,null,null,null,null,null,null,null,null,null,null,null,null,null,null,null,null,null,null,null,null,null,null,"",0,"TBI16DROPOUTN","MC",0]
[null,null,null,null,null,null,null,null,null,null,null,null,null,null,null,null,null,null,null,null,null,null,null,null,null,null,null,null,null,null,{"$f":"H717&I717&P717&Q717&R717&V717&W717","v":""},0,"TBI16GHSN","MC",0]
[null,null,null,null,null,null,null,null,null,null,null,null,null,null,null,null,null,null,null,null,null,null,null,null,null,null,null,null,null,null,"",{"$f":"Y718","v":0},"TBI16GRADALTDPLN",{"$f":"IFERROR(VLOOKUP(AG718,$AE$13:$AF$1000,2,FALSE),\"MC\")","v":"MC"},{"$f":"IF(AH718=\"MC\",0,\"\")","v":0}]
[null,null,null,null,null,null,null,null,null,null,null,null,null,null,null,null,null,null,null,null,null,null,null,null,null,null,null,null,null,null,"",0,"TBI16MKCN","MC",0]
[null,null,null,null,null,null,null,null,null,null,null,null,null,null,null,null,null,null,null,null,null,null,null,null,null,null,null,null,null,null,"",0,"TBI16RCN","MC",0]
[null,null,null,null,null,null,null,null,null,null,null,null,null,null,null,null,null,null,null,null,null,null,null,null,null,null,null,null,null,null,"",0,"TBI16RMAN","MC",0]
[null,null,null,null,null,null,null,null,null,null,null,null,null,null,null,null,null,null,null,null,null,null,null,null,null,null,null,null,null,null,"",0,"TBI16TRANN","MC",0]
[null,null,null,null,null,null,null,null,null,null,null,null,null,null,null,null,null,null,null,null,null,null,null,null,null,null,null,null,null,null,"",0,"TBI17DN","MC",0]
[null,null,null,null,null,null,null,null,null,null,null,null,null,null,null,null,null,null,null,null,null,null,null,null,null,null,null,null,null,null,"",0,"TBI17DROPOUTN","MC",0]
[null,null,null,null,null,null,null,null,null,null,null,null,null,null,null,null,null,null,null,null,null,null,null,null,null,null,null,null,null,null,"",0,"TBI17GHSN","MC",0]
[null,null,null,null,null,null,null,null,null,null,null,null,null,null,null,null,null,null,null,null,null,null,null,null,null,null,null,null,null,null,"",0,"TBI17GRADALTDPLN","MC",0]
[null,null,null,null,null,null,null,null,null,null,null,null,null,null,null,null,null,null,null,null,null,null,null,null,null,null,null,null,null,null,"",0,"TBI17MKCN","MC",0]
[null,null,null,null,null,null,null,null,null,null,null,null,null,null,null,null,null,null,null,null,null,null,null,null,null,null,null,null,null,null,"",0,"TBI17RCN","MC",0]
[null,null,null,null,null,null,null,null,null,null,null,null,null,null,null,null,null,null,null,null,null,null,null,null,null,null,null,null,null,null,"",0,"TBI17RMAN","MC",0]
[null,null,null,null,null,null,null,null,null,null,null,null,null,null,null,null,null,null,null,null,null,null,null,null,null,null,null,null,null,null,"",0,"TBI17TRANN","MC",0]
[null,null,null,null,null,null,null,null,null,null,null,null,null,null,null,null,null,null,null,null,null,null,null,null,null,null,null,null,null,null,"",0,"TBI18DN","MC",0]
[null,null,null,null,null,null,null,null,null,null,null,null,null,null,null,null,null,null,null,null,null,null,null,null,null,null,null,null,null,null,"",0,"TBI18DROPOUTN","MC",0]
[null,null,null,null,null,null,null,null,null,null,null,null,null,null,null,null,null,null,null,null,null,null,null,null,null,null,null,null,null,null,"",0,"TBI18GHSN","MC",0]
[null,null,null,null,null,null,null,null,null,null,null,null,null,null,null,null,null,null,null,null,null,null,null,null,null,null,null,null,null,null,"",0,"TBI18GRADALTDPLN","MC",0]
[null,null,null,null,null,null,null,null,null,null,null,null,null,null,null,null,null,null,null,null,null,null,null,null,null,null,null,null,null,null,"",0,"TBI18MKCN","MC",0]
[null,null,null,null,null,null,null,null,null,null,null,null,null,null,null,null,null,null,null,null,null,null,null,null,null,null,null,null,null,null,"",0,"TBI18RCN","MC",0]
[null,null,null,null,null,null,null,null,null,null,null,null,null,null,null,null,null,null,null,null,null,null,null,null,null,null,null,null,null,null,"",0,"TBI18RMAN","MC",0]
[null,null,null,null,null,null,null,null,null,null,null,null,null,null,null,null,null,null,null,null,null,null,null,null,null,null,null,null,null,null,"",0,"TBI18TRANN","MC",0]
[null,null,null,null,null,null,null,null,null,null,null,null,null,null,null,null,null,null,null,null,null,null,null,null,null,null,null,null,null,null,"",0,"TBI19DN","MC",0]
[null,null,null,null,null,null,null,null,null,null,null,null,null,null,null,null,null,null,null,null,null,null,null,null,null,null,null,null,null,null,"",0,"TBI19DROPOUTN","MC",0]
[null,null,null,null,null,null,null,null,null,null,null,null,null,null,null,null,null,null,null,null,null,null,null,null,null,null,null,null,null,null,"",0,"TBI19GHSN","MC",0]
[null,null,null,null,null,null,null,null,null,null,null,null,null,null,null,null,null,null,null,null,null,null,null,null,null,null,null,null,null,null,"",0,"TBI19GRADALTDPLN","MC",0]
[null,null,null,null,null,null,null,null,null,null,null,null,null,null,null,null,null,null,null,null,null,null,null,null,null,null,null,null,null,null,"",0,"TBI19MKCN","MC",0]
[null,null,null,null,null,null,null,null,null,null,null,null,null,null,null,null,null,null,null,null,null,null,null,null,null,null,null,null,null,null,"",0,"TBI19RCN","MC",0]
[null,null,null,null,null,null,null,null,null,null,null,null,null,null,null,null,null,null,null,null,null,null,null,null,null,null,null,null,null,null,"",0,"TBI19RMAN","MC",0]
[null,null,null,null,null,null,null,null,null,null,null,null,null,null,null,null,null,null,null,null,null,null,null,null,null,null,null,null,null,null,"",0,"TBI19TRANN","MC",0]
[null,null,null,null,null,null,null,null,null,null,null,null,null,null,null,null,null,null,null,null,null,null,null,null,null,null,null,null,null,null,"",0,"TBI20DN","MC",0]
[null,null,null,null,null,null,null,null,null,null,null,null,null,null,null,null,null,null,null,null,null,null,null,null,null,null,null,null,null,null,"",0,"TBI20DROPOUTN","MC",0]
[null,null,null,null,null,null,null,null,null,null,null,null,null,null,null,null,null,null,null,null,null,null,null,null,null,null,null,null,null,null,"",0,"TBI20GHSN","MC",0]
[null,null,null,null,null,null,null,null,null,null,null,null,null,null,null,null,null,null,null,null,null,null,null,null,null,null,null,null,null,null,"",0,"TBI20GRADALTDPLN","MC",0]
[null,null,null,null,null,null,null,null,null,null,null,null,null,null,null,null,null,null,null,null,null,null,null,null,null,null,null,null,null,null,"",0,"TBI20MKCN","MC",0]
[null,null,null,null,null,null,null,null,null,null,null,null,null,null,null,null,null,null,null,null,null,null,null,null,null,null,null,null,null,null,"",0,"TBI20RCN","MC",0]
[null,null,null,null,null,null,null,null,null,null,null,null,null,null,null,null,null,null,null,null,null,null,null,null,null,null,null,null,null,null,"",0,"TBI20RMAN","MC",0]
[null,null,null,null,null,null,null,null,null,null,null,null,null,null,null,null,null,null,null,null,null,null,null,null,null,null,null,null,null,null,"",0,"TBI20TRANN","MC",0]
[null,null,null,null,null,null,null,null,null,null,null,null,null,null,null,null,null,null,null,null,null,null,null,null,null,null,null,null,null,null,"",0,"TBI21DN","MC",0]
[null,null,null,null,null,null,null,null,null,null,null,null,null,null,null,null,null,null,null,null,null,null,null,null,null,null,null,null,null,null,"",0,"TBI21DROPOUTN","MC",0]
[null,null,null,null,null,null,null,null,null,null,null,null,null,null,null,null,null,null,null,null,null,null,null,null,null,null,null,null,null,null,"",0,"TBI21GHSN","MC",0]
[null,null,null,null,null,null,null,null,null,null,null,null,null,null,null,null,null,null,null,null,null,null,null,null,null,null,null,null,null,null,"",0,"TBI21GRADALTDPLN","MC",0]
[null,null,null,null,null,null,null,null,null,null,null,null,null,null,null,null,null,null,null,null,null,null,null,null,null,null,null,null,null,null,"",0,"TBI21MKCN","MC",0]
[null,null,null,null,null,null,null,null,null,null,null,null,null,null,null,null,null,null,null,null,null,null,null,null,null,null,null,null,null,null,"",0,"TBI21RCN","MC",0]
[null,null,null,null,null,null,null,null,null,null,null,null,null,null,null,null,null,null,null,null,null,null,null,null,null,null,null,null,null,null,"",0,"TBI21RMAN","MC",0]
[null,null,null,null,null,null,null,null,null,null,null,null,null,null,null,null,null,null,null,null,null,null,null,null,null,null,null,null,null,null,"",0,"TBI21TRANN","MC",0]
[null,null,null,null,null,null,null,null,null,null,null,null,null,null,null,null,null,null,null,null,null,null,null,null,null,null,null,null,null,null,"",0,"VIY","MC",0]
[null,null,null,null,null,null,null,null,null,null,null,null,null,null,null,null,null,null,null,null,null,null,null,null,null,null,null,null,null,null,"",0,"VI14DN","MC",0]
[null,null,null,null,null,null,null,null,null,null,null,null,null,null,null,null,null,null,null,null,null,null,null,null,null,null,null,null,null,null,"",0,"VI14DROPOUTN","MC",0]
[null,null,null,null,null,null,null,null,null,null,null,null,null,null,null,null,null,null,null,null,null,null,null,null,null,null,null,null,null,null,"",0,"VI14GHSN","MC",0]
[null,null,null,null,null,null,null,null,null,null,null,null,null,null,null,null,null,null,null,null,null,null,null,null,null,null,null,null,null,null,"",0,"VI14GRADALTDPLN","MC",0]
[null,null,null,null,null,null,null,null,null,null,null,null,null,null,null,null,null,null,null,null,null,null,null,null,null,null,null,null,null,null,"",0,"VI14MKCN","MC",0]
[null,null,null,null,null,null,null,null,null,null,null,null,null,null,null,null,null,null,null,null,null,null,null,null,null,null,null,null,null,null,"",0,"VI14RCN","MC",0]
[null,null,null,null,null,null,null,null,null,null,null,null,null,null,null,null,null,null,null,null,null,null,null,null,null,null,null,null,null,null,"",0,"VI14RMAN","MC",0]
[null,null,null,null,null,null,null,null,null,null,null,null,null,null,null,null,null,null,null,null,null,null,null,null,null,null,null,null,null,null,"",0,"VI14TRANN","MC",0]
[null,null,null,null,null,null,null,null,null,null,null,null,null,null,null,null,null,null,null,null,null,null,null,null,null,null,null,null,null,null,"",0,"VI15DN","MC",0]
[null,null,null,null,null,null,null,null,null,null,null,null,null,null,null,null,null,null,null,null,null,null,null,null,null,null,null,null,null,null,"",0,"VI15DROPOUTN","MC",0]
[null,null,null,null,null,null,null,null,null,null,null,null,null,null,null,null,null,null,null,null,null,null,null,null,null,null,null,null,null,null,"",0,"VI15GHSN","MC",0]
[null,null,null,null,null,null,null,null,null,null,null,null,null,null,null,null,null,null,null,null,null,null,null,null,null,null,null,null,null,null,"",0,"VI15GRADALTDPLN","MC",0]
[null,null,null,null,null,null,null,null,null,null,null,null,null,null,null,null,null,null,null,null,null,null,null,null,null,null,null,null,null,null,"",0,"VI15MKCN","MC",0]
[null,null,null,null,null,null,null,null,null,null,null,null,null,null,null,null,null,null,null,null,null,null,null,null,null,null,null,null,null,null,"",0,"VI15RCN","MC",0]
[null,null,null,null,null,null,null,null,null,null,null,null,null,null,null,null,null,null,null,null,null,null,null,null,null,null,null,null,null,null,"",0,"VI15RMAN","MC",0]
[null,null,null,null,null,null,null,null,null,null,null,null,null,null,null,null,null,null,null,null,null,null,null,null,null,null,null,null,null,null,"",0,"VI15TRANN","MC",0]
[null,null,null,null,null,null,null,null,null,null,null,null,null,null,null,null,null,null,null,null,null,null,null,null,null,null,null,null,null,null,"",0,"VI16DN","MC",0]
[null,null,null,null,null,null,null,null,null,null,null,null,null,null,null,null,null,null,null,null,null,null,null,null,null,null,null,null,null,null,{"$f":"H781&I781&P781&Q781&R781&V781&W781","v":""},0,"VI16DROPOUTN","MC",0]
[null,null,null,null,null,null,null,null,null,null,null,null,null,null,null,null,null,null,null,null,null,null,null,null,null,null,null,null,null,null,"",{"$f":"Y782","v":0},"VI16GHSN",{"$f":"IFERROR(VLOOKUP(AG782,$AE$13:$AF$1000,2,FALSE),\"MC\")","v":"MC"},{"$f":"IF(AH782=\"MC\",0,\"\")","v":0}]
[null,null,null,null,null,null,null,null,null,null,null,null,null,null,null,null,null,null,null,null,null,null,null,null,null,null,null,null,null,null,"",0,"VI16GRADALTDPLN","MC",0]
[null,null,null,null,null,null,null,null,null,null,null,null,null,null,null,null,null,null,null,null,null,null,null,null,null,null,null,null,null,null,"",0,"VI16MKCN","MC",0]
[null,null,null,null,null,null,null,null,null,null,null,null,null,null,null,null,null,null,null,null,null,null,null,null,null,null,null,null,null,null,"",0,"VI16RCN","MC",0]
[null,null,null,null,null,null,null,null,null,null,null,null,null,null,null,null,null,null,null,null,null,null,null,null,null,null,null,null,null,null,"",0,"VI16RMAN","MC",0]
[null,null,null,null,null,null,null,null,null,null,null,null,null,null,null,null,null,null,null,null,null,null,null,null,null,null,null,null,null,null,"",0,"VI16TRANN","MC",0]
[null,null,null,null,null,null,null,null,null,null,null,null,null,null,null,null,null,null,null,null,null,null,null,null,null,null,null,null,null,null,"",0,"VI17DN","MC",0]
[null,null,null,null,null,null,null,null,null,null,null,null,null,null,null,null,null,null,null,null,null,null,null,null,null,null,null,null,null,null,"",0,"VI17DROPOUTN","MC",0]
[null,null,null,null,null,null,null,null,null,null,null,null,null,null,null,null,null,null,null,null,null,null,null,null,null,null,null,null,null,null,"",0,"VI17GHSN","MC",0]
[null,null,null,null,null,null,null,null,null,null,null,null,null,null,null,null,null,null,null,null,null,null,null,null,null,null,null,null,null,null,"",0,"VI17GRADALTDPLN","MC",0]
[null,null,null,null,null,null,null,null,null,null,null,null,null,null,null,null,null,null,null,null,null,null,null,null,null,null,null,null,null,null,"",0,"VI17MKCN","MC",0]
[null,null,null,null,null,null,null,null,null,null,null,null,null,null,null,null,null,null,null,null,null,null,null,null,null,null,null,null,null,null,"",0,"VI17RCN","MC",0]
[null,null,null,null,null,null,null,null,null,null,null,null,null,null,null,null,null,null,null,null,null,null,null,null,null,null,null,null,null,null,"",0,"VI17RMAN","MC",0]
[null,null,null,null,null,null,null,null,null,null,null,null,null,null,null,null,null,null,null,null,null,null,null,null,null,null,null,null,null,null,"",0,"VI17TRANN","MC",0]
[null,null,null,null,null,null,null,null,null,null,null,null,null,null,null,null,null,null,null,null,null,null,null,null,null,null,null,null,null,null,"",0,"VI18DN","MC",0]
[null,null,null,null,null,null,null,null,null,null,null,null,null,null,null,null,null,null,null,null,null,null,null,null,null,null,null,null,null,null,"",0,"VI18DROPOUTN","MC",0]
[null,null,null,null,null,null,null,null,null,null,null,null,null,null,null,null,null,null,null,null,null,null,null,null,null,null,null,null,null,null,"",0,"VI18GHSN","MC",0]
[null,null,null,null,null,null,null,null,null,null,null,null,null,null,null,null,null,null,null,null,null,null,null,null,null,null,null,null,null,null,"",0,"VI18GRADALTDPLN","MC",0]
[null,null,null,null,null,null,null,null,null,null,null,null,null,null,null,null,null,null,null,null,null,null,null,null,null,null,null,null,null,null,"",0,"VI18MKCN","MC",0]
[null,null,null,null,null,null,null,null,null,null,null,null,null,null,null,null,null,null,null,null,null,null,null,null,null,null,null,null,null,null,"",0,"VI18RCN","MC",0]
[null,null,null,null,null,null,null,null,null,null,null,null,null,null,null,null,null,null,null,null,null,null,null,null,null,null,null,null,null,null,"",0,"VI18RMAN","MC",0]
[null,null,null,null,null,null,null,null,null,null,null,null,null,null,null,null,null,null,null,null,null,null,null,null,null,null,null,null,null,null,"",0,"VI18TRANN","MC",0]
[null,null,null,null,null,null,null,null,null,null,null,null,null,null,null,null,null,null,null,null,null,null,null,null,null,null,null,null,null,null,"",0,"VI19DN","MC",0]
[null,null,null,null,null,null,null,null,null,null,null,null,null,null,null,null,null,null,null,null,null,null,null,null,null,null,null,null,null,null,"",0,"VI19DROPOUTN","MC",0]
[null,null,null,null,null,null,null,null,null,null,null,null,null,null,null,null,null,null,null,null,null,null,null,null,null,null,null,null,null,null,"",0,"VI19GHSN","MC",0]
[null,null,null,null,null,null,null,null,null,null,null,null,null,null,null,null,null,null,null,null,null,null,null,null,null,null,null,null,null,null,"",0,"VI19GRADALTDPLN","MC",0]
[null,null,null,null,null,null,null,null,null,null,null,null,null,null,null,null,null,null,null,null,null,null,null,null,null,null,null,null,null,null,"",0,"VI19MKCN","MC",0]
[null,null,null,null,null,null,null,null,null,null,null,null,null,null,null,null,null,null,null,null,null,null,null,null,null,null,null,null,null,null,"",0,"VI19RCN","MC",0]
[null,null,null,null,null,null,null,null,null,null,null,null,null,null,null,null,null,null,null,null,null,null,null,null,null,null,null,null,null,null,"",0,"VI19RMAN","MC",0]
[null,null,null,null,null,null,null,null,null,null,null,null,null,null,null,null,null,null,null,null,null,null,null,null,null,null,null,null,null,null,"",0,"VI19TRANN","MC",0]
[null,null,null,null,null,null,null,null,null,null,null,null,null,null,null,null,null,null,null,null,null,null,null,null,null,null,null,null,null,null,"",0,"VI20DN","MC",0]
[null,null,null,null,null,null,null,null,null,null,null,null,null,null,null,null,null,null,null,null,null,null,null,null,null,null,null,null,null,null,"",0,"VI20DROPOUTN","MC",0]
[null,null,null,null,null,null,null,null,null,null,null,null,null,null,null,null,null,null,null,null,null,null,null,null,null,null,null,null,null,null,"",0,"VI20GHSN","MC",0]
[null,null,null,null,null,null,null,null,null,null,null,null,null,null,null,null,null,null,null,null,null,null,null,null,null,null,null,null,null,null,"",0,"VI20GRADALTDPLN","MC",0]
[null,null,null,null,null,null,null,null,null,null,null,null,null,null,null,null,null,null,null,null,null,null,null,null,null,null,null,null,null,null,"",0,"VI20MKCN","MC",0]
[null,null,null,null,null,null,null,null,null,null,null,null,null,null,null,null,null,null,null,null,null,null,null,null,null,null,null,null,null,null,"",0,"VI20RCN","MC",0]
[null,null,null,null,null,null,null,null,null,null,null,null,null,null,null,null,null,null,null,null,null,null,null,null,null,null,null,null,null,null,"",0,"VI20RMAN","MC",0]
[null,null,null,null,null,null,null,null,null,null,null,null,null,null,null,null,null,null,null,null,null,null,null,null,null,null,null,null,null,null,"",0,"VI20TRANN","MC",0]
[null,null,null,null,null,null,null,null,null,null,null,null,null,null,null,null,null,null,null,null,null,null,null,null,null,null,null,null,null,null,"",0,"VI21DN","MC",0]
[null,null,null,null,null,null,null,null,null,null,null,null,null,null,null,null,null,null,null,null,null,null,null,null,null,null,null,null,null,null,"",0,"VI21DROPOUTN","MC",0]
[null,null,null,null,null,null,null,null,null,null,null,null,null,null,null,null,null,null,null,null,null,null,null,null,null,null,null,null,null,null,"",0,"VI21GHSN","MC",0]
[null,null,null,null,null,null,null,null,null,null,null,null,null,null,null,null,null,null,null,null,null,null,null,null,null,null,null,null,null,null,"",0,"VI21GRADALTDPLN","MC",0]
[null,null,null,null,null,null,null,null,null,null,null,null,null,null,null,null,null,null,null,null,null,null,null,null,null,null,null,null,null,null,"",0,"VI21MKCN","MC",0]
[null,null,null,null,null,null,null,null,null,null,null,null,null,null,null,null,null,null,null,null,null,null,null,null,null,null,null,null,null,null,"",0,"VI21RCN","MC",0]
[null,null,null,null,null,null,null,null,null,null,null,null,null,null,null,null,null,null,null,null,null,null,null,null,null,null,null,null,null,null,"",0,"VI21RMAN","MC",0]
[null,null,null,null,null,null,null,null,null,null,null,null,null,null,null,null,null,null,null,null,null,null,null,null,null,null,null,null,null,null,"",0,"VI21TRANN","MC",0]
[null,null,null,null,null,null,null,null,null,null,null,null,null,null,null,null,null,null,null,null,null,null,null,null,null,null,null,null,null,null,"",0,"FY","MC",0]
[null,null,null,null,null,null,null,null,null,null,null,null,null,null,null,null,null,null,null,null,null,null,null,null,null,null,null,null,null,null,"",0,"FDN","MC",0]
[null,null,null,null,null,null,null,null,null,null,null,null,null,null,null,null,null,null,null,null,null,null,null,null,null,null,null,null,null,null,"",0,"FDROPOUTN","MC",0]
[null,null,null,null,null,null,null,null,null,null,null,null,null,null,null,null,null,null,null,null,null,null,null,null,null,null,null,null,null,null,"",0,"FGHSN","MC",0]
[null,null,null,null,null,null,null,null,null,null,null,null,null,null,null,null,null,null,null,null,null,null,null,null,null,null,null,null,null,null,"",0,"FGRADALTDPLN","MC",0]
[null,null,null,null,null,null,null,null,null,null,null,null,null,null,null,null,null,null,null,null,null,null,null,null,null,null,null,null,null,null,"",0,"FMKCN","MC",0]
[null,null,null,null,null,null,null,null,null,null,null,null,null,null,null,null,null,null,null,null,null,null,null,null,null,null,null,null,null,null,"",0,"FRCN","MC",0]
[null,null,null,null,null,null,null,null,null,null,null,null,null,null,null,null,null,null,null,null,null,null,null,null,null,null,null,null,null,null,"",0,"FRMAN","MC",0]
[null,null,null,null,null,null,null,null,null,null,null,null,null,null,null,null,null,null,null,null,null,null,null,null,null,null,null,null,null,null,"",0,"FTRANN","MC",0]
[null,null,null,null,null,null,null,null,null,null,null,null,null,null,null,null,null,null,null,null,null,null,null,null,null,null,null,null,null,null,"",0,"MY","MC",0]
[null,null,null,null,null,null,null,null,null,null,null,null,null,null,null,null,null,null,null,null,null,null,null,null,null,null,null,null,null,null,"",0,"MDN","MC",0]
[null,null,null,null,null,null,null,null,null,null,null,null,null,null,null,null,null,null,null,null,null,null,null,null,null,null,null,null,null,null,"",0,"MDROPOUTN","MC",0]
[null,null,null,null,null,null,null,null,null,null,null,null,null,null,null,null,null,null,null,null,null,null,null,null,null,null,null,null,null,null,"",0,"MGHSN","MC",0]
[null,null,null,null,null,null,null,null,null,null,null,null,null,null,null,null,null,null,null,null,null,null,null,null,null,null,null,null,null,null,"",0,"MGRADALTDPLN","MC",0]
[null,null,null,null,null,null,null,null,null,null,null,null,null,null,null,null,null,null,null,null,null,null,null,null,null,null,null,null,null,null,"",0,"MMKCN","MC",0]
[null,null,null,null,null,null,null,null,null,null,null,null,null,null,null,null,null,null,null,null,null,null,null,null,null,null,null,null,null,null,"",0,"MRCN","MC",0]
[null,null,null,null,null,null,null,null,null,null,null,null,null,null,null,null,null,null,null,null,null,null,null,null,null,null,null,null,null,null,"",0,"MRMAN","MC",0]
[null,null,null,null,null,null,null,null,null,null,null,null,null,null,null,null,null,null,null,null,null,null,null,null,null,null,null,null,null,null,{"$f":"H845&I845&P845&Q845&R845&V845&W845","v":""},0,"MTRANN","MC",0]
[null,null,null,null,null,null,null,null,null,null,null,null,null,null,null,null,null,null,null,null,null,null,null,null,null,null,null,null,null,null,"",{"$f":"Y846","v":0},"AM7Y",{"$f":"IFERROR(VLOOKUP(AG846,$AE$13:$AF$1000,2,FALSE),\"MC\")","v":"MC"},{"$f":"IF(AH846=\"MC\",0,\"\")","v":0}]
[null,null,null,null,null,null,null,null,null,null,null,null,null,null,null,null,null,null,null,null,null,null,null,null,null,null,null,null,null,null,"",0,"AM7DN","MC",0]
[null,null,null,null,null,null,null,null,null,null,null,null,null,null,null,null,null,null,null,null,null,null,null,null,null,null,null,null,null,null,"",0,"AM7DROPOUTN","MC",0]
[null,null,null,null,null,null,null,null,null,null,null,null,null,null,null,null,null,null,null,null,null,null,null,null,null,null,null,null,null,null,"",0,"AM7GHSN","MC",0]
[null,null,null,null,null,null,null,null,null,null,null,null,null,null,null,null,null,null,null,null,null,null,null,null,null,null,null,null,null,null,"",0,"AM7GRADALTDPLN","MC",0]
[null,null,null,null,null,null,null,null,null,null,null,null,null,null,null,null,null,null,null,null,null,null,null,null,null,null,null,null,null,null,"",0,"AM7MKCN","MC",0]
[null,null,null,null,null,null,null,null,null,null,null,null,null,null,null,null,null,null,null,null,null,null,null,null,null,null,null,null,null,null,"",0,"AM7RCN","MC",0]
[null,null,null,null,null,null,null,null,null,null,null,null,null,null,null,null,null,null,null,null,null,null,null,null,null,null,null,null,null,null,"",0,"AM7RMAN","MC",0]
[null,null,null,null,null,null,null,null,null,null,null,null,null,null,null,null,null,null,null,null,null,null,null,null,null,null,null,null,null,null,"",0,"AM7TRANN","MC",0]
[null,null,null,null,null,null,null,null,null,null,null,null,null,null,null,null,null,null,null,null,null,null,null,null,null,null,null,null,null,null,"",0,"AS7Y","MC",0]
[null,null,null,null,null,null,null,null,null,null,null,null,null,null,null,null,null,null,null,null,null,null,null,null,null,null,null,null,null,null,"",0,"AS7DN","MC",0]
[null,null,null,null,null,null,null,null,null,null,null,null,null,null,null,null,null,null,null,null,null,null,null,null,null,null,null,null,null,null,"",0,"AS7DROPOUTN","MC",0]
[null,null,null,null,null,null,null,null,null,null,null,null,null,null,null,null,null,null,null,null,null,null,null,null,null,null,null,null,null,null,"",0,"AS7GHSN","MC",0]
[null,null,null,null,null,null,null,null,null,null,null,null,null,null,null,null,null,null,null,null,null,null,null,null,null,null,null,null,null,null,"",0,"AS7GRADALTDPLN","MC",0]
[null,null,null,null,null,null,null,null,null,null,null,null,null,null,null,null,null,null,null,null,null,null,null,null,null,null,null,null,null,null,"",0,"AS7MKCN","MC",0]
[null,null,null,null,null,null,null,null,null,null,null,null,null,null,null,null,null,null,null,null,null,null,null,null,null,null,null,null,null,null,"",0,"AS7RCN","MC",0]
[null,null,null,null,null,null,null,null,null,null,null,null,null,null,null,null,null,null,null,null,null,null,null,null,null,null,null,null,null,null,"",0,"AS7RMAN","MC",0]
[null,null,null,null,null,null,null,null,null,null,null,null,null,null,null,null,null,null,null,null,null,null,null,null,null,null,null,null,null,null,"",0,"AS7TRANN","MC",0]
[null,null,null,null,null,null,null,null,null,null,null,null,null,null,null,null,null,null,null,null,null,null,null,null,null,null,null,null,null,null,"",0,"BL7Y","MC",0]
[null,null,null,null,null,null,null,null,null,null,null,null,null,null,null,null,null,null,null,null,null,null,null,null,null,null,null,null,null,null,"",0,"BL7DN","MC",0]
[null,null,null,null,null,null,null,null,null,null,null,null,null,null,null,null,null,null,null,null,null,null,null,null,null,null,null,null,null,null,"",0,"BL7DROPOUTN","MC",0]
[null,null,null,null,null,null,null,null,null,null,null,null,null,null,null,null,null,null,null,null,null,null,null,null,null,null,null,null,null,null,"",0,"BL7GHSN","MC",0]
[null,null,null,null,null,null,null,null,null,null,null,null,null,null,null,null,null,null,null,null,null,null,null,null,null,null,null,null,null,null,"",0,"BL7GRADALTDPLN","MC",0]
[null,null,null,null,null,null,null,null,null,null,null,null,null,null,null,null,null,null,null,null,null,null,null,null,null,null,null,null,null,null,"",0,"BL7MKCN","MC",0]
[null,null,null,null,null,null,null,null,null,null,null,null,null,null,null,null,null,null,null,null,null,null,null,null,null,null,null,null,null,null,"",0,"BL7RCN","MC",0]
[null,null,null,null,null,null,null,null,null,null,null,null,null,null,null,null,null,null,null,null,null,null,null,null,null,null,null,null,null,null,"",0,"BL7RMAN","MC",0]
[null,null,null,null,null,null,null,null,null,null,null,null,null,null,null,null,null,null,null,null,null,null,null,null,null,null,null,null,null,null,"",0,"BL7TRANN","MC",0]
[null,null,null,null,null,null,null,null,null,null,null,null,null,null,null,null,null,null,null,null,null,null,null,null,null,null,null,null,null,null,"",0,"HI7Y","MC",0]
[null,null,null,null,null,null,null,null,null,null,null,null,null,null,null,null,null,null,null,null,null,null,null,null,null,null,null,null,null,null,"",0,"HI7DN","MC",0]
[null,null,null,null,null,null,null,null,null,null,null,null,null,null,null,null,null,null,null,null,null,null,null,null,null,null,null,null,null,null,"",0,"HI7DROPOUTN","MC",0]
[null,null,null,null,null,null,null,null,null,null,null,null,null,null,null,null,null,null,null,null,null,null,null,null,null,null,null,null,null,null,"",0,"HI7GHSN","MC",0]
[null,null,null,null,null,null,null,null,null,null,null,null,null,null,null,null,null,null,null,null,null,null,null,null,null,null,null,null,null,null,"",0,"HI7GRADALTDPLN","MC",0]
[null,null,null,null,null,null,null,null,null,null,null,null,null,null,null,null,null,null,null,null,null,null,null,null,null,null,null,null,null,null,"",0,"HI7MKCN","MC",0]
[null,null,null,null,null,null,null,null,null,null,null,null,null,null,null,null,null,null,null,null,null,null,null,null,null,null,null,null,null,null,"",0,"HI7RCN","MC",0]
[null,null,null,null,null,null,null,null,null,null,null,null,null,null,null,null,null,null,null,null,null,null,null,null,null,null,null,null,null,null,"",0,"HI7RMAN","MC",0]
[null,null,null,null,null,null,null,null,null,null,null,null,null,null,null,null,null,null,null,null,null,null,null,null,null,null,null,null,null,null,"",0,"HI7TRANN","MC",0]
[null,null,null,null,null,null,null,null,null,null,null,null,null,null,null,null,null,null,null,null,null,null,null,null,null,null,null,null,null,null,"",0,"MU7Y","MC",0]
[null,null,null,null,null,null,null,null,null,null,null,null,null,null,null,null,null,null,null,null,null,null,null,null,null,null,null,null,null,null,"",0,"MU7DN","MC",0]
[null,null,null,null,null,null,null,null,null,null,null,null,null,null,null,null,null,null,null,null,null,null,null,null,null,null,null,null,null,null,"",0,"MU7DROPOUTN","MC",0]
[null,null,null,null,null,null,null,null,null,null,null,null,null,null,null,null,null,null,null,null,null,null,null,null,null,null,null,null,null,null,"",0,"MU7GHSN","MC",0]
[null,null,null,null,null,null,null,null,null,null,null,null,null,null,null,null,null,null,null,null,null,null,null,null,null,null,null,null,null,null,"",0,"MU7GRADALTDPLN","MC",0]
[null,null,null,null,null,null,null,null,null,null,null,null,null,null,null,null,null,null,null,null,null,null,null,null,null,null,null,null,null,null,"",0,"MU7MKCN","MC",0]
[null,null,null,null,null,null,null,null,null,null,null,null,null,null,null,null,null,null,null,null,null,null,null,null,null,null,null,null,null,null,"",0,"MU7RCN","MC",0]
[null,null,null,null,null,null,null,null,null,null,null,null,null,null,null,null,null,null,null,null,null,null,null,null,null,null,null,null,null,null,"",0,"MU7RMAN","MC",0]
[null,null,null,null,null,null,null,null,null,null,null,null,null,null,null,null,null,null,null,null,null,null,null,null,null,null,null,null,null,null,"",0,"MU7TRANN","MC",0]
[null,null,null,null,null,null,null,null,null,null,null,null,null,null,null,null,null,null,null,null,null,null,null,null,null,null,null,null,null,null,"",0,"PI7Y","MC",0]
[null,null,null,null,null,null,null,null,null,null,null,null,null,null,null,null,null,null,null,null,null,null,null,null,null,null,null,null,null,null,"",0,"PI7DN","MC",0]
[null,null,null,null,null,null,null,null,null,null,null,null,null,null,null,null,null,null,null,null,null,null,null,null,null,null,null,null,null,null,"",0,"PI7DROPOUTN","MC",0]
[null,null,null,null,null,null,null,null,null,null,null,null,null,null,null,null,null,null,null,null,null,null,null,null,null,null,null,null,null,null,"",0,"PI7GHSN","MC",0]
[null,null,null,null,null,null,null,null,null,null,null,null,null,null,null,null,null,null,null,null,null,null,null,null,null,null,null,null,null,null,"",0,"PI7GRADALTDPLN","MC",0]
[null,null,null,null,null,null,null,null,null,null,null,null,null,null,null,null,null,null,null,null,null,null,null,null,null,null,null,null,null,null,"",0,"PI7MKCN","MC",0]
[null,null,null,null,null,null,null,null,null,null,null,null,null,null,null,null,null,null,null,null,null,null,null,null,null,null,null,null,null,null,"",0,"PI7RCN","MC",0]
[null,null,null,null,null,null,null,null,null,null,null,null,null,null,null,null,null,null,null,null,null,null,null,null,null,null,null,null,null,null,"",0,"PI7RMAN","MC",0]
[null,null,null,null,null,null,null,null,null,null,null,null,null,null,null,null,null,null,null,null,null,null,null,null,null,null,null,null,null,null,"",0,"PI7TRANN","MC",0]
[null,null,null,null,null,null,null,null,null,null,null,null,null,null,null,null,null,null,null,null,null,null,null,null,null,null,null,null,null,null,"",0,"WH7Y","MC",0]
[null,null,null,null,null,null,null,null,null,null,null,null,null,null,null,null,null,null,null,null,null,null,null,null,null,null,null,null,null,null,"",0,"WH7DN","MC",0]
[null,null,null,null,null,null,null,null,null,null,null,null,null,null,null,null,null,null,null,null,null,null,null,null,null,null,null,null,null,null,"",0,"WH7DROPOUTN","MC",0]
[null,null,null,null,null,null,null,null,null,null,null,null,null,null,null,null,null,null,null,null,null,null,null,null,null,null,null,null,null,null,"",0,"WH7GHSN","MC",0]
[null,null,null,null,null,null,null,null,null,null,null,null,null,null,null,null,null,null,null,null,null,null,null,null,null,null,null,null,null,null,"",0,"WH7GRADALTDPLN","MC",0]
[null,null,null,null,null,null,null,null,null,null,null,null,null,null,null,null,null,null,null,null,null,null,null,null,null,null,null,null,null,null,"",0,"WH7MKCN","MC",0]
[null,null,null,null,null,null,null,null,null,null,null,null,null,null,null,null,null,null,null,null,null,null,null,null,null,null,null,null,null,null,"",0,"WH7RCN","MC",0]
[null,null,null,null,null,null,null,null,null,null,null,null,null,null,null,null,null,null,null,null,null,null,null,null,null,null,null,null,null,null,"",0,"WH7RMAN","MC",0]
[null,null,null,null,null,null,null,null,null,null,null,null,null,null,null,null,null,null,null,null,null,null,null,null,null,null,null,null,null,null,"",0,"WH7TRANN","MC",0]
[null,null,null,null,null,null,null,null,null,null,null,null,null,null,null,null,null,null,null,null,null,null,null,null,null,null,null,null,null,null,{"$f":"H909&I909&P909&Q909&R909&V909&W909","v":""},null,null,"MC",0]
[null,null,null,null,null,null,null,null,null,null,null,null,null,null,null,null,null,null,null,null,null,null,null,null,null,null,null,null,null,null,"",null,null,{"$f":"IFERROR(VLOOKUP(AG910,$AE$13:$AF$1000,2,FALSE),\"MC\")","v":"MC"},{"$f":"IF(AH910=\"MC\",0,\"\")","v":0}]
[null,null,null,null,null,null,null,null,null,null,null,null,null,null,null,null,null,null,null,null,null,null,null,null,null,null,null,null,null,null,"",null,null,"MC",0]
[null,null,null,null,null,null,null,null,null,null,null,null,null,null,null,null,null,null,null,null,null,null,null,null,null,null,null,null,null,null,"",null,null,"MC",0]
[null,null,null,null,null,null,null,null,null,null,null,null,null,null,null,null,null,null,null,null,null,null,null,null,null,null,null,null,null,null,"",null,null,"MC",0]
[null,null,null,null,null,null,null,null,null,null,null,null,null,null,null,null,null,null,null,null,null,null,null,null,null,null,null,null,null,null,"",null,null,"MC",0]
[null,null,null,null,null,null,null,null,null,null,null,null,null,null,null,null,null,null,null,null,null,null,null,null,null,null,null,null,null,null,"",null,null,"MC",0]
[null,null,null,null,null,null,null,null,null,null,null,null,null,null,null,null,null,null,null,null,null,null,null,null,null,null,null,null,null,null,"",null,null,"MC",0]
[null,null,null,null,null,null,null,null,null,null,null,null,null,null,null,null,null,null,null,null,null,null,null,null,null,null,null,null,null,null,"",null,null,"MC",0]
[null,null,null,null,null,null,null,null,null,null,null,null,null,null,null,null,null,null,null,null,null,null,null,null,null,null,null,null,null,null,"",null,null,"MC",0]
[null,null,null,null,null,null,null,null,null,null,null,null,null,null,null,null,null,null,null,null,null,null,null,null,null,null,null,null,null,null,"",null,null,"MC",0]
[null,null,null,null,null,null,null,null,null,null,null,null,null,null,null,null,null,null,null,null,null,null,null,null,null,null,null,null,null,null,"",null,null,"MC",0]
[null,null,null,null,null,null,null,null,null,null,null,null,null,null,null,null,null,null,null,null,null,null,null,null,null,null,null,null,null,null,"",null,null,"MC",0]
[null,null,null,null,null,null,null,null,null,null,null,null,null,null,null,null,null,null,null,null,null,null,null,null,null,null,null,null,null,null,"",null,null,"MC",0]
[null,null,null,null,null,null,null,null,null,null,null,null,null,null,null,null,null,null,null,null,null,null,null,null,null,null,null,null,null,null,"",null,null,"MC",0]
[null,null,null,null,null,null,null,null,null,null,null,null,null,null,null,null,null,null,null,null,null,null,null,null,null,null,null,null,null,null,"",null,null,"MC",0]
[null,null,null,null,null,null,null,null,null,null,null,null,null,null,null,null,null,null,null,null,null,null,null,null,null,null,null,null,null,null,"",null,null,"MC",0]
[null,null,null,null,null,null,null,null,null,null,null,null,null,null,null,null,null,null,null,null,null,null,null,null,null,null,null,null,null,null,"",null,null,"MC",0]
[null,null,null,null,null,null,null,null,null,null,null,null,null,null,null,null,null,null,null,null,null,null,null,null,null,null,null,null,null,null,"",null,null,"MC",0]
[null,null,null,null,null,null,null,null,null,null,null,null,null,null,null,null,null,null,null,null,null,null,null,null,null,null,null,null,null,null,"",null,null,"MC",0]
[null,null,null,null,null,null,null,null,null,null,null,null,null,null,null,null,null,null,null,null,null,null,null,null,null,null,null,null,null,null,"",null,null,"MC",0]
[null,null,null,null,null,null,null,null,null,null,null,null,null,null,null,null,null,null,null,null,null,null,null,null,null,null,null,null,null,null,"",null,null,"MC",0]
[null,null,null,null,null,null,null,null,null,null,null,null,null,null,null,null,null,null,null,null,null,null,null,null,null,null,null,null,null,null,"",null,null,"MC",0]
[null,null,null,null,null,null,null,null,null,null,null,null,null,null,null,null,null,null,null,null,null,null,null,null,null,null,null,null,null,null,"",null,null,"MC",0]
[null,null,null,null,null,null,null,null,null,null,null,null,null,null,null,null,null,null,null,null,null,null,null,null,null,null,null,null,null,null,"",null,null,"MC",0]
[null,null,null,null,null,null,null,null,null,null,null,null,null,null,null,null,null,null,null,null,null,null,null,null,null,null,null,null,null,null,"",null,null,"MC",0]
[null,null,null,null,null,null,null,null,null,null,null,null,null,null,null,null,null,null,null,null,null,null,null,null,null,null,null,null,null,null,"",null,null,"MC",0]
[null,null,null,null,null,null,null,null,null,null,null,null,null,null,null,null,null,null,null,null,null,null,null,null,null,null,null,null,null,null,"",null,null,"MC",0]
[null,null,null,null,null,null,null,null,null,null,null,null,null,null,null,null,null,null,null,null,null,null,null,null,null,null,null,null,null,null,"",null,null,"MC",0]
[null,null,null,null,null,null,null,null,null,null,null,null,null,null,null,null,null,null,null,null,null,null,null,null,null,null,null,null,null,null,"",null,null,"MC",0]
[null,null,null,null,null,null,null,null,null,null,null,null,null,null,null,null,null,null,null,null,null,null,null,null,null,null,null,null,null,null,"",null,null,"MC",0]
[null,null,null,null,null,null,null,null,null,null,null,null,null,null,null,null,null,null,null,null,null,null,null,null,null,null,null,null,null,null,"",null,null,"MC",0]
[null,null,null,null,null,null,null,null,null,null,null,null,null,null,null,null,null,null,null,null,null,null,null,null,null,null,null,null,null,null,"",null,null,"MC",0]
[null,null,null,null,null,null,null,null,null,null,null,null,null,null,null,null,null,null,null,null,null,null,null,null,null,null,null,null,null,null,"",null,null,"MC",0]
[null,null,null,null,null,null,null,null,null,null,null,null,null,null,null,null,null,null,null,null,null,null,null,null,null,null,null,null,null,null,"",null,null,"MC",0]
[null,null,null,null,null,null,null,null,null,null,null,null,null,null,null,null,null,null,null,null,null,null,null,null,null,null,null,null,null,null,"",null,null,"MC",0]
[null,null,null,null,null,null,null,null,null,null,null,null,null,null,null,null,null,null,null,null,null,null,null,null,null,null,null,null,null,null,"",null,null,"MC",0]
[null,null,null,null,null,null,null,null,null,null,null,null,null,null,null,null,null,null,null,null,null,null,null,null,null,null,null,null,null,null,"",null,null,"MC",0]
[null,null,null,null,null,null,null,null,null,null,null,null,null,null,null,null,null,null,null,null,null,null,null,null,null,null,null,null,null,null,"",null,null,"MC",0]
[null,null,null,null,null,null,null,null,null,null,null,null,null,null,null,null,null,null,null,null,null,null,null,null,null,null,null,null,null,null,"",null,null,"MC",0]
[null,null,null,null,null,null,null,null,null,null,null,null,null,null,null,null,null,null,null,null,null,null,null,null,null,null,null,null,null,null,"",null,null,"MC",0]
[null,null,null,null,null,null,null,null,null,null,null,null,null,null,null,null,null,null,null,null,null,null,null,null,null,null,null,null,null,null,"",null,null,"MC",0]
[null,null,null,null,null,null,null,null,null,null,null,null,null,null,null,null,null,null,null,null,null,null,null,null,null,null,null,null,null,null,"",null,null,"MC",0]
[null,null,null,null,null,null,null,null,null,null,null,null,null,null,null,null,null,null,null,null,null,null,null,null,null,null,null,null,null,null,"",null,null,"MC",0]
[null,null,null,null,null,null,null,null,null,null,null,null,null,null,null,null,null,null,null,null,null,null,null,null,null,null,null,null,null,null,"",null,null,"MC",0]
[null,null,null,null,null,null,null,null,null,null,null,null,null,null,null,null,null,null,null,null,null,null,null,null,null,null,null,null,null,null,"",null,null,"MC",0]
[null,null,null,null,null,null,null,null,null,null,null,null,null,null,null,null,null,null,null,null,null,null,null,null,null,null,null,null,null,null,"",null,null,"MC",0]
[null,null,null,null,null,null,null,null,null,null,null,null,null,null,null,null,null,null,null,null,null,null,null,null,null,null,null,null,null,null,"",null,null,"MC",0]
[null,null,null,null,null,null,null,null,null,null,null,null,null,null,null,null,null,null,null,null,null,null,null,null,null,null,null,null,null,null,"",null,null,"MC",0]
[null,null,null,null,null,null,null,null,null,null,null,null,null,null,null,null,null,null,null,null,null,null,null,null,null,null,null,null,null,null,"",null,null,"MC",0]
[null,null,null,null,null,null,null,null,null,null,null,null,null,null,null,null,null,null,null,null,null,null,null,null,null,null,null,null,null,null,"",null,null,"MC",0]
[null,null,null,null,null,null,null,null,null,null,null,null,null,null,null,null,null,null,null,null,null,null,null,null,null,null,null,null,null,null,"",null,null,"MC",0]
[null,null,null,null,null,null,null,null,null,null,null,null,null,null,null,null,null,null,null,null,null,null,null,null,null,null,null,null,null,null,"",null,null,"MC",0]
[null,null,null,null,null,null,null,null,null,null,null,null,null,null,null,null,null,null,null,null,null,null,null,null,null,null,null,null,null,null,"",null,null,"MC",0]
[null,null,null,null,null,null,null,null,null,null,null,null,null,null,null,null,null,null,null,null,null,null,null,null,null,null,null,null,null,null,"",null,null,"MC",0]
[null,null,null,null,null,null,null,null,null,null,null,null,null,null,null,null,null,null,null,null,null,null,null,null,null,null,null,null,null,null,"",null,null,"MC",0]
[null,null,null,null,null,null,null,null,null,null,null,null,null,null,null,null,null,null,null,null,null,null,null,null,null,null,null,null,null,null,"",null,null,"MC",0]
[null,null,null,null,null,null,null,null,null,null,null,null,null,null,null,null,null,null,null,null,null,null,null,null,null,null,null,null,null,null,"",null,null,"MC",0]
[null,null,null,null,null,null,null,null,null,null,null,null,null,null,null,null,null,null,null,null,null,null,null,null,null,null,null,null,null,null,"",null,null,"MC",0]
[null,null,null,null,null,null,null,null,null,null,null,null,null,null,null,null,null,null,null,null,null,null,null,null,null,null,null,null,null,null,"",null,null,"MC",0]
[null,null,null,null,null,null,null,null,null,null,null,null,null,null,null,null,null,null,null,null,null,null,null,null,null,null,null,null,null,null,"",null,null,"MC",0]
[null,null,null,null,null,null,null,null,null,null,null,null,null,null,null,null,null,null,null,null,null,null,null,null,null,null,null,null,null,null,"",null,null,"MC",0]
[null,null,null,null,null,null,null,null,null,null,null,null,null,null,null,null,null,null,null,null,null,null,null,null,null,null,null,null,null,null,"",null,null,"MC",0]
[null,null,null,null,null,null,null,null,null,null,null,null,null,null,null,null,null,null,null,null,null,null,null,null,null,null,null,null,null,null,"",null,null,"MC",0]
[null,null,null,null,null,null,null,null,null,null,null,null,null,null,null,null,null,null,null,null,null,null,null,null,null,null,null,null,null,null,{"$f":"H973&I973&P973&Q973&R973&V973&W973","v":""},null,null,"MC",0]
[null,null,null,null,null,null,null,null,null,null,null,null,null,null,null,null,null,null,null,null,null,null,null,null,null,null,null,null,null,null,"",null,null,{"$f":"IFERROR(VLOOKUP(AG974,$AE$13:$AF$1000,2,FALSE),\"MC\")","v":"MC"},{"$f":"IF(AH974=\"MC\",0,\"\")","v":0}]
[null,null,null,null,null,null,null,null,null,null,null,null,null,null,null,null,null,null,null,null,null,null,null,null,null,null,null,null,null,null,"",null,null,"MC",0]
[null,null,null,null,null,null,null,null,null,null,null,null,null,null,null,null,null,null,null,null,null,null,null,null,null,null,null,null,null,null,"",null,null,"MC",0]
[null,null,null,null,null,null,null,null,null,null,null,null,null,null,null,null,null,null,null,null,null,null,null,null,null,null,null,null,null,null,"",null,null,"MC",0]
[null,null,null,null,null,null,null,null,null,null,null,null,null,null,null,null,null,null,null,null,null,null,null,null,null,null,null,null,null,null,"",null,null,"MC",0]
[null,null,null,null,null,null,null,null,null,null,null,null,null,null,null,null,null,null,null,null,null,null,null,null,null,null,null,null,null,null,"",null,null,"MC",0]
[null,null,null,null,null,null,null,null,null,null,null,null,null,null,null,null,null,null,null,null,null,null,null,null,null,null,null,null,null,null,"",null,null,"MC",0]
[null,null,null,null,null,null,null,null,null,null,null,null,null,null,null,null,null,null,null,null,null,null,null,null,null,null,null,null,null,null,"",null,null,"MC",0]
[null,null,null,null,null,null,null,null,null,null,null,null,null,null,null,null,null,null,null,null,null,null,null,null,null,null,null,null,null,null,"",null,null,"MC",0]
[null,null,null,null,null,null,null,null,null,null,null,null,null,null,null,null,null,null,null,null,null,null,null,null,null,null,null,null,null,null,"",null,null,"MC",0]
[null,null,null,null,null,null,null,null,null,null,null,null,null,null,null,null,null,null,null,null,null,null,null,null,null,null,null,null,null,null,"",null,null,"MC",0]
[null,null,null,null,null,null,null,null,null,null,null,null,null,null,null,null,null,null,null,null,null,null,null,null,null,null,null,null,null,null,"",null,null,"MC",0]
[null,null,null,null,null,null,null,null,null,null,null,null,null,null,null,null,null,null,null,null,null,null,null,null,null,null,null,null,null,null,"",null,null,"MC",0]
[null,null,null,null,null,null,null,null,null,null,null,null,null,null,null,null,null,null,null,null,null,null,null,null,null,null,null,null,null,null,"",null,null,"MC",0]
[null,null,null,null,null,null,null,null,null,null,null,null,null,null,null,null,null,null,null,null,null,null,null,null,null,null,null,null,null,null,"",null,null,"MC",0]
[null,null,null,null,null,null,null,null,null,null,null,null,null,null,null,null,null,null,null,null,null,null,null,null,null,null,null,null,null,null,"",null,null,"MC",0]
[null,null,null,null,null,null,null,null,null,null,null,null,null,null,null,null,null,null,null,null,null,null,null,null,null,null,null,null,null,null,"",null,null,"MC",0]
[null,null,null,null,null,null,null,null,null,null,null,null,null,null,null,null,null,null,null,null,null,null,null,null,null,null,null,null,null,null,"",null,null,"MC",0]
[null,null,null,null,null,null,null,null,null,null,null,null,null,null,null,null,null,null,null,null,null,null,null,null,null,null,null,null,null,null,"",null,null,"MC",0]
[null,null,null,null,null,null,null,null,null,null,null,null,null,null,null,null,null,null,null,null,null,null,null,null,null,null,null,null,null,null,"",null,null,"MC",0]
[null,null,null,null,null,null,null,null,null,null,null,null,null,null,null,null,null,null,null,null,null,null,null,null,null,null,null,null,null,null,"",null,null,"MC",0]
[null,null,null,null,null,null,null,null,null,null,null,null,null,null,null,null,null,null,null,null,null,null,null,null,null,null,null,null,null,null,"",null,null,"MC",0]
[null,null,null,null,null,null,null,null,null,null,null,null,null,null,null,null,null,null,null,null,null,null,null,null,null,null,null,null,null,null,"",null,null,"MC",0]
[null,null,null,null,null,null,null,null,null,null,null,null,null,null,null,null,null,null,null,null,null,null,null,null,null,null,null,null,null,null,"",null,null,"MC",0]
[null,null,null,null,null,null,null,null,null,null,null,null,null,null,null,null,null,null,null,null,null,null,null,null,null,null,null,null,null,null,"",null,null,"MC",0]
[null,null,null,null,null,null,null,null,null,null,null,null,null,null,null,null,null,null,null,null,null,null,null,null,null,null,null,null,null,null,"",null,null,"MC",0]
[null,null,null,null,null,null,null,null,null,null,null,null,null,null,null,null,null,null,null,null,null,null,null,null,null,null,null,null,null,null,"",null,null,"MC",0]
["End of worksheet",null,null,null,null,null,null,null,null,null,null,null,null,null,null,null,null,null,null,null,null,null,null,null,null,null,null,null,null,null,null,null,null,"MC",0]
[null,null,null,null,null,null,null,null,null,null,null,null,null,null,null,null,null,null,null,null,null,null,null,null,null,null,null,null,null,null,null,null,null,"MC",0]
[null,null,null,null,null,null,null,null,null,null,null,null,null,null,null,null,null,null,null,null,null,null,null,null,null,null,null,null,null,null,null,null,null,"MC",0]

{"sheet":"Year-to-Year Change","index":8,"n_rows":13,"n_cols":13,"rows_kept":13,"cut":false,"hidden":false,"merged":[[8,2,8,7],[9,2,9,7],[10,2,10,7],[12,2,12,7],[11,2,11,7],[0,1,0,12],[2,1,2,12],[5,2,5,7],[6,2,6,7],[7,2,7,7],[4,2,4,7]]}
[null,{"$f":"\"Year-to-Year Change - IDEA Exiting Data for School Years \"&'Prior Year FS009'!E12&\"  and \"&'Exiting (FS009)'!E12","v":"Year-to-Year Change - IDEA Exiting Data for School Years   and "}]
[]
[null,"Data Quality Report - Year-to-Year Change"]
[]
[null,"Data group ID","Basis of exit",null,null,null,null,null,"Prior year","Current year","Count difference","Percent difference","Year-to-year issue present"]
[null,85,"Died",null,null,null,null,null,{"$f":"IFERROR('Year-to-Year Change Details'!O19,\"\")","v":"MC"},{"$f":"IFERROR('Year-to-Year Change Details'!P19,\"\")","v":"MC"},{"$f":"IFERROR('Year-to-Year Change Details'!Q19,\"\")","v":""},{"$f":"IFERROR('Year-to-Year Change Details'!R19,\"\")","v":""},{"$f":"IFERROR(IF(SUMPRODUCT(--(ABS(K6)>50),--(ABS(L6)>0.3))=1,\"X\",\"\"),\"\")","v":""}]
[null,85,"Dropped out",null,null,null,null,null,{"$f":"IFERROR('Year-to-Year Change Details'!O21,\"\")","v":"MC"},{"$f":"IFERROR('Year-to-Year Change Details'!P21,\"\")","v":"MC"},{"$f":"IFERROR('Year-to-Year Change Details'!Q21,\"\")","v":""},{"$f":"IFERROR('Year-to-Year Change Details'!R21,\"\")","v":""},{"$f":"IFERROR(IF(SUMPRODUCT(--(ABS(K7)>50),--(ABS(L7)>0.3))=1,\"X\",\"\"),\"\")","v":""}]
[null,85,"Graduated with an alternate diploma",null,null,null,null,null,{"$f":"IFERROR('Year-to-Year Change Details'!O16,\"\")","v":"MC"},{"$f":"IFERROR('Year-to-Year Change Details'!P16,\"\")","v":"MC"},{"$f":"IFERROR('Year-to-Year Change Details'!Q16,\"\")","v":""},{"$f":"IFERROR('Year-to-Year Change Details'!R16,\"\")","v":""},""]
[null,85,"Graduated with regular high school diploma",null,null,null,null,null,{"$f":"IFERROR('Year-to-Year Change Details'!O15,\"\")","v":"MC"},{"$f":"IFERROR('Year-to-Year Change Details'!P15,\"\")","v":"MC"},{"$f":"IFERROR('Year-to-Year Change Details'!Q15,\"\")","v":""},{"$f":"IFERROR('Year-to-Year Change Details'!R15,\"\")","v":""},""]
[null,85,"Moved, known to be continuing",null,null,null,null,null,{"$f":"IFERROR('Year-to-Year Change Details'!O20,\"\")","v":"MC"},{"$f":"IFERROR('Year-to-Year Change Details'!P20,\"\")","v":"MC"},{"$f":"IFERROR('Year-to-Year Change Details'!Q20,\"\")","v":""},{"$f":"IFERROR('Year-to-Year Change Details'!R20,\"\")","v":""},""]
[null,85,"Reached maximum age",null,null,null,null,null,{"$f":"IFERROR('Year-to-Year Change Details'!O18,\"\")","v":"MC"},{"$f":"IFERROR('Year-to-Year Change Details'!P18,\"\")","v":"MC"},{"$f":"IFERROR('Year-to-Year Change Details'!Q18,\"\")","v":""},{"$f":"IFERROR('Year-to-Year Change Details'!R18,\"\")","v":""},""]
[null,85,"Received a certificate",null,null,null,null,null,{"$f":"IFERROR('Year-to-Year Change Details'!O17,\"\")","v":"MC"},{"$f":"IFERROR('Year-to-Year Change Details'!P17,\"\")","v":"MC"},{"$f":"IFERROR('Year-to-Year Change Details'!Q17,\"\")","v":""},{"$f":"IFERROR('Year-to-Year Change Details'!R17,\"\")","v":""},""]
[null,85,"Transferred to regular education",null,null,null,null,null,{"$f":"IFERROR('Year-to-Year Change Details'!O14,\"\")","v":"MC"},{"$f":"IFERROR('Year-to-Year Change Details'!P14,\"\")","v":"MC"},{"$f":"IFERROR('Year-to-Year Change Details'!Q14,\"\")","v":""},{"$f":"IFERROR('Year-to-Year Change Details'!R14,\"\")","v":""},""]

{"sheet":"Year-to-Year Change Details","index":9,"n_rows":68,"n_cols":58,"rows_kept":68,"cut":false,"hidden":false,"merged":[[44,29,44,32],[45,29,45,32],[46,29,46,32],[47,29,47,32],[48,29,48,32],[49,29,49,32],[50,29,50,32],[51,29,51,32],[52,29,52,32],[41,29,43,32],[41,33,41,56],[21,29,21,32],[22,29,22,32],[19,29,19,32],[20,29,20,32],[17,29,17,32],[18,29,18,32],[15,29,15,32],[16,29,16,32],[28,29,28,35],[31,29,31,32],[27,37,27,40],[28,37,28,40],[38,29,38,32],[31,37,31,43],[0,1,0,24],[2,10,2,14],[2,15,2,17],[3,15,3,17],[4,15,4,17],[5,15,5,17],[13,37,13,40],[14,37,14,40],[11,37,11,43],[12,1,12,4],[12,10,12,13],[12,19,12,20],[5,29,5,32],[6,15,6,17],[7,15,7,17],[8,15,8,17],[9,15,9,17],[11,1,11,8],[11,10,11,17],[11,19,11,24],[11,29,11,35],[13,29,13,32],[14,29,14,32],[25,1,25,4],[25,29,25,32],[24,29,24,32],[23,10,23,17],[23,29,23,32],[11,45,11,51],[24,10,25,13],[24,14,25,14],[24,15,25,15],[24,16,25,16],[24,17,25,17],[15,37,15,40],[16,37,16,40],[17,37,17,40],[18,37,18,40],[19,37,19,40],[20,37,20,40],[23,37,23,43],[36,1,36,4],[36,29,36,32],[37,1,37,4],[37,29,37,32],[13,10,13,13],[14,10,14,13],[15,10,15,13],[16,10,16,13],[17,10,17,13],[18,10,18,13],[19,10,19,13],[20,10,20,13],[21,10,21,13],[29,1,30,4],[29,5,30,5],[29,6,30,6],[29,7,30,7],[29,8,30,8],[34,29,34,32],[35,1,35,4],[35,29,35,32],[32,29,32,32],[33,29,33,32],[32,17,33,17],[65,1,65,4],[66,1,66,17],[64,1,64,4],[60,1,60,4],[61,1,61,4],[62,1,62,4],[63,1,63,4],[52,1,52,4],[57,1,57,4],[58,1,58,4],[59,1,59,4],[51,1,51,4],[47,1,47,4],[48,1,48,4],[49,1,49,4],[50,1,50,4],[41,5,41,24],[54,5,54,20],[28,1,28,8],[31,1,31,4],[33,1,33,4],[41,1,43,4],[54,1,56,4],[44,1,44,4],[45,1,45,4],[46,1,46,4],[34,1,34,4],[31,10,31,17],[28,10,28,13],[38,1,38,4],[32,1,32,4],[32,10,33,13],[32,14,33,14],[32,15,33,15],[32,16,33,16]]}
[null,{"$f":"\"Year-to-Year Change Details - IDEA Exiting Data for School Years \"&'Prior Year FS009'!E12&\" and \"&'Exiting (FS009)'!E12","v":"Year-to-Year Change Details - IDEA Exiting Data for School Years  and "}]
[]
[null,null,null,null,null,null,null,null,null,null,"Number of differences greater than +/- 50 children and greater than +/- 30 percent, by category",null,null,null,null,"Total"]
[null,null,null,null,null,null,null,null,null,null,"Disability category",null,null,null,null,{"$f":"AJ26","v":0}]
[null,null,null,null,null,null,null,null,null,null,"Racial ethnic",null,null,null,null,{"$f":"AJ39","v":0}]
[null,null,null,null,null,null,null,null,null,null,"Basis of exit",null,null,null,null,{"$f":"AR22","v":0},null,null,null,null,null,null,null,null,null,null,null,null,null,"Total of the Education Unit",null,null,null,{"$f":"IFERROR(IF(INDEX(Ttl_C002,MATCH(AJ6,CurrentListing_C002,0))=\"\",\"No Data\",INDEX(Ttl_C002,MATCH(AJ6,CurrentListing_C002,0))),\"MC\")","v":"MC"},null,"Y"]
[null,null,null,null,null,null,null,null,null,null,"English learner status",null,null,null,null,{"$f":"AR29","v":0}]
[null,null,null,null,null,null,null,null,null,null,"Sex",null,null,null,null,{"$f":"AR37","v":0}]
[null,null,null,null,null,null,null,null,null,null,"Age",null,null,null,null,{"$f":"AZ22","v":0}]
[null,null,null,null,null,null,null,null,null,null,"Basis of exit, by age (ages 14-21, excluding calculated total)",null,null,null,null,{"$f":"BF53","v":0}]
[]
[null,"Year-to-year change, by disability category ",null,null,null,null,null,null,null,null,"Year-to-year change, by basis of exit",null,null,null,null,null,null,null,null,"Year-to-year change, by age",null,null,null,null,null,null,null,null,null,"Subtotal 3 - Children with Disabilities by Disability Category ",null,null,null,null,null,null,null,"Subtotal 6 - Children with Disabilities by Educational Environment",null,null,null,null,null,null,null,"Subtotal 2 - Children with Disabilities by Age "]
[null,"Disability category ",null,null,null,"Prior year","Current year","Count\ndifference","Percent difference",null,"Basis of exit",null,null,null,"Prior year","Current year","Count\ndifference","Percent difference",null,"Age",null,"Prior year","Current year","Count\ndifference","Percent difference",null,null,null,null,"Disability Category ",null,null,null,"Count\ndifference","Percent difference","Greater than 20 and 20%",null,"Basis of exit",null,null,null,"Count\ndifference","Percent difference","Greater than 20 and 20%",null,"Age",null,null,null,"Count\ndifference","Percent difference","Greater than 20 and 20%"]
[null,"Intellectual disability",null,null,null,{"$f":"IFERROR('Prior Year FS009'!AH373,\"MC\")","v":"MC"},{"$f":"Subtotals!M15","v":"MC"},{"$f":"IFERROR(G14-F14,\"\")","v":""},{"$f":"IFERROR((G14-F14)/F14,\"\")","v":""},null,"Transferred to regular education",null,null,null,{"$f":"IFERROR('Prior Year FS009'!$AH$21,\"MC\")","v":"MC"},{"$f":"IFERROR(Subtotals!F15,\"\")","v":"MC"},{"$f":"IFERROR(P14-O14,\"\")","v":""},{"$f":"IFERROR((P14-O14)/O14,\"\")","v":""},null,"14 years old",null,{"$f":"IFERROR('Prior Year FS009'!AH40,\"MC\")","v":"MC"},{"$f":"Subtotals!M31","v":"MC"},{"$f":"IFERROR(W14-V14,\"\")","v":""},{"$f":"IFERROR((W14-V14)/V14,\"\")","v":""},null,null,null,null,"Intellectual Disability",null,null,null,{"$f":"IF(ABS(H14)>50,1,0)","v":{"$error":"#VALUE!"}},{"$f":"IF(ABS(I14)>0.3,1,0)","v":{"$error":"#VALUE!"}},{"$f":"IF(SUMPRODUCT(--(ABS(H14)>50),--(ABS(I14)>0.3))=1,\"1\",\"\")","v":{"$error":"#VALUE!"}},null,"Transferred to regular education",null,null,null,{"$f":"IF(ABS(Q14)>50,1,0)","v":{"$error":"#VALUE!"}},{"$f":"IF(ABS(R14)>0.3,1,0)","v":{"$error":"#VALUE!"}},{"$f":"IF(SUMPRODUCT(--(ABS(Q14)>50),--(ABS(R14)>0.3))=1,\"1\",\"\")","v":{"$error":"#VALUE!"}},null,"14 years ",null,null,null,{"$f":"IF(ABS(X15)>50,1,0)","v":{"$error":"#VALUE!"}},{"$f":"IF(ABS(Y15)>0.3,1,0)","v":{"$error":"#VALUE!"}},{"$f":"IF(SUMPRODUCT(--(ABS(X15)>50),--(ABS(Y15)>0.3))=1,\"1\",\"\")","v":{"$error":"#VALUE!"}}]
[null,"Hearing impairment",null,null,null,{"$f":"IFERROR('Prior Year FS009'!AH243,\"MC\")","v":"MC"},{"$f":"Subtotals!M16","v":"MC"},{"$f":"IFERROR(G15-F15,\"\")","v":""},{"$f":"IFERROR((G15-F15)/F15,\"\")","v":""},null,"Graduated with regular high school diploma",null,null,null,{"$f":"IFERROR('Prior Year FS009'!$AH$16,\"MC\")","v":"MC"},{"$f":"IFERROR(Subtotals!F16,\"\")","v":"MC"},{"$f":"IFERROR(P15-O15,\"\")","v":""},{"$f":"IFERROR((P15-O15)/O15,\"\")","v":""},null,"15 years old",null,{"$f":"IFERROR('Prior Year FS009'!AH41,\"MC\")","v":"MC"},{"$f":"Subtotals!M32","v":"MC"},{"$f":"IFERROR(W15-V15,\"\")","v":""},{"$f":"IFERROR((W15-V15)/V15,\"\")","v":""},null,null,null,null,"Hearing Impairment",null,null,null,{"$error":"#VALUE!"},{"$error":"#VALUE!"},{"$error":"#VALUE!"},null,"Graduated with regular high school diploma",null,null,null,{"$error":"#VALUE!"},{"$error":"#VALUE!"},{"$error":"#VALUE!"},null,"15 years ",null,null,null,{"$error":"#VALUE!"},{"$error":"#VALUE!"},{"$error":"#VALUE!"}]
[null,"Speech or language impairment",null,null,null,{"$f":"IFERROR('Prior Year FS009'!AH633,\"MC\")","v":"MC"},{"$f":"Subtotals!M17","v":"MC"},"","",null,"Graduated with an alternate diploma",null,null,null,{"$f":"IFERROR('Prior Year FS009'!$AH$17,\"MC\")","v":"MC"},{"$f":"IFERROR(Subtotals!F17,\"\")","v":"MC"},"","",null,"16 years old",null,{"$f":"IFERROR('Prior Year FS009'!AH42,\"MC\")","v":"MC"},{"$f":"Subtotals!M33","v":"MC"},"","",null,null,null,null,"Speech or Language Impairment",null,null,null,{"$error":"#VALUE!"},{"$error":"#VALUE!"},{"$error":"#VALUE!"},null,"Graduated with an alternate diploma",null,null,null,{"$error":"#VALUE!"},{"$error":"#VALUE!"},{"$error":"#VALUE!"},null,"16 years ",null,null,null,{"$error":"#VALUE!"},{"$error":"#VALUE!"},{"$error":"#VALUE!"}]
[null,"Visual impairment",null,null,null,{"$f":"IFERROR('Prior Year FS009'!AH763,\"MC\")","v":"MC"},{"$f":"Subtotals!M18","v":"MC"},"","",null,"Received a certificate",null,null,null,{"$f":"IFERROR('Prior Year FS009'!$AH$19,\"MC\")","v":"MC"},{"$f":"IFERROR(Subtotals!F18,\"\")","v":"MC"},"","",null,"17 years old",null,{"$f":"IFERROR('Prior Year FS009'!AH43,\"MC\")","v":"MC"},{"$f":"Subtotals!M34","v":"MC"},"","",null,null,null,null,"Visual Impairment",null,null,null,{"$error":"#VALUE!"},{"$error":"#VALUE!"},{"$error":"#VALUE!"},null,"Received a certificate",null,null,null,{"$error":"#VALUE!"},{"$error":"#VALUE!"},{"$error":"#VALUE!"},null,"17 years ",null,null,null,{"$error":"#VALUE!"},{"$error":"#VALUE!"},{"$error":"#VALUE!"}]
[null,"Emotional disturbance",null,null,null,{"$f":"IFERROR('Prior Year FS009'!AH178,\"MC\")","v":"MC"},{"$f":"Subtotals!M19","v":"MC"},"","",null,"Reached maximum age",null,null,null,{"$f":"IFERROR('Prior Year FS009'!$AH$20,\"MC\")","v":"MC"},{"$f":"IFERROR(Subtotals!F19,\"\")","v":"MC"},"","",null,"18 years old",null,{"$f":"IFERROR('Prior Year FS009'!AH44,\"MC\")","v":"MC"},{"$f":"Subtotals!M35","v":"MC"},"","",null,null,null,null,"Emotional Disturbance",null,null,null,{"$error":"#VALUE!"},{"$error":"#VALUE!"},{"$error":"#VALUE!"},null,"Reached maximum age",null,null,null,{"$error":"#VALUE!"},{"$error":"#VALUE!"},{"$error":"#VALUE!"},null,"18 years ",null,null,null,{"$error":"#VALUE!"},{"$error":"#VALUE!"},{"$error":"#VALUE!"}]
[null,"Orthopedic impairment",null,null,null,{"$f":"IFERROR('Prior Year FS009'!AH503,\"MC\")","v":"MC"},{"$f":"Subtotals!M20","v":"MC"},"","",null,"Died",null,null,null,{"$f":"IFERROR('Prior Year FS009'!$AH$14,\"MC\")","v":"MC"},{"$f":"IFERROR(Subtotals!F20,\"\")","v":"MC"},"","",null,"19 years old",null,{"$f":"IFERROR('Prior Year FS009'!AH45,\"MC\")","v":"MC"},{"$f":"Subtotals!M36","v":"MC"},"","",null,null,null,null,"Orthopedic Impairment",null,null,null,{"$error":"#VALUE!"},{"$error":"#VALUE!"},{"$error":"#VALUE!"},null,"Died",null,null,null,{"$error":"#VALUE!"},{"$error":"#VALUE!"},{"$error":"#VALUE!"},null,"19 years ",null,null,null,{"$error":"#VALUE!"},{"$error":"#VALUE!"},{"$error":"#VALUE!"}]
[null,"Other health impairment ",null,null,null,{"$f":"IFERROR('Prior Year FS009'!AH438,\"MC\")","v":"MC"},{"$f":"Subtotals!M21","v":"MC"},"","",null,"Moved, known to be continuing",null,null,null,{"$f":"IFERROR('Prior Year FS009'!$AH$18,\"MC\")","v":"MC"},{"$f":"IFERROR(Subtotals!F21,\"\")","v":"MC"},"","",null,"20 years old",null,{"$f":"IFERROR('Prior Year FS009'!AH46,\"MC\")","v":"MC"},{"$f":"Subtotals!M37","v":"MC"},"","",null,null,null,null,"Other Health Impairment ",null,null,null,{"$error":"#VALUE!"},{"$error":"#VALUE!"},{"$error":"#VALUE!"},null,"Moved, known to be continuing",null,null,null,{"$error":"#VALUE!"},{"$error":"#VALUE!"},{"$error":"#VALUE!"},null,"20 years ",null,null,null,{"$error":"#VALUE!"},{"$error":"#VALUE!"},{"$error":"#VALUE!"}]
[null,"Specific learning disability",null,null,null,{"$f":"IFERROR('Prior Year FS009'!AH568,\"MC\")","v":"MC"},{"$f":"Subtotals!M22","v":"MC"},"","",null,"Dropped out",null,null,null,{"$f":"IFERROR('Prior Year FS009'!$AH$15,\"MC\")","v":"MC"},{"$f":"IFERROR(Subtotals!F22,\"\")","v":"MC"},"","",null,"21 years old",null,{"$f":"IFERROR('Prior Year FS009'!AH47,\"MC\")","v":"MC"},{"$f":"Subtotals!M38","v":"MC"},"","",null,null,null,null,"Specific Learning Disability",null,null,null,{"$error":"#VALUE!"},{"$error":"#VALUE!"},{"$error":"#VALUE!"},null,"Dropped out",null,null,null,{"$error":"#VALUE!"},{"$error":"#VALUE!"},{"$error":"#VALUE!"},null,"21 years ",null,null,null,0,{"$error":"#VALUE!"},{"$error":"#VALUE!"}]
[null,"Deaf-blindness",null,null,null,{"$f":"IFERROR('Prior Year FS009'!AH113,\"MC\")","v":"MC"},{"$f":"Subtotals!M23","v":"MC"},"","",null,"Calculated subtotal",null,null,null,{"$f":"SUM(O14:O21)","v":0},{"$f":"SUM(P14:P21)","v":0},0,{"$f":"IFERROR((P22-O22)/O22,\"\")","v":""},null,"Calculated subtotal",null,{"$f":"SUM(V14:V21)","v":0},{"$f":"SUM(W14:W21)","v":0},{"$f":"IFERROR(W22-V22,\"\")","v":0},{"$f":"IFERROR((W22-V22)/V22,\"\")","v":""},null,null,null,null,"Deaf–blindness",null,null,null,{"$error":"#VALUE!"},{"$error":"#VALUE!"},{"$error":"#VALUE!"},null,"Count Subtotal",null,null,null,{"$f":"SUM(AP14:AP21)","v":{"$error":"#VALUE!"}},{"$f":"SUM(AQ14:AQ21)","v":{"$error":"#VALUE!"}},{"$f":"COUNTIF(AR14:AR21,\"=1\")","v":0},null,"Count Subtotal",null,null,null,{"$f":"SUM(AX14:AX21)","v":{"$error":"#VALUE!"}},{"$f":"SUM(AY14:AY21)","v":{"$error":"#VALUE!"}},{"$f":"COUNTIF(AZ14:AZ21,\"=1\")","v":0}]
[null,"Multiple disabilities",null,null,null,{"$f":"IFERROR('Prior Year FS009'!AH308,\"MC\")","v":"MC"},{"$f":"Subtotals!M24","v":"MC"},"","",null,null,null,null,null,null,null,null,null,null,null,null,null,null,null,null,null,null,null,null,"Multiple Disabilities",null,null,null,{"$error":"#VALUE!"},{"$error":"#VALUE!"},{"$error":"#VALUE!"}]
[null,"Autism",null,null,null,{"$f":"IFERROR('Prior Year FS009'!AH48,\"MC\")","v":"MC"},{"$f":"Subtotals!M25","v":"MC"},"","",null,"Year-to-year change, by English learner status",null,null,null,null,null,null,null,null,null,null,null,null,null,null,null,null,null,null,"Autism",null,null,null,{"$error":"#VALUE!"},{"$error":"#VALUE!"},{"$error":"#VALUE!"},null,"Subtotal 5 - Children with Disabilities by LEP status"]
[null,"Traumatic brain injury",null,null,null,{"$f":"IFERROR('Prior Year FS009'!AH698,\"MC\")","v":"MC"},{"$f":"Subtotals!M26","v":"MC"},"","",null,"English learner status",null,null,null,"Prior year","Current year","Count\ndifference","Percent difference",null,null,null,null,null,null,null,null,null,null,null,"Traumatic Brain Injury",null,null,null,{"$error":"#VALUE!"},{"$error":"#VALUE!"},{"$error":"#VALUE!"},null,"LEP Status",null,null,null,"Count\ndifference","Percent difference","Greater than 20 and 20%"]
[null,"Calculated subtotal",null,null,null,{"$f":"SUM(F14:F25)","v":0},{"$f":"SUM(G14:G25)","v":0},{"$f":"G26-F26","v":0},{"$f":"IFERROR((G26-F26)/F26,\"\")","v":""},null,null,null,null,null,null,null,null,null,null,null,null,null,null,null,null,null,null,null,null,"Count Subtotal",null,null,null,{"$f":"SUM(AH14:AH25)","v":{"$error":"#VALUE!"}},{"$f":"SUM(AI14:AI25)","v":{"$error":"#VALUE!"}},{"$f":"COUNTIF(AJ14:AJ25,\"=1\")","v":0}]
[null,null,null,null,null,null,null,null,null,null,"English learner",null,null,null,{"$f":"IFERROR('Prior Year FS009'!AH22,\"MC\")","v":"MC"},{"$f":"Subtotals!M43","v":"MC"},{"$f":"IFERROR(P27-O27,\"\")","v":""},{"$f":"IFERROR((P27-O27)/O27,\"\")","v":""},null,null,null,null,null,null,null,null,null,null,null,null,null,null,null,null,null,null,null,"Limited English Proficient (LEP) Student",null,null,null,{"$f":"IF(ABS(Q27)>50,1,0)","v":{"$error":"#VALUE!"}},{"$f":"IF(ABS(R27)>0.3,1,0)","v":{"$error":"#VALUE!"}},{"$f":"IF(SUMPRODUCT(--(ABS(Q27)>50),--(ABS(R27)>0.3))=1,\"1\",\"\")","v":{"$error":"#VALUE!"}}]
[null,null,null,null,null,null,null,null,null,null,"Non-English learner",null,null,null,{"$f":"IFERROR('Prior Year FS009'!AH31,\"MC\")","v":"MC"},{"$f":"Subtotals!M44","v":"MC"},{"$f":"IFERROR(P28-O28,\"\")","v":""},{"$f":"IFERROR((P28-O28)/O28,\"\")","v":""},null,null,null,null,null,null,null,null,null,null,null,null,null,null,null,null,null,null,null,"Non–Limited English Proficient (Non–LEP) Student",null,null,null,{"$f":"IF(ABS(Q28)>50,1,0)","v":{"$error":"#VALUE!"}},{"$f":"IF(ABS(R28)>0.3,1,0)","v":{"$error":"#VALUE!"}},{"$f":"IF(SUMPRODUCT(--(ABS(Q28)>50),--(ABS(R28)>0.3))=1,\"1\",\"\")","v":{"$error":"#VALUE!"}}]
[null,"Year-to-year change, by racial ethnic",null,null,null,null,null,null,null,null,"Calculated subtotal",null,null,null,{"$f":"SUM(O27:O28)","v":0},{"$f":"SUM(P27:P28)","v":0},{"$f":"IFERROR(P29-O29,\"\")","v":0},{"$f":"IFERROR((P29-O29)/O29,\"\")","v":""},null,null,null,null,null,null,null,null,null,null,null,"Subtotal 4 - Children with Disabilities by Racial Ethnic",null,null,null,null,null,null,null,"Count Subtotal",null,null,null,{"$f":"SUM(AP27:AP28)","v":{"$error":"#VALUE!"}},{"$f":"SUM(AQ27:AQ28)","v":{"$error":"#VALUE!"}},{"$f":"COUNTIF(AR27:AR28,\"=1\")","v":0}]
[null,"Racial ethnic",null,null,null,"Prior year","Current year","Count\ndifference","Percent difference",null,null,null,null,null,null,null,null,null,null,null,null,null,null,null,null,null,null,null,null,"Racial Ethnic",null,null,null,"Count\ndifference","Percent difference","Greater than 20 and 20%"]
[]
[null,"Hispanic/Latino ",null,null,null,{"$f":"IFERROR('Prior Year FS009'!AH873,\"MC\")","v":"MC"},{"$f":"Subtotals!F31","v":"MC"},{"$f":"IFERROR(G32-F32,\"\")","v":""},{"$f":"IFERROR((G32-F32)/F32,\"\")","v":""},null,"Year-to-year change, by sex",null,null,null,null,null,null,null,null,null,null,null,null,null,null,null,null,null,null,"Hispanic/Latino ",null,null,null,{"$f":"IF(ABS(H32)>50,1,0)","v":{"$error":"#VALUE!"}},{"$f":"IF(ABS(I32)>0.3,1,0)","v":{"$error":"#VALUE!"}},{"$f":"IF(SUMPRODUCT(--(ABS(H32)>50),--(ABS(I32)>0.3))=1,\"1\",\"\")","v":{"$error":"#VALUE!"}},null,"Subtotal 1 - Children with Disabilities by Sex"]
[null,"American Indian or Alaska Native ",null,null,null,{"$f":"IFERROR('Prior Year FS009'!AH846,\"MC\")","v":"MC"},{"$f":"Subtotals!F32","v":"MC"},"","",null,"Sex",null,null,null,"Prior year","Current year","Count\ndifference","Percent difference",null,null,null,null,null,null,null,null,null,null,null,"American Indian or Alaska Native ",null,null,null,{"$error":"#VALUE!"},{"$error":"#VALUE!"},{"$error":"#VALUE!"},null,"Sex",null,null,null,"Count\ndifference","Percent difference","Greater than 20 and 20%"]
[null,"Asian ",null,null,null,{"$f":"IFERROR('Prior Year FS009'!AH855,\"MC\")","v":"MC"},{"$f":"Subtotals!F33","v":"MC"},"","",null,null,null,null,null,null,null,null,null,null,null,null,null,null,null,null,null,null,null,null,"Asian ",null,null,null,{"$error":"#VALUE!"},{"$error":"#VALUE!"},{"$error":"#VALUE!"}]
[null,"Black or African American ",null,null,null,{"$f":"IFERROR('Prior Year FS009'!AH864,\"MC\")","v":"MC"},{"$f":"Subtotals!F34","v":"MC"},"","",null,"Male",null,null,null,{"$f":"IFERROR('Prior Year FS009'!AH837,\"MC\")","v":"MC"},{"$f":"Subtotals!F43","v":"MC"},{"$f":"IFERROR(P35-O35,\"\")","v":""},{"$f":"IFERROR((P35-O35)/O35,\"\")","v":""},null,null,null,null,null,null,null,null,null,null,null,"Black or African American ",null,null,null,{"$error":"#VALUE!"},{"$error":"#VALUE!"},{"$error":"#VALUE!"},null,"Male",null,null,null,{"$f":"IF(ABS(Q35)>50,1,0)","v":{"$error":"#VALUE!"}},{"$f":"IF(ABS(R35)>0.3,1,0)","v":{"$error":"#VALUE!"}},{"$f":"IF(SUMPRODUCT(--(ABS(Q35)>50),--(ABS(R35)>0.3))=1,\"1\",\"\")","v":{"$error":"#VALUE!"}}]
[null,"Native Hawaiian or Other Pacific Islander ",null,null,null,{"$f":"IFERROR('Prior Year FS009'!AH891,\"MC\")","v":"MC"},{"$f":"Subtotals!F35","v":"MC"},"","",null,"Female",null,null,null,{"$f":"IFERROR('Prior Year FS009'!AH828,\"MC\")","v":"MC"},{"$f":"Subtotals!F44","v":"MC"},{"$f":"IFERROR(P36-O36,\"\")","v":""},{"$f":"IFERROR((P36-O36)/O36,\"\")","v":""},null,null,null,null,null,null,null,null,null,null,null,"Native Hawaiian or Other Pacific Islander ",null,null,null,{"$error":"#VALUE!"},{"$error":"#VALUE!"},{"$error":"#VALUE!"},null,"Female",null,null,null,{"$f":"IF(ABS(Q36)>50,1,0)","v":{"$error":"#VALUE!"}},{"$f":"IF(ABS(R36)>0.3,1,0)","v":{"$error":"#VALUE!"}},{"$f":"IF(SUMPRODUCT(--(ABS(Q36)>50),--(ABS(R36)>0.3))=1,\"1\",\"\")","v":{"$error":"#VALUE!"}}]
[null,"White ",null,null,null,{"$f":"IFERROR('Prior Year FS009'!AH900,\"MC\")","v":"MC"},{"$f":"Subtotals!F36","v":"MC"},"","",null,"Calculated subtotal",null,null,null,{"$f":"SUM(O35:O36)","v":0},{"$f":"SUM(P35:P36)","v":0},{"$f":"IFERROR(P37-O37,\"\")","v":0},{"$f":"IFERROR((P37-O37)/O37,\"\")","v":""},null,null,null,null,null,null,null,null,null,null,null,"White ",null,null,null,{"$error":"#VALUE!"},{"$error":"#VALUE!"},{"$error":"#VALUE!"},null,"Count Subtotal",null,null,null,{"$f":"SUM(AP35:AP36)","v":{"$error":"#VALUE!"}},{"$f":"SUM(AQ35:AQ36)","v":{"$error":"#VALUE!"}},{"$f":"COUNTIF(AR35:AR36,\"=1\")","v":0}]
[null,"Two or more races",null,null,null,{"$f":"IFERROR('Prior Year FS009'!AH882,\"MC\")","v":"MC"},{"$f":"Subtotals!F37","v":"MC"},"","",null,null,null,null,null,null,null,null,null,null,null,null,null,null,null,null,null,null,null,null,"Two or More Races",null,null,null,{"$error":"#VALUE!"},{"$error":"#VALUE!"},{"$error":"#VALUE!"}]
[null,"Calculated subtotal",null,null,null,{"$f":"SUM(F32:F38)","v":0},{"$f":"SUM(G32:G38)","v":0},0,"",null,null,null,null,null,null,null,null,null,null,null,null,null,null,null,null,null,null,null,null,"Count Subtotal",null,null,null,{"$f":"SUM(AH32:AH38)","v":{"$error":"#VALUE!"}},{"$f":"SUM(AI32:AI38)","v":{"$error":"#VALUE!"}},{"$f":"COUNTIF(AJ32:AJ38,\"=1\")","v":0}]
[]
[]
[null,"Basis of exit ",null,null,null,"Year-to-year change, by age and basis of exit (count) (ages 14, 15, 16, 17, and 18)",null,null,null,null,null,null,null,null,null,null,null,null,null,null,null,null,null,null,null,null,null,null,null,"Student count by basis of exit ",null,null,null,"Year-to-year comparison, by age and disability category (count) (ages 14 through 21)"]
[null,null,null,null,null,"Prior year","Current year","Count\ndifference","Percent difference","Prior year","Current year","Count\ndifference","Percent difference","Prior year","Current year","Count\ndifference","Percent difference","Prior year","Current year","Count\ndifference","Percent difference","Prior year","Current year","Count\ndifference","Percent difference",null,null,null,null,null,null,null,null,"Prior year","Current year","Greater than 20 and 20%","Count\ndifference","Percent difference","Greater than 20 and 20%","Prior year","Current year","Greater than 20 and 20%","Count\ndifference","Percent difference","Greater than 20 and 20%","Prior year","Current year","Greater than 20 and 20%","Count\ndifference","Percent difference","Greater than 20 and 20%","Prior year","Current year","Greater than 20 and 20%","Count\ndifference","Percent difference","Greater than 20 and 20%"]
[null,null,null,null,null,14,14,14,14,15,15,15,15,16,16,16,16,17,17,17,17,18,18,18,18,null,null,null,null,null,null,null,null,14,14,14,15,15,15,16,16,16,17,17,17,18,18,18,19,19,19,20,20,20,21,21,21]
[null,"Transferred to regular education",null,null,null,{"$f":"'Prior Year FS009'!AM20","v":0},{"$f":"'Category Sets A-D'!B14","v":""},{"$f":"IFERROR(G45-F45,\"\")","v":""},{"$f":"IFERROR((G45-F45)/F45,\"\")","v":""},{"$f":"'Prior Year FS009'!AN20","v":0},{"$f":"'Category Sets A-D'!C14","v":""},{"$f":"IFERROR(K45-J45,\"\")","v":""},{"$f":"IFERROR((K45-J45)/J45,\"\")","v":""},{"$f":"'Prior Year FS009'!AO20","v":0},{"$f":"'Category Sets A-D'!D14","v":""},{"$f":"IFERROR(O45-N45,\"\")","v":""},{"$f":"IFERROR((O45-N45)/N45,\"\")","v":""},{"$f":"'Prior Year FS009'!AP20","v":0},{"$f":"'Category Sets A-D'!E14","v":""},{"$f":"IFERROR(S45-R45,\"\")","v":""},{"$f":"IFERROR((S45-R45)/R45,\"\")","v":""},{"$f":"'Prior Year FS009'!AQ20","v":0},{"$f":"'Category Sets A-D'!F14","v":""},{"$f":"IFERROR(W45-V45,\"\")","v":""},{"$f":"IFERROR((W45-V45)/V45,\"\")","v":""},null,null,null,null,"Transferred to regular education",null,null,null,{"$f":"IF(ABS(H45)>50,1,0)","v":{"$error":"#VALUE!"}},{"$f":"IF(ABS(I45)>0.3,1,0)","v":{"$error":"#VALUE!"}},{"$f":"IF(SUMPRODUCT(--(ABS(H45)>50),--(ABS(I45)>0.3))=1,\"1\",\"\")","v":{"$error":"#VALUE!"}},{"$f":"IF(ABS(L45)>50,1,0)","v":{"$error":"#VALUE!"}},{"$f":"IF(ABS(M45)>0.3,1,0)","v":{"$error":"#VALUE!"}},{"$f":"IF(SUMPRODUCT(--(ABS(L45)>50),--(ABS(M45)>0.3))=1,\"1\",\"\")","v":{"$error":"#VALUE!"}},{"$f":"IF(ABS(P45)>50,1,0)","v":{"$error":"#VALUE!"}},{"$f":"IF(ABS(Q45)>0.3,1,0)","v":{"$error":"#VALUE!"}},{"$f":"IF(SUMPRODUCT(--(ABS(P45)>50),--(ABS(Q45)>0.3))=1,\"1\",\"\")","v":{"$error":"#VALUE!"}},{"$f":"IF(ABS(T45)>50,1,0)","v":{"$error":"#VALUE!"}},{"$f":"IF(ABS(U45)>0.3,1,0)","v":{"$error":"#VALUE!"}},{"$f":"IF(SUMPRODUCT(--(ABS(T45)>50),--(ABS(U45)>0.3))=1,\"1\",\"\")","v":{"$error":"#VALUE!"}},{"$f":"IF(ABS(X45)>50,1,0)","v":{"$error":"#VALUE!"}},{"$f":"IF(ABS(Y45)>0.3,1,0)","v":{"$error":"#VALUE!"}},{"$f":"IF(SUMPRODUCT(--(ABS(X45)>50),--(ABS(Y45)>0.3))=1,\"1\",\"\")","v":{"$error":"#VALUE!"}},{"$f":"IF(ABS(H58)>50,1,0)","v":{"$error":"#VALUE!"}},{"$f":"IF(ABS(I58)>0.3,1,0)","v":{"$error":"#VALUE!"}},{"$f":"IF(SUMPRODUCT(--(ABS(H58)>50),--(ABS(I58)>0.3))=1,\"1\",\"\")","v":{"$error":"#VALUE!"}},{"$f":"IF(ABS(L58)>50,1,0)","v":{"$error":"#VALUE!"}},{"$f":"IF(ABS(M58)>0.3,1,0)","v":{"$error":"#VALUE!"}},{"$f":"IF(SUMPRODUCT(--(ABS(L58)>50),--(ABS(M58)>0.3))=1,\"1\",\"\")","v":{"$error":"#VALUE!"}},{"$f":"IF(ABS(P58)>50,1,0)","v":{"$error":"#VALUE!"}},{"$f":"IF(ABS(Q58)>0.3,1,0)","v":{"$error":"#VALUE!"}},{"$f":"IF(SUMPRODUCT(--(ABS(P58)>50),--(ABS(Q58)>0.3))=1,\"1\",\"\")","v":{"$error":"#VALUE!"}}]
[null,"Graduated with regular high school diploma",null,null,null,{"$f":"'Prior Year FS009'!AM15","v":0},{"$f":"'Category Sets A-D'!B15","v":""},{"$f":"IFERROR(G46-F46,\"\")","v":""},{"$f":"IFERROR((G46-F46)/F46,\"\")","v":""},{"$f":"'Prior Year FS009'!AN15","v":0},{"$f":"'Category Sets A-D'!C15","v":""},{"$f":"IFERROR(K46-J46,\"\")","v":""},{"$f":"IFERROR((K46-J46)/J46,\"\")","v":""},{"$f":"'Prior Year FS009'!AO15","v":0},{"$f":"'Category Sets A-D'!D15","v":""},{"$f":"IFERROR(O46-N46,\"\")","v":""},{"$f":"IFERROR((O46-N46)/N46,\"\")","v":""},{"$f":"'Prior Year FS009'!AP15","v":0},{"$f":"'Category Sets A-D'!E15","v":""},{"$f":"IFERROR(S46-R46,\"\")","v":""},{"$f":"IFERROR((S46-R46)/R46,\"\")","v":""},{"$f":"'Prior Year FS009'!AQ15","v":0},{"$f":"'Category Sets A-D'!F15","v":""},{"$f":"IFERROR(W46-V46,\"\")","v":""},{"$f":"IFERROR((W46-V46)/V46,\"\")","v":""},null,null,null,null,"Graduated with regular high school diploma",null,null,null,{"$f":"IF(ABS(H46)>50,1,0)","v":{"$error":"#VALUE!"}},{"$f":"IF(ABS(I46)>0.3,1,0)","v":{"$error":"#VALUE!"}},{"$f":"IF(SUMPRODUCT(--(ABS(H46)>50),--(ABS(I46)>0.3))=1,\"1\",\"\")","v":{"$error":"#VALUE!"}},{"$f":"IF(ABS(L46)>50,1,0)","v":{"$error":"#VALUE!"}},{"$f":"IF(ABS(M46)>0.3,1,0)","v":{"$error":"#VALUE!"}},{"$f":"IF(SUMPRODUCT(--(ABS(L46)>50),--(ABS(M46)>0.3))=1,\"1\",\"\")","v":{"$error":"#VALUE!"}},{"$f":"IF(ABS(P46)>50,1,0)","v":{"$error":"#VALUE!"}},{"$f":"IF(ABS(Q46)>0.3,1,0)","v":{"$error":"#VALUE!"}},{"$f":"IF(SUMPRODUCT(--(ABS(P46)>50),--(ABS(Q46)>0.3))=1,\"1\",\"\")","v":{"$error":"#VALUE!"}},{"$f":"IF(ABS(T46)>50,1,0)","v":{"$error":"#VALUE!"}},{"$f":"IF(ABS(U46)>0.3,1,0)","v":{"$error":"#VALUE!"}},{"$f":"IF(SUMPRODUCT(--(ABS(T46)>50),--(ABS(U46)>0.3))=1,\"1\",\"\")","v":{"$error":"#VALUE!"}},{"$error":"#VALUE!"},{"$error":"#VALUE!"},{"$error":"#VALUE!"},{"$error":"#VALUE!"},{"$error":"#VALUE!"},{"$error":"#VALUE!"},{"$error":"#VALUE!"},{"$error":"#VALUE!"},{"$error":"#VALUE!"},{"$error":"#VALUE!"},{"$error":"#VALUE!"},{"$error":"#VALUE!"}]
[null,"Graduated with an alternate diploma",null,null,null,{"$f":"'Prior Year FS009'!AM16","v":0},{"$f":"'Category Sets A-D'!B16","v":""},"","",{"$f":"'Prior Year FS009'!AN16","v":0},{"$f":"'Category Sets A-D'!C16","v":""},"","",{"$f":"'Prior Year FS009'!AO16","v":0},{"$f":"'Category Sets A-D'!D16","v":""},"","",{"$f":"'Prior Year FS009'!AP16","v":0},{"$f":"'Category Sets A-D'!E16","v":""},"","",{"$f":"'Prior Year FS009'!AQ16","v":0},{"$f":"'Category Sets A-D'!F16","v":""},"","",null,null,null,null,"Graduated with an alternate diploma",null,null,null,{"$f":"IF(ABS(H47)>50,1,0)","v":{"$error":"#VALUE!"}},{"$f":"IF(ABS(I47)>0.3,1,0)","v":{"$error":"#VALUE!"}},{"$f":"IF(SUMPRODUCT(--(ABS(H47)>50),--(ABS(I47)>0.3))=1,\"1\",\"\")","v":{"$error":"#VALUE!"}},{"$f":"IF(ABS(L47)>50,1,0)","v":{"$error":"#VALUE!"}},{"$f":"IF(ABS(M47)>0.3,1,0)","v":{"$error":"#VALUE!"}},{"$f":"IF(SUMPRODUCT(--(ABS(L47)>50),--(ABS(M47)>0.3))=1,\"1\",\"\")","v":{"$error":"#VALUE!"}},{"$f":"IF(ABS(P47)>50,1,0)","v":{"$error":"#VALUE!"}},{"$f":"IF(ABS(Q47)>0.3,1,0)","v":{"$error":"#VALUE!"}},{"$f":"IF(SUMPRODUCT(--(ABS(P47)>50),--(ABS(Q47)>0.3))=1,\"1\",\"\")","v":{"$error":"#VALUE!"}},{"$f":"IF(ABS(T47)>50,1,0)","v":{"$error":"#VALUE!"}},{"$f":"IF(ABS(U47)>0.3,1,0)","v":{"$error":"#VALUE!"}},{"$f":"IF(SUMPRODUCT(--(ABS(T47)>50),--(ABS(U47)>0.3))=1,\"1\",\"\")","v":{"$error":"#VALUE!"}},{"$error":"#VALUE!"},{"$error":"#VALUE!"},{"$error":"#VALUE!"},{"$error":"#VALUE!"},{"$error":"#VALUE!"},{"$error":"#VALUE!"},{"$error":"#VALUE!"},{"$error":"#VALUE!"},{"$error":"#VALUE!"},{"$error":"#VALUE!"},{"$error":"#VALUE!"},{"$error":"#VALUE!"}]
[null,"Received a certificate",null,null,null,{"$f":"'Prior Year FS009'!AM18","v":0},{"$f":"'Category Sets A-D'!B17","v":""},"","",{"$f":"'Prior Year FS009'!AN18","v":0},{"$f":"'Category Sets A-D'!C17","v":""},"","",{"$f":"'Prior Year FS009'!AO18","v":0},{"$f":"'Category Sets A-D'!D17","v":""},"","",{"$f":"'Prior Year FS009'!AP18","v":0},{"$f":"'Category Sets A-D'!E17","v":""},"","",{"$f":"'Prior Year FS009'!AQ18","v":0},{"$f":"'Category Sets A-D'!F17","v":""},"","",null,null,null,null,"Received a certificate",null,null,null,{"$f":"IF(ABS(H48)>50,1,0)","v":{"$error":"#VALUE!"}},{"$f":"IF(ABS(I48)>0.3,1,0)","v":{"$error":"#VALUE!"}},{"$f":"IF(SUMPRODUCT(--(ABS(H48)>50),--(ABS(I48)>0.3))=1,\"1\",\"\")","v":{"$error":"#VALUE!"}},{"$f":"IF(ABS(L48)>50,1,0)","v":{"$error":"#VALUE!"}},{"$f":"IF(ABS(M48)>0.3,1,0)","v":{"$error":"#VALUE!"}},{"$f":"IF(SUMPRODUCT(--(ABS(L48)>50),--(ABS(M48)>0.3))=1,\"1\",\"\")","v":{"$error":"#VALUE!"}},{"$f":"IF(ABS(P48)>50,1,0)","v":{"$error":"#VALUE!"}},{"$f":"IF(ABS(Q48)>0.3,1,0)","v":{"$error":"#VALUE!"}},{"$f":"IF(SUMPRODUCT(--(ABS(P48)>50),--(ABS(Q48)>0.3))=1,\"1\",\"\")","v":{"$error":"#VALUE!"}},{"$f":"IF(ABS(T48)>50,1,0)","v":{"$error":"#VALUE!"}},{"$f":"IF(ABS(U48)>0.3,1,0)","v":{"$error":"#VALUE!"}},{"$f":"IF(SUMPRODUCT(--(ABS(T48)>50),--(ABS(U48)>0.3))=1,\"1\",\"\")","v":{"$error":"#VALUE!"}},{"$error":"#VALUE!"},{"$error":"#VALUE!"},{"$error":"#VALUE!"},{"$error":"#VALUE!"},{"$error":"#VALUE!"},{"$error":"#VALUE!"},{"$error":"#VALUE!"},{"$error":"#VALUE!"},{"$error":"#VALUE!"},{"$error":"#VALUE!"},{"$error":"#VALUE!"},{"$error":"#VALUE!"}]
[null,"Reached maximum age",null,null,null,null,null,0,"",null,null,0,"",null,null,0,"",null,null,0,"",{"$f":"'Prior Year FS009'!AQ19","v":0},{"$f":"'Category Sets A-D'!F18","v":""},"","",null,null,null,null,"Reached maximum age",null,null,null,null,null,null,null,null,null,null,null,null,null,null,null,{"$error":"#VALUE!"},{"$error":"#VALUE!"},{"$error":"#VALUE!"},{"$error":"#VALUE!"},{"$error":"#VALUE!"},{"$error":"#VALUE!"},{"$error":"#VALUE!"},{"$error":"#VALUE!"},{"$error":"#VALUE!"},{"$error":"#VALUE!"},{"$error":"#VALUE!"},{"$error":"#VALUE!"}]
[null,"Died",null,null,null,{"$f":"'Prior Year FS009'!AM13","v":0},{"$f":"'Category Sets A-D'!B19","v":""},"","",{"$f":"'Prior Year FS009'!AN13","v":0},{"$f":"'Category Sets A-D'!C19","v":""},"","",{"$f":"'Prior Year FS009'!AO13","v":0},{"$f":"'Category Sets A-D'!D19","v":""},"","",{"$f":"'Prior Year FS009'!AP13","v":0},{"$f":"'Category Sets A-D'!E19","v":""},"","",{"$f":"'Prior Year FS009'!AQ13","v":0},{"$f":"'Category Sets A-D'!F19","v":""},"","",null,null,null,null,"Died",null,null,null,{"$f":"IF(ABS(H50)>50,1,0)","v":{"$error":"#VALUE!"}},{"$f":"IF(ABS(I50)>0.3,1,0)","v":{"$error":"#VALUE!"}},{"$f":"IF(SUMPRODUCT(--(ABS(H50)>50),--(ABS(I50)>0.3))=1,\"1\",\"\")","v":{"$error":"#VALUE!"}},{"$f":"IF(ABS(L50)>50,1,0)","v":{"$error":"#VALUE!"}},{"$f":"IF(ABS(M50)>0.3,1,0)","v":{"$error":"#VALUE!"}},{"$f":"IF(SUMPRODUCT(--(ABS(L50)>50),--(ABS(M50)>0.3))=1,\"1\",\"\")","v":{"$error":"#VALUE!"}},{"$f":"IF(ABS(P50)>50,1,0)","v":{"$error":"#VALUE!"}},{"$f":"IF(ABS(Q50)>0.3,1,0)","v":{"$error":"#VALUE!"}},{"$f":"IF(SUMPRODUCT(--(ABS(P50)>50),--(ABS(Q50)>0.3))=1,\"1\",\"\")","v":{"$error":"#VALUE!"}},{"$f":"IF(ABS(T50)>50,1,0)","v":{"$error":"#VALUE!"}},{"$f":"IF(ABS(U50)>0.3,1,0)","v":{"$error":"#VALUE!"}},{"$f":"IF(SUMPRODUCT(--(ABS(T50)>50),--(ABS(U50)>0.3))=1,\"1\",\"\")","v":{"$error":"#VALUE!"}},{"$error":"#VALUE!"},{"$error":"#VALUE!"},{"$error":"#VALUE!"},{"$error":"#VALUE!"},{"$error":"#VALUE!"},{"$error":"#VALUE!"},{"$error":"#VALUE!"},{"$error":"#VALUE!"},{"$error":"#VALUE!"},{"$error":"#VALUE!"},{"$error":"#VALUE!"},{"$error":"#VALUE!"}]
[null,"Moved, known to be continuing",null,null,null,{"$f":"'Prior Year FS009'!AM17","v":0},{"$f":"'Category Sets A-D'!B20","v":""},"","",{"$f":"'Prior Year FS009'!AN17","v":0},{"$f":"'Category Sets A-D'!C20","v":""},"","",{"$f":"'Prior Year FS009'!AO17","v":0},{"$f":"'Category Sets A-D'!D20","v":""},"","",{"$f":"'Prior Year FS009'!AP17","v":0},{"$f":"'Category Sets A-D'!E20","v":""},"","",{"$f":"'Prior Year FS009'!AQ17","v":0},{"$f":"'Category Sets A-D'!F20","v":""},"","",null,null,null,null,"Moved, known to be continuing",null,null,null,{"$f":"IF(ABS(H51)>50,1,0)","v":{"$error":"#VALUE!"}},{"$f":"IF(ABS(I51)>0.3,1,0)","v":{"$error":"#VALUE!"}},{"$f":"IF(SUMPRODUCT(--(ABS(H51)>50),--(ABS(I51)>0.3))=1,\"1\",\"\")","v":{"$error":"#VALUE!"}},{"$f":"IF(ABS(L51)>50,1,0)","v":{"$error":"#VALUE!"}},{"$f":"IF(ABS(M51)>0.3,1,0)","v":{"$error":"#VALUE!"}},{"$f":"IF(SUMPRODUCT(--(ABS(L51)>50),--(ABS(M51)>0.3))=1,\"1\",\"\")","v":{"$error":"#VALUE!"}},{"$f":"IF(ABS(P51)>50,1,0)","v":{"$error":"#VALUE!"}},{"$f":"IF(ABS(Q51)>0.3,1,0)","v":{"$error":"#VALUE!"}},{"$f":"IF(SUMPRODUCT(--(ABS(P51)>50),--(ABS(Q51)>0.3))=1,\"1\",\"\")","v":{"$error":"#VALUE!"}},{"$f":"IF(ABS(T51)>50,1,0)","v":{"$error":"#VALUE!"}},{"$f":"IF(ABS(U51)>0.3,1,0)","v":{"$error":"#VALUE!"}},{"$f":"IF(SUMPRODUCT(--(ABS(T51)>50),--(ABS(U51)>0.3))=1,\"1\",\"\")","v":{"$error":"#VALUE!"}},{"$error":"#VALUE!"},{"$error":"#VALUE!"},{"$error":"#VALUE!"},{"$error":"#VALUE!"},{"$error":"#VALUE!"},{"$error":"#VALUE!"},{"$error":"#VALUE!"},{"$error":"#VALUE!"},{"$error":"#VALUE!"},{"$error":"#VALUE!"},{"$error":"#VALUE!"},{"$error":"#VALUE!"}]
[null,"Dropped out",null,null,null,{"$f":"'Prior Year FS009'!AM14","v":0},{"$f":"'Category Sets A-D'!B21","v":""},"","",{"$f":"'Prior Year FS009'!AN14","v":0},{"$f":"'Category Sets A-D'!C21","v":""},"","",{"$f":"'Prior Year FS009'!AO14","v":0},{"$f":"'Category Sets A-D'!D21","v":""},"","",{"$f":"'Prior Year FS009'!AP14","v":0},{"$f":"'Category Sets A-D'!E21","v":""},"","",{"$f":"'Prior Year FS009'!AQ14","v":0},{"$f":"'Category Sets A-D'!F21","v":""},"","",null,null,null,null,"Dropped out",null,null,null,{"$f":"IF(ABS(H52)>50,1,0)","v":{"$error":"#VALUE!"}},{"$f":"IF(ABS(I52)>0.3,1,0)","v":{"$error":"#VALUE!"}},{"$f":"IF(SUMPRODUCT(--(ABS(H52)>50),--(ABS(I52)>0.3))=1,\"1\",\"\")","v":{"$error":"#VALUE!"}},{"$f":"IF(ABS(L52)>50,1,0)","v":{"$error":"#VALUE!"}},{"$f":"IF(ABS(M52)>0.3,1,0)","v":{"$error":"#VALUE!"}},{"$f":"IF(SUMPRODUCT(--(ABS(L52)>50),--(ABS(M52)>0.3))=1,\"1\",\"\")","v":{"$error":"#VALUE!"}},{"$f":"IF(ABS(P52)>50,1,0)","v":{"$error":"#VALUE!"}},{"$f":"IF(ABS(Q52)>0.3,1,0)","v":{"$error":"#VALUE!"}},{"$f":"IF(SUMPRODUCT(--(ABS(P52)>50),--(ABS(Q52)>0.3))=1,\"1\",\"\")","v":{"$error":"#VALUE!"}},{"$f":"IF(ABS(T52)>50,1,0)","v":{"$error":"#VALUE!"}},{"$f":"IF(ABS(U52)>0.3,1,0)","v":{"$error":"#VALUE!"}},{"$f":"IF(SUMPRODUCT(--(ABS(T52)>50),--(ABS(U52)>0.3))=1,\"1\",\"\")","v":{"$error":"#VALUE!"}},{"$error":"#VALUE!"},{"$error":"#VALUE!"},{"$error":"#VALUE!"},{"$error":"#VALUE!"},{"$error":"#VALUE!"},{"$error":"#VALUE!"},{"$error":"#VALUE!"},{"$error":"#VALUE!"},{"$error":"#VALUE!"},{"$error":"#VALUE!"},{"$error":"#VALUE!"},{"$error":"#VALUE!"}]
[null,"Calculated subtotal",null,null,null,{"$f":"SUM(F45:F52)","v":0},{"$f":"SUM(G45:G52)","v":0},{"$f":"IFERROR(G53-F53,\"\")","v":0},{"$f":"IFERROR((G53-F53)/F53,\"\")","v":""},{"$f":"SUM(J45:J52)","v":0},{"$f":"SUM(K45:K52)","v":0},{"$f":"IFERROR(K53-J53,\"\")","v":0},{"$f":"IFERROR((K53-J53)/J53,\"\")","v":""},{"$f":"SUM(N45:N52)","v":0},{"$f":"SUM(O45:O52)","v":0},{"$f":"IFERROR(O53-N53,\"\")","v":0},{"$f":"IFERROR((O53-N53)/N53,\"\")","v":""},{"$f":"SUM(R45:R52)","v":0},{"$f":"SUM(S45:S52)","v":0},{"$f":"IFERROR(S53-R53,\"\")","v":0},{"$f":"IFERROR((S53-R53)/R53,\"\")","v":""},{"$f":"SUM(V45:V52)","v":0},{"$f":"SUM(W45:W52)","v":0},{"$f":"IFERROR(W53-V53,\"\")","v":0},{"$f":"IFERROR((W53-V53)/V53,\"\")","v":""},null,null,null,null,"Calculated subtotal",null,null,null,{"$f":"SUM(AH45:AH52)","v":{"$error":"#VALUE!"}},{"$f":"SUM(AI45:AI52)","v":{"$error":"#VALUE!"}},{"$f":"COUNTIF(AJ45:AJ52,\"=1\")","v":0},{"$error":"#VALUE!"},{"$error":"#VALUE!"},{"$f":"COUNTIF(AM45:AM52,\"=1\")","v":0},{"$error":"#VALUE!"},{"$error":"#VALUE!"},{"$f":"COUNTIF(AP45:AP52,\"=1\")","v":0},{"$error":"#VALUE!"},{"$error":"#VALUE!"},{"$f":"COUNTIF(AS45:AS52,\"=1\")","v":0},{"$error":"#VALUE!"},{"$error":"#VALUE!"},{"$f":"COUNTIF(AV45:AV52,\"=1\")","v":0},{"$error":"#VALUE!"},{"$error":"#VALUE!"},{"$f":"COUNTIF(AY45:AY52,\"=1\")","v":0},{"$error":"#VALUE!"},{"$error":"#VALUE!"},{"$f":"COUNTIF(BB45:BB52,\"=1\")","v":0},{"$error":"#VALUE!"},{"$error":"#VALUE!"},{"$f":"COUNTIF(BE45:BE52,\"=1\")","v":0},{"$f":"SUM(AJ53,AM53,AP53,AS53,AV53,AY53,BB53,BE53)","v":0}]
[]
[null,"Basis of exit ",null,null,null,"Year-to-year change, by age and basis of exit (count) (ages 19, 20, and 21, and total for all ages 14–21)"]
[null,null,null,null,null,"Prior year","Current year","Count\ndifference","Percent difference","Prior year","Current year","Count\ndifference","Percent difference","Prior year","Current year","Count\ndifference","Percent difference","Prior year","Current year","Count\ndifference","Percent difference"]
[null,null,null,null,null,19,19,19,19,20,20,20,20,21,21,21,21,"Total","Total","Total","Total"]
[null,"Transferred to regular education",null,null,null,{"$f":"'Prior Year FS009'!AR20","v":0},{"$f":"'Category Sets A-D'!G14","v":""},{"$f":"IFERROR(G58-F58,\"\")","v":""},{"$f":"IFERROR((G58-F58)/F58,\"\")","v":""},{"$f":"'Prior Year FS009'!AS20","v":0},{"$f":"'Category Sets A-D'!H14","v":""},{"$f":"IFERROR(K58-J58,\"\")","v":""},{"$f":"IFERROR((K58-J58)/J58,\"\")","v":""},{"$f":"'Prior Year FS009'!AT20","v":0},{"$f":"'Category Sets A-D'!I14","v":""},{"$f":"IFERROR(O58-N58,\"\")","v":""},{"$f":"IFERROR((O58-N58)/N58,\"\")","v":""},{"$f":"IFERROR(SUM(F45,J45,N45,R45,V45,F58,J58,N58),\"\")","v":0},{"$f":"IFERROR(SUM(G45,K45,O45,S45,W45,G58,K58,O58),\"\")","v":0},{"$f":"IFERROR(S58-R58,\"\")","v":0},{"$f":"IFERROR((S58-R58)/R58,\"\")","v":""}]
[null,"Graduated with regular high school diploma",null,null,null,{"$f":"'Prior Year FS009'!AR15","v":0},{"$f":"'Category Sets A-D'!G15","v":""},{"$f":"IFERROR(G59-F59,\"\")","v":""},{"$f":"IFERROR((G59-F59)/F59,\"\")","v":""},{"$f":"'Prior Year FS009'!AS15","v":0},{"$f":"'Category Sets A-D'!H15","v":""},{"$f":"IFERROR(K59-J59,\"\")","v":""},{"$f":"IFERROR((K59-J59)/J59,\"\")","v":""},{"$f":"'Prior Year FS009'!AT15","v":0},{"$f":"'Category Sets A-D'!I15","v":""},{"$f":"IFERROR(O59-N59,\"\")","v":""},{"$f":"IFERROR((O59-N59)/N59,\"\")","v":""},{"$f":"IFERROR(SUM(F46,J46,N46,R46,V46,F59,J59,N59),\"\")","v":0},{"$f":"IFERROR(SUM(G46,K46,O46,S46,W46,G59,K59,O59),\"\")","v":0},{"$f":"IFERROR(S59-R59,\"\")","v":0},{"$f":"IFERROR((S59-R59)/R59,\"\")","v":""}]
[null,"Graduated with an alternate diploma",null,null,null,{"$f":"'Prior Year FS009'!AR16","v":0},{"$f":"'Category Sets A-D'!G16","v":""},"","",{"$f":"'Prior Year FS009'!AS16","v":0},{"$f":"'Category Sets A-D'!H16","v":""},"","",{"$f":"'Prior Year FS009'!AT16","v":0},{"$f":"'Category Sets A-D'!I16","v":""},"","",0,0,0,""]
[null,"Received a certificate",null,null,null,{"$f":"'Prior Year FS009'!AR18","v":0},{"$f":"'Category Sets A-D'!G17","v":""},"","",{"$f":"'Prior Year FS009'!AS18","v":0},{"$f":"'Category Sets A-D'!H17","v":""},"","",{"$f":"'Prior Year FS009'!AT18","v":0},{"$f":"'Category Sets A-D'!I17","v":""},"","",{"$f":"IFERROR(SUM(F48,J48,N48,R48,V48,F61,J61,N61),\"\")","v":0},0,0,""]
[null,"Reached maximum age",null,null,null,{"$f":"'Prior Year FS009'!AR19","v":0},{"$f":"'Category Sets A-D'!G18","v":""},"","",{"$f":"'Prior Year FS009'!AS19","v":0},{"$f":"'Category Sets A-D'!H18","v":""},"","",{"$f":"'Prior Year FS009'!AT19","v":0},{"$f":"'Category Sets A-D'!I18","v":""},"","",0,0,0,""]
[null,"Died",null,null,null,{"$f":"'Prior Year FS009'!AR13","v":0},{"$f":"'Category Sets A-D'!G19","v":""},"","",{"$f":"'Prior Year FS009'!AS13","v":0},{"$f":"'Category Sets A-D'!H19","v":""},"","",{"$f":"'Prior Year FS009'!AT13","v":0},{"$f":"'Category Sets A-D'!I19","v":""},"","",0,0,0,""]
[null,"Moved, known to be continuing",null,null,null,{"$f":"'Prior Year FS009'!AR17","v":0},{"$f":"'Category Sets A-D'!G20","v":""},"","",{"$f":"'Prior Year FS009'!AS17","v":0},{"$f":"'Category Sets A-D'!H20","v":""},"","",{"$f":"'Prior Year FS009'!AT17","v":0},{"$f":"'Category Sets A-D'!I20","v":""},"","",0,0,0,""]
[null,"Dropped out",null,null,null,{"$f":"'Prior Year FS009'!AR14","v":0},{"$f":"'Category Sets A-D'!G21","v":""},"","",{"$f":"'Prior Year FS009'!AS14","v":0},{"$f":"'Category Sets A-D'!H21","v":""},"","",{"$f":"'Prior Year FS009'!AT14","v":0},{"$f":"'Category Sets A-D'!I21","v":""},"","",0,0,0,""]
[null,"Calculated subtotal",null,null,null,{"$f":"SUM(F58:F65)","v":0},{"$f":"SUM(G58:G65)","v":0},{"$f":"IFERROR(G66-F66,\"\")","v":0},{"$f":"IFERROR((G66-F66)/F66,\"\")","v":""},{"$f":"SUM(J58:J65)","v":0},{"$f":"SUM(K58:K65)","v":0},{"$f":"IFERROR(K66-J66,\"\")","v":0},{"$f":"IFERROR((K66-J66)/J66,\"\")","v":""},{"$f":"SUM(N58:N65)","v":0},{"$f":"SUM(O58:O65)","v":0},{"$f":"IFERROR(O66-N66,\"\")","v":0},{"$f":"IFERROR((O66-N66)/N66,\"\")","v":""},{"$f":"SUM(R58:R65)","v":0},{"$f":"SUM(S58:S65)","v":0},0,""]
[]
[null,"NOTE: MC = missing category."]